{"text_format":"1","workbook":"xlsx","n_sheets":35,"sheets":["Coversheet","Version Notes","Catchment","STU","RIDOT STU History (inputs)","Reduction Targets","STU Storage Volume","Structural Water Quality Calcs","Porous Pavement (underdrained)","Floodplain Reconnection","Urban Tree Canopy","Agriculture Buffers","Pervious Land Enhancement","Proprietary Technologies","Street Sweeping and CB Cleaning","Leaf Litter Removal","Animal Waste Reduction","Dredging","Illicit Discharge Elimination","Streambank Restoration","STU_Cost","RIDOT STU History (outputs)","RIDOT SCP History","Table 1-A","Table 2-A","Table 4-A-1","Table 4-A-2","STU Definitions","STU Cost Estimates","Pollutant Loading Rates","STU Treatment Values","Pollutant Removal Curves","IC Removal Curves","Soil Types","Domains"],"not_rendered":{"charts":16,"images":2,"macros":1,"external_links":3,"defined_names":171,"comments":0,"pivot_tables":0},"unopened":[],"bounds":{"document_bytes":16777216,"sheet_cells":100000,"rows_first":2000,"rows_last":500,"rows_between":2000,"halvings":0,"cell_chars":16384,"cell_head_chars":4096},"cells_cut":0,"cells_raw":0,"read":"whole","date_system":"1900"}

{"sheet":"Coversheet","index":0,"n_rows":42,"n_cols":6,"rows_kept":42,"cut":false,"hidden":false,"merged":[[3,1,3,2],[38,4,38,5],[39,4,39,5],[40,4,40,5],[28,4,28,5],[29,4,29,5],[30,4,30,5],[31,4,31,5],[32,4,32,5],[23,4,23,5],[25,4,25,5],[26,4,26,5],[27,4,27,5],[18,4,18,5],[19,4,19,5],[11,4,11,5],[41,4,41,5],[33,4,33,5],[34,4,34,5],[35,4,35,5],[36,4,36,5],[37,4,37,5],[1,1,1,4],[35,0,41,0],[5,1,5,2],[3,0,6,0],[6,1,6,2],[4,1,4,2],[15,0,21,0],[22,0,27,0],[32,0,34,0],[28,0,31,0],[9,4,9,5],[8,4,8,5],[20,4,20,5],[22,4,22,5],[21,4,21,5],[14,4,14,5],[10,4,10,5],[10,0,12,0],[12,4,12,5],[13,4,13,5],[24,4,24,5],[15,4,15,5],[16,4,16,5],[17,4,17,5]]}
["SCP Calculator (Version 6.0)"]
[null,"This tool has been developed to support consultants developing Stormwater Control Plans for RIDOT Consent Decree Compliance.  \nThe tool has been developed for knowledgeable professionals with little additional controls.  \nAltering cells outside of those indicated as input may render the calculation results invalid.  "]
[null,null,null,null,"SCP Group ID:"]
["General Notes:","Templates are set up assuming one calculator spreadsheet will be used per subwatershed.\nName file with the convention: SCP_GroupXXXXXX_SubwatershedName_WBID_Calculator_V6.0.xlsm",null,null,"SCP Subwatershed:"]
[null,"Users have the option to only show relevant tabs by selecting from the pull down menu below. \nCalculator tabs included in Appendix B of the SCP Report have been formatted to print as 11x17 pages (see page layout view).   ",null,null,"WBID: "]
[null,"Cells of this color designate an input is required.\nCells denoted with * indicate input must be one of a controlled list (see pull down)",null,null,"Calculator Version Date: ","2019-05-24"]
[null,"Cells of this color contain formulas and should not be altered.",null,null,"Last Saved:",{"$f":"MODDATE()","v":"5/24/19 10:55 AM"}]
[]
["Sheet Summary","Sheet","Description","Show Tab*","Additional Resources"]
["Version Notes","Version Notes","Information on updates between SCP calculator versions. ","No"]
["Input Tabs","Catchment","User input from GIS layer Catchment.","--","SCP database and metadata"]
[null,"STU","User input from GIS layer STU.","--","SCP database and metadata"]
[null,"RIDOT STU History (inputs)","User input from GIS related table RIDOT STU History. ","--","SCP database and metadata"]
["Reduction Targets","Reduction Targets","Calculates RIDOT IC or pollutant reduction targets using the TMDL and/or IC Method.","--","Water Quality Methodology Report; SCP Approach Document"]
["STU Volume Calculations","STU Storage Volume","Provides supporting documentation for STU Storage Volume assumptions and calculations. ","--","STU Definitions; Water Quality Methodology Report"]
["Structural Treatment Credits","Structural Water Quality Calcs","Runs water quality calculations for STU treatment credits. ","--","Water Quality Methodology Report "]
[null,"Porous Pavement (underdrained)","Calculates treatment credit for porous pavement (with underdain). ","No","Water Quality Methodology Report "]
[null,"Floodplain Reconnection","Calculates treatment credit for floodplain reconnection. ","No","Water Quality Methodology Report "]
[null,"Urban Tree Canopy","Calculates treatment credit for urban tree canopy.","No","Water Quality Methodology Report "]
[null,"Agriculture Buffers","Calculates treatment credit for agriculture buffers.","No","Water Quality Methodology Report "]
[null,"Pervious Land Enhancement","Calculates treatment credit for pervious land enhancement. ","No","Water Quality Methodology Report "]
[null,"Proprietary Technologies","Calculates treatment credit for proprietary technologies.","No","Water Quality Methodology Report "]
["Non-structural Treatment Credits","Street Sweeping and CB Cleaning","Calculates non-structural treatment credit for enhanced street sweeping and/or catch basin cleaning. ","No","Water Quality Methodology Report "]
[null,"Leaf Litter Removal","Calculates non-structural treatment credit for leaf litter removal.","No","Water Quality Methodology Report "]
[null,"Animal Waste Reduction","Calculates non-structural treatment credit for animal waste reduction (dog, bird etc.) or manure removal.","No","Water Quality Methodology Report "]
[null,"Dredging","Calculates non-structural treatment credit for dredging projects. ","No","Water Quality Methodology Report "]
[null,"Illicit Discharge Elimination","Calculates non-structural treatment credit for illicit discharge elimination.","No","Water Quality Methodology Report "]
[null,"Streambank Restoration","Calculates non-structural treatment credit for streambank restoration. ","No","Water Quality Methodology Report "]
["SCP Report Templates","Table 1-A","Subwatershed Summary","Yes","SCP Report Template"]
[null,"Table 2-A","Stormwater Controls Summary","Yes","SCP Report Template"]
[null,"Table 4-A-1","TMDL Method: Pollutant Reduction Target Summary","Yes","SCP Report Template"]
[null,"Table 4-A-2","Impervious Cover Method: IC Reduction Target Summary","Yes","SCP Report Template"]
["Summary Tables","STU_Cost","Estimates STU costs","Yes","SCP Report Template; SCP Approach Document"]
[null,"RIDOT STU History (outputs)","Summarizes calculator results for easy upload to RIDOT STU History related table in SCP database","Yes","SCP database and metadata"]
[null,"RIDOT SCP History","Summarizes calculator results for easy upload to RIDOT SCP History related table in SCP database","Yes","SCP database and metadata"]
["Reference Tabs","STU Definitions","STU definitions, treatment categories, and storage volume definitions. ","No","Water Quality Methodology Report "]
[null,"STU Cost Estimates","STU design/construction and maintenance costs.","No","EPA Memo: Methodology for Developing Cost Estiates for Opti-Tool; SCP Approach Document"]
[null,"STU Treatment Values","STU pollutant treatment values used in water quality calculations to calculate treatment credit for structural controls.","No","Water Quality Methodology Report "]
[null,"Pollutant Loading Rates","Pollutant loading rates by land use category. ","No","Water Quality Methodology Report "]
[null,"Pollutant Removal Curves","STU pollutant removal curves by treatment depth and pollutant.","No","Water Quality Methodology Report "]
[null,"IC Removal Curves","STU IC factors by treatment depth. ","No","Water Quality Methodology Report "]
[null,"Soil Types","HSG group, soil texture class, and infiltration rates. ","No"]

{"sheet":"Version Notes","index":1,"n_rows":53,"n_cols":3,"rows_kept":53,"cut":false,"hidden":true,"merged":[[31,0,35,0],[31,1,35,1],[36,1,40,1],[36,0,40,0]]}
["This tab summarizes key updates and additions between SCP calculator versions."]
["SCP Calculator Version","Release Date","Updates and Additions"]
[1,"2017-07-13"]
[2,"2017-12-14","crediting for TIP STUs"]
[null,null,"STU Type Domain updated for consistency with SCP database"]
[3,"2018-03-29","use of both TSS and TP (versus just TP) to calculate effective IC reduction"]
[4,"2018-04-19","addition of input tabs for GIS layer exports, calculator pulls input for calculations from these tabs"]
[null,null,"addition of Pollutant loading rate tab with addition of NonRIDOT catchment area loading rates by land use"]
[null,null,"addition of NonRIDOT catchments included in calculating STU load reduction"]
[null,null,"placeholder tabs created for additional structural STUs including porous pavement (underdrained), floodplain reconnection, urban tree canopy, agriculture buffers, pervious land enhancement, and proprietary technologies for consistency with latest WQ Methodology report"]
[null,null,"placeholder tabs created for additional nonstructural STUs including street sweeping and catch basin cleaning (updated), leaf litter removal, animal waste reduction, dredging, illict discharge elimination, streambank restoration for consistency with latest WQ Methodology report "]
[null,null,"addition of template tabs for STU_WaterQuality related table and SCP_Watersheds attributes"]
[null,null,"addition of IC removal curves tab (for reference only)"]
[null,null,"STU Type Domain updated for consistency with SCP database"]
[null,null,"correction of TIP pollutant removal credits so final effective IC credit = 50%"]
[null,null,"addition of pollutant and IC curves/credit for STU type: sand filter"]
[null,null,"addition of pollutant and IC credit for STU type: hydrodynamic separator"]
[null,null,"addition of TP, TSS, and Pervious Cover Factors in STU Treatment Values tab for reference, also inclusion of runoff reduction percent reductions"]
[4.0999999999999996,"2018-06-19","10% treatment assumption calculated for Limited ROW STUs "]
[null,null,"STU Treatment category Created Wetland renamed Wet Pond to match latest WQ methodology report"]
[null,null,"STU treatment category for Created Wetlands changed from Wet Pond to Gravel Wetland"]
[null,null,"Nitrogen loading rate separated into separate loading values for RIDOT and NonRIDOT pervious areas"]
[null,null,"updating of terminology to be consistent with latest WQ Methodology report (Flow Factor, Runoff Factor etc.)"]
[null,null,"correction of RIDOT reduction targets to only apply to pollutant loads from RIDOT IC areas"]
[null,null,"updating of STU definitions tab to include information for all STUs in SCP database domain"]
[null,null,"Cost per lb phosphorus added to STU_Cost table for reference"]
[null,null,"minor formatting updates"]
[4.2,"2018-08-01","addition of version notes"]
[null,null,"addition of STU Volume calculation tab"]
[null,null,"addition of table templates for 2018 SCP Report Template for Tables 1-A, 2-A, 4-A-1, and 4-A-2"]
[null,null,"unnecessary external links broken"]
[5,"2018-09-19","treatment assigned to STU type Limited ROW (bioretention curve, 0.25\" treatment depth for 10% of catchment area)"]
[null,null,"calculations added for TMDL Method: nitrogen"]
[null,null,"updated IC flow factor values (calculated using 8 water quality storm depths)"]
[null,null,"formula for Non-RIDOT catchment N, TSS, Zn loading corrected"]
[null,null,"formula for structural water quality calcs tab rows 35 and higher corrected"]
[5.0999999999999996,"2018-11-27","updated table templates and reduction target terms for consistency with WQ Accounting and Methodology Report"]
[null,null,"added cost estimates for STU type sand filter"]
[null,null,"rounded subwatershed areas in Tables 4-1-A and 4-2-A"]
[null,null,"updated RIDOT treatment credit (columns K, P, U, Z, AB) to correctly sum Limited ROW STUs in STU_WaterQuality tab"]
[null,null,"added additional rows for input tabs, updated formulas to sum for more than 25 STUs and 48 catchments"]
[null,null,"updated SCP_Watersheds tab to include STUs with only nonRIDOT catchments"]
[null,null,"corrected Table 1-A for IC method for evaluation method/target reduction columns B and C"]
[null,null,"updated Table 2-A columns G, H, and I to autopopulate. Irrelevant columns may be removed from table. "]
[null,null,"updated EPA curve for TSS deep infiltration in sandy soils"]
[null,null,"updated EPA curve for sand filters for TP and TN"]
[null,null,"updated maintenance costs for infiltration basin/swales, wet ponds/swales, and WVTS"]
[null,null,"addition of SCP tracking info on coversheet"]
[6,"2019-05-23","Updated input and output tabs to reflect new SCP database schema"]
[null,null,"Increased number of rows for number of catchments and STUs"]
[null,null,"Formatted tabs included in Appendix B in SCP Report to pdf as landscape 11x17 pages with headers"]
[null,null,"Added equivalent IC reduction targets to reduction targets tab and calculate most stringent target if both IC and TMDL Methods used"]
[null,null,"Automated formatting and calculation of Table 2-A/5-A."]

{"sheet":"Catchment","index":2,"n_rows":300,"n_cols":27,"rows_kept":300,"cut":false,"hidden":false,"merged":[[2,23,2,26]]}
["Instructions: Paste in data from GIS layer Catchment into this sheet for all catchments."]
["Note to user: If any inputs are changed or updated in the SCP calculator, the same updates must be made in GIS prior to final deliverable to RIDOT."]
[null,null,null,null,null,null,null,null,null,null,null,null,null,null,null,null,null,null,null,null,null,null,null,"Catchment Pollutant Load, lb/yr"]
["Catchment ID","WBID","Structure ID","Ownership*","Ownership Notes","Discharge ID","Discharge ID Owner*","Discharge Owner Notes","Treatment Status*","Treatment Status Notes","STU Name","Impervious Area","IDDE Exempt*","Wet Weather*","SVF Notes","TIP Project ID","TIP Year","Land Use*","NOTES","GlobalID","Shape_Length","Shape_area",null," Phosphorus Load","TSS  Load","Nitrogen Load","Zinc Load"]
[null,null,null,null,null,null,null,null,null,null,null,null,null,null,null,null,null,null,null,null,null,null,null,{"$f":"IF($A5=\"\",\"\",(VLOOKUP($R5,'Pollutant Loading Rates'!$A$5:$F$12,3,0)*$L5/43560)+IF($R5=\"Forest\",'Pollutant Loading Rates'!C$13*($V5-$L5)/43560,IF($R5=\"Agriculture\",'Pollutant Loading Rates'!C$14*($V5-$L5)/43560,IF($D5=\"RIDOT\",($V5-$L5)/43560*'Pollutant Loading Rates'!C$15,($V5-$L5)/43560*'Pollutant Loading Rates'!C$16))))","v":""},{"$f":"IF($A5=\"\",\"\",(VLOOKUP($R5,'Pollutant Loading Rates'!$A$5:$F$12,4,0)*$L5/43560)+IF($R5=\"Forest\",'Pollutant Loading Rates'!D$13*($V5-$L5)/43560,IF($R5=\"Agriculture\",'Pollutant Loading Rates'!D$14*($V5-$L5)/43560,IF($D5=\"RIDOT\",($V5-$L5)/43560*'Pollutant Loading Rates'!D$15,($V5-$L5)/43560*'Pollutant Loading Rates'!D$16))))","v":""},{"$f":"IF($A5=\"\",\"\",(VLOOKUP($R5,'Pollutant Loading Rates'!$A$5:$F$12,5,0)*$L5/43560)+IF($R5=\"Forest\",'Pollutant Loading Rates'!E$13*($V5-$L5)/43560,IF($R5=\"Agriculture\",'Pollutant Loading Rates'!E$14*($V5-$L5)/43560,IF($D5=\"RIDOT\",($V5-$L5)/43560*'Pollutant Loading Rates'!E$15,($V5-$L5)/43560*'Pollutant Loading Rates'!E$16))))","v":""},{"$f":"IF($A5=\"\",\"\",(VLOOKUP($R5,'Pollutant Loading Rates'!$A$5:$F$12,6,0)*$L5/43560)+IF($R5=\"Forest\",'Pollutant Loading Rates'!F$13*($V5-$L5)/43560,IF($R5=\"Agriculture\",'Pollutant Loading Rates'!F$14*($V5-$L5)/43560,IF($D5=\"RIDOT\",($V5-$L5)/43560*'Pollutant Loading Rates'!F$15,($V5-$L5)/43560*'Pollutant Loading Rates'!F$16))))","v":""}]
[null,null,null,null,null,null,null,null,null,null,null,null,null,null,null,null,null,null,null,null,null,null,null,{"$f":"IF($A6=\"\",\"\",(VLOOKUP($R6,'Pollutant Loading Rates'!$A$5:$F$12,3,0)*$L6/43560)+IF($R6=\"Forest\",'Pollutant Loading Rates'!C$13*($V6-$L6)/43560,IF($R6=\"Agriculture\",'Pollutant Loading Rates'!C$14*($V6-$L6)/43560,IF($D6=\"RIDOT\",($V6-$L6)/43560*'Pollutant Loading Rates'!C$15,($V6-$L6)/43560*'Pollutant Loading Rates'!C$16))))","v":""},{"$f":"IF($A6=\"\",\"\",(VLOOKUP($R6,'Pollutant Loading Rates'!$A$5:$F$12,4,0)*$L6/43560)+IF($R6=\"Forest\",'Pollutant Loading Rates'!D$13*($V6-$L6)/43560,IF($R6=\"Agriculture\",'Pollutant Loading Rates'!D$14*($V6-$L6)/43560,IF($D6=\"RIDOT\",($V6-$L6)/43560*'Pollutant Loading Rates'!D$15,($V6-$L6)/43560*'Pollutant Loading Rates'!D$16))))","v":""},{"$f":"IF($A6=\"\",\"\",(VLOOKUP($R6,'Pollutant Loading Rates'!$A$5:$F$12,5,0)*$L6/43560)+IF($R6=\"Forest\",'Pollutant Loading Rates'!E$13*($V6-$L6)/43560,IF($R6=\"Agriculture\",'Pollutant Loading Rates'!E$14*($V6-$L6)/43560,IF($D6=\"RIDOT\",($V6-$L6)/43560*'Pollutant Loading Rates'!E$15,($V6-$L6)/43560*'Pollutant Loading Rates'!E$16))))","v":""},{"$f":"IF($A6=\"\",\"\",(VLOOKUP($R6,'Pollutant Loading Rates'!$A$5:$F$12,6,0)*$L6/43560)+IF($R6=\"Forest\",'Pollutant Loading Rates'!F$13*($V6-$L6)/43560,IF($R6=\"Agriculture\",'Pollutant Loading Rates'!F$14*($V6-$L6)/43560,IF($D6=\"RIDOT\",($V6-$L6)/43560*'Pollutant Loading Rates'!F$15,$V6-$L6)/43560*'Pollutant Loading Rates'!F$16)))","v":""}]
[null,null,null,null,null,null,null,null,null,null,null,null,null,null,null,null,null,null,null,null,null,null,null,{"$f":"IF($A7=\"\",\"\",(VLOOKUP($R7,'Pollutant Loading Rates'!$A$5:$F$12,3,0)*$L7/43560)+IF($R7=\"Forest\",'Pollutant Loading Rates'!C$13*($V7-$L7)/43560,IF($R7=\"Agriculture\",'Pollutant Loading Rates'!C$14*($V7-$L7)/43560,IF($D7=\"RIDOT\",($V7-$L7)/43560*'Pollutant Loading Rates'!C$15,($V7-$L7)/43560*'Pollutant Loading Rates'!C$16))))","v":""},{"$f":"IF($A7=\"\",\"\",(VLOOKUP($R7,'Pollutant Loading Rates'!$A$5:$F$12,4,0)*$L7/43560)+IF($R7=\"Forest\",'Pollutant Loading Rates'!D$13*($V7-$L7)/43560,IF($R7=\"Agriculture\",'Pollutant Loading Rates'!D$14*($V7-$L7)/43560,IF($D7=\"RIDOT\",($V7-$L7)/43560*'Pollutant Loading Rates'!D$15,($V7-$L7)/43560*'Pollutant Loading Rates'!D$16))))","v":""},{"$f":"IF($A7=\"\",\"\",(VLOOKUP($R7,'Pollutant Loading Rates'!$A$5:$F$12,5,0)*$L7/43560)+IF($R7=\"Forest\",'Pollutant Loading Rates'!E$13*($V7-$L7)/43560,IF($R7=\"Agriculture\",'Pollutant Loading Rates'!E$14*($V7-$L7)/43560,IF($D7=\"RIDOT\",($V7-$L7)/43560*'Pollutant Loading Rates'!E$15,($V7-$L7)/43560*'Pollutant Loading Rates'!E$16))))","v":""},{"$f":"IF($A7=\"\",\"\",(VLOOKUP($R7,'Pollutant Loading Rates'!$A$5:$F$12,6,0)*$L7/43560)+IF($R7=\"Forest\",'Pollutant Loading Rates'!F$13*($V7-$L7)/43560,IF($R7=\"Agriculture\",'Pollutant Loading Rates'!F$14*($V7-$L7)/43560,IF($D7=\"RIDOT\",($V7-$L7)/43560*'Pollutant Loading Rates'!F$15,$V7-$L7)/43560*'Pollutant Loading Rates'!F$16)))","v":""}]
[null,null,null,null,null,null,null,null,null,null,null,null,null,null,null,null,null,null,null,null,null,null,null,{"$f":"IF($A8=\"\",\"\",(VLOOKUP($R8,'Pollutant Loading Rates'!$A$5:$F$12,3,0)*$L8/43560)+IF($R8=\"Forest\",'Pollutant Loading Rates'!C$13*($V8-$L8)/43560,IF($R8=\"Agriculture\",'Pollutant Loading Rates'!C$14*($V8-$L8)/43560,IF($D8=\"RIDOT\",($V8-$L8)/43560*'Pollutant Loading Rates'!C$15,($V8-$L8)/43560*'Pollutant Loading Rates'!C$16))))","v":""},{"$f":"IF($A8=\"\",\"\",(VLOOKUP($R8,'Pollutant Loading Rates'!$A$5:$F$12,4,0)*$L8/43560)+IF($R8=\"Forest\",'Pollutant Loading Rates'!D$13*($V8-$L8)/43560,IF($R8=\"Agriculture\",'Pollutant Loading Rates'!D$14*($V8-$L8)/43560,IF($D8=\"RIDOT\",($V8-$L8)/43560*'Pollutant Loading Rates'!D$15,($V8-$L8)/43560*'Pollutant Loading Rates'!D$16))))","v":""},{"$f":"IF($A8=\"\",\"\",(VLOOKUP($R8,'Pollutant Loading Rates'!$A$5:$F$12,5,0)*$L8/43560)+IF($R8=\"Forest\",'Pollutant Loading Rates'!E$13*($V8-$L8)/43560,IF($R8=\"Agriculture\",'Pollutant Loading Rates'!E$14*($V8-$L8)/43560,IF($D8=\"RIDOT\",($V8-$L8)/43560*'Pollutant Loading Rates'!E$15,($V8-$L8)/43560*'Pollutant Loading Rates'!E$16))))","v":""},{"$f":"IF($A8=\"\",\"\",(VLOOKUP($R8,'Pollutant Loading Rates'!$A$5:$F$12,6,0)*$L8/43560)+IF($R8=\"Forest\",'Pollutant Loading Rates'!F$13*($V8-$L8)/43560,IF($R8=\"Agriculture\",'Pollutant Loading Rates'!F$14*($V8-$L8)/43560,IF($D8=\"RIDOT\",($V8-$L8)/43560*'Pollutant Loading Rates'!F$15,$V8-$L8)/43560*'Pollutant Loading Rates'!F$16)))","v":""}]
[null,null,null,null,null,null,null,null,null,null,null,null,null,null,null,null,null,null,null,null,null,null,null,{"$f":"IF($A9=\"\",\"\",(VLOOKUP($R9,'Pollutant Loading Rates'!$A$5:$F$12,3,0)*$L9/43560)+IF($R9=\"Forest\",'Pollutant Loading Rates'!C$13*($V9-$L9)/43560,IF($R9=\"Agriculture\",'Pollutant Loading Rates'!C$14*($V9-$L9)/43560,IF($D9=\"RIDOT\",($V9-$L9)/43560*'Pollutant Loading Rates'!C$15,($V9-$L9)/43560*'Pollutant Loading Rates'!C$16))))","v":""},{"$f":"IF($A9=\"\",\"\",(VLOOKUP($R9,'Pollutant Loading Rates'!$A$5:$F$12,4,0)*$L9/43560)+IF($R9=\"Forest\",'Pollutant Loading Rates'!D$13*($V9-$L9)/43560,IF($R9=\"Agriculture\",'Pollutant Loading Rates'!D$14*($V9-$L9)/43560,IF($D9=\"RIDOT\",($V9-$L9)/43560*'Pollutant Loading Rates'!D$15,($V9-$L9)/43560*'Pollutant Loading Rates'!D$16))))","v":""},{"$f":"IF($A9=\"\",\"\",(VLOOKUP($R9,'Pollutant Loading Rates'!$A$5:$F$12,5,0)*$L9/43560)+IF($R9=\"Forest\",'Pollutant Loading Rates'!E$13*($V9-$L9)/43560,IF($R9=\"Agriculture\",'Pollutant Loading Rates'!E$14*($V9-$L9)/43560,IF($D9=\"RIDOT\",($V9-$L9)/43560*'Pollutant Loading Rates'!E$15,($V9-$L9)/43560*'Pollutant Loading Rates'!E$16))))","v":""},{"$f":"IF($A9=\"\",\"\",(VLOOKUP($R9,'Pollutant Loading Rates'!$A$5:$F$12,6,0)*$L9/43560)+IF($R9=\"Forest\",'Pollutant Loading Rates'!F$13*($V9-$L9)/43560,IF($R9=\"Agriculture\",'Pollutant Loading Rates'!F$14*($V9-$L9)/43560,IF($D9=\"RIDOT\",($V9-$L9)/43560*'Pollutant Loading Rates'!F$15,$V9-$L9)/43560*'Pollutant Loading Rates'!F$16)))","v":""}]
[null,null,null,null,null,null,null,null,null,null,null,null,null,null,null,null,null,null,null,null,null,null,null,{"$f":"IF($A10=\"\",\"\",(VLOOKUP($R10,'Pollutant Loading Rates'!$A$5:$F$12,3,0)*$L10/43560)+IF($R10=\"Forest\",'Pollutant Loading Rates'!C$13*($V10-$L10)/43560,IF($R10=\"Agriculture\",'Pollutant Loading Rates'!C$14*($V10-$L10)/43560,IF($D10=\"RIDOT\",($V10-$L10)/43560*'Pollutant Loading Rates'!C$15,($V10-$L10)/43560*'Pollutant Loading Rates'!C$16))))","v":""},{"$f":"IF($A10=\"\",\"\",(VLOOKUP($R10,'Pollutant Loading Rates'!$A$5:$F$12,4,0)*$L10/43560)+IF($R10=\"Forest\",'Pollutant Loading Rates'!D$13*($V10-$L10)/43560,IF($R10=\"Agriculture\",'Pollutant Loading Rates'!D$14*($V10-$L10)/43560,IF($D10=\"RIDOT\",($V10-$L10)/43560*'Pollutant Loading Rates'!D$15,($V10-$L10)/43560*'Pollutant Loading Rates'!D$16))))","v":""},{"$f":"IF($A10=\"\",\"\",(VLOOKUP($R10,'Pollutant Loading Rates'!$A$5:$F$12,5,0)*$L10/43560)+IF($R10=\"Forest\",'Pollutant Loading Rates'!E$13*($V10-$L10)/43560,IF($R10=\"Agriculture\",'Pollutant Loading Rates'!E$14*($V10-$L10)/43560,IF($D10=\"RIDOT\",($V10-$L10)/43560*'Pollutant Loading Rates'!E$15,($V10-$L10)/43560*'Pollutant Loading Rates'!E$16))))","v":""},{"$f":"IF($A10=\"\",\"\",(VLOOKUP($R10,'Pollutant Loading Rates'!$A$5:$F$12,6,0)*$L10/43560)+IF($R10=\"Forest\",'Pollutant Loading Rates'!F$13*($V10-$L10)/43560,IF($R10=\"Agriculture\",'Pollutant Loading Rates'!F$14*($V10-$L10)/43560,IF($D10=\"RIDOT\",($V10-$L10)/43560*'Pollutant Loading Rates'!F$15,$V10-$L10)/43560*'Pollutant Loading Rates'!F$16)))","v":""}]
[null,null,null,null,null,null,null,null,null,null,null,null,null,null,null,null,null,null,null,null,null,null,null,{"$f":"IF($A11=\"\",\"\",(VLOOKUP($R11,'Pollutant Loading Rates'!$A$5:$F$12,3,0)*$L11/43560)+IF($R11=\"Forest\",'Pollutant Loading Rates'!C$13*($V11-$L11)/43560,IF($R11=\"Agriculture\",'Pollutant Loading Rates'!C$14*($V11-$L11)/43560,IF($D11=\"RIDOT\",($V11-$L11)/43560*'Pollutant Loading Rates'!C$15,($V11-$L11)/43560*'Pollutant Loading Rates'!C$16))))","v":""},{"$f":"IF($A11=\"\",\"\",(VLOOKUP($R11,'Pollutant Loading Rates'!$A$5:$F$12,4,0)*$L11/43560)+IF($R11=\"Forest\",'Pollutant Loading Rates'!D$13*($V11-$L11)/43560,IF($R11=\"Agriculture\",'Pollutant Loading Rates'!D$14*($V11-$L11)/43560,IF($D11=\"RIDOT\",($V11-$L11)/43560*'Pollutant Loading Rates'!D$15,($V11-$L11)/43560*'Pollutant Loading Rates'!D$16))))","v":""},{"$f":"IF($A11=\"\",\"\",(VLOOKUP($R11,'Pollutant Loading Rates'!$A$5:$F$12,5,0)*$L11/43560)+IF($R11=\"Forest\",'Pollutant Loading Rates'!E$13*($V11-$L11)/43560,IF($R11=\"Agriculture\",'Pollutant Loading Rates'!E$14*($V11-$L11)/43560,IF($D11=\"RIDOT\",($V11-$L11)/43560*'Pollutant Loading Rates'!E$15,($V11-$L11)/43560*'Pollutant Loading Rates'!E$16))))","v":""},{"$f":"IF($A11=\"\",\"\",(VLOOKUP($R11,'Pollutant Loading Rates'!$A$5:$F$12,6,0)*$L11/43560)+IF($R11=\"Forest\",'Pollutant Loading Rates'!F$13*($V11-$L11)/43560,IF($R11=\"Agriculture\",'Pollutant Loading Rates'!F$14*($V11-$L11)/43560,IF($D11=\"RIDOT\",($V11-$L11)/43560*'Pollutant Loading Rates'!F$15,$V11-$L11)/43560*'Pollutant Loading Rates'!F$16)))","v":""}]
[null,null,null,null,null,null,null,null,null,null,null,null,null,null,null,null,null,null,null,null,null,null,null,{"$f":"IF($A12=\"\",\"\",(VLOOKUP($R12,'Pollutant Loading Rates'!$A$5:$F$12,3,0)*$L12/43560)+IF($R12=\"Forest\",'Pollutant Loading Rates'!C$13*($V12-$L12)/43560,IF($R12=\"Agriculture\",'Pollutant Loading Rates'!C$14*($V12-$L12)/43560,IF($D12=\"RIDOT\",($V12-$L12)/43560*'Pollutant Loading Rates'!C$15,($V12-$L12)/43560*'Pollutant Loading Rates'!C$16))))","v":""},{"$f":"IF($A12=\"\",\"\",(VLOOKUP($R12,'Pollutant Loading Rates'!$A$5:$F$12,4,0)*$L12/43560)+IF($R12=\"Forest\",'Pollutant Loading Rates'!D$13*($V12-$L12)/43560,IF($R12=\"Agriculture\",'Pollutant Loading Rates'!D$14*($V12-$L12)/43560,IF($D12=\"RIDOT\",($V12-$L12)/43560*'Pollutant Loading Rates'!D$15,($V12-$L12)/43560*'Pollutant Loading Rates'!D$16))))","v":""},{"$f":"IF($A12=\"\",\"\",(VLOOKUP($R12,'Pollutant Loading Rates'!$A$5:$F$12,5,0)*$L12/43560)+IF($R12=\"Forest\",'Pollutant Loading Rates'!E$13*($V12-$L12)/43560,IF($R12=\"Agriculture\",'Pollutant Loading Rates'!E$14*($V12-$L12)/43560,IF($D12=\"RIDOT\",($V12-$L12)/43560*'Pollutant Loading Rates'!E$15,($V12-$L12)/43560*'Pollutant Loading Rates'!E$16))))","v":""},{"$f":"IF($A12=\"\",\"\",(VLOOKUP($R12,'Pollutant Loading Rates'!$A$5:$F$12,6,0)*$L12/43560)+IF($R12=\"Forest\",'Pollutant Loading Rates'!F$13*($V12-$L12)/43560,IF($R12=\"Agriculture\",'Pollutant Loading Rates'!F$14*($V12-$L12)/43560,IF($D12=\"RIDOT\",($V12-$L12)/43560*'Pollutant Loading Rates'!F$15,$V12-$L12)/43560*'Pollutant Loading Rates'!F$16)))","v":""}]
[null,null,null,null,null,null,null,null,null,null,null,null,null,null,null,null,null,null,null,null,null,null,null,{"$f":"IF($A13=\"\",\"\",(VLOOKUP($R13,'Pollutant Loading Rates'!$A$5:$F$12,3,0)*$L13/43560)+IF($R13=\"Forest\",'Pollutant Loading Rates'!C$13*($V13-$L13)/43560,IF($R13=\"Agriculture\",'Pollutant Loading Rates'!C$14*($V13-$L13)/43560,IF($D13=\"RIDOT\",($V13-$L13)/43560*'Pollutant Loading Rates'!C$15,($V13-$L13)/43560*'Pollutant Loading Rates'!C$16))))","v":""},{"$f":"IF($A13=\"\",\"\",(VLOOKUP($R13,'Pollutant Loading Rates'!$A$5:$F$12,4,0)*$L13/43560)+IF($R13=\"Forest\",'Pollutant Loading Rates'!D$13*($V13-$L13)/43560,IF($R13=\"Agriculture\",'Pollutant Loading Rates'!D$14*($V13-$L13)/43560,IF($D13=\"RIDOT\",($V13-$L13)/43560*'Pollutant Loading Rates'!D$15,($V13-$L13)/43560*'Pollutant Loading Rates'!D$16))))","v":""},{"$f":"IF($A13=\"\",\"\",(VLOOKUP($R13,'Pollutant Loading Rates'!$A$5:$F$12,5,0)*$L13/43560)+IF($R13=\"Forest\",'Pollutant Loading Rates'!E$13*($V13-$L13)/43560,IF($R13=\"Agriculture\",'Pollutant Loading Rates'!E$14*($V13-$L13)/43560,IF($D13=\"RIDOT\",($V13-$L13)/43560*'Pollutant Loading Rates'!E$15,($V13-$L13)/43560*'Pollutant Loading Rates'!E$16))))","v":""},{"$f":"IF($A13=\"\",\"\",(VLOOKUP($R13,'Pollutant Loading Rates'!$A$5:$F$12,6,0)*$L13/43560)+IF($R13=\"Forest\",'Pollutant Loading Rates'!F$13*($V13-$L13)/43560,IF($R13=\"Agriculture\",'Pollutant Loading Rates'!F$14*($V13-$L13)/43560,IF($D13=\"RIDOT\",($V13-$L13)/43560*'Pollutant Loading Rates'!F$15,$V13-$L13)/43560*'Pollutant Loading Rates'!F$16)))","v":""}]
[null,null,null,null,null,null,null,null,null,null,null,null,null,null,null,null,null,null,null,null,null,null,null,{"$f":"IF($A14=\"\",\"\",(VLOOKUP($R14,'Pollutant Loading Rates'!$A$5:$F$12,3,0)*$L14/43560)+IF($R14=\"Forest\",'Pollutant Loading Rates'!C$13*($V14-$L14)/43560,IF($R14=\"Agriculture\",'Pollutant Loading Rates'!C$14*($V14-$L14)/43560,IF($D14=\"RIDOT\",($V14-$L14)/43560*'Pollutant Loading Rates'!C$15,($V14-$L14)/43560*'Pollutant Loading Rates'!C$16))))","v":""},{"$f":"IF($A14=\"\",\"\",(VLOOKUP($R14,'Pollutant Loading Rates'!$A$5:$F$12,4,0)*$L14/43560)+IF($R14=\"Forest\",'Pollutant Loading Rates'!D$13*($V14-$L14)/43560,IF($R14=\"Agriculture\",'Pollutant Loading Rates'!D$14*($V14-$L14)/43560,IF($D14=\"RIDOT\",($V14-$L14)/43560*'Pollutant Loading Rates'!D$15,($V14-$L14)/43560*'Pollutant Loading Rates'!D$16))))","v":""},{"$f":"IF($A14=\"\",\"\",(VLOOKUP($R14,'Pollutant Loading Rates'!$A$5:$F$12,5,0)*$L14/43560)+IF($R14=\"Forest\",'Pollutant Loading Rates'!E$13*($V14-$L14)/43560,IF($R14=\"Agriculture\",'Pollutant Loading Rates'!E$14*($V14-$L14)/43560,IF($D14=\"RIDOT\",($V14-$L14)/43560*'Pollutant Loading Rates'!E$15,($V14-$L14)/43560*'Pollutant Loading Rates'!E$16))))","v":""},{"$f":"IF($A14=\"\",\"\",(VLOOKUP($R14,'Pollutant Loading Rates'!$A$5:$F$12,6,0)*$L14/43560)+IF($R14=\"Forest\",'Pollutant Loading Rates'!F$13*($V14-$L14)/43560,IF($R14=\"Agriculture\",'Pollutant Loading Rates'!F$14*($V14-$L14)/43560,IF($D14=\"RIDOT\",($V14-$L14)/43560*'Pollutant Loading Rates'!F$15,$V14-$L14)/43560*'Pollutant Loading Rates'!F$16)))","v":""}]
[null,null,null,null,null,null,null,null,null,null,null,null,null,null,null,null,null,null,null,null,null,null,null,{"$f":"IF($A15=\"\",\"\",(VLOOKUP($R15,'Pollutant Loading Rates'!$A$5:$F$12,3,0)*$L15/43560)+IF($R15=\"Forest\",'Pollutant Loading Rates'!C$13*($V15-$L15)/43560,IF($R15=\"Agriculture\",'Pollutant Loading Rates'!C$14*($V15-$L15)/43560,IF($D15=\"RIDOT\",($V15-$L15)/43560*'Pollutant Loading Rates'!C$15,($V15-$L15)/43560*'Pollutant Loading Rates'!C$16))))","v":""},{"$f":"IF($A15=\"\",\"\",(VLOOKUP($R15,'Pollutant Loading Rates'!$A$5:$F$12,4,0)*$L15/43560)+IF($R15=\"Forest\",'Pollutant Loading Rates'!D$13*($V15-$L15)/43560,IF($R15=\"Agriculture\",'Pollutant Loading Rates'!D$14*($V15-$L15)/43560,IF($D15=\"RIDOT\",($V15-$L15)/43560*'Pollutant Loading Rates'!D$15,($V15-$L15)/43560*'Pollutant Loading Rates'!D$16))))","v":""},{"$f":"IF($A15=\"\",\"\",(VLOOKUP($R15,'Pollutant Loading Rates'!$A$5:$F$12,5,0)*$L15/43560)+IF($R15=\"Forest\",'Pollutant Loading Rates'!E$13*($V15-$L15)/43560,IF($R15=\"Agriculture\",'Pollutant Loading Rates'!E$14*($V15-$L15)/43560,IF($D15=\"RIDOT\",($V15-$L15)/43560*'Pollutant Loading Rates'!E$15,($V15-$L15)/43560*'Pollutant Loading Rates'!E$16))))","v":""},{"$f":"IF($A15=\"\",\"\",(VLOOKUP($R15,'Pollutant Loading Rates'!$A$5:$F$12,6,0)*$L15/43560)+IF($R15=\"Forest\",'Pollutant Loading Rates'!F$13*($V15-$L15)/43560,IF($R15=\"Agriculture\",'Pollutant Loading Rates'!F$14*($V15-$L15)/43560,IF($D15=\"RIDOT\",($V15-$L15)/43560*'Pollutant Loading Rates'!F$15,$V15-$L15)/43560*'Pollutant Loading Rates'!F$16)))","v":""}]
[null,null,null,null,null,null,null,null,null,null,null,null,null,null,null,null,null,null,null,null,null,null,null,{"$f":"IF($A16=\"\",\"\",(VLOOKUP($R16,'Pollutant Loading Rates'!$A$5:$F$12,3,0)*$L16/43560)+IF($R16=\"Forest\",'Pollutant Loading Rates'!C$13*($V16-$L16)/43560,IF($R16=\"Agriculture\",'Pollutant Loading Rates'!C$14*($V16-$L16)/43560,IF($D16=\"RIDOT\",($V16-$L16)/43560*'Pollutant Loading Rates'!C$15,($V16-$L16)/43560*'Pollutant Loading Rates'!C$16))))","v":""},{"$f":"IF($A16=\"\",\"\",(VLOOKUP($R16,'Pollutant Loading Rates'!$A$5:$F$12,4,0)*$L16/43560)+IF($R16=\"Forest\",'Pollutant Loading Rates'!D$13*($V16-$L16)/43560,IF($R16=\"Agriculture\",'Pollutant Loading Rates'!D$14*($V16-$L16)/43560,IF($D16=\"RIDOT\",($V16-$L16)/43560*'Pollutant Loading Rates'!D$15,($V16-$L16)/43560*'Pollutant Loading Rates'!D$16))))","v":""},{"$f":"IF($A16=\"\",\"\",(VLOOKUP($R16,'Pollutant Loading Rates'!$A$5:$F$12,5,0)*$L16/43560)+IF($R16=\"Forest\",'Pollutant Loading Rates'!E$13*($V16-$L16)/43560,IF($R16=\"Agriculture\",'Pollutant Loading Rates'!E$14*($V16-$L16)/43560,IF($D16=\"RIDOT\",($V16-$L16)/43560*'Pollutant Loading Rates'!E$15,($V16-$L16)/43560*'Pollutant Loading Rates'!E$16))))","v":""},{"$f":"IF($A16=\"\",\"\",(VLOOKUP($R16,'Pollutant Loading Rates'!$A$5:$F$12,6,0)*$L16/43560)+IF($R16=\"Forest\",'Pollutant Loading Rates'!F$13*($V16-$L16)/43560,IF($R16=\"Agriculture\",'Pollutant Loading Rates'!F$14*($V16-$L16)/43560,IF($D16=\"RIDOT\",($V16-$L16)/43560*'Pollutant Loading Rates'!F$15,$V16-$L16)/43560*'Pollutant Loading Rates'!F$16)))","v":""}]
[null,null,null,null,null,null,null,null,null,null,null,null,null,null,null,null,null,null,null,null,null,null,null,{"$f":"IF($A17=\"\",\"\",(VLOOKUP($R17,'Pollutant Loading Rates'!$A$5:$F$12,3,0)*$L17/43560)+IF($R17=\"Forest\",'Pollutant Loading Rates'!C$13*($V17-$L17)/43560,IF($R17=\"Agriculture\",'Pollutant Loading Rates'!C$14*($V17-$L17)/43560,IF($D17=\"RIDOT\",($V17-$L17)/43560*'Pollutant Loading Rates'!C$15,($V17-$L17)/43560*'Pollutant Loading Rates'!C$16))))","v":""},{"$f":"IF($A17=\"\",\"\",(VLOOKUP($R17,'Pollutant Loading Rates'!$A$5:$F$12,4,0)*$L17/43560)+IF($R17=\"Forest\",'Pollutant Loading Rates'!D$13*($V17-$L17)/43560,IF($R17=\"Agriculture\",'Pollutant Loading Rates'!D$14*($V17-$L17)/43560,IF($D17=\"RIDOT\",($V17-$L17)/43560*'Pollutant Loading Rates'!D$15,($V17-$L17)/43560*'Pollutant Loading Rates'!D$16))))","v":""},{"$f":"IF($A17=\"\",\"\",(VLOOKUP($R17,'Pollutant Loading Rates'!$A$5:$F$12,5,0)*$L17/43560)+IF($R17=\"Forest\",'Pollutant Loading Rates'!E$13*($V17-$L17)/43560,IF($R17=\"Agriculture\",'Pollutant Loading Rates'!E$14*($V17-$L17)/43560,IF($D17=\"RIDOT\",($V17-$L17)/43560*'Pollutant Loading Rates'!E$15,($V17-$L17)/43560*'Pollutant Loading Rates'!E$16))))","v":""},{"$f":"IF($A17=\"\",\"\",(VLOOKUP($R17,'Pollutant Loading Rates'!$A$5:$F$12,6,0)*$L17/43560)+IF($R17=\"Forest\",'Pollutant Loading Rates'!F$13*($V17-$L17)/43560,IF($R17=\"Agriculture\",'Pollutant Loading Rates'!F$14*($V17-$L17)/43560,IF($D17=\"RIDOT\",($V17-$L17)/43560*'Pollutant Loading Rates'!F$15,$V17-$L17)/43560*'Pollutant Loading Rates'!F$16)))","v":""}]
[null,null,null,null,null,null,null,null,null,null,null,null,null,null,null,null,null,null,null,null,null,null,null,{"$f":"IF($A18=\"\",\"\",(VLOOKUP($R18,'Pollutant Loading Rates'!$A$5:$F$12,3,0)*$L18/43560)+IF($R18=\"Forest\",'Pollutant Loading Rates'!C$13*($V18-$L18)/43560,IF($R18=\"Agriculture\",'Pollutant Loading Rates'!C$14*($V18-$L18)/43560,IF($D18=\"RIDOT\",($V18-$L18)/43560*'Pollutant Loading Rates'!C$15,($V18-$L18)/43560*'Pollutant Loading Rates'!C$16))))","v":""},{"$f":"IF($A18=\"\",\"\",(VLOOKUP($R18,'Pollutant Loading Rates'!$A$5:$F$12,4,0)*$L18/43560)+IF($R18=\"Forest\",'Pollutant Loading Rates'!D$13*($V18-$L18)/43560,IF($R18=\"Agriculture\",'Pollutant Loading Rates'!D$14*($V18-$L18)/43560,IF($D18=\"RIDOT\",($V18-$L18)/43560*'Pollutant Loading Rates'!D$15,($V18-$L18)/43560*'Pollutant Loading Rates'!D$16))))","v":""},{"$f":"IF($A18=\"\",\"\",(VLOOKUP($R18,'Pollutant Loading Rates'!$A$5:$F$12,5,0)*$L18/43560)+IF($R18=\"Forest\",'Pollutant Loading Rates'!E$13*($V18-$L18)/43560,IF($R18=\"Agriculture\",'Pollutant Loading Rates'!E$14*($V18-$L18)/43560,IF($D18=\"RIDOT\",($V18-$L18)/43560*'Pollutant Loading Rates'!E$15,($V18-$L18)/43560*'Pollutant Loading Rates'!E$16))))","v":""},{"$f":"IF($A18=\"\",\"\",(VLOOKUP($R18,'Pollutant Loading Rates'!$A$5:$F$12,6,0)*$L18/43560)+IF($R18=\"Forest\",'Pollutant Loading Rates'!F$13*($V18-$L18)/43560,IF($R18=\"Agriculture\",'Pollutant Loading Rates'!F$14*($V18-$L18)/43560,IF($D18=\"RIDOT\",($V18-$L18)/43560*'Pollutant Loading Rates'!F$15,$V18-$L18)/43560*'Pollutant Loading Rates'!F$16)))","v":""}]
[null,null,null,null,null,null,null,null,null,null,null,null,null,null,null,null,null,null,null,null,null,null,null,{"$f":"IF($A19=\"\",\"\",(VLOOKUP($R19,'Pollutant Loading Rates'!$A$5:$F$12,3,0)*$L19/43560)+IF($R19=\"Forest\",'Pollutant Loading Rates'!C$13*($V19-$L19)/43560,IF($R19=\"Agriculture\",'Pollutant Loading Rates'!C$14*($V19-$L19)/43560,IF($D19=\"RIDOT\",($V19-$L19)/43560*'Pollutant Loading Rates'!C$15,($V19-$L19)/43560*'Pollutant Loading Rates'!C$16))))","v":""},{"$f":"IF($A19=\"\",\"\",(VLOOKUP($R19,'Pollutant Loading Rates'!$A$5:$F$12,4,0)*$L19/43560)+IF($R19=\"Forest\",'Pollutant Loading Rates'!D$13*($V19-$L19)/43560,IF($R19=\"Agriculture\",'Pollutant Loading Rates'!D$14*($V19-$L19)/43560,IF($D19=\"RIDOT\",($V19-$L19)/43560*'Pollutant Loading Rates'!D$15,($V19-$L19)/43560*'Pollutant Loading Rates'!D$16))))","v":""},{"$f":"IF($A19=\"\",\"\",(VLOOKUP($R19,'Pollutant Loading Rates'!$A$5:$F$12,5,0)*$L19/43560)+IF($R19=\"Forest\",'Pollutant Loading Rates'!E$13*($V19-$L19)/43560,IF($R19=\"Agriculture\",'Pollutant Loading Rates'!E$14*($V19-$L19)/43560,IF($D19=\"RIDOT\",($V19-$L19)/43560*'Pollutant Loading Rates'!E$15,($V19-$L19)/43560*'Pollutant Loading Rates'!E$16))))","v":""},{"$f":"IF($A19=\"\",\"\",(VLOOKUP($R19,'Pollutant Loading Rates'!$A$5:$F$12,6,0)*$L19/43560)+IF($R19=\"Forest\",'Pollutant Loading Rates'!F$13*($V19-$L19)/43560,IF($R19=\"Agriculture\",'Pollutant Loading Rates'!F$14*($V19-$L19)/43560,IF($D19=\"RIDOT\",($V19-$L19)/43560*'Pollutant Loading Rates'!F$15,$V19-$L19)/43560*'Pollutant Loading Rates'!F$16)))","v":""}]
[null,null,null,null,null,null,null,null,null,null,null,null,null,null,null,null,null,null,null,null,null,null,null,{"$f":"IF($A20=\"\",\"\",(VLOOKUP($R20,'Pollutant Loading Rates'!$A$5:$F$12,3,0)*$L20/43560)+IF($R20=\"Forest\",'Pollutant Loading Rates'!C$13*($V20-$L20)/43560,IF($R20=\"Agriculture\",'Pollutant Loading Rates'!C$14*($V20-$L20)/43560,IF($D20=\"RIDOT\",($V20-$L20)/43560*'Pollutant Loading Rates'!C$15,($V20-$L20)/43560*'Pollutant Loading Rates'!C$16))))","v":""},{"$f":"IF($A20=\"\",\"\",(VLOOKUP($R20,'Pollutant Loading Rates'!$A$5:$F$12,4,0)*$L20/43560)+IF($R20=\"Forest\",'Pollutant Loading Rates'!D$13*($V20-$L20)/43560,IF($R20=\"Agriculture\",'Pollutant Loading Rates'!D$14*($V20-$L20)/43560,IF($D20=\"RIDOT\",($V20-$L20)/43560*'Pollutant Loading Rates'!D$15,($V20-$L20)/43560*'Pollutant Loading Rates'!D$16))))","v":""},{"$f":"IF($A20=\"\",\"\",(VLOOKUP($R20,'Pollutant Loading Rates'!$A$5:$F$12,5,0)*$L20/43560)+IF($R20=\"Forest\",'Pollutant Loading Rates'!E$13*($V20-$L20)/43560,IF($R20=\"Agriculture\",'Pollutant Loading Rates'!E$14*($V20-$L20)/43560,IF($D20=\"RIDOT\",($V20-$L20)/43560*'Pollutant Loading Rates'!E$15,($V20-$L20)/43560*'Pollutant Loading Rates'!E$16))))","v":""},{"$f":"IF($A20=\"\",\"\",(VLOOKUP($R20,'Pollutant Loading Rates'!$A$5:$F$12,6,0)*$L20/43560)+IF($R20=\"Forest\",'Pollutant Loading Rates'!F$13*($V20-$L20)/43560,IF($R20=\"Agriculture\",'Pollutant Loading Rates'!F$14*($V20-$L20)/43560,IF($D20=\"RIDOT\",($V20-$L20)/43560*'Pollutant Loading Rates'!F$15,$V20-$L20)/43560*'Pollutant Loading Rates'!F$16)))","v":""}]
[null,null,null,null,null,null,null,null,null,null,null,null,null,null,null,null,null,null,null,null,null,null,null,{"$f":"IF($A21=\"\",\"\",(VLOOKUP($R21,'Pollutant Loading Rates'!$A$5:$F$12,3,0)*$L21/43560)+IF($R21=\"Forest\",'Pollutant Loading Rates'!C$13*($V21-$L21)/43560,IF($R21=\"Agriculture\",'Pollutant Loading Rates'!C$14*($V21-$L21)/43560,IF($D21=\"RIDOT\",($V21-$L21)/43560*'Pollutant Loading Rates'!C$15,($V21-$L21)/43560*'Pollutant Loading Rates'!C$16))))","v":""},{"$f":"IF($A21=\"\",\"\",(VLOOKUP($R21,'Pollutant Loading Rates'!$A$5:$F$12,4,0)*$L21/43560)+IF($R21=\"Forest\",'Pollutant Loading Rates'!D$13*($V21-$L21)/43560,IF($R21=\"Agriculture\",'Pollutant Loading Rates'!D$14*($V21-$L21)/43560,IF($D21=\"RIDOT\",($V21-$L21)/43560*'Pollutant Loading Rates'!D$15,($V21-$L21)/43560*'Pollutant Loading Rates'!D$16))))","v":""},{"$f":"IF($A21=\"\",\"\",(VLOOKUP($R21,'Pollutant Loading Rates'!$A$5:$F$12,5,0)*$L21/43560)+IF($R21=\"Forest\",'Pollutant Loading Rates'!E$13*($V21-$L21)/43560,IF($R21=\"Agriculture\",'Pollutant Loading Rates'!E$14*($V21-$L21)/43560,IF($D21=\"RIDOT\",($V21-$L21)/43560*'Pollutant Loading Rates'!E$15,($V21-$L21)/43560*'Pollutant Loading Rates'!E$16))))","v":""},{"$f":"IF($A21=\"\",\"\",(VLOOKUP($R21,'Pollutant Loading Rates'!$A$5:$F$12,6,0)*$L21/43560)+IF($R21=\"Forest\",'Pollutant Loading Rates'!F$13*($V21-$L21)/43560,IF($R21=\"Agriculture\",'Pollutant Loading Rates'!F$14*($V21-$L21)/43560,IF($D21=\"RIDOT\",($V21-$L21)/43560*'Pollutant Loading Rates'!F$15,$V21-$L21)/43560*'Pollutant Loading Rates'!F$16)))","v":""}]
[null,null,null,null,null,null,null,null,null,null,null,null,null,null,null,null,null,null,null,null,null,null,null,{"$f":"IF($A22=\"\",\"\",(VLOOKUP($R22,'Pollutant Loading Rates'!$A$5:$F$12,3,0)*$L22/43560)+IF($R22=\"Forest\",'Pollutant Loading Rates'!C$13*($V22-$L22)/43560,IF($R22=\"Agriculture\",'Pollutant Loading Rates'!C$14*($V22-$L22)/43560,IF($D22=\"RIDOT\",($V22-$L22)/43560*'Pollutant Loading Rates'!C$15,($V22-$L22)/43560*'Pollutant Loading Rates'!C$16))))","v":""},{"$f":"IF($A22=\"\",\"\",(VLOOKUP($R22,'Pollutant Loading Rates'!$A$5:$F$12,4,0)*$L22/43560)+IF($R22=\"Forest\",'Pollutant Loading Rates'!D$13*($V22-$L22)/43560,IF($R22=\"Agriculture\",'Pollutant Loading Rates'!D$14*($V22-$L22)/43560,IF($D22=\"RIDOT\",($V22-$L22)/43560*'Pollutant Loading Rates'!D$15,($V22-$L22)/43560*'Pollutant Loading Rates'!D$16))))","v":""},{"$f":"IF($A22=\"\",\"\",(VLOOKUP($R22,'Pollutant Loading Rates'!$A$5:$F$12,5,0)*$L22/43560)+IF($R22=\"Forest\",'Pollutant Loading Rates'!E$13*($V22-$L22)/43560,IF($R22=\"Agriculture\",'Pollutant Loading Rates'!E$14*($V22-$L22)/43560,IF($D22=\"RIDOT\",($V22-$L22)/43560*'Pollutant Loading Rates'!E$15,($V22-$L22)/43560*'Pollutant Loading Rates'!E$16))))","v":""},{"$f":"IF($A22=\"\",\"\",(VLOOKUP($R22,'Pollutant Loading Rates'!$A$5:$F$12,6,0)*$L22/43560)+IF($R22=\"Forest\",'Pollutant Loading Rates'!F$13*($V22-$L22)/43560,IF($R22=\"Agriculture\",'Pollutant Loading Rates'!F$14*($V22-$L22)/43560,IF($D22=\"RIDOT\",($V22-$L22)/43560*'Pollutant Loading Rates'!F$15,$V22-$L22)/43560*'Pollutant Loading Rates'!F$16)))","v":""}]
[null,null,null,null,null,null,null,null,null,null,null,null,null,null,null,null,null,null,null,null,null,null,null,{"$f":"IF($A23=\"\",\"\",(VLOOKUP($R23,'Pollutant Loading Rates'!$A$5:$F$12,3,0)*$L23/43560)+IF($R23=\"Forest\",'Pollutant Loading Rates'!C$13*($V23-$L23)/43560,IF($R23=\"Agriculture\",'Pollutant Loading Rates'!C$14*($V23-$L23)/43560,IF($D23=\"RIDOT\",($V23-$L23)/43560*'Pollutant Loading Rates'!C$15,($V23-$L23)/43560*'Pollutant Loading Rates'!C$16))))","v":""},{"$f":"IF($A23=\"\",\"\",(VLOOKUP($R23,'Pollutant Loading Rates'!$A$5:$F$12,4,0)*$L23/43560)+IF($R23=\"Forest\",'Pollutant Loading Rates'!D$13*($V23-$L23)/43560,IF($R23=\"Agriculture\",'Pollutant Loading Rates'!D$14*($V23-$L23)/43560,IF($D23=\"RIDOT\",($V23-$L23)/43560*'Pollutant Loading Rates'!D$15,($V23-$L23)/43560*'Pollutant Loading Rates'!D$16))))","v":""},{"$f":"IF($A23=\"\",\"\",(VLOOKUP($R23,'Pollutant Loading Rates'!$A$5:$F$12,5,0)*$L23/43560)+IF($R23=\"Forest\",'Pollutant Loading Rates'!E$13*($V23-$L23)/43560,IF($R23=\"Agriculture\",'Pollutant Loading Rates'!E$14*($V23-$L23)/43560,IF($D23=\"RIDOT\",($V23-$L23)/43560*'Pollutant Loading Rates'!E$15,($V23-$L23)/43560*'Pollutant Loading Rates'!E$16))))","v":""},{"$f":"IF($A23=\"\",\"\",(VLOOKUP($R23,'Pollutant Loading Rates'!$A$5:$F$12,6,0)*$L23/43560)+IF($R23=\"Forest\",'Pollutant Loading Rates'!F$13*($V23-$L23)/43560,IF($R23=\"Agriculture\",'Pollutant Loading Rates'!F$14*($V23-$L23)/43560,IF($D23=\"RIDOT\",($V23-$L23)/43560*'Pollutant Loading Rates'!F$15,$V23-$L23)/43560*'Pollutant Loading Rates'!F$16)))","v":""}]
[null,null,null,null,null,null,null,null,null,null,null,null,null,null,null,null,null,null,null,null,null,null,null,{"$f":"IF($A24=\"\",\"\",(VLOOKUP($R24,'Pollutant Loading Rates'!$A$5:$F$12,3,0)*$L24/43560)+IF($R24=\"Forest\",'Pollutant Loading Rates'!C$13*($V24-$L24)/43560,IF($R24=\"Agriculture\",'Pollutant Loading Rates'!C$14*($V24-$L24)/43560,IF($D24=\"RIDOT\",($V24-$L24)/43560*'Pollutant Loading Rates'!C$15,($V24-$L24)/43560*'Pollutant Loading Rates'!C$16))))","v":""},{"$f":"IF($A24=\"\",\"\",(VLOOKUP($R24,'Pollutant Loading Rates'!$A$5:$F$12,4,0)*$L24/43560)+IF($R24=\"Forest\",'Pollutant Loading Rates'!D$13*($V24-$L24)/43560,IF($R24=\"Agriculture\",'Pollutant Loading Rates'!D$14*($V24-$L24)/43560,IF($D24=\"RIDOT\",($V24-$L24)/43560*'Pollutant Loading Rates'!D$15,($V24-$L24)/43560*'Pollutant Loading Rates'!D$16))))","v":""},{"$f":"IF($A24=\"\",\"\",(VLOOKUP($R24,'Pollutant Loading Rates'!$A$5:$F$12,5,0)*$L24/43560)+IF($R24=\"Forest\",'Pollutant Loading Rates'!E$13*($V24-$L24)/43560,IF($R24=\"Agriculture\",'Pollutant Loading Rates'!E$14*($V24-$L24)/43560,IF($D24=\"RIDOT\",($V24-$L24)/43560*'Pollutant Loading Rates'!E$15,($V24-$L24)/43560*'Pollutant Loading Rates'!E$16))))","v":""},{"$f":"IF($A24=\"\",\"\",(VLOOKUP($R24,'Pollutant Loading Rates'!$A$5:$F$12,6,0)*$L24/43560)+IF($R24=\"Forest\",'Pollutant Loading Rates'!F$13*($V24-$L24)/43560,IF($R24=\"Agriculture\",'Pollutant Loading Rates'!F$14*($V24-$L24)/43560,IF($D24=\"RIDOT\",($V24-$L24)/43560*'Pollutant Loading Rates'!F$15,$V24-$L24)/43560*'Pollutant Loading Rates'!F$16)))","v":""}]
[null,null,null,null,null,null,null,null,null,null,null,null,null,null,null,null,null,null,null,null,null,null,null,{"$f":"IF($A25=\"\",\"\",(VLOOKUP($R25,'Pollutant Loading Rates'!$A$5:$F$12,3,0)*$L25/43560)+IF($R25=\"Forest\",'Pollutant Loading Rates'!C$13*($V25-$L25)/43560,IF($R25=\"Agriculture\",'Pollutant Loading Rates'!C$14*($V25-$L25)/43560,IF($D25=\"RIDOT\",($V25-$L25)/43560*'Pollutant Loading Rates'!C$15,($V25-$L25)/43560*'Pollutant Loading Rates'!C$16))))","v":""},{"$f":"IF($A25=\"\",\"\",(VLOOKUP($R25,'Pollutant Loading Rates'!$A$5:$F$12,4,0)*$L25/43560)+IF($R25=\"Forest\",'Pollutant Loading Rates'!D$13*($V25-$L25)/43560,IF($R25=\"Agriculture\",'Pollutant Loading Rates'!D$14*($V25-$L25)/43560,IF($D25=\"RIDOT\",($V25-$L25)/43560*'Pollutant Loading Rates'!D$15,($V25-$L25)/43560*'Pollutant Loading Rates'!D$16))))","v":""},{"$f":"IF($A25=\"\",\"\",(VLOOKUP($R25,'Pollutant Loading Rates'!$A$5:$F$12,5,0)*$L25/43560)+IF($R25=\"Forest\",'Pollutant Loading Rates'!E$13*($V25-$L25)/43560,IF($R25=\"Agriculture\",'Pollutant Loading Rates'!E$14*($V25-$L25)/43560,IF($D25=\"RIDOT\",($V25-$L25)/43560*'Pollutant Loading Rates'!E$15,($V25-$L25)/43560*'Pollutant Loading Rates'!E$16))))","v":""},{"$f":"IF($A25=\"\",\"\",(VLOOKUP($R25,'Pollutant Loading Rates'!$A$5:$F$12,6,0)*$L25/43560)+IF($R25=\"Forest\",'Pollutant Loading Rates'!F$13*($V25-$L25)/43560,IF($R25=\"Agriculture\",'Pollutant Loading Rates'!F$14*($V25-$L25)/43560,IF($D25=\"RIDOT\",($V25-$L25)/43560*'Pollutant Loading Rates'!F$15,$V25-$L25)/43560*'Pollutant Loading Rates'!F$16)))","v":""}]
[null,null,null,null,null,null,null,null,null,null,null,null,null,null,null,null,null,null,null,null,null,null,null,{"$f":"IF($A26=\"\",\"\",(VLOOKUP($R26,'Pollutant Loading Rates'!$A$5:$F$12,3,0)*$L26/43560)+IF($R26=\"Forest\",'Pollutant Loading Rates'!C$13*($V26-$L26)/43560,IF($R26=\"Agriculture\",'Pollutant Loading Rates'!C$14*($V26-$L26)/43560,IF($D26=\"RIDOT\",($V26-$L26)/43560*'Pollutant Loading Rates'!C$15,($V26-$L26)/43560*'Pollutant Loading Rates'!C$16))))","v":""},{"$f":"IF($A26=\"\",\"\",(VLOOKUP($R26,'Pollutant Loading Rates'!$A$5:$F$12,4,0)*$L26/43560)+IF($R26=\"Forest\",'Pollutant Loading Rates'!D$13*($V26-$L26)/43560,IF($R26=\"Agriculture\",'Pollutant Loading Rates'!D$14*($V26-$L26)/43560,IF($D26=\"RIDOT\",($V26-$L26)/43560*'Pollutant Loading Rates'!D$15,($V26-$L26)/43560*'Pollutant Loading Rates'!D$16))))","v":""},{"$f":"IF($A26=\"\",\"\",(VLOOKUP($R26,'Pollutant Loading Rates'!$A$5:$F$12,5,0)*$L26/43560)+IF($R26=\"Forest\",'Pollutant Loading Rates'!E$13*($V26-$L26)/43560,IF($R26=\"Agriculture\",'Pollutant Loading Rates'!E$14*($V26-$L26)/43560,IF($D26=\"RIDOT\",($V26-$L26)/43560*'Pollutant Loading Rates'!E$15,($V26-$L26)/43560*'Pollutant Loading Rates'!E$16))))","v":""},{"$f":"IF($A26=\"\",\"\",(VLOOKUP($R26,'Pollutant Loading Rates'!$A$5:$F$12,6,0)*$L26/43560)+IF($R26=\"Forest\",'Pollutant Loading Rates'!F$13*($V26-$L26)/43560,IF($R26=\"Agriculture\",'Pollutant Loading Rates'!F$14*($V26-$L26)/43560,IF($D26=\"RIDOT\",($V26-$L26)/43560*'Pollutant Loading Rates'!F$15,$V26-$L26)/43560*'Pollutant Loading Rates'!F$16)))","v":""}]
[null,null,null,null,null,null,null,null,null,null,null,null,null,null,null,null,null,null,null,null,null,null,null,{"$f":"IF($A27=\"\",\"\",(VLOOKUP($R27,'Pollutant Loading Rates'!$A$5:$F$12,3,0)*$L27/43560)+IF($R27=\"Forest\",'Pollutant Loading Rates'!C$13*($V27-$L27)/43560,IF($R27=\"Agriculture\",'Pollutant Loading Rates'!C$14*($V27-$L27)/43560,IF($D27=\"RIDOT\",($V27-$L27)/43560*'Pollutant Loading Rates'!C$15,($V27-$L27)/43560*'Pollutant Loading Rates'!C$16))))","v":""},{"$f":"IF($A27=\"\",\"\",(VLOOKUP($R27,'Pollutant Loading Rates'!$A$5:$F$12,4,0)*$L27/43560)+IF($R27=\"Forest\",'Pollutant Loading Rates'!D$13*($V27-$L27)/43560,IF($R27=\"Agriculture\",'Pollutant Loading Rates'!D$14*($V27-$L27)/43560,IF($D27=\"RIDOT\",($V27-$L27)/43560*'Pollutant Loading Rates'!D$15,($V27-$L27)/43560*'Pollutant Loading Rates'!D$16))))","v":""},{"$f":"IF($A27=\"\",\"\",(VLOOKUP($R27,'Pollutant Loading Rates'!$A$5:$F$12,5,0)*$L27/43560)+IF($R27=\"Forest\",'Pollutant Loading Rates'!E$13*($V27-$L27)/43560,IF($R27=\"Agriculture\",'Pollutant Loading Rates'!E$14*($V27-$L27)/43560,IF($D27=\"RIDOT\",($V27-$L27)/43560*'Pollutant Loading Rates'!E$15,($V27-$L27)/43560*'Pollutant Loading Rates'!E$16))))","v":""},{"$f":"IF($A27=\"\",\"\",(VLOOKUP($R27,'Pollutant Loading Rates'!$A$5:$F$12,6,0)*$L27/43560)+IF($R27=\"Forest\",'Pollutant Loading Rates'!F$13*($V27-$L27)/43560,IF($R27=\"Agriculture\",'Pollutant Loading Rates'!F$14*($V27-$L27)/43560,IF($D27=\"RIDOT\",($V27-$L27)/43560*'Pollutant Loading Rates'!F$15,$V27-$L27)/43560*'Pollutant Loading Rates'!F$16)))","v":""}]
[null,null,null,null,null,null,null,null,null,null,null,null,null,null,null,null,null,null,null,null,null,null,null,{"$f":"IF($A28=\"\",\"\",(VLOOKUP($R28,'Pollutant Loading Rates'!$A$5:$F$12,3,0)*$L28/43560)+IF($R28=\"Forest\",'Pollutant Loading Rates'!C$13*($V28-$L28)/43560,IF($R28=\"Agriculture\",'Pollutant Loading Rates'!C$14*($V28-$L28)/43560,IF($D28=\"RIDOT\",($V28-$L28)/43560*'Pollutant Loading Rates'!C$15,($V28-$L28)/43560*'Pollutant Loading Rates'!C$16))))","v":""},{"$f":"IF($A28=\"\",\"\",(VLOOKUP($R28,'Pollutant Loading Rates'!$A$5:$F$12,4,0)*$L28/43560)+IF($R28=\"Forest\",'Pollutant Loading Rates'!D$13*($V28-$L28)/43560,IF($R28=\"Agriculture\",'Pollutant Loading Rates'!D$14*($V28-$L28)/43560,IF($D28=\"RIDOT\",($V28-$L28)/43560*'Pollutant Loading Rates'!D$15,($V28-$L28)/43560*'Pollutant Loading Rates'!D$16))))","v":""},{"$f":"IF($A28=\"\",\"\",(VLOOKUP($R28,'Pollutant Loading Rates'!$A$5:$F$12,5,0)*$L28/43560)+IF($R28=\"Forest\",'Pollutant Loading Rates'!E$13*($V28-$L28)/43560,IF($R28=\"Agriculture\",'Pollutant Loading Rates'!E$14*($V28-$L28)/43560,IF($D28=\"RIDOT\",($V28-$L28)/43560*'Pollutant Loading Rates'!E$15,($V28-$L28)/43560*'Pollutant Loading Rates'!E$16))))","v":""},{"$f":"IF($A28=\"\",\"\",(VLOOKUP($R28,'Pollutant Loading Rates'!$A$5:$F$12,6,0)*$L28/43560)+IF($R28=\"Forest\",'Pollutant Loading Rates'!F$13*($V28-$L28)/43560,IF($R28=\"Agriculture\",'Pollutant Loading Rates'!F$14*($V28-$L28)/43560,IF($D28=\"RIDOT\",($V28-$L28)/43560*'Pollutant Loading Rates'!F$15,$V28-$L28)/43560*'Pollutant Loading Rates'!F$16)))","v":""}]
[null,null,null,null,null,null,null,null,null,null,null,null,null,null,null,null,null,null,null,null,null,null,null,{"$f":"IF($A29=\"\",\"\",(VLOOKUP($R29,'Pollutant Loading Rates'!$A$5:$F$12,3,0)*$L29/43560)+IF($R29=\"Forest\",'Pollutant Loading Rates'!C$13*($V29-$L29)/43560,IF($R29=\"Agriculture\",'Pollutant Loading Rates'!C$14*($V29-$L29)/43560,IF($D29=\"RIDOT\",($V29-$L29)/43560*'Pollutant Loading Rates'!C$15,($V29-$L29)/43560*'Pollutant Loading Rates'!C$16))))","v":""},{"$f":"IF($A29=\"\",\"\",(VLOOKUP($R29,'Pollutant Loading Rates'!$A$5:$F$12,4,0)*$L29/43560)+IF($R29=\"Forest\",'Pollutant Loading Rates'!D$13*($V29-$L29)/43560,IF($R29=\"Agriculture\",'Pollutant Loading Rates'!D$14*($V29-$L29)/43560,IF($D29=\"RIDOT\",($V29-$L29)/43560*'Pollutant Loading Rates'!D$15,($V29-$L29)/43560*'Pollutant Loading Rates'!D$16))))","v":""},{"$f":"IF($A29=\"\",\"\",(VLOOKUP($R29,'Pollutant Loading Rates'!$A$5:$F$12,5,0)*$L29/43560)+IF($R29=\"Forest\",'Pollutant Loading Rates'!E$13*($V29-$L29)/43560,IF($R29=\"Agriculture\",'Pollutant Loading Rates'!E$14*($V29-$L29)/43560,IF($D29=\"RIDOT\",($V29-$L29)/43560*'Pollutant Loading Rates'!E$15,($V29-$L29)/43560*'Pollutant Loading Rates'!E$16))))","v":""},{"$f":"IF($A29=\"\",\"\",(VLOOKUP($R29,'Pollutant Loading Rates'!$A$5:$F$12,6,0)*$L29/43560)+IF($R29=\"Forest\",'Pollutant Loading Rates'!F$13*($V29-$L29)/43560,IF($R29=\"Agriculture\",'Pollutant Loading Rates'!F$14*($V29-$L29)/43560,IF($D29=\"RIDOT\",($V29-$L29)/43560*'Pollutant Loading Rates'!F$15,$V29-$L29)/43560*'Pollutant Loading Rates'!F$16)))","v":""}]
[null,null,null,null,null,null,null,null,null,null,null,null,null,null,null,null,null,null,null,null,null,null,null,{"$f":"IF($A30=\"\",\"\",(VLOOKUP($R30,'Pollutant Loading Rates'!$A$5:$F$12,3,0)*$L30/43560)+IF($R30=\"Forest\",'Pollutant Loading Rates'!C$13*($V30-$L30)/43560,IF($R30=\"Agriculture\",'Pollutant Loading Rates'!C$14*($V30-$L30)/43560,IF($D30=\"RIDOT\",($V30-$L30)/43560*'Pollutant Loading Rates'!C$15,($V30-$L30)/43560*'Pollutant Loading Rates'!C$16))))","v":""},{"$f":"IF($A30=\"\",\"\",(VLOOKUP($R30,'Pollutant Loading Rates'!$A$5:$F$12,4,0)*$L30/43560)+IF($R30=\"Forest\",'Pollutant Loading Rates'!D$13*($V30-$L30)/43560,IF($R30=\"Agriculture\",'Pollutant Loading Rates'!D$14*($V30-$L30)/43560,IF($D30=\"RIDOT\",($V30-$L30)/43560*'Pollutant Loading Rates'!D$15,($V30-$L30)/43560*'Pollutant Loading Rates'!D$16))))","v":""},{"$f":"IF($A30=\"\",\"\",(VLOOKUP($R30,'Pollutant Loading Rates'!$A$5:$F$12,5,0)*$L30/43560)+IF($R30=\"Forest\",'Pollutant Loading Rates'!E$13*($V30-$L30)/43560,IF($R30=\"Agriculture\",'Pollutant Loading Rates'!E$14*($V30-$L30)/43560,IF($D30=\"RIDOT\",($V30-$L30)/43560*'Pollutant Loading Rates'!E$15,($V30-$L30)/43560*'Pollutant Loading Rates'!E$16))))","v":""},{"$f":"IF($A30=\"\",\"\",(VLOOKUP($R30,'Pollutant Loading Rates'!$A$5:$F$12,6,0)*$L30/43560)+IF($R30=\"Forest\",'Pollutant Loading Rates'!F$13*($V30-$L30)/43560,IF($R30=\"Agriculture\",'Pollutant Loading Rates'!F$14*($V30-$L30)/43560,IF($D30=\"RIDOT\",($V30-$L30)/43560*'Pollutant Loading Rates'!F$15,$V30-$L30)/43560*'Pollutant Loading Rates'!F$16)))","v":""}]
[null,null,null,null,null,null,null,null,null,null,null,null,null,null,null,null,null,null,null,null,null,null,null,{"$f":"IF($A31=\"\",\"\",(VLOOKUP($R31,'Pollutant Loading Rates'!$A$5:$F$12,3,0)*$L31/43560)+IF($R31=\"Forest\",'Pollutant Loading Rates'!C$13*($V31-$L31)/43560,IF($R31=\"Agriculture\",'Pollutant Loading Rates'!C$14*($V31-$L31)/43560,IF($D31=\"RIDOT\",($V31-$L31)/43560*'Pollutant Loading Rates'!C$15,($V31-$L31)/43560*'Pollutant Loading Rates'!C$16))))","v":""},{"$f":"IF($A31=\"\",\"\",(VLOOKUP($R31,'Pollutant Loading Rates'!$A$5:$F$12,4,0)*$L31/43560)+IF($R31=\"Forest\",'Pollutant Loading Rates'!D$13*($V31-$L31)/43560,IF($R31=\"Agriculture\",'Pollutant Loading Rates'!D$14*($V31-$L31)/43560,IF($D31=\"RIDOT\",($V31-$L31)/43560*'Pollutant Loading Rates'!D$15,($V31-$L31)/43560*'Pollutant Loading Rates'!D$16))))","v":""},{"$f":"IF($A31=\"\",\"\",(VLOOKUP($R31,'Pollutant Loading Rates'!$A$5:$F$12,5,0)*$L31/43560)+IF($R31=\"Forest\",'Pollutant Loading Rates'!E$13*($V31-$L31)/43560,IF($R31=\"Agriculture\",'Pollutant Loading Rates'!E$14*($V31-$L31)/43560,IF($D31=\"RIDOT\",($V31-$L31)/43560*'Pollutant Loading Rates'!E$15,($V31-$L31)/43560*'Pollutant Loading Rates'!E$16))))","v":""},{"$f":"IF($A31=\"\",\"\",(VLOOKUP($R31,'Pollutant Loading Rates'!$A$5:$F$12,6,0)*$L31/43560)+IF($R31=\"Forest\",'Pollutant Loading Rates'!F$13*($V31-$L31)/43560,IF($R31=\"Agriculture\",'Pollutant Loading Rates'!F$14*($V31-$L31)/43560,IF($D31=\"RIDOT\",($V31-$L31)/43560*'Pollutant Loading Rates'!F$15,$V31-$L31)/43560*'Pollutant Loading Rates'!F$16)))","v":""}]
[null,null,null,null,null,null,null,null,null,null,null,null,null,null,null,null,null,null,null,null,null,null,null,{"$f":"IF($A32=\"\",\"\",(VLOOKUP($R32,'Pollutant Loading Rates'!$A$5:$F$12,3,0)*$L32/43560)+IF($R32=\"Forest\",'Pollutant Loading Rates'!C$13*($V32-$L32)/43560,IF($R32=\"Agriculture\",'Pollutant Loading Rates'!C$14*($V32-$L32)/43560,IF($D32=\"RIDOT\",($V32-$L32)/43560*'Pollutant Loading Rates'!C$15,($V32-$L32)/43560*'Pollutant Loading Rates'!C$16))))","v":""},{"$f":"IF($A32=\"\",\"\",(VLOOKUP($R32,'Pollutant Loading Rates'!$A$5:$F$12,4,0)*$L32/43560)+IF($R32=\"Forest\",'Pollutant Loading Rates'!D$13*($V32-$L32)/43560,IF($R32=\"Agriculture\",'Pollutant Loading Rates'!D$14*($V32-$L32)/43560,IF($D32=\"RIDOT\",($V32-$L32)/43560*'Pollutant Loading Rates'!D$15,($V32-$L32)/43560*'Pollutant Loading Rates'!D$16))))","v":""},{"$f":"IF($A32=\"\",\"\",(VLOOKUP($R32,'Pollutant Loading Rates'!$A$5:$F$12,5,0)*$L32/43560)+IF($R32=\"Forest\",'Pollutant Loading Rates'!E$13*($V32-$L32)/43560,IF($R32=\"Agriculture\",'Pollutant Loading Rates'!E$14*($V32-$L32)/43560,IF($D32=\"RIDOT\",($V32-$L32)/43560*'Pollutant Loading Rates'!E$15,($V32-$L32)/43560*'Pollutant Loading Rates'!E$16))))","v":""},{"$f":"IF($A32=\"\",\"\",(VLOOKUP($R32,'Pollutant Loading Rates'!$A$5:$F$12,6,0)*$L32/43560)+IF($R32=\"Forest\",'Pollutant Loading Rates'!F$13*($V32-$L32)/43560,IF($R32=\"Agriculture\",'Pollutant Loading Rates'!F$14*($V32-$L32)/43560,IF($D32=\"RIDOT\",($V32-$L32)/43560*'Pollutant Loading Rates'!F$15,$V32-$L32)/43560*'Pollutant Loading Rates'!F$16)))","v":""}]
[null,null,null,null,null,null,null,null,null,null,null,null,null,null,null,null,null,null,null,null,null,null,null,{"$f":"IF($A33=\"\",\"\",(VLOOKUP($R33,'Pollutant Loading Rates'!$A$5:$F$12,3,0)*$L33/43560)+IF($R33=\"Forest\",'Pollutant Loading Rates'!C$13*($V33-$L33)/43560,IF($R33=\"Agriculture\",'Pollutant Loading Rates'!C$14*($V33-$L33)/43560,IF($D33=\"RIDOT\",($V33-$L33)/43560*'Pollutant Loading Rates'!C$15,($V33-$L33)/43560*'Pollutant Loading Rates'!C$16))))","v":""},{"$f":"IF($A33=\"\",\"\",(VLOOKUP($R33,'Pollutant Loading Rates'!$A$5:$F$12,4,0)*$L33/43560)+IF($R33=\"Forest\",'Pollutant Loading Rates'!D$13*($V33-$L33)/43560,IF($R33=\"Agriculture\",'Pollutant Loading Rates'!D$14*($V33-$L33)/43560,IF($D33=\"RIDOT\",($V33-$L33)/43560*'Pollutant Loading Rates'!D$15,($V33-$L33)/43560*'Pollutant Loading Rates'!D$16))))","v":""},{"$f":"IF($A33=\"\",\"\",(VLOOKUP($R33,'Pollutant Loading Rates'!$A$5:$F$12,5,0)*$L33/43560)+IF($R33=\"Forest\",'Pollutant Loading Rates'!E$13*($V33-$L33)/43560,IF($R33=\"Agriculture\",'Pollutant Loading Rates'!E$14*($V33-$L33)/43560,IF($D33=\"RIDOT\",($V33-$L33)/43560*'Pollutant Loading Rates'!E$15,($V33-$L33)/43560*'Pollutant Loading Rates'!E$16))))","v":""},{"$f":"IF($A33=\"\",\"\",(VLOOKUP($R33,'Pollutant Loading Rates'!$A$5:$F$12,6,0)*$L33/43560)+IF($R33=\"Forest\",'Pollutant Loading Rates'!F$13*($V33-$L33)/43560,IF($R33=\"Agriculture\",'Pollutant Loading Rates'!F$14*($V33-$L33)/43560,IF($D33=\"RIDOT\",($V33-$L33)/43560*'Pollutant Loading Rates'!F$15,$V33-$L33)/43560*'Pollutant Loading Rates'!F$16)))","v":""}]
[null,null,null,null,null,null,null,null,null,null,null,null,null,null,null,null,null,null,null,null,null,null,null,{"$f":"IF($A34=\"\",\"\",(VLOOKUP($R34,'Pollutant Loading Rates'!$A$5:$F$12,3,0)*$L34/43560)+IF($R34=\"Forest\",'Pollutant Loading Rates'!C$13*($V34-$L34)/43560,IF($R34=\"Agriculture\",'Pollutant Loading Rates'!C$14*($V34-$L34)/43560,IF($D34=\"RIDOT\",($V34-$L34)/43560*'Pollutant Loading Rates'!C$15,($V34-$L34)/43560*'Pollutant Loading Rates'!C$16))))","v":""},{"$f":"IF($A34=\"\",\"\",(VLOOKUP($R34,'Pollutant Loading Rates'!$A$5:$F$12,4,0)*$L34/43560)+IF($R34=\"Forest\",'Pollutant Loading Rates'!D$13*($V34-$L34)/43560,IF($R34=\"Agriculture\",'Pollutant Loading Rates'!D$14*($V34-$L34)/43560,IF($D34=\"RIDOT\",($V34-$L34)/43560*'Pollutant Loading Rates'!D$15,($V34-$L34)/43560*'Pollutant Loading Rates'!D$16))))","v":""},{"$f":"IF($A34=\"\",\"\",(VLOOKUP($R34,'Pollutant Loading Rates'!$A$5:$F$12,5,0)*$L34/43560)+IF($R34=\"Forest\",'Pollutant Loading Rates'!E$13*($V34-$L34)/43560,IF($R34=\"Agriculture\",'Pollutant Loading Rates'!E$14*($V34-$L34)/43560,IF($D34=\"RIDOT\",($V34-$L34)/43560*'Pollutant Loading Rates'!E$15,($V34-$L34)/43560*'Pollutant Loading Rates'!E$16))))","v":""},{"$f":"IF($A34=\"\",\"\",(VLOOKUP($R34,'Pollutant Loading Rates'!$A$5:$F$12,6,0)*$L34/43560)+IF($R34=\"Forest\",'Pollutant Loading Rates'!F$13*($V34-$L34)/43560,IF($R34=\"Agriculture\",'Pollutant Loading Rates'!F$14*($V34-$L34)/43560,IF($D34=\"RIDOT\",($V34-$L34)/43560*'Pollutant Loading Rates'!F$15,$V34-$L34)/43560*'Pollutant Loading Rates'!F$16)))","v":""}]
[null,null,null,null,null,null,null,null,null,null,null,null,null,null,null,null,null,null,null,null,null,null,null,{"$f":"IF($A35=\"\",\"\",(VLOOKUP($R35,'Pollutant Loading Rates'!$A$5:$F$12,3,0)*$L35/43560)+IF($R35=\"Forest\",'Pollutant Loading Rates'!C$13*($V35-$L35)/43560,IF($R35=\"Agriculture\",'Pollutant Loading Rates'!C$14*($V35-$L35)/43560,IF($D35=\"RIDOT\",($V35-$L35)/43560*'Pollutant Loading Rates'!C$15,($V35-$L35)/43560*'Pollutant Loading Rates'!C$16))))","v":""},{"$f":"IF($A35=\"\",\"\",(VLOOKUP($R35,'Pollutant Loading Rates'!$A$5:$F$12,4,0)*$L35/43560)+IF($R35=\"Forest\",'Pollutant Loading Rates'!D$13*($V35-$L35)/43560,IF($R35=\"Agriculture\",'Pollutant Loading Rates'!D$14*($V35-$L35)/43560,IF($D35=\"RIDOT\",($V35-$L35)/43560*'Pollutant Loading Rates'!D$15,($V35-$L35)/43560*'Pollutant Loading Rates'!D$16))))","v":""},{"$f":"IF($A35=\"\",\"\",(VLOOKUP($R35,'Pollutant Loading Rates'!$A$5:$F$12,5,0)*$L35/43560)+IF($R35=\"Forest\",'Pollutant Loading Rates'!E$13*($V35-$L35)/43560,IF($R35=\"Agriculture\",'Pollutant Loading Rates'!E$14*($V35-$L35)/43560,IF($D35=\"RIDOT\",($V35-$L35)/43560*'Pollutant Loading Rates'!E$15,($V35-$L35)/43560*'Pollutant Loading Rates'!E$16))))","v":""},{"$f":"IF($A35=\"\",\"\",(VLOOKUP($R35,'Pollutant Loading Rates'!$A$5:$F$12,6,0)*$L35/43560)+IF($R35=\"Forest\",'Pollutant Loading Rates'!F$13*($V35-$L35)/43560,IF($R35=\"Agriculture\",'Pollutant Loading Rates'!F$14*($V35-$L35)/43560,IF($D35=\"RIDOT\",($V35-$L35)/43560*'Pollutant Loading Rates'!F$15,$V35-$L35)/43560*'Pollutant Loading Rates'!F$16)))","v":""}]
[null,null,null,null,null,null,null,null,null,null,null,null,null,null,null,null,null,null,null,null,null,null,null,{"$f":"IF($A36=\"\",\"\",(VLOOKUP($R36,'Pollutant Loading Rates'!$A$5:$F$12,3,0)*$L36/43560)+IF($R36=\"Forest\",'Pollutant Loading Rates'!C$13*($V36-$L36)/43560,IF($R36=\"Agriculture\",'Pollutant Loading Rates'!C$14*($V36-$L36)/43560,IF($D36=\"RIDOT\",($V36-$L36)/43560*'Pollutant Loading Rates'!C$15,($V36-$L36)/43560*'Pollutant Loading Rates'!C$16))))","v":""},{"$f":"IF($A36=\"\",\"\",(VLOOKUP($R36,'Pollutant Loading Rates'!$A$5:$F$12,4,0)*$L36/43560)+IF($R36=\"Forest\",'Pollutant Loading Rates'!D$13*($V36-$L36)/43560,IF($R36=\"Agriculture\",'Pollutant Loading Rates'!D$14*($V36-$L36)/43560,IF($D36=\"RIDOT\",($V36-$L36)/43560*'Pollutant Loading Rates'!D$15,($V36-$L36)/43560*'Pollutant Loading Rates'!D$16))))","v":""},{"$f":"IF($A36=\"\",\"\",(VLOOKUP($R36,'Pollutant Loading Rates'!$A$5:$F$12,5,0)*$L36/43560)+IF($R36=\"Forest\",'Pollutant Loading Rates'!E$13*($V36-$L36)/43560,IF($R36=\"Agriculture\",'Pollutant Loading Rates'!E$14*($V36-$L36)/43560,IF($D36=\"RIDOT\",($V36-$L36)/43560*'Pollutant Loading Rates'!E$15,($V36-$L36)/43560*'Pollutant Loading Rates'!E$16))))","v":""},{"$f":"IF($A36=\"\",\"\",(VLOOKUP($R36,'Pollutant Loading Rates'!$A$5:$F$12,6,0)*$L36/43560)+IF($R36=\"Forest\",'Pollutant Loading Rates'!F$13*($V36-$L36)/43560,IF($R36=\"Agriculture\",'Pollutant Loading Rates'!F$14*($V36-$L36)/43560,IF($D36=\"RIDOT\",($V36-$L36)/43560*'Pollutant Loading Rates'!F$15,$V36-$L36)/43560*'Pollutant Loading Rates'!F$16)))","v":""}]
[null,null,null,null,null,null,null,null,null,null,null,null,null,null,null,null,null,null,null,null,null,null,null,{"$f":"IF($A37=\"\",\"\",(VLOOKUP($R37,'Pollutant Loading Rates'!$A$5:$F$12,3,0)*$L37/43560)+IF($R37=\"Forest\",'Pollutant Loading Rates'!C$13*($V37-$L37)/43560,IF($R37=\"Agriculture\",'Pollutant Loading Rates'!C$14*($V37-$L37)/43560,IF($D37=\"RIDOT\",($V37-$L37)/43560*'Pollutant Loading Rates'!C$15,($V37-$L37)/43560*'Pollutant Loading Rates'!C$16))))","v":""},{"$f":"IF($A37=\"\",\"\",(VLOOKUP($R37,'Pollutant Loading Rates'!$A$5:$F$12,4,0)*$L37/43560)+IF($R37=\"Forest\",'Pollutant Loading Rates'!D$13*($V37-$L37)/43560,IF($R37=\"Agriculture\",'Pollutant Loading Rates'!D$14*($V37-$L37)/43560,IF($D37=\"RIDOT\",($V37-$L37)/43560*'Pollutant Loading Rates'!D$15,($V37-$L37)/43560*'Pollutant Loading Rates'!D$16))))","v":""},{"$f":"IF($A37=\"\",\"\",(VLOOKUP($R37,'Pollutant Loading Rates'!$A$5:$F$12,5,0)*$L37/43560)+IF($R37=\"Forest\",'Pollutant Loading Rates'!E$13*($V37-$L37)/43560,IF($R37=\"Agriculture\",'Pollutant Loading Rates'!E$14*($V37-$L37)/43560,IF($D37=\"RIDOT\",($V37-$L37)/43560*'Pollutant Loading Rates'!E$15,($V37-$L37)/43560*'Pollutant Loading Rates'!E$16))))","v":""},{"$f":"IF($A37=\"\",\"\",(VLOOKUP($R37,'Pollutant Loading Rates'!$A$5:$F$12,6,0)*$L37/43560)+IF($R37=\"Forest\",'Pollutant Loading Rates'!F$13*($V37-$L37)/43560,IF($R37=\"Agriculture\",'Pollutant Loading Rates'!F$14*($V37-$L37)/43560,IF($D37=\"RIDOT\",($V37-$L37)/43560*'Pollutant Loading Rates'!F$15,$V37-$L37)/43560*'Pollutant Loading Rates'!F$16)))","v":""}]
[null,null,null,null,null,null,null,null,null,null,null,null,null,null,null,null,null,null,null,null,null,null,null,{"$f":"IF($A38=\"\",\"\",(VLOOKUP($R38,'Pollutant Loading Rates'!$A$5:$F$12,3,0)*$L38/43560)+IF($R38=\"Forest\",'Pollutant Loading Rates'!C$13*($V38-$L38)/43560,IF($R38=\"Agriculture\",'Pollutant Loading Rates'!C$14*($V38-$L38)/43560,IF($D38=\"RIDOT\",($V38-$L38)/43560*'Pollutant Loading Rates'!C$15,($V38-$L38)/43560*'Pollutant Loading Rates'!C$16))))","v":""},{"$f":"IF($A38=\"\",\"\",(VLOOKUP($R38,'Pollutant Loading Rates'!$A$5:$F$12,4,0)*$L38/43560)+IF($R38=\"Forest\",'Pollutant Loading Rates'!D$13*($V38-$L38)/43560,IF($R38=\"Agriculture\",'Pollutant Loading Rates'!D$14*($V38-$L38)/43560,IF($D38=\"RIDOT\",($V38-$L38)/43560*'Pollutant Loading Rates'!D$15,($V38-$L38)/43560*'Pollutant Loading Rates'!D$16))))","v":""},{"$f":"IF($A38=\"\",\"\",(VLOOKUP($R38,'Pollutant Loading Rates'!$A$5:$F$12,5,0)*$L38/43560)+IF($R38=\"Forest\",'Pollutant Loading Rates'!E$13*($V38-$L38)/43560,IF($R38=\"Agriculture\",'Pollutant Loading Rates'!E$14*($V38-$L38)/43560,IF($D38=\"RIDOT\",($V38-$L38)/43560*'Pollutant Loading Rates'!E$15,($V38-$L38)/43560*'Pollutant Loading Rates'!E$16))))","v":""},{"$f":"IF($A38=\"\",\"\",(VLOOKUP($R38,'Pollutant Loading Rates'!$A$5:$F$12,6,0)*$L38/43560)+IF($R38=\"Forest\",'Pollutant Loading Rates'!F$13*($V38-$L38)/43560,IF($R38=\"Agriculture\",'Pollutant Loading Rates'!F$14*($V38-$L38)/43560,IF($D38=\"RIDOT\",($V38-$L38)/43560*'Pollutant Loading Rates'!F$15,$V38-$L38)/43560*'Pollutant Loading Rates'!F$16)))","v":""}]
[null,null,null,null,null,null,null,null,null,null,null,null,null,null,null,null,null,null,null,null,null,null,null,{"$f":"IF($A39=\"\",\"\",(VLOOKUP($R39,'Pollutant Loading Rates'!$A$5:$F$12,3,0)*$L39/43560)+IF($R39=\"Forest\",'Pollutant Loading Rates'!C$13*($V39-$L39)/43560,IF($R39=\"Agriculture\",'Pollutant Loading Rates'!C$14*($V39-$L39)/43560,IF($D39=\"RIDOT\",($V39-$L39)/43560*'Pollutant Loading Rates'!C$15,($V39-$L39)/43560*'Pollutant Loading Rates'!C$16))))","v":""},{"$f":"IF($A39=\"\",\"\",(VLOOKUP($R39,'Pollutant Loading Rates'!$A$5:$F$12,4,0)*$L39/43560)+IF($R39=\"Forest\",'Pollutant Loading Rates'!D$13*($V39-$L39)/43560,IF($R39=\"Agriculture\",'Pollutant Loading Rates'!D$14*($V39-$L39)/43560,IF($D39=\"RIDOT\",($V39-$L39)/43560*'Pollutant Loading Rates'!D$15,($V39-$L39)/43560*'Pollutant Loading Rates'!D$16))))","v":""},{"$f":"IF($A39=\"\",\"\",(VLOOKUP($R39,'Pollutant Loading Rates'!$A$5:$F$12,5,0)*$L39/43560)+IF($R39=\"Forest\",'Pollutant Loading Rates'!E$13*($V39-$L39)/43560,IF($R39=\"Agriculture\",'Pollutant Loading Rates'!E$14*($V39-$L39)/43560,IF($D39=\"RIDOT\",($V39-$L39)/43560*'Pollutant Loading Rates'!E$15,($V39-$L39)/43560*'Pollutant Loading Rates'!E$16))))","v":""},{"$f":"IF($A39=\"\",\"\",(VLOOKUP($R39,'Pollutant Loading Rates'!$A$5:$F$12,6,0)*$L39/43560)+IF($R39=\"Forest\",'Pollutant Loading Rates'!F$13*($V39-$L39)/43560,IF($R39=\"Agriculture\",'Pollutant Loading Rates'!F$14*($V39-$L39)/43560,IF($D39=\"RIDOT\",($V39-$L39)/43560*'Pollutant Loading Rates'!F$15,$V39-$L39)/43560*'Pollutant Loading Rates'!F$16)))","v":""}]
[null,null,null,null,null,null,null,null,null,null,null,null,null,null,null,null,null,null,null,null,null,null,null,{"$f":"IF($A40=\"\",\"\",(VLOOKUP($R40,'Pollutant Loading Rates'!$A$5:$F$12,3,0)*$L40/43560)+IF($R40=\"Forest\",'Pollutant Loading Rates'!C$13*($V40-$L40)/43560,IF($R40=\"Agriculture\",'Pollutant Loading Rates'!C$14*($V40-$L40)/43560,IF($D40=\"RIDOT\",($V40-$L40)/43560*'Pollutant Loading Rates'!C$15,($V40-$L40)/43560*'Pollutant Loading Rates'!C$16))))","v":""},{"$f":"IF($A40=\"\",\"\",(VLOOKUP($R40,'Pollutant Loading Rates'!$A$5:$F$12,4,0)*$L40/43560)+IF($R40=\"Forest\",'Pollutant Loading Rates'!D$13*($V40-$L40)/43560,IF($R40=\"Agriculture\",'Pollutant Loading Rates'!D$14*($V40-$L40)/43560,IF($D40=\"RIDOT\",($V40-$L40)/43560*'Pollutant Loading Rates'!D$15,($V40-$L40)/43560*'Pollutant Loading Rates'!D$16))))","v":""},{"$f":"IF($A40=\"\",\"\",(VLOOKUP($R40,'Pollutant Loading Rates'!$A$5:$F$12,5,0)*$L40/43560)+IF($R40=\"Forest\",'Pollutant Loading Rates'!E$13*($V40-$L40)/43560,IF($R40=\"Agriculture\",'Pollutant Loading Rates'!E$14*($V40-$L40)/43560,IF($D40=\"RIDOT\",($V40-$L40)/43560*'Pollutant Loading Rates'!E$15,($V40-$L40)/43560*'Pollutant Loading Rates'!E$16))))","v":""},{"$f":"IF($A40=\"\",\"\",(VLOOKUP($R40,'Pollutant Loading Rates'!$A$5:$F$12,6,0)*$L40/43560)+IF($R40=\"Forest\",'Pollutant Loading Rates'!F$13*($V40-$L40)/43560,IF($R40=\"Agriculture\",'Pollutant Loading Rates'!F$14*($V40-$L40)/43560,IF($D40=\"RIDOT\",($V40-$L40)/43560*'Pollutant Loading Rates'!F$15,$V40-$L40)/43560*'Pollutant Loading Rates'!F$16)))","v":""}]
[null,null,null,null,null,null,null,null,null,null,null,null,null,null,null,null,null,null,null,null,null,null,null,{"$f":"IF($A41=\"\",\"\",(VLOOKUP($R41,'Pollutant Loading Rates'!$A$5:$F$12,3,0)*$L41/43560)+IF($R41=\"Forest\",'Pollutant Loading Rates'!C$13*($V41-$L41)/43560,IF($R41=\"Agriculture\",'Pollutant Loading Rates'!C$14*($V41-$L41)/43560,IF($D41=\"RIDOT\",($V41-$L41)/43560*'Pollutant Loading Rates'!C$15,($V41-$L41)/43560*'Pollutant Loading Rates'!C$16))))","v":""},{"$f":"IF($A41=\"\",\"\",(VLOOKUP($R41,'Pollutant Loading Rates'!$A$5:$F$12,4,0)*$L41/43560)+IF($R41=\"Forest\",'Pollutant Loading Rates'!D$13*($V41-$L41)/43560,IF($R41=\"Agriculture\",'Pollutant Loading Rates'!D$14*($V41-$L41)/43560,IF($D41=\"RIDOT\",($V41-$L41)/43560*'Pollutant Loading Rates'!D$15,($V41-$L41)/43560*'Pollutant Loading Rates'!D$16))))","v":""},{"$f":"IF($A41=\"\",\"\",(VLOOKUP($R41,'Pollutant Loading Rates'!$A$5:$F$12,5,0)*$L41/43560)+IF($R41=\"Forest\",'Pollutant Loading Rates'!E$13*($V41-$L41)/43560,IF($R41=\"Agriculture\",'Pollutant Loading Rates'!E$14*($V41-$L41)/43560,IF($D41=\"RIDOT\",($V41-$L41)/43560*'Pollutant Loading Rates'!E$15,($V41-$L41)/43560*'Pollutant Loading Rates'!E$16))))","v":""},{"$f":"IF($A41=\"\",\"\",(VLOOKUP($R41,'Pollutant Loading Rates'!$A$5:$F$12,6,0)*$L41/43560)+IF($R41=\"Forest\",'Pollutant Loading Rates'!F$13*($V41-$L41)/43560,IF($R41=\"Agriculture\",'Pollutant Loading Rates'!F$14*($V41-$L41)/43560,IF($D41=\"RIDOT\",($V41-$L41)/43560*'Pollutant Loading Rates'!F$15,$V41-$L41)/43560*'Pollutant Loading Rates'!F$16)))","v":""}]
[null,null,null,null,null,null,null,null,null,null,null,null,null,null,null,null,null,null,null,null,null,null,null,{"$f":"IF($A42=\"\",\"\",(VLOOKUP($R42,'Pollutant Loading Rates'!$A$5:$F$12,3,0)*$L42/43560)+IF($R42=\"Forest\",'Pollutant Loading Rates'!C$13*($V42-$L42)/43560,IF($R42=\"Agriculture\",'Pollutant Loading Rates'!C$14*($V42-$L42)/43560,IF($D42=\"RIDOT\",($V42-$L42)/43560*'Pollutant Loading Rates'!C$15,($V42-$L42)/43560*'Pollutant Loading Rates'!C$16))))","v":""},{"$f":"IF($A42=\"\",\"\",(VLOOKUP($R42,'Pollutant Loading Rates'!$A$5:$F$12,4,0)*$L42/43560)+IF($R42=\"Forest\",'Pollutant Loading Rates'!D$13*($V42-$L42)/43560,IF($R42=\"Agriculture\",'Pollutant Loading Rates'!D$14*($V42-$L42)/43560,IF($D42=\"RIDOT\",($V42-$L42)/43560*'Pollutant Loading Rates'!D$15,($V42-$L42)/43560*'Pollutant Loading Rates'!D$16))))","v":""},{"$f":"IF($A42=\"\",\"\",(VLOOKUP($R42,'Pollutant Loading Rates'!$A$5:$F$12,5,0)*$L42/43560)+IF($R42=\"Forest\",'Pollutant Loading Rates'!E$13*($V42-$L42)/43560,IF($R42=\"Agriculture\",'Pollutant Loading Rates'!E$14*($V42-$L42)/43560,IF($D42=\"RIDOT\",($V42-$L42)/43560*'Pollutant Loading Rates'!E$15,($V42-$L42)/43560*'Pollutant Loading Rates'!E$16))))","v":""},{"$f":"IF($A42=\"\",\"\",(VLOOKUP($R42,'Pollutant Loading Rates'!$A$5:$F$12,6,0)*$L42/43560)+IF($R42=\"Forest\",'Pollutant Loading Rates'!F$13*($V42-$L42)/43560,IF($R42=\"Agriculture\",'Pollutant Loading Rates'!F$14*($V42-$L42)/43560,IF($D42=\"RIDOT\",($V42-$L42)/43560*'Pollutant Loading Rates'!F$15,$V42-$L42)/43560*'Pollutant Loading Rates'!F$16)))","v":""}]
[null,null,null,null,null,null,null,null,null,null,null,null,null,null,null,null,null,null,null,null,null,null,null,{"$f":"IF($A43=\"\",\"\",(VLOOKUP($R43,'Pollutant Loading Rates'!$A$5:$F$12,3,0)*$L43/43560)+IF($R43=\"Forest\",'Pollutant Loading Rates'!C$13*($V43-$L43)/43560,IF($R43=\"Agriculture\",'Pollutant Loading Rates'!C$14*($V43-$L43)/43560,IF($D43=\"RIDOT\",($V43-$L43)/43560*'Pollutant Loading Rates'!C$15,($V43-$L43)/43560*'Pollutant Loading Rates'!C$16))))","v":""},{"$f":"IF($A43=\"\",\"\",(VLOOKUP($R43,'Pollutant Loading Rates'!$A$5:$F$12,4,0)*$L43/43560)+IF($R43=\"Forest\",'Pollutant Loading Rates'!D$13*($V43-$L43)/43560,IF($R43=\"Agriculture\",'Pollutant Loading Rates'!D$14*($V43-$L43)/43560,IF($D43=\"RIDOT\",($V43-$L43)/43560*'Pollutant Loading Rates'!D$15,($V43-$L43)/43560*'Pollutant Loading Rates'!D$16))))","v":""},{"$f":"IF($A43=\"\",\"\",(VLOOKUP($R43,'Pollutant Loading Rates'!$A$5:$F$12,5,0)*$L43/43560)+IF($R43=\"Forest\",'Pollutant Loading Rates'!E$13*($V43-$L43)/43560,IF($R43=\"Agriculture\",'Pollutant Loading Rates'!E$14*($V43-$L43)/43560,IF($D43=\"RIDOT\",($V43-$L43)/43560*'Pollutant Loading Rates'!E$15,($V43-$L43)/43560*'Pollutant Loading Rates'!E$16))))","v":""},{"$f":"IF($A43=\"\",\"\",(VLOOKUP($R43,'Pollutant Loading Rates'!$A$5:$F$12,6,0)*$L43/43560)+IF($R43=\"Forest\",'Pollutant Loading Rates'!F$13*($V43-$L43)/43560,IF($R43=\"Agriculture\",'Pollutant Loading Rates'!F$14*($V43-$L43)/43560,IF($D43=\"RIDOT\",($V43-$L43)/43560*'Pollutant Loading Rates'!F$15,$V43-$L43)/43560*'Pollutant Loading Rates'!F$16)))","v":""}]
[null,null,null,null,null,null,null,null,null,null,null,null,null,null,null,null,null,null,null,null,null,null,null,{"$f":"IF($A44=\"\",\"\",(VLOOKUP($R44,'Pollutant Loading Rates'!$A$5:$F$12,3,0)*$L44/43560)+IF($R44=\"Forest\",'Pollutant Loading Rates'!C$13*($V44-$L44)/43560,IF($R44=\"Agriculture\",'Pollutant Loading Rates'!C$14*($V44-$L44)/43560,IF($D44=\"RIDOT\",($V44-$L44)/43560*'Pollutant Loading Rates'!C$15,($V44-$L44)/43560*'Pollutant Loading Rates'!C$16))))","v":""},{"$f":"IF($A44=\"\",\"\",(VLOOKUP($R44,'Pollutant Loading Rates'!$A$5:$F$12,4,0)*$L44/43560)+IF($R44=\"Forest\",'Pollutant Loading Rates'!D$13*($V44-$L44)/43560,IF($R44=\"Agriculture\",'Pollutant Loading Rates'!D$14*($V44-$L44)/43560,IF($D44=\"RIDOT\",($V44-$L44)/43560*'Pollutant Loading Rates'!D$15,($V44-$L44)/43560*'Pollutant Loading Rates'!D$16))))","v":""},{"$f":"IF($A44=\"\",\"\",(VLOOKUP($R44,'Pollutant Loading Rates'!$A$5:$F$12,5,0)*$L44/43560)+IF($R44=\"Forest\",'Pollutant Loading Rates'!E$13*($V44-$L44)/43560,IF($R44=\"Agriculture\",'Pollutant Loading Rates'!E$14*($V44-$L44)/43560,IF($D44=\"RIDOT\",($V44-$L44)/43560*'Pollutant Loading Rates'!E$15,($V44-$L44)/43560*'Pollutant Loading Rates'!E$16))))","v":""},{"$f":"IF($A44=\"\",\"\",(VLOOKUP($R44,'Pollutant Loading Rates'!$A$5:$F$12,6,0)*$L44/43560)+IF($R44=\"Forest\",'Pollutant Loading Rates'!F$13*($V44-$L44)/43560,IF($R44=\"Agriculture\",'Pollutant Loading Rates'!F$14*($V44-$L44)/43560,IF($D44=\"RIDOT\",($V44-$L44)/43560*'Pollutant Loading Rates'!F$15,$V44-$L44)/43560*'Pollutant Loading Rates'!F$16)))","v":""}]
[null,null,null,null,null,null,null,null,null,null,null,null,null,null,null,null,null,null,null,null,null,null,null,{"$f":"IF($A45=\"\",\"\",(VLOOKUP($R45,'Pollutant Loading Rates'!$A$5:$F$12,3,0)*$L45/43560)+IF($R45=\"Forest\",'Pollutant Loading Rates'!C$13*($V45-$L45)/43560,IF($R45=\"Agriculture\",'Pollutant Loading Rates'!C$14*($V45-$L45)/43560,IF($D45=\"RIDOT\",($V45-$L45)/43560*'Pollutant Loading Rates'!C$15,($V45-$L45)/43560*'Pollutant Loading Rates'!C$16))))","v":""},{"$f":"IF($A45=\"\",\"\",(VLOOKUP($R45,'Pollutant Loading Rates'!$A$5:$F$12,4,0)*$L45/43560)+IF($R45=\"Forest\",'Pollutant Loading Rates'!D$13*($V45-$L45)/43560,IF($R45=\"Agriculture\",'Pollutant Loading Rates'!D$14*($V45-$L45)/43560,IF($D45=\"RIDOT\",($V45-$L45)/43560*'Pollutant Loading Rates'!D$15,($V45-$L45)/43560*'Pollutant Loading Rates'!D$16))))","v":""},{"$f":"IF($A45=\"\",\"\",(VLOOKUP($R45,'Pollutant Loading Rates'!$A$5:$F$12,5,0)*$L45/43560)+IF($R45=\"Forest\",'Pollutant Loading Rates'!E$13*($V45-$L45)/43560,IF($R45=\"Agriculture\",'Pollutant Loading Rates'!E$14*($V45-$L45)/43560,IF($D45=\"RIDOT\",($V45-$L45)/43560*'Pollutant Loading Rates'!E$15,($V45-$L45)/43560*'Pollutant Loading Rates'!E$16))))","v":""},{"$f":"IF($A45=\"\",\"\",(VLOOKUP($R45,'Pollutant Loading Rates'!$A$5:$F$12,6,0)*$L45/43560)+IF($R45=\"Forest\",'Pollutant Loading Rates'!F$13*($V45-$L45)/43560,IF($R45=\"Agriculture\",'Pollutant Loading Rates'!F$14*($V45-$L45)/43560,IF($D45=\"RIDOT\",($V45-$L45)/43560*'Pollutant Loading Rates'!F$15,$V45-$L45)/43560*'Pollutant Loading Rates'!F$16)))","v":""}]
[null,null,null,null,null,null,null,null,null,null,null,null,null,null,null,null,null,null,null,null,null,null,null,{"$f":"IF($A46=\"\",\"\",(VLOOKUP($R46,'Pollutant Loading Rates'!$A$5:$F$12,3,0)*$L46/43560)+IF($R46=\"Forest\",'Pollutant Loading Rates'!C$13*($V46-$L46)/43560,IF($R46=\"Agriculture\",'Pollutant Loading Rates'!C$14*($V46-$L46)/43560,IF($D46=\"RIDOT\",($V46-$L46)/43560*'Pollutant Loading Rates'!C$15,($V46-$L46)/43560*'Pollutant Loading Rates'!C$16))))","v":""},{"$f":"IF($A46=\"\",\"\",(VLOOKUP($R46,'Pollutant Loading Rates'!$A$5:$F$12,4,0)*$L46/43560)+IF($R46=\"Forest\",'Pollutant Loading Rates'!D$13*($V46-$L46)/43560,IF($R46=\"Agriculture\",'Pollutant Loading Rates'!D$14*($V46-$L46)/43560,IF($D46=\"RIDOT\",($V46-$L46)/43560*'Pollutant Loading Rates'!D$15,($V46-$L46)/43560*'Pollutant Loading Rates'!D$16))))","v":""},{"$f":"IF($A46=\"\",\"\",(VLOOKUP($R46,'Pollutant Loading Rates'!$A$5:$F$12,5,0)*$L46/43560)+IF($R46=\"Forest\",'Pollutant Loading Rates'!E$13*($V46-$L46)/43560,IF($R46=\"Agriculture\",'Pollutant Loading Rates'!E$14*($V46-$L46)/43560,IF($D46=\"RIDOT\",($V46-$L46)/43560*'Pollutant Loading Rates'!E$15,($V46-$L46)/43560*'Pollutant Loading Rates'!E$16))))","v":""},{"$f":"IF($A46=\"\",\"\",(VLOOKUP($R46,'Pollutant Loading Rates'!$A$5:$F$12,6,0)*$L46/43560)+IF($R46=\"Forest\",'Pollutant Loading Rates'!F$13*($V46-$L46)/43560,IF($R46=\"Agriculture\",'Pollutant Loading Rates'!F$14*($V46-$L46)/43560,IF($D46=\"RIDOT\",($V46-$L46)/43560*'Pollutant Loading Rates'!F$15,$V46-$L46)/43560*'Pollutant Loading Rates'!F$16)))","v":""}]
[null,null,null,null,null,null,null,null,null,null,null,null,null,null,null,null,null,null,null,null,null,null,null,{"$f":"IF($A47=\"\",\"\",(VLOOKUP($R47,'Pollutant Loading Rates'!$A$5:$F$12,3,0)*$L47/43560)+IF($R47=\"Forest\",'Pollutant Loading Rates'!C$13*($V47-$L47)/43560,IF($R47=\"Agriculture\",'Pollutant Loading Rates'!C$14*($V47-$L47)/43560,IF($D47=\"RIDOT\",($V47-$L47)/43560*'Pollutant Loading Rates'!C$15,($V47-$L47)/43560*'Pollutant Loading Rates'!C$16))))","v":""},{"$f":"IF($A47=\"\",\"\",(VLOOKUP($R47,'Pollutant Loading Rates'!$A$5:$F$12,4,0)*$L47/43560)+IF($R47=\"Forest\",'Pollutant Loading Rates'!D$13*($V47-$L47)/43560,IF($R47=\"Agriculture\",'Pollutant Loading Rates'!D$14*($V47-$L47)/43560,IF($D47=\"RIDOT\",($V47-$L47)/43560*'Pollutant Loading Rates'!D$15,($V47-$L47)/43560*'Pollutant Loading Rates'!D$16))))","v":""},{"$f":"IF($A47=\"\",\"\",(VLOOKUP($R47,'Pollutant Loading Rates'!$A$5:$F$12,5,0)*$L47/43560)+IF($R47=\"Forest\",'Pollutant Loading Rates'!E$13*($V47-$L47)/43560,IF($R47=\"Agriculture\",'Pollutant Loading Rates'!E$14*($V47-$L47)/43560,IF($D47=\"RIDOT\",($V47-$L47)/43560*'Pollutant Loading Rates'!E$15,($V47-$L47)/43560*'Pollutant Loading Rates'!E$16))))","v":""},{"$f":"IF($A47=\"\",\"\",(VLOOKUP($R47,'Pollutant Loading Rates'!$A$5:$F$12,6,0)*$L47/43560)+IF($R47=\"Forest\",'Pollutant Loading Rates'!F$13*($V47-$L47)/43560,IF($R47=\"Agriculture\",'Pollutant Loading Rates'!F$14*($V47-$L47)/43560,IF($D47=\"RIDOT\",($V47-$L47)/43560*'Pollutant Loading Rates'!F$15,$V47-$L47)/43560*'Pollutant Loading Rates'!F$16)))","v":""}]
[null,null,null,null,null,null,null,null,null,null,null,null,null,null,null,null,null,null,null,null,null,null,null,{"$f":"IF($A48=\"\",\"\",(VLOOKUP($R48,'Pollutant Loading Rates'!$A$5:$F$12,3,0)*$L48/43560)+IF($R48=\"Forest\",'Pollutant Loading Rates'!C$13*($V48-$L48)/43560,IF($R48=\"Agriculture\",'Pollutant Loading Rates'!C$14*($V48-$L48)/43560,IF($D48=\"RIDOT\",($V48-$L48)/43560*'Pollutant Loading Rates'!C$15,($V48-$L48)/43560*'Pollutant Loading Rates'!C$16))))","v":""},{"$f":"IF($A48=\"\",\"\",(VLOOKUP($R48,'Pollutant Loading Rates'!$A$5:$F$12,4,0)*$L48/43560)+IF($R48=\"Forest\",'Pollutant Loading Rates'!D$13*($V48-$L48)/43560,IF($R48=\"Agriculture\",'Pollutant Loading Rates'!D$14*($V48-$L48)/43560,IF($D48=\"RIDOT\",($V48-$L48)/43560*'Pollutant Loading Rates'!D$15,($V48-$L48)/43560*'Pollutant Loading Rates'!D$16))))","v":""},{"$f":"IF($A48=\"\",\"\",(VLOOKUP($R48,'Pollutant Loading Rates'!$A$5:$F$12,5,0)*$L48/43560)+IF($R48=\"Forest\",'Pollutant Loading Rates'!E$13*($V48-$L48)/43560,IF($R48=\"Agriculture\",'Pollutant Loading Rates'!E$14*($V48-$L48)/43560,IF($D48=\"RIDOT\",($V48-$L48)/43560*'Pollutant Loading Rates'!E$15,($V48-$L48)/43560*'Pollutant Loading Rates'!E$16))))","v":""},{"$f":"IF($A48=\"\",\"\",(VLOOKUP($R48,'Pollutant Loading Rates'!$A$5:$F$12,6,0)*$L48/43560)+IF($R48=\"Forest\",'Pollutant Loading Rates'!F$13*($V48-$L48)/43560,IF($R48=\"Agriculture\",'Pollutant Loading Rates'!F$14*($V48-$L48)/43560,IF($D48=\"RIDOT\",($V48-$L48)/43560*'Pollutant Loading Rates'!F$15,$V48-$L48)/43560*'Pollutant Loading Rates'!F$16)))","v":""}]
[null,null,null,null,null,null,null,null,null,null,null,null,null,null,null,null,null,null,null,null,null,null,null,{"$f":"IF($A49=\"\",\"\",(VLOOKUP($R49,'Pollutant Loading Rates'!$A$5:$F$12,3,0)*$L49/43560)+IF($R49=\"Forest\",'Pollutant Loading Rates'!C$13*($V49-$L49)/43560,IF($R49=\"Agriculture\",'Pollutant Loading Rates'!C$14*($V49-$L49)/43560,IF($D49=\"RIDOT\",($V49-$L49)/43560*'Pollutant Loading Rates'!C$15,($V49-$L49)/43560*'Pollutant Loading Rates'!C$16))))","v":""},{"$f":"IF($A49=\"\",\"\",(VLOOKUP($R49,'Pollutant Loading Rates'!$A$5:$F$12,4,0)*$L49/43560)+IF($R49=\"Forest\",'Pollutant Loading Rates'!D$13*($V49-$L49)/43560,IF($R49=\"Agriculture\",'Pollutant Loading Rates'!D$14*($V49-$L49)/43560,IF($D49=\"RIDOT\",($V49-$L49)/43560*'Pollutant Loading Rates'!D$15,($V49-$L49)/43560*'Pollutant Loading Rates'!D$16))))","v":""},{"$f":"IF($A49=\"\",\"\",(VLOOKUP($R49,'Pollutant Loading Rates'!$A$5:$F$12,5,0)*$L49/43560)+IF($R49=\"Forest\",'Pollutant Loading Rates'!E$13*($V49-$L49)/43560,IF($R49=\"Agriculture\",'Pollutant Loading Rates'!E$14*($V49-$L49)/43560,IF($D49=\"RIDOT\",($V49-$L49)/43560*'Pollutant Loading Rates'!E$15,($V49-$L49)/43560*'Pollutant Loading Rates'!E$16))))","v":""},{"$f":"IF($A49=\"\",\"\",(VLOOKUP($R49,'Pollutant Loading Rates'!$A$5:$F$12,6,0)*$L49/43560)+IF($R49=\"Forest\",'Pollutant Loading Rates'!F$13*($V49-$L49)/43560,IF($R49=\"Agriculture\",'Pollutant Loading Rates'!F$14*($V49-$L49)/43560,IF($D49=\"RIDOT\",($V49-$L49)/43560*'Pollutant Loading Rates'!F$15,$V49-$L49)/43560*'Pollutant Loading Rates'!F$16)))","v":""}]
[null,null,null,null,null,null,null,null,null,null,null,null,null,null,null,null,null,null,null,null,null,null,null,{"$f":"IF($A50=\"\",\"\",(VLOOKUP($R50,'Pollutant Loading Rates'!$A$5:$F$12,3,0)*$L50/43560)+IF($R50=\"Forest\",'Pollutant Loading Rates'!C$13*($V50-$L50)/43560,IF($R50=\"Agriculture\",'Pollutant Loading Rates'!C$14*($V50-$L50)/43560,IF($D50=\"RIDOT\",($V50-$L50)/43560*'Pollutant Loading Rates'!C$15,($V50-$L50)/43560*'Pollutant Loading Rates'!C$16))))","v":""},{"$f":"IF($A50=\"\",\"\",(VLOOKUP($R50,'Pollutant Loading Rates'!$A$5:$F$12,4,0)*$L50/43560)+IF($R50=\"Forest\",'Pollutant Loading Rates'!D$13*($V50-$L50)/43560,IF($R50=\"Agriculture\",'Pollutant Loading Rates'!D$14*($V50-$L50)/43560,IF($D50=\"RIDOT\",($V50-$L50)/43560*'Pollutant Loading Rates'!D$15,($V50-$L50)/43560*'Pollutant Loading Rates'!D$16))))","v":""},{"$f":"IF($A50=\"\",\"\",(VLOOKUP($R50,'Pollutant Loading Rates'!$A$5:$F$12,5,0)*$L50/43560)+IF($R50=\"Forest\",'Pollutant Loading Rates'!E$13*($V50-$L50)/43560,IF($R50=\"Agriculture\",'Pollutant Loading Rates'!E$14*($V50-$L50)/43560,IF($D50=\"RIDOT\",($V50-$L50)/43560*'Pollutant Loading Rates'!E$15,($V50-$L50)/43560*'Pollutant Loading Rates'!E$16))))","v":""},{"$f":"IF($A50=\"\",\"\",(VLOOKUP($R50,'Pollutant Loading Rates'!$A$5:$F$12,6,0)*$L50/43560)+IF($R50=\"Forest\",'Pollutant Loading Rates'!F$13*($V50-$L50)/43560,IF($R50=\"Agriculture\",'Pollutant Loading Rates'!F$14*($V50-$L50)/43560,IF($D50=\"RIDOT\",($V50-$L50)/43560*'Pollutant Loading Rates'!F$15,$V50-$L50)/43560*'Pollutant Loading Rates'!F$16)))","v":""}]
[null,null,null,null,null,null,null,null,null,null,null,null,null,null,null,null,null,null,null,null,null,null,null,{"$f":"IF($A51=\"\",\"\",(VLOOKUP($R51,'Pollutant Loading Rates'!$A$5:$F$12,3,0)*$L51/43560)+IF($R51=\"Forest\",'Pollutant Loading Rates'!C$13*($V51-$L51)/43560,IF($R51=\"Agriculture\",'Pollutant Loading Rates'!C$14*($V51-$L51)/43560,IF($D51=\"RIDOT\",($V51-$L51)/43560*'Pollutant Loading Rates'!C$15,($V51-$L51)/43560*'Pollutant Loading Rates'!C$16))))","v":""},{"$f":"IF($A51=\"\",\"\",(VLOOKUP($R51,'Pollutant Loading Rates'!$A$5:$F$12,4,0)*$L51/43560)+IF($R51=\"Forest\",'Pollutant Loading Rates'!D$13*($V51-$L51)/43560,IF($R51=\"Agriculture\",'Pollutant Loading Rates'!D$14*($V51-$L51)/43560,IF($D51=\"RIDOT\",($V51-$L51)/43560*'Pollutant Loading Rates'!D$15,($V51-$L51)/43560*'Pollutant Loading Rates'!D$16))))","v":""},{"$f":"IF($A51=\"\",\"\",(VLOOKUP($R51,'Pollutant Loading Rates'!$A$5:$F$12,5,0)*$L51/43560)+IF($R51=\"Forest\",'Pollutant Loading Rates'!E$13*($V51-$L51)/43560,IF($R51=\"Agriculture\",'Pollutant Loading Rates'!E$14*($V51-$L51)/43560,IF($D51=\"RIDOT\",($V51-$L51)/43560*'Pollutant Loading Rates'!E$15,($V51-$L51)/43560*'Pollutant Loading Rates'!E$16))))","v":""},{"$f":"IF($A51=\"\",\"\",(VLOOKUP($R51,'Pollutant Loading Rates'!$A$5:$F$12,6,0)*$L51/43560)+IF($R51=\"Forest\",'Pollutant Loading Rates'!F$13*($V51-$L51)/43560,IF($R51=\"Agriculture\",'Pollutant Loading Rates'!F$14*($V51-$L51)/43560,IF($D51=\"RIDOT\",($V51-$L51)/43560*'Pollutant Loading Rates'!F$15,$V51-$L51)/43560*'Pollutant Loading Rates'!F$16)))","v":""}]
[null,null,null,null,null,null,null,null,null,null,null,null,null,null,null,null,null,null,null,null,null,null,null,{"$f":"IF($A52=\"\",\"\",(VLOOKUP($R52,'Pollutant Loading Rates'!$A$5:$F$12,3,0)*$L52/43560)+IF($R52=\"Forest\",'Pollutant Loading Rates'!C$13*($V52-$L52)/43560,IF($R52=\"Agriculture\",'Pollutant Loading Rates'!C$14*($V52-$L52)/43560,IF($D52=\"RIDOT\",($V52-$L52)/43560*'Pollutant Loading Rates'!C$15,($V52-$L52)/43560*'Pollutant Loading Rates'!C$16))))","v":""},{"$f":"IF($A52=\"\",\"\",(VLOOKUP($R52,'Pollutant Loading Rates'!$A$5:$F$12,4,0)*$L52/43560)+IF($R52=\"Forest\",'Pollutant Loading Rates'!D$13*($V52-$L52)/43560,IF($R52=\"Agriculture\",'Pollutant Loading Rates'!D$14*($V52-$L52)/43560,IF($D52=\"RIDOT\",($V52-$L52)/43560*'Pollutant Loading Rates'!D$15,($V52-$L52)/43560*'Pollutant Loading Rates'!D$16))))","v":""},{"$f":"IF($A52=\"\",\"\",(VLOOKUP($R52,'Pollutant Loading Rates'!$A$5:$F$12,5,0)*$L52/43560)+IF($R52=\"Forest\",'Pollutant Loading Rates'!E$13*($V52-$L52)/43560,IF($R52=\"Agriculture\",'Pollutant Loading Rates'!E$14*($V52-$L52)/43560,IF($D52=\"RIDOT\",($V52-$L52)/43560*'Pollutant Loading Rates'!E$15,($V52-$L52)/43560*'Pollutant Loading Rates'!E$16))))","v":""},{"$f":"IF($A52=\"\",\"\",(VLOOKUP($R52,'Pollutant Loading Rates'!$A$5:$F$12,6,0)*$L52/43560)+IF($R52=\"Forest\",'Pollutant Loading Rates'!F$13*($V52-$L52)/43560,IF($R52=\"Agriculture\",'Pollutant Loading Rates'!F$14*($V52-$L52)/43560,IF($D52=\"RIDOT\",($V52-$L52)/43560*'Pollutant Loading Rates'!F$15,$V52-$L52)/43560*'Pollutant Loading Rates'!F$16)))","v":""}]
[null,null,null,null,null,null,null,null,null,null,null,null,null,null,null,null,null,null,null,null,null,null,null,{"$f":"IF($A53=\"\",\"\",(VLOOKUP($R53,'Pollutant Loading Rates'!$A$5:$F$12,3,0)*$L53/43560)+IF($R53=\"Forest\",'Pollutant Loading Rates'!C$13*($V53-$L53)/43560,IF($R53=\"Agriculture\",'Pollutant Loading Rates'!C$14*($V53-$L53)/43560,IF($D53=\"RIDOT\",($V53-$L53)/43560*'Pollutant Loading Rates'!C$15,($V53-$L53)/43560*'Pollutant Loading Rates'!C$16))))","v":""},{"$f":"IF($A53=\"\",\"\",(VLOOKUP($R53,'Pollutant Loading Rates'!$A$5:$F$12,4,0)*$L53/43560)+IF($R53=\"Forest\",'Pollutant Loading Rates'!D$13*($V53-$L53)/43560,IF($R53=\"Agriculture\",'Pollutant Loading Rates'!D$14*($V53-$L53)/43560,IF($D53=\"RIDOT\",($V53-$L53)/43560*'Pollutant Loading Rates'!D$15,($V53-$L53)/43560*'Pollutant Loading Rates'!D$16))))","v":""},{"$f":"IF($A53=\"\",\"\",(VLOOKUP($R53,'Pollutant Loading Rates'!$A$5:$F$12,5,0)*$L53/43560)+IF($R53=\"Forest\",'Pollutant Loading Rates'!E$13*($V53-$L53)/43560,IF($R53=\"Agriculture\",'Pollutant Loading Rates'!E$14*($V53-$L53)/43560,IF($D53=\"RIDOT\",($V53-$L53)/43560*'Pollutant Loading Rates'!E$15,($V53-$L53)/43560*'Pollutant Loading Rates'!E$16))))","v":""},{"$f":"IF($A53=\"\",\"\",(VLOOKUP($R53,'Pollutant Loading Rates'!$A$5:$F$12,6,0)*$L53/43560)+IF($R53=\"Forest\",'Pollutant Loading Rates'!F$13*($V53-$L53)/43560,IF($R53=\"Agriculture\",'Pollutant Loading Rates'!F$14*($V53-$L53)/43560,IF($D53=\"RIDOT\",($V53-$L53)/43560*'Pollutant Loading Rates'!F$15,$V53-$L53)/43560*'Pollutant Loading Rates'!F$16)))","v":""}]
[null,null,null,null,null,null,null,null,null,null,null,null,null,null,null,null,null,null,null,null,null,null,null,{"$f":"IF($A54=\"\",\"\",(VLOOKUP($R54,'Pollutant Loading Rates'!$A$5:$F$12,3,0)*$L54/43560)+IF($R54=\"Forest\",'Pollutant Loading Rates'!C$13*($V54-$L54)/43560,IF($R54=\"Agriculture\",'Pollutant Loading Rates'!C$14*($V54-$L54)/43560,IF($D54=\"RIDOT\",($V54-$L54)/43560*'Pollutant Loading Rates'!C$15,($V54-$L54)/43560*'Pollutant Loading Rates'!C$16))))","v":""},{"$f":"IF($A54=\"\",\"\",(VLOOKUP($R54,'Pollutant Loading Rates'!$A$5:$F$12,4,0)*$L54/43560)+IF($R54=\"Forest\",'Pollutant Loading Rates'!D$13*($V54-$L54)/43560,IF($R54=\"Agriculture\",'Pollutant Loading Rates'!D$14*($V54-$L54)/43560,IF($D54=\"RIDOT\",($V54-$L54)/43560*'Pollutant Loading Rates'!D$15,($V54-$L54)/43560*'Pollutant Loading Rates'!D$16))))","v":""},{"$f":"IF($A54=\"\",\"\",(VLOOKUP($R54,'Pollutant Loading Rates'!$A$5:$F$12,5,0)*$L54/43560)+IF($R54=\"Forest\",'Pollutant Loading Rates'!E$13*($V54-$L54)/43560,IF($R54=\"Agriculture\",'Pollutant Loading Rates'!E$14*($V54-$L54)/43560,IF($D54=\"RIDOT\",($V54-$L54)/43560*'Pollutant Loading Rates'!E$15,($V54-$L54)/43560*'Pollutant Loading Rates'!E$16))))","v":""},{"$f":"IF($A54=\"\",\"\",(VLOOKUP($R54,'Pollutant Loading Rates'!$A$5:$F$12,6,0)*$L54/43560)+IF($R54=\"Forest\",'Pollutant Loading Rates'!F$13*($V54-$L54)/43560,IF($R54=\"Agriculture\",'Pollutant Loading Rates'!F$14*($V54-$L54)/43560,IF($D54=\"RIDOT\",($V54-$L54)/43560*'Pollutant Loading Rates'!F$15,$V54-$L54)/43560*'Pollutant Loading Rates'!F$16)))","v":""}]
[null,null,null,null,null,null,null,null,null,null,null,null,null,null,null,null,null,null,null,null,null,null,null,{"$f":"IF($A55=\"\",\"\",(VLOOKUP($R55,'Pollutant Loading Rates'!$A$5:$F$12,3,0)*$L55/43560)+IF($R55=\"Forest\",'Pollutant Loading Rates'!C$13*($V55-$L55)/43560,IF($R55=\"Agriculture\",'Pollutant Loading Rates'!C$14*($V55-$L55)/43560,IF($D55=\"RIDOT\",($V55-$L55)/43560*'Pollutant Loading Rates'!C$15,($V55-$L55)/43560*'Pollutant Loading Rates'!C$16))))","v":""},{"$f":"IF($A55=\"\",\"\",(VLOOKUP($R55,'Pollutant Loading Rates'!$A$5:$F$12,4,0)*$L55/43560)+IF($R55=\"Forest\",'Pollutant Loading Rates'!D$13*($V55-$L55)/43560,IF($R55=\"Agriculture\",'Pollutant Loading Rates'!D$14*($V55-$L55)/43560,IF($D55=\"RIDOT\",($V55-$L55)/43560*'Pollutant Loading Rates'!D$15,($V55-$L55)/43560*'Pollutant Loading Rates'!D$16))))","v":""},{"$f":"IF($A55=\"\",\"\",(VLOOKUP($R55,'Pollutant Loading Rates'!$A$5:$F$12,5,0)*$L55/43560)+IF($R55=\"Forest\",'Pollutant Loading Rates'!E$13*($V55-$L55)/43560,IF($R55=\"Agriculture\",'Pollutant Loading Rates'!E$14*($V55-$L55)/43560,IF($D55=\"RIDOT\",($V55-$L55)/43560*'Pollutant Loading Rates'!E$15,($V55-$L55)/43560*'Pollutant Loading Rates'!E$16))))","v":""},{"$f":"IF($A55=\"\",\"\",(VLOOKUP($R55,'Pollutant Loading Rates'!$A$5:$F$12,6,0)*$L55/43560)+IF($R55=\"Forest\",'Pollutant Loading Rates'!F$13*($V55-$L55)/43560,IF($R55=\"Agriculture\",'Pollutant Loading Rates'!F$14*($V55-$L55)/43560,IF($D55=\"RIDOT\",($V55-$L55)/43560*'Pollutant Loading Rates'!F$15,$V55-$L55)/43560*'Pollutant Loading Rates'!F$16)))","v":""}]
[null,null,null,null,null,null,null,null,null,null,null,null,null,null,null,null,null,null,null,null,null,null,null,{"$f":"IF($A56=\"\",\"\",(VLOOKUP($R56,'Pollutant Loading Rates'!$A$5:$F$12,3,0)*$L56/43560)+IF($R56=\"Forest\",'Pollutant Loading Rates'!C$13*($V56-$L56)/43560,IF($R56=\"Agriculture\",'Pollutant Loading Rates'!C$14*($V56-$L56)/43560,IF($D56=\"RIDOT\",($V56-$L56)/43560*'Pollutant Loading Rates'!C$15,($V56-$L56)/43560*'Pollutant Loading Rates'!C$16))))","v":""},{"$f":"IF($A56=\"\",\"\",(VLOOKUP($R56,'Pollutant Loading Rates'!$A$5:$F$12,4,0)*$L56/43560)+IF($R56=\"Forest\",'Pollutant Loading Rates'!D$13*($V56-$L56)/43560,IF($R56=\"Agriculture\",'Pollutant Loading Rates'!D$14*($V56-$L56)/43560,IF($D56=\"RIDOT\",($V56-$L56)/43560*'Pollutant Loading Rates'!D$15,($V56-$L56)/43560*'Pollutant Loading Rates'!D$16))))","v":""},{"$f":"IF($A56=\"\",\"\",(VLOOKUP($R56,'Pollutant Loading Rates'!$A$5:$F$12,5,0)*$L56/43560)+IF($R56=\"Forest\",'Pollutant Loading Rates'!E$13*($V56-$L56)/43560,IF($R56=\"Agriculture\",'Pollutant Loading Rates'!E$14*($V56-$L56)/43560,IF($D56=\"RIDOT\",($V56-$L56)/43560*'Pollutant Loading Rates'!E$15,($V56-$L56)/43560*'Pollutant Loading Rates'!E$16))))","v":""},{"$f":"IF($A56=\"\",\"\",(VLOOKUP($R56,'Pollutant Loading Rates'!$A$5:$F$12,6,0)*$L56/43560)+IF($R56=\"Forest\",'Pollutant Loading Rates'!F$13*($V56-$L56)/43560,IF($R56=\"Agriculture\",'Pollutant Loading Rates'!F$14*($V56-$L56)/43560,IF($D56=\"RIDOT\",($V56-$L56)/43560*'Pollutant Loading Rates'!F$15,$V56-$L56)/43560*'Pollutant Loading Rates'!F$16)))","v":""}]
[null,null,null,null,null,null,null,null,null,null,null,null,null,null,null,null,null,null,null,null,null,null,null,{"$f":"IF($A57=\"\",\"\",(VLOOKUP($R57,'Pollutant Loading Rates'!$A$5:$F$12,3,0)*$L57/43560)+IF($R57=\"Forest\",'Pollutant Loading Rates'!C$13*($V57-$L57)/43560,IF($R57=\"Agriculture\",'Pollutant Loading Rates'!C$14*($V57-$L57)/43560,IF($D57=\"RIDOT\",($V57-$L57)/43560*'Pollutant Loading Rates'!C$15,($V57-$L57)/43560*'Pollutant Loading Rates'!C$16))))","v":""},{"$f":"IF($A57=\"\",\"\",(VLOOKUP($R57,'Pollutant Loading Rates'!$A$5:$F$12,4,0)*$L57/43560)+IF($R57=\"Forest\",'Pollutant Loading Rates'!D$13*($V57-$L57)/43560,IF($R57=\"Agriculture\",'Pollutant Loading Rates'!D$14*($V57-$L57)/43560,IF($D57=\"RIDOT\",($V57-$L57)/43560*'Pollutant Loading Rates'!D$15,($V57-$L57)/43560*'Pollutant Loading Rates'!D$16))))","v":""},{"$f":"IF($A57=\"\",\"\",(VLOOKUP($R57,'Pollutant Loading Rates'!$A$5:$F$12,5,0)*$L57/43560)+IF($R57=\"Forest\",'Pollutant Loading Rates'!E$13*($V57-$L57)/43560,IF($R57=\"Agriculture\",'Pollutant Loading Rates'!E$14*($V57-$L57)/43560,IF($D57=\"RIDOT\",($V57-$L57)/43560*'Pollutant Loading Rates'!E$15,($V57-$L57)/43560*'Pollutant Loading Rates'!E$16))))","v":""},{"$f":"IF($A57=\"\",\"\",(VLOOKUP($R57,'Pollutant Loading Rates'!$A$5:$F$12,6,0)*$L57/43560)+IF($R57=\"Forest\",'Pollutant Loading Rates'!F$13*($V57-$L57)/43560,IF($R57=\"Agriculture\",'Pollutant Loading Rates'!F$14*($V57-$L57)/43560,IF($D57=\"RIDOT\",($V57-$L57)/43560*'Pollutant Loading Rates'!F$15,$V57-$L57)/43560*'Pollutant Loading Rates'!F$16)))","v":""}]
[null,null,null,null,null,null,null,null,null,null,null,null,null,null,null,null,null,null,null,null,null,null,null,{"$f":"IF($A58=\"\",\"\",(VLOOKUP($R58,'Pollutant Loading Rates'!$A$5:$F$12,3,0)*$L58/43560)+IF($R58=\"Forest\",'Pollutant Loading Rates'!C$13*($V58-$L58)/43560,IF($R58=\"Agriculture\",'Pollutant Loading Rates'!C$14*($V58-$L58)/43560,IF($D58=\"RIDOT\",($V58-$L58)/43560*'Pollutant Loading Rates'!C$15,($V58-$L58)/43560*'Pollutant Loading Rates'!C$16))))","v":""},{"$f":"IF($A58=\"\",\"\",(VLOOKUP($R58,'Pollutant Loading Rates'!$A$5:$F$12,4,0)*$L58/43560)+IF($R58=\"Forest\",'Pollutant Loading Rates'!D$13*($V58-$L58)/43560,IF($R58=\"Agriculture\",'Pollutant Loading Rates'!D$14*($V58-$L58)/43560,IF($D58=\"RIDOT\",($V58-$L58)/43560*'Pollutant Loading Rates'!D$15,($V58-$L58)/43560*'Pollutant Loading Rates'!D$16))))","v":""},{"$f":"IF($A58=\"\",\"\",(VLOOKUP($R58,'Pollutant Loading Rates'!$A$5:$F$12,5,0)*$L58/43560)+IF($R58=\"Forest\",'Pollutant Loading Rates'!E$13*($V58-$L58)/43560,IF($R58=\"Agriculture\",'Pollutant Loading Rates'!E$14*($V58-$L58)/43560,IF($D58=\"RIDOT\",($V58-$L58)/43560*'Pollutant Loading Rates'!E$15,($V58-$L58)/43560*'Pollutant Loading Rates'!E$16))))","v":""},{"$f":"IF($A58=\"\",\"\",(VLOOKUP($R58,'Pollutant Loading Rates'!$A$5:$F$12,6,0)*$L58/43560)+IF($R58=\"Forest\",'Pollutant Loading Rates'!F$13*($V58-$L58)/43560,IF($R58=\"Agriculture\",'Pollutant Loading Rates'!F$14*($V58-$L58)/43560,IF($D58=\"RIDOT\",($V58-$L58)/43560*'Pollutant Loading Rates'!F$15,$V58-$L58)/43560*'Pollutant Loading Rates'!F$16)))","v":""}]
[null,null,null,null,null,null,null,null,null,null,null,null,null,null,null,null,null,null,null,null,null,null,null,{"$f":"IF($A59=\"\",\"\",(VLOOKUP($R59,'Pollutant Loading Rates'!$A$5:$F$12,3,0)*$L59/43560)+IF($R59=\"Forest\",'Pollutant Loading Rates'!C$13*($V59-$L59)/43560,IF($R59=\"Agriculture\",'Pollutant Loading Rates'!C$14*($V59-$L59)/43560,IF($D59=\"RIDOT\",($V59-$L59)/43560*'Pollutant Loading Rates'!C$15,($V59-$L59)/43560*'Pollutant Loading Rates'!C$16))))","v":""},{"$f":"IF($A59=\"\",\"\",(VLOOKUP($R59,'Pollutant Loading Rates'!$A$5:$F$12,4,0)*$L59/43560)+IF($R59=\"Forest\",'Pollutant Loading Rates'!D$13*($V59-$L59)/43560,IF($R59=\"Agriculture\",'Pollutant Loading Rates'!D$14*($V59-$L59)/43560,IF($D59=\"RIDOT\",($V59-$L59)/43560*'Pollutant Loading Rates'!D$15,($V59-$L59)/43560*'Pollutant Loading Rates'!D$16))))","v":""},{"$f":"IF($A59=\"\",\"\",(VLOOKUP($R59,'Pollutant Loading Rates'!$A$5:$F$12,5,0)*$L59/43560)+IF($R59=\"Forest\",'Pollutant Loading Rates'!E$13*($V59-$L59)/43560,IF($R59=\"Agriculture\",'Pollutant Loading Rates'!E$14*($V59-$L59)/43560,IF($D59=\"RIDOT\",($V59-$L59)/43560*'Pollutant Loading Rates'!E$15,($V59-$L59)/43560*'Pollutant Loading Rates'!E$16))))","v":""},{"$f":"IF($A59=\"\",\"\",(VLOOKUP($R59,'Pollutant Loading Rates'!$A$5:$F$12,6,0)*$L59/43560)+IF($R59=\"Forest\",'Pollutant Loading Rates'!F$13*($V59-$L59)/43560,IF($R59=\"Agriculture\",'Pollutant Loading Rates'!F$14*($V59-$L59)/43560,IF($D59=\"RIDOT\",($V59-$L59)/43560*'Pollutant Loading Rates'!F$15,$V59-$L59)/43560*'Pollutant Loading Rates'!F$16)))","v":""}]
[null,null,null,null,null,null,null,null,null,null,null,null,null,null,null,null,null,null,null,null,null,null,null,{"$f":"IF($A60=\"\",\"\",(VLOOKUP($R60,'Pollutant Loading Rates'!$A$5:$F$12,3,0)*$L60/43560)+IF($R60=\"Forest\",'Pollutant Loading Rates'!C$13*($V60-$L60)/43560,IF($R60=\"Agriculture\",'Pollutant Loading Rates'!C$14*($V60-$L60)/43560,IF($D60=\"RIDOT\",($V60-$L60)/43560*'Pollutant Loading Rates'!C$15,($V60-$L60)/43560*'Pollutant Loading Rates'!C$16))))","v":""},{"$f":"IF($A60=\"\",\"\",(VLOOKUP($R60,'Pollutant Loading Rates'!$A$5:$F$12,4,0)*$L60/43560)+IF($R60=\"Forest\",'Pollutant Loading Rates'!D$13*($V60-$L60)/43560,IF($R60=\"Agriculture\",'Pollutant Loading Rates'!D$14*($V60-$L60)/43560,IF($D60=\"RIDOT\",($V60-$L60)/43560*'Pollutant Loading Rates'!D$15,($V60-$L60)/43560*'Pollutant Loading Rates'!D$16))))","v":""},{"$f":"IF($A60=\"\",\"\",(VLOOKUP($R60,'Pollutant Loading Rates'!$A$5:$F$12,5,0)*$L60/43560)+IF($R60=\"Forest\",'Pollutant Loading Rates'!E$13*($V60-$L60)/43560,IF($R60=\"Agriculture\",'Pollutant Loading Rates'!E$14*($V60-$L60)/43560,IF($D60=\"RIDOT\",($V60-$L60)/43560*'Pollutant Loading Rates'!E$15,($V60-$L60)/43560*'Pollutant Loading Rates'!E$16))))","v":""},{"$f":"IF($A60=\"\",\"\",(VLOOKUP($R60,'Pollutant Loading Rates'!$A$5:$F$12,6,0)*$L60/43560)+IF($R60=\"Forest\",'Pollutant Loading Rates'!F$13*($V60-$L60)/43560,IF($R60=\"Agriculture\",'Pollutant Loading Rates'!F$14*($V60-$L60)/43560,IF($D60=\"RIDOT\",($V60-$L60)/43560*'Pollutant Loading Rates'!F$15,$V60-$L60)/43560*'Pollutant Loading Rates'!F$16)))","v":""}]
[null,null,null,null,null,null,null,null,null,null,null,null,null,null,null,null,null,null,null,null,null,null,null,{"$f":"IF($A61=\"\",\"\",(VLOOKUP($R61,'Pollutant Loading Rates'!$A$5:$F$12,3,0)*$L61/43560)+IF($R61=\"Forest\",'Pollutant Loading Rates'!C$13*($V61-$L61)/43560,IF($R61=\"Agriculture\",'Pollutant Loading Rates'!C$14*($V61-$L61)/43560,IF($D61=\"RIDOT\",($V61-$L61)/43560*'Pollutant Loading Rates'!C$15,($V61-$L61)/43560*'Pollutant Loading Rates'!C$16))))","v":""},{"$f":"IF($A61=\"\",\"\",(VLOOKUP($R61,'Pollutant Loading Rates'!$A$5:$F$12,4,0)*$L61/43560)+IF($R61=\"Forest\",'Pollutant Loading Rates'!D$13*($V61-$L61)/43560,IF($R61=\"Agriculture\",'Pollutant Loading Rates'!D$14*($V61-$L61)/43560,IF($D61=\"RIDOT\",($V61-$L61)/43560*'Pollutant Loading Rates'!D$15,($V61-$L61)/43560*'Pollutant Loading Rates'!D$16))))","v":""},{"$f":"IF($A61=\"\",\"\",(VLOOKUP($R61,'Pollutant Loading Rates'!$A$5:$F$12,5,0)*$L61/43560)+IF($R61=\"Forest\",'Pollutant Loading Rates'!E$13*($V61-$L61)/43560,IF($R61=\"Agriculture\",'Pollutant Loading Rates'!E$14*($V61-$L61)/43560,IF($D61=\"RIDOT\",($V61-$L61)/43560*'Pollutant Loading Rates'!E$15,($V61-$L61)/43560*'Pollutant Loading Rates'!E$16))))","v":""},{"$f":"IF($A61=\"\",\"\",(VLOOKUP($R61,'Pollutant Loading Rates'!$A$5:$F$12,6,0)*$L61/43560)+IF($R61=\"Forest\",'Pollutant Loading Rates'!F$13*($V61-$L61)/43560,IF($R61=\"Agriculture\",'Pollutant Loading Rates'!F$14*($V61-$L61)/43560,IF($D61=\"RIDOT\",($V61-$L61)/43560*'Pollutant Loading Rates'!F$15,$V61-$L61)/43560*'Pollutant Loading Rates'!F$16)))","v":""}]
[null,null,null,null,null,null,null,null,null,null,null,null,null,null,null,null,null,null,null,null,null,null,null,{"$f":"IF($A62=\"\",\"\",(VLOOKUP($R62,'Pollutant Loading Rates'!$A$5:$F$12,3,0)*$L62/43560)+IF($R62=\"Forest\",'Pollutant Loading Rates'!C$13*($V62-$L62)/43560,IF($R62=\"Agriculture\",'Pollutant Loading Rates'!C$14*($V62-$L62)/43560,IF($D62=\"RIDOT\",($V62-$L62)/43560*'Pollutant Loading Rates'!C$15,($V62-$L62)/43560*'Pollutant Loading Rates'!C$16))))","v":""},{"$f":"IF($A62=\"\",\"\",(VLOOKUP($R62,'Pollutant Loading Rates'!$A$5:$F$12,4,0)*$L62/43560)+IF($R62=\"Forest\",'Pollutant Loading Rates'!D$13*($V62-$L62)/43560,IF($R62=\"Agriculture\",'Pollutant Loading Rates'!D$14*($V62-$L62)/43560,IF($D62=\"RIDOT\",($V62-$L62)/43560*'Pollutant Loading Rates'!D$15,($V62-$L62)/43560*'Pollutant Loading Rates'!D$16))))","v":""},{"$f":"IF($A62=\"\",\"\",(VLOOKUP($R62,'Pollutant Loading Rates'!$A$5:$F$12,5,0)*$L62/43560)+IF($R62=\"Forest\",'Pollutant Loading Rates'!E$13*($V62-$L62)/43560,IF($R62=\"Agriculture\",'Pollutant Loading Rates'!E$14*($V62-$L62)/43560,IF($D62=\"RIDOT\",($V62-$L62)/43560*'Pollutant Loading Rates'!E$15,($V62-$L62)/43560*'Pollutant Loading Rates'!E$16))))","v":""},{"$f":"IF($A62=\"\",\"\",(VLOOKUP($R62,'Pollutant Loading Rates'!$A$5:$F$12,6,0)*$L62/43560)+IF($R62=\"Forest\",'Pollutant Loading Rates'!F$13*($V62-$L62)/43560,IF($R62=\"Agriculture\",'Pollutant Loading Rates'!F$14*($V62-$L62)/43560,IF($D62=\"RIDOT\",($V62-$L62)/43560*'Pollutant Loading Rates'!F$15,$V62-$L62)/43560*'Pollutant Loading Rates'!F$16)))","v":""}]
[null,null,null,null,null,null,null,null,null,null,null,null,null,null,null,null,null,null,null,null,null,null,null,{"$f":"IF($A63=\"\",\"\",(VLOOKUP($R63,'Pollutant Loading Rates'!$A$5:$F$12,3,0)*$L63/43560)+IF($R63=\"Forest\",'Pollutant Loading Rates'!C$13*($V63-$L63)/43560,IF($R63=\"Agriculture\",'Pollutant Loading Rates'!C$14*($V63-$L63)/43560,IF($D63=\"RIDOT\",($V63-$L63)/43560*'Pollutant Loading Rates'!C$15,($V63-$L63)/43560*'Pollutant Loading Rates'!C$16))))","v":""},{"$f":"IF($A63=\"\",\"\",(VLOOKUP($R63,'Pollutant Loading Rates'!$A$5:$F$12,4,0)*$L63/43560)+IF($R63=\"Forest\",'Pollutant Loading Rates'!D$13*($V63-$L63)/43560,IF($R63=\"Agriculture\",'Pollutant Loading Rates'!D$14*($V63-$L63)/43560,IF($D63=\"RIDOT\",($V63-$L63)/43560*'Pollutant Loading Rates'!D$15,($V63-$L63)/43560*'Pollutant Loading Rates'!D$16))))","v":""},{"$f":"IF($A63=\"\",\"\",(VLOOKUP($R63,'Pollutant Loading Rates'!$A$5:$F$12,5,0)*$L63/43560)+IF($R63=\"Forest\",'Pollutant Loading Rates'!E$13*($V63-$L63)/43560,IF($R63=\"Agriculture\",'Pollutant Loading Rates'!E$14*($V63-$L63)/43560,IF($D63=\"RIDOT\",($V63-$L63)/43560*'Pollutant Loading Rates'!E$15,($V63-$L63)/43560*'Pollutant Loading Rates'!E$16))))","v":""},{"$f":"IF($A63=\"\",\"\",(VLOOKUP($R63,'Pollutant Loading Rates'!$A$5:$F$12,6,0)*$L63/43560)+IF($R63=\"Forest\",'Pollutant Loading Rates'!F$13*($V63-$L63)/43560,IF($R63=\"Agriculture\",'Pollutant Loading Rates'!F$14*($V63-$L63)/43560,IF($D63=\"RIDOT\",($V63-$L63)/43560*'Pollutant Loading Rates'!F$15,$V63-$L63)/43560*'Pollutant Loading Rates'!F$16)))","v":""}]
[null,null,null,null,null,null,null,null,null,null,null,null,null,null,null,null,null,null,null,null,null,null,null,{"$f":"IF($A64=\"\",\"\",(VLOOKUP($R64,'Pollutant Loading Rates'!$A$5:$F$12,3,0)*$L64/43560)+IF($R64=\"Forest\",'Pollutant Loading Rates'!C$13*($V64-$L64)/43560,IF($R64=\"Agriculture\",'Pollutant Loading Rates'!C$14*($V64-$L64)/43560,IF($D64=\"RIDOT\",($V64-$L64)/43560*'Pollutant Loading Rates'!C$15,($V64-$L64)/43560*'Pollutant Loading Rates'!C$16))))","v":""},{"$f":"IF($A64=\"\",\"\",(VLOOKUP($R64,'Pollutant Loading Rates'!$A$5:$F$12,4,0)*$L64/43560)+IF($R64=\"Forest\",'Pollutant Loading Rates'!D$13*($V64-$L64)/43560,IF($R64=\"Agriculture\",'Pollutant Loading Rates'!D$14*($V64-$L64)/43560,IF($D64=\"RIDOT\",($V64-$L64)/43560*'Pollutant Loading Rates'!D$15,($V64-$L64)/43560*'Pollutant Loading Rates'!D$16))))","v":""},{"$f":"IF($A64=\"\",\"\",(VLOOKUP($R64,'Pollutant Loading Rates'!$A$5:$F$12,5,0)*$L64/43560)+IF($R64=\"Forest\",'Pollutant Loading Rates'!E$13*($V64-$L64)/43560,IF($R64=\"Agriculture\",'Pollutant Loading Rates'!E$14*($V64-$L64)/43560,IF($D64=\"RIDOT\",($V64-$L64)/43560*'Pollutant Loading Rates'!E$15,($V64-$L64)/43560*'Pollutant Loading Rates'!E$16))))","v":""},{"$f":"IF($A64=\"\",\"\",(VLOOKUP($R64,'Pollutant Loading Rates'!$A$5:$F$12,6,0)*$L64/43560)+IF($R64=\"Forest\",'Pollutant Loading Rates'!F$13*($V64-$L64)/43560,IF($R64=\"Agriculture\",'Pollutant Loading Rates'!F$14*($V64-$L64)/43560,IF($D64=\"RIDOT\",($V64-$L64)/43560*'Pollutant Loading Rates'!F$15,$V64-$L64)/43560*'Pollutant Loading Rates'!F$16)))","v":""}]
[null,null,null,null,null,null,null,null,null,null,null,null,null,null,null,null,null,null,null,null,null,null,null,{"$f":"IF($A65=\"\",\"\",(VLOOKUP($R65,'Pollutant Loading Rates'!$A$5:$F$12,3,0)*$L65/43560)+IF($R65=\"Forest\",'Pollutant Loading Rates'!C$13*($V65-$L65)/43560,IF($R65=\"Agriculture\",'Pollutant Loading Rates'!C$14*($V65-$L65)/43560,IF($D65=\"RIDOT\",($V65-$L65)/43560*'Pollutant Loading Rates'!C$15,($V65-$L65)/43560*'Pollutant Loading Rates'!C$16))))","v":""},{"$f":"IF($A65=\"\",\"\",(VLOOKUP($R65,'Pollutant Loading Rates'!$A$5:$F$12,4,0)*$L65/43560)+IF($R65=\"Forest\",'Pollutant Loading Rates'!D$13*($V65-$L65)/43560,IF($R65=\"Agriculture\",'Pollutant Loading Rates'!D$14*($V65-$L65)/43560,IF($D65=\"RIDOT\",($V65-$L65)/43560*'Pollutant Loading Rates'!D$15,($V65-$L65)/43560*'Pollutant Loading Rates'!D$16))))","v":""},{"$f":"IF($A65=\"\",\"\",(VLOOKUP($R65,'Pollutant Loading Rates'!$A$5:$F$12,5,0)*$L65/43560)+IF($R65=\"Forest\",'Pollutant Loading Rates'!E$13*($V65-$L65)/43560,IF($R65=\"Agriculture\",'Pollutant Loading Rates'!E$14*($V65-$L65)/43560,IF($D65=\"RIDOT\",($V65-$L65)/43560*'Pollutant Loading Rates'!E$15,($V65-$L65)/43560*'Pollutant Loading Rates'!E$16))))","v":""},{"$f":"IF($A65=\"\",\"\",(VLOOKUP($R65,'Pollutant Loading Rates'!$A$5:$F$12,6,0)*$L65/43560)+IF($R65=\"Forest\",'Pollutant Loading Rates'!F$13*($V65-$L65)/43560,IF($R65=\"Agriculture\",'Pollutant Loading Rates'!F$14*($V65-$L65)/43560,IF($D65=\"RIDOT\",($V65-$L65)/43560*'Pollutant Loading Rates'!F$15,$V65-$L65)/43560*'Pollutant Loading Rates'!F$16)))","v":""}]
[null,null,null,null,null,null,null,null,null,null,null,null,null,null,null,null,null,null,null,null,null,null,null,{"$f":"IF($A66=\"\",\"\",(VLOOKUP($R66,'Pollutant Loading Rates'!$A$5:$F$12,3,0)*$L66/43560)+IF($R66=\"Forest\",'Pollutant Loading Rates'!C$13*($V66-$L66)/43560,IF($R66=\"Agriculture\",'Pollutant Loading Rates'!C$14*($V66-$L66)/43560,IF($D66=\"RIDOT\",($V66-$L66)/43560*'Pollutant Loading Rates'!C$15,($V66-$L66)/43560*'Pollutant Loading Rates'!C$16))))","v":""},{"$f":"IF($A66=\"\",\"\",(VLOOKUP($R66,'Pollutant Loading Rates'!$A$5:$F$12,4,0)*$L66/43560)+IF($R66=\"Forest\",'Pollutant Loading Rates'!D$13*($V66-$L66)/43560,IF($R66=\"Agriculture\",'Pollutant Loading Rates'!D$14*($V66-$L66)/43560,IF($D66=\"RIDOT\",($V66-$L66)/43560*'Pollutant Loading Rates'!D$15,($V66-$L66)/43560*'Pollutant Loading Rates'!D$16))))","v":""},{"$f":"IF($A66=\"\",\"\",(VLOOKUP($R66,'Pollutant Loading Rates'!$A$5:$F$12,5,0)*$L66/43560)+IF($R66=\"Forest\",'Pollutant Loading Rates'!E$13*($V66-$L66)/43560,IF($R66=\"Agriculture\",'Pollutant Loading Rates'!E$14*($V66-$L66)/43560,IF($D66=\"RIDOT\",($V66-$L66)/43560*'Pollutant Loading Rates'!E$15,($V66-$L66)/43560*'Pollutant Loading Rates'!E$16))))","v":""},{"$f":"IF($A66=\"\",\"\",(VLOOKUP($R66,'Pollutant Loading Rates'!$A$5:$F$12,6,0)*$L66/43560)+IF($R66=\"Forest\",'Pollutant Loading Rates'!F$13*($V66-$L66)/43560,IF($R66=\"Agriculture\",'Pollutant Loading Rates'!F$14*($V66-$L66)/43560,IF($D66=\"RIDOT\",($V66-$L66)/43560*'Pollutant Loading Rates'!F$15,$V66-$L66)/43560*'Pollutant Loading Rates'!F$16)))","v":""}]
[null,null,null,null,null,null,null,null,null,null,null,null,null,null,null,null,null,null,null,null,null,null,null,{"$f":"IF($A67=\"\",\"\",(VLOOKUP($R67,'Pollutant Loading Rates'!$A$5:$F$12,3,0)*$L67/43560)+IF($R67=\"Forest\",'Pollutant Loading Rates'!C$13*($V67-$L67)/43560,IF($R67=\"Agriculture\",'Pollutant Loading Rates'!C$14*($V67-$L67)/43560,IF($D67=\"RIDOT\",($V67-$L67)/43560*'Pollutant Loading Rates'!C$15,($V67-$L67)/43560*'Pollutant Loading Rates'!C$16))))","v":""},{"$f":"IF($A67=\"\",\"\",(VLOOKUP($R67,'Pollutant Loading Rates'!$A$5:$F$12,4,0)*$L67/43560)+IF($R67=\"Forest\",'Pollutant Loading Rates'!D$13*($V67-$L67)/43560,IF($R67=\"Agriculture\",'Pollutant Loading Rates'!D$14*($V67-$L67)/43560,IF($D67=\"RIDOT\",($V67-$L67)/43560*'Pollutant Loading Rates'!D$15,($V67-$L67)/43560*'Pollutant Loading Rates'!D$16))))","v":""},{"$f":"IF($A67=\"\",\"\",(VLOOKUP($R67,'Pollutant Loading Rates'!$A$5:$F$12,5,0)*$L67/43560)+IF($R67=\"Forest\",'Pollutant Loading Rates'!E$13*($V67-$L67)/43560,IF($R67=\"Agriculture\",'Pollutant Loading Rates'!E$14*($V67-$L67)/43560,IF($D67=\"RIDOT\",($V67-$L67)/43560*'Pollutant Loading Rates'!E$15,($V67-$L67)/43560*'Pollutant Loading Rates'!E$16))))","v":""},{"$f":"IF($A67=\"\",\"\",(VLOOKUP($R67,'Pollutant Loading Rates'!$A$5:$F$12,6,0)*$L67/43560)+IF($R67=\"Forest\",'Pollutant Loading Rates'!F$13*($V67-$L67)/43560,IF($R67=\"Agriculture\",'Pollutant Loading Rates'!F$14*($V67-$L67)/43560,IF($D67=\"RIDOT\",($V67-$L67)/43560*'Pollutant Loading Rates'!F$15,$V67-$L67)/43560*'Pollutant Loading Rates'!F$16)))","v":""}]
[null,null,null,null,null,null,null,null,null,null,null,null,null,null,null,null,null,null,null,null,null,null,null,{"$f":"IF($A68=\"\",\"\",(VLOOKUP($R68,'Pollutant Loading Rates'!$A$5:$F$12,3,0)*$L68/43560)+IF($R68=\"Forest\",'Pollutant Loading Rates'!C$13*($V68-$L68)/43560,IF($R68=\"Agriculture\",'Pollutant Loading Rates'!C$14*($V68-$L68)/43560,IF($D68=\"RIDOT\",($V68-$L68)/43560*'Pollutant Loading Rates'!C$15,($V68-$L68)/43560*'Pollutant Loading Rates'!C$16))))","v":""},{"$f":"IF($A68=\"\",\"\",(VLOOKUP($R68,'Pollutant Loading Rates'!$A$5:$F$12,4,0)*$L68/43560)+IF($R68=\"Forest\",'Pollutant Loading Rates'!D$13*($V68-$L68)/43560,IF($R68=\"Agriculture\",'Pollutant Loading Rates'!D$14*($V68-$L68)/43560,IF($D68=\"RIDOT\",($V68-$L68)/43560*'Pollutant Loading Rates'!D$15,($V68-$L68)/43560*'Pollutant Loading Rates'!D$16))))","v":""},{"$f":"IF($A68=\"\",\"\",(VLOOKUP($R68,'Pollutant Loading Rates'!$A$5:$F$12,5,0)*$L68/43560)+IF($R68=\"Forest\",'Pollutant Loading Rates'!E$13*($V68-$L68)/43560,IF($R68=\"Agriculture\",'Pollutant Loading Rates'!E$14*($V68-$L68)/43560,IF($D68=\"RIDOT\",($V68-$L68)/43560*'Pollutant Loading Rates'!E$15,($V68-$L68)/43560*'Pollutant Loading Rates'!E$16))))","v":""},{"$f":"IF($A68=\"\",\"\",(VLOOKUP($R68,'Pollutant Loading Rates'!$A$5:$F$12,6,0)*$L68/43560)+IF($R68=\"Forest\",'Pollutant Loading Rates'!F$13*($V68-$L68)/43560,IF($R68=\"Agriculture\",'Pollutant Loading Rates'!F$14*($V68-$L68)/43560,IF($D68=\"RIDOT\",($V68-$L68)/43560*'Pollutant Loading Rates'!F$15,$V68-$L68)/43560*'Pollutant Loading Rates'!F$16)))","v":""}]
[null,null,null,null,null,null,null,null,null,null,null,null,null,null,null,null,null,null,null,null,null,null,null,{"$f":"IF($A69=\"\",\"\",(VLOOKUP($R69,'Pollutant Loading Rates'!$A$5:$F$12,3,0)*$L69/43560)+IF($R69=\"Forest\",'Pollutant Loading Rates'!C$13*($V69-$L69)/43560,IF($R69=\"Agriculture\",'Pollutant Loading Rates'!C$14*($V69-$L69)/43560,IF($D69=\"RIDOT\",($V69-$L69)/43560*'Pollutant Loading Rates'!C$15,($V69-$L69)/43560*'Pollutant Loading Rates'!C$16))))","v":""},{"$f":"IF($A69=\"\",\"\",(VLOOKUP($R69,'Pollutant Loading Rates'!$A$5:$F$12,4,0)*$L69/43560)+IF($R69=\"Forest\",'Pollutant Loading Rates'!D$13*($V69-$L69)/43560,IF($R69=\"Agriculture\",'Pollutant Loading Rates'!D$14*($V69-$L69)/43560,IF($D69=\"RIDOT\",($V69-$L69)/43560*'Pollutant Loading Rates'!D$15,($V69-$L69)/43560*'Pollutant Loading Rates'!D$16))))","v":""},{"$f":"IF($A69=\"\",\"\",(VLOOKUP($R69,'Pollutant Loading Rates'!$A$5:$F$12,5,0)*$L69/43560)+IF($R69=\"Forest\",'Pollutant Loading Rates'!E$13*($V69-$L69)/43560,IF($R69=\"Agriculture\",'Pollutant Loading Rates'!E$14*($V69-$L69)/43560,IF($D69=\"RIDOT\",($V69-$L69)/43560*'Pollutant Loading Rates'!E$15,($V69-$L69)/43560*'Pollutant Loading Rates'!E$16))))","v":""},{"$f":"IF($A69=\"\",\"\",(VLOOKUP($R69,'Pollutant Loading Rates'!$A$5:$F$12,6,0)*$L69/43560)+IF($R69=\"Forest\",'Pollutant Loading Rates'!F$13*($V69-$L69)/43560,IF($R69=\"Agriculture\",'Pollutant Loading Rates'!F$14*($V69-$L69)/43560,IF($D69=\"RIDOT\",($V69-$L69)/43560*'Pollutant Loading Rates'!F$15,$V69-$L69)/43560*'Pollutant Loading Rates'!F$16)))","v":""}]
[null,null,null,null,null,null,null,null,null,null,null,null,null,null,null,null,null,null,null,null,null,null,null,{"$f":"IF($A70=\"\",\"\",(VLOOKUP($R70,'Pollutant Loading Rates'!$A$5:$F$12,3,0)*$L70/43560)+IF($R70=\"Forest\",'Pollutant Loading Rates'!C$13*($V70-$L70)/43560,IF($R70=\"Agriculture\",'Pollutant Loading Rates'!C$14*($V70-$L70)/43560,IF($D70=\"RIDOT\",($V70-$L70)/43560*'Pollutant Loading Rates'!C$15,($V70-$L70)/43560*'Pollutant Loading Rates'!C$16))))","v":""},{"$f":"IF($A70=\"\",\"\",(VLOOKUP($R70,'Pollutant Loading Rates'!$A$5:$F$12,4,0)*$L70/43560)+IF($R70=\"Forest\",'Pollutant Loading Rates'!D$13*($V70-$L70)/43560,IF($R70=\"Agriculture\",'Pollutant Loading Rates'!D$14*($V70-$L70)/43560,IF($D70=\"RIDOT\",($V70-$L70)/43560*'Pollutant Loading Rates'!D$15,($V70-$L70)/43560*'Pollutant Loading Rates'!D$16))))","v":""},{"$f":"IF($A70=\"\",\"\",(VLOOKUP($R70,'Pollutant Loading Rates'!$A$5:$F$12,5,0)*$L70/43560)+IF($R70=\"Forest\",'Pollutant Loading Rates'!E$13*($V70-$L70)/43560,IF($R70=\"Agriculture\",'Pollutant Loading Rates'!E$14*($V70-$L70)/43560,IF($D70=\"RIDOT\",($V70-$L70)/43560*'Pollutant Loading Rates'!E$15,($V70-$L70)/43560*'Pollutant Loading Rates'!E$16))))","v":""},{"$f":"IF($A70=\"\",\"\",(VLOOKUP($R70,'Pollutant Loading Rates'!$A$5:$F$12,6,0)*$L70/43560)+IF($R70=\"Forest\",'Pollutant Loading Rates'!F$13*($V70-$L70)/43560,IF($R70=\"Agriculture\",'Pollutant Loading Rates'!F$14*($V70-$L70)/43560,IF($D70=\"RIDOT\",($V70-$L70)/43560*'Pollutant Loading Rates'!F$15,$V70-$L70)/43560*'Pollutant Loading Rates'!F$16)))","v":""}]
[null,null,null,null,null,null,null,null,null,null,null,null,null,null,null,null,null,null,null,null,null,null,null,{"$f":"IF($A71=\"\",\"\",(VLOOKUP($R71,'Pollutant Loading Rates'!$A$5:$F$12,3,0)*$L71/43560)+IF($R71=\"Forest\",'Pollutant Loading Rates'!C$13*($V71-$L71)/43560,IF($R71=\"Agriculture\",'Pollutant Loading Rates'!C$14*($V71-$L71)/43560,IF($D71=\"RIDOT\",($V71-$L71)/43560*'Pollutant Loading Rates'!C$15,($V71-$L71)/43560*'Pollutant Loading Rates'!C$16))))","v":""},{"$f":"IF($A71=\"\",\"\",(VLOOKUP($R71,'Pollutant Loading Rates'!$A$5:$F$12,4,0)*$L71/43560)+IF($R71=\"Forest\",'Pollutant Loading Rates'!D$13*($V71-$L71)/43560,IF($R71=\"Agriculture\",'Pollutant Loading Rates'!D$14*($V71-$L71)/43560,IF($D71=\"RIDOT\",($V71-$L71)/43560*'Pollutant Loading Rates'!D$15,($V71-$L71)/43560*'Pollutant Loading Rates'!D$16))))","v":""},{"$f":"IF($A71=\"\",\"\",(VLOOKUP($R71,'Pollutant Loading Rates'!$A$5:$F$12,5,0)*$L71/43560)+IF($R71=\"Forest\",'Pollutant Loading Rates'!E$13*($V71-$L71)/43560,IF($R71=\"Agriculture\",'Pollutant Loading Rates'!E$14*($V71-$L71)/43560,IF($D71=\"RIDOT\",($V71-$L71)/43560*'Pollutant Loading Rates'!E$15,($V71-$L71)/43560*'Pollutant Loading Rates'!E$16))))","v":""},{"$f":"IF($A71=\"\",\"\",(VLOOKUP($R71,'Pollutant Loading Rates'!$A$5:$F$12,6,0)*$L71/43560)+IF($R71=\"Forest\",'Pollutant Loading Rates'!F$13*($V71-$L71)/43560,IF($R71=\"Agriculture\",'Pollutant Loading Rates'!F$14*($V71-$L71)/43560,IF($D71=\"RIDOT\",($V71-$L71)/43560*'Pollutant Loading Rates'!F$15,$V71-$L71)/43560*'Pollutant Loading Rates'!F$16)))","v":""}]
[null,null,null,null,null,null,null,null,null,null,null,null,null,null,null,null,null,null,null,null,null,null,null,{"$f":"IF($A72=\"\",\"\",(VLOOKUP($R72,'Pollutant Loading Rates'!$A$5:$F$12,3,0)*$L72/43560)+IF($R72=\"Forest\",'Pollutant Loading Rates'!C$13*($V72-$L72)/43560,IF($R72=\"Agriculture\",'Pollutant Loading Rates'!C$14*($V72-$L72)/43560,IF($D72=\"RIDOT\",($V72-$L72)/43560*'Pollutant Loading Rates'!C$15,($V72-$L72)/43560*'Pollutant Loading Rates'!C$16))))","v":""},{"$f":"IF($A72=\"\",\"\",(VLOOKUP($R72,'Pollutant Loading Rates'!$A$5:$F$12,4,0)*$L72/43560)+IF($R72=\"Forest\",'Pollutant Loading Rates'!D$13*($V72-$L72)/43560,IF($R72=\"Agriculture\",'Pollutant Loading Rates'!D$14*($V72-$L72)/43560,IF($D72=\"RIDOT\",($V72-$L72)/43560*'Pollutant Loading Rates'!D$15,($V72-$L72)/43560*'Pollutant Loading Rates'!D$16))))","v":""},{"$f":"IF($A72=\"\",\"\",(VLOOKUP($R72,'Pollutant Loading Rates'!$A$5:$F$12,5,0)*$L72/43560)+IF($R72=\"Forest\",'Pollutant Loading Rates'!E$13*($V72-$L72)/43560,IF($R72=\"Agriculture\",'Pollutant Loading Rates'!E$14*($V72-$L72)/43560,IF($D72=\"RIDOT\",($V72-$L72)/43560*'Pollutant Loading Rates'!E$15,($V72-$L72)/43560*'Pollutant Loading Rates'!E$16))))","v":""},{"$f":"IF($A72=\"\",\"\",(VLOOKUP($R72,'Pollutant Loading Rates'!$A$5:$F$12,6,0)*$L72/43560)+IF($R72=\"Forest\",'Pollutant Loading Rates'!F$13*($V72-$L72)/43560,IF($R72=\"Agriculture\",'Pollutant Loading Rates'!F$14*($V72-$L72)/43560,IF($D72=\"RIDOT\",($V72-$L72)/43560*'Pollutant Loading Rates'!F$15,$V72-$L72)/43560*'Pollutant Loading Rates'!F$16)))","v":""}]
[null,null,null,null,null,null,null,null,null,null,null,null,null,null,null,null,null,null,null,null,null,null,null,{"$f":"IF($A73=\"\",\"\",(VLOOKUP($R73,'Pollutant Loading Rates'!$A$5:$F$12,3,0)*$L73/43560)+IF($R73=\"Forest\",'Pollutant Loading Rates'!C$13*($V73-$L73)/43560,IF($R73=\"Agriculture\",'Pollutant Loading Rates'!C$14*($V73-$L73)/43560,IF($D73=\"RIDOT\",($V73-$L73)/43560*'Pollutant Loading Rates'!C$15,($V73-$L73)/43560*'Pollutant Loading Rates'!C$16))))","v":""},{"$f":"IF($A73=\"\",\"\",(VLOOKUP($R73,'Pollutant Loading Rates'!$A$5:$F$12,4,0)*$L73/43560)+IF($R73=\"Forest\",'Pollutant Loading Rates'!D$13*($V73-$L73)/43560,IF($R73=\"Agriculture\",'Pollutant Loading Rates'!D$14*($V73-$L73)/43560,IF($D73=\"RIDOT\",($V73-$L73)/43560*'Pollutant Loading Rates'!D$15,($V73-$L73)/43560*'Pollutant Loading Rates'!D$16))))","v":""},{"$f":"IF($A73=\"\",\"\",(VLOOKUP($R73,'Pollutant Loading Rates'!$A$5:$F$12,5,0)*$L73/43560)+IF($R73=\"Forest\",'Pollutant Loading Rates'!E$13*($V73-$L73)/43560,IF($R73=\"Agriculture\",'Pollutant Loading Rates'!E$14*($V73-$L73)/43560,IF($D73=\"RIDOT\",($V73-$L73)/43560*'Pollutant Loading Rates'!E$15,($V73-$L73)/43560*'Pollutant Loading Rates'!E$16))))","v":""},{"$f":"IF($A73=\"\",\"\",(VLOOKUP($R73,'Pollutant Loading Rates'!$A$5:$F$12,6,0)*$L73/43560)+IF($R73=\"Forest\",'Pollutant Loading Rates'!F$13*($V73-$L73)/43560,IF($R73=\"Agriculture\",'Pollutant Loading Rates'!F$14*($V73-$L73)/43560,IF($D73=\"RIDOT\",($V73-$L73)/43560*'Pollutant Loading Rates'!F$15,$V73-$L73)/43560*'Pollutant Loading Rates'!F$16)))","v":""}]
[null,null,null,null,null,null,null,null,null,null,null,null,null,null,null,null,null,null,null,null,null,null,null,{"$f":"IF($A74=\"\",\"\",(VLOOKUP($R74,'Pollutant Loading Rates'!$A$5:$F$12,3,0)*$L74/43560)+IF($R74=\"Forest\",'Pollutant Loading Rates'!C$13*($V74-$L74)/43560,IF($R74=\"Agriculture\",'Pollutant Loading Rates'!C$14*($V74-$L74)/43560,IF($D74=\"RIDOT\",($V74-$L74)/43560*'Pollutant Loading Rates'!C$15,($V74-$L74)/43560*'Pollutant Loading Rates'!C$16))))","v":""},{"$f":"IF($A74=\"\",\"\",(VLOOKUP($R74,'Pollutant Loading Rates'!$A$5:$F$12,4,0)*$L74/43560)+IF($R74=\"Forest\",'Pollutant Loading Rates'!D$13*($V74-$L74)/43560,IF($R74=\"Agriculture\",'Pollutant Loading Rates'!D$14*($V74-$L74)/43560,IF($D74=\"RIDOT\",($V74-$L74)/43560*'Pollutant Loading Rates'!D$15,($V74-$L74)/43560*'Pollutant Loading Rates'!D$16))))","v":""},{"$f":"IF($A74=\"\",\"\",(VLOOKUP($R74,'Pollutant Loading Rates'!$A$5:$F$12,5,0)*$L74/43560)+IF($R74=\"Forest\",'Pollutant Loading Rates'!E$13*($V74-$L74)/43560,IF($R74=\"Agriculture\",'Pollutant Loading Rates'!E$14*($V74-$L74)/43560,IF($D74=\"RIDOT\",($V74-$L74)/43560*'Pollutant Loading Rates'!E$15,($V74-$L74)/43560*'Pollutant Loading Rates'!E$16))))","v":""},{"$f":"IF($A74=\"\",\"\",(VLOOKUP($R74,'Pollutant Loading Rates'!$A$5:$F$12,6,0)*$L74/43560)+IF($R74=\"Forest\",'Pollutant Loading Rates'!F$13*($V74-$L74)/43560,IF($R74=\"Agriculture\",'Pollutant Loading Rates'!F$14*($V74-$L74)/43560,IF($D74=\"RIDOT\",($V74-$L74)/43560*'Pollutant Loading Rates'!F$15,$V74-$L74)/43560*'Pollutant Loading Rates'!F$16)))","v":""}]
[null,null,null,null,null,null,null,null,null,null,null,null,null,null,null,null,null,null,null,null,null,null,null,{"$f":"IF($A75=\"\",\"\",(VLOOKUP($R75,'Pollutant Loading Rates'!$A$5:$F$12,3,0)*$L75/43560)+IF($R75=\"Forest\",'Pollutant Loading Rates'!C$13*($V75-$L75)/43560,IF($R75=\"Agriculture\",'Pollutant Loading Rates'!C$14*($V75-$L75)/43560,IF($D75=\"RIDOT\",($V75-$L75)/43560*'Pollutant Loading Rates'!C$15,($V75-$L75)/43560*'Pollutant Loading Rates'!C$16))))","v":""},{"$f":"IF($A75=\"\",\"\",(VLOOKUP($R75,'Pollutant Loading Rates'!$A$5:$F$12,4,0)*$L75/43560)+IF($R75=\"Forest\",'Pollutant Loading Rates'!D$13*($V75-$L75)/43560,IF($R75=\"Agriculture\",'Pollutant Loading Rates'!D$14*($V75-$L75)/43560,IF($D75=\"RIDOT\",($V75-$L75)/43560*'Pollutant Loading Rates'!D$15,($V75-$L75)/43560*'Pollutant Loading Rates'!D$16))))","v":""},{"$f":"IF($A75=\"\",\"\",(VLOOKUP($R75,'Pollutant Loading Rates'!$A$5:$F$12,5,0)*$L75/43560)+IF($R75=\"Forest\",'Pollutant Loading Rates'!E$13*($V75-$L75)/43560,IF($R75=\"Agriculture\",'Pollutant Loading Rates'!E$14*($V75-$L75)/43560,IF($D75=\"RIDOT\",($V75-$L75)/43560*'Pollutant Loading Rates'!E$15,($V75-$L75)/43560*'Pollutant Loading Rates'!E$16))))","v":""},{"$f":"IF($A75=\"\",\"\",(VLOOKUP($R75,'Pollutant Loading Rates'!$A$5:$F$12,6,0)*$L75/43560)+IF($R75=\"Forest\",'Pollutant Loading Rates'!F$13*($V75-$L75)/43560,IF($R75=\"Agriculture\",'Pollutant Loading Rates'!F$14*($V75-$L75)/43560,IF($D75=\"RIDOT\",($V75-$L75)/43560*'Pollutant Loading Rates'!F$15,$V75-$L75)/43560*'Pollutant Loading Rates'!F$16)))","v":""}]
[null,null,null,null,null,null,null,null,null,null,null,null,null,null,null,null,null,null,null,null,null,null,null,{"$f":"IF($A76=\"\",\"\",(VLOOKUP($R76,'Pollutant Loading Rates'!$A$5:$F$12,3,0)*$L76/43560)+IF($R76=\"Forest\",'Pollutant Loading Rates'!C$13*($V76-$L76)/43560,IF($R76=\"Agriculture\",'Pollutant Loading Rates'!C$14*($V76-$L76)/43560,IF($D76=\"RIDOT\",($V76-$L76)/43560*'Pollutant Loading Rates'!C$15,($V76-$L76)/43560*'Pollutant Loading Rates'!C$16))))","v":""},{"$f":"IF($A76=\"\",\"\",(VLOOKUP($R76,'Pollutant Loading Rates'!$A$5:$F$12,4,0)*$L76/43560)+IF($R76=\"Forest\",'Pollutant Loading Rates'!D$13*($V76-$L76)/43560,IF($R76=\"Agriculture\",'Pollutant Loading Rates'!D$14*($V76-$L76)/43560,IF($D76=\"RIDOT\",($V76-$L76)/43560*'Pollutant Loading Rates'!D$15,($V76-$L76)/43560*'Pollutant Loading Rates'!D$16))))","v":""},{"$f":"IF($A76=\"\",\"\",(VLOOKUP($R76,'Pollutant Loading Rates'!$A$5:$F$12,5,0)*$L76/43560)+IF($R76=\"Forest\",'Pollutant Loading Rates'!E$13*($V76-$L76)/43560,IF($R76=\"Agriculture\",'Pollutant Loading Rates'!E$14*($V76-$L76)/43560,IF($D76=\"RIDOT\",($V76-$L76)/43560*'Pollutant Loading Rates'!E$15,($V76-$L76)/43560*'Pollutant Loading Rates'!E$16))))","v":""},{"$f":"IF($A76=\"\",\"\",(VLOOKUP($R76,'Pollutant Loading Rates'!$A$5:$F$12,6,0)*$L76/43560)+IF($R76=\"Forest\",'Pollutant Loading Rates'!F$13*($V76-$L76)/43560,IF($R76=\"Agriculture\",'Pollutant Loading Rates'!F$14*($V76-$L76)/43560,IF($D76=\"RIDOT\",($V76-$L76)/43560*'Pollutant Loading Rates'!F$15,$V76-$L76)/43560*'Pollutant Loading Rates'!F$16)))","v":""}]
[null,null,null,null,null,null,null,null,null,null,null,null,null,null,null,null,null,null,null,null,null,null,null,{"$f":"IF($A77=\"\",\"\",(VLOOKUP($R77,'Pollutant Loading Rates'!$A$5:$F$12,3,0)*$L77/43560)+IF($R77=\"Forest\",'Pollutant Loading Rates'!C$13*($V77-$L77)/43560,IF($R77=\"Agriculture\",'Pollutant Loading Rates'!C$14*($V77-$L77)/43560,IF($D77=\"RIDOT\",($V77-$L77)/43560*'Pollutant Loading Rates'!C$15,($V77-$L77)/43560*'Pollutant Loading Rates'!C$16))))","v":""},{"$f":"IF($A77=\"\",\"\",(VLOOKUP($R77,'Pollutant Loading Rates'!$A$5:$F$12,4,0)*$L77/43560)+IF($R77=\"Forest\",'Pollutant Loading Rates'!D$13*($V77-$L77)/43560,IF($R77=\"Agriculture\",'Pollutant Loading Rates'!D$14*($V77-$L77)/43560,IF($D77=\"RIDOT\",($V77-$L77)/43560*'Pollutant Loading Rates'!D$15,($V77-$L77)/43560*'Pollutant Loading Rates'!D$16))))","v":""},{"$f":"IF($A77=\"\",\"\",(VLOOKUP($R77,'Pollutant Loading Rates'!$A$5:$F$12,5,0)*$L77/43560)+IF($R77=\"Forest\",'Pollutant Loading Rates'!E$13*($V77-$L77)/43560,IF($R77=\"Agriculture\",'Pollutant Loading Rates'!E$14*($V77-$L77)/43560,IF($D77=\"RIDOT\",($V77-$L77)/43560*'Pollutant Loading Rates'!E$15,($V77-$L77)/43560*'Pollutant Loading Rates'!E$16))))","v":""},{"$f":"IF($A77=\"\",\"\",(VLOOKUP($R77,'Pollutant Loading Rates'!$A$5:$F$12,6,0)*$L77/43560)+IF($R77=\"Forest\",'Pollutant Loading Rates'!F$13*($V77-$L77)/43560,IF($R77=\"Agriculture\",'Pollutant Loading Rates'!F$14*($V77-$L77)/43560,IF($D77=\"RIDOT\",($V77-$L77)/43560*'Pollutant Loading Rates'!F$15,$V77-$L77)/43560*'Pollutant Loading Rates'!F$16)))","v":""}]
[null,null,null,null,null,null,null,null,null,null,null,null,null,null,null,null,null,null,null,null,null,null,null,{"$f":"IF($A78=\"\",\"\",(VLOOKUP($R78,'Pollutant Loading Rates'!$A$5:$F$12,3,0)*$L78/43560)+IF($R78=\"Forest\",'Pollutant Loading Rates'!C$13*($V78-$L78)/43560,IF($R78=\"Agriculture\",'Pollutant Loading Rates'!C$14*($V78-$L78)/43560,IF($D78=\"RIDOT\",($V78-$L78)/43560*'Pollutant Loading Rates'!C$15,($V78-$L78)/43560*'Pollutant Loading Rates'!C$16))))","v":""},{"$f":"IF($A78=\"\",\"\",(VLOOKUP($R78,'Pollutant Loading Rates'!$A$5:$F$12,4,0)*$L78/43560)+IF($R78=\"Forest\",'Pollutant Loading Rates'!D$13*($V78-$L78)/43560,IF($R78=\"Agriculture\",'Pollutant Loading Rates'!D$14*($V78-$L78)/43560,IF($D78=\"RIDOT\",($V78-$L78)/43560*'Pollutant Loading Rates'!D$15,($V78-$L78)/43560*'Pollutant Loading Rates'!D$16))))","v":""},{"$f":"IF($A78=\"\",\"\",(VLOOKUP($R78,'Pollutant Loading Rates'!$A$5:$F$12,5,0)*$L78/43560)+IF($R78=\"Forest\",'Pollutant Loading Rates'!E$13*($V78-$L78)/43560,IF($R78=\"Agriculture\",'Pollutant Loading Rates'!E$14*($V78-$L78)/43560,IF($D78=\"RIDOT\",($V78-$L78)/43560*'Pollutant Loading Rates'!E$15,($V78-$L78)/43560*'Pollutant Loading Rates'!E$16))))","v":""},{"$f":"IF($A78=\"\",\"\",(VLOOKUP($R78,'Pollutant Loading Rates'!$A$5:$F$12,6,0)*$L78/43560)+IF($R78=\"Forest\",'Pollutant Loading Rates'!F$13*($V78-$L78)/43560,IF($R78=\"Agriculture\",'Pollutant Loading Rates'!F$14*($V78-$L78)/43560,IF($D78=\"RIDOT\",($V78-$L78)/43560*'Pollutant Loading Rates'!F$15,$V78-$L78)/43560*'Pollutant Loading Rates'!F$16)))","v":""}]
[null,null,null,null,null,null,null,null,null,null,null,null,null,null,null,null,null,null,null,null,null,null,null,{"$f":"IF($A79=\"\",\"\",(VLOOKUP($R79,'Pollutant Loading Rates'!$A$5:$F$12,3,0)*$L79/43560)+IF($R79=\"Forest\",'Pollutant Loading Rates'!C$13*($V79-$L79)/43560,IF($R79=\"Agriculture\",'Pollutant Loading Rates'!C$14*($V79-$L79)/43560,IF($D79=\"RIDOT\",($V79-$L79)/43560*'Pollutant Loading Rates'!C$15,($V79-$L79)/43560*'Pollutant Loading Rates'!C$16))))","v":""},{"$f":"IF($A79=\"\",\"\",(VLOOKUP($R79,'Pollutant Loading Rates'!$A$5:$F$12,4,0)*$L79/43560)+IF($R79=\"Forest\",'Pollutant Loading Rates'!D$13*($V79-$L79)/43560,IF($R79=\"Agriculture\",'Pollutant Loading Rates'!D$14*($V79-$L79)/43560,IF($D79=\"RIDOT\",($V79-$L79)/43560*'Pollutant Loading Rates'!D$15,($V79-$L79)/43560*'Pollutant Loading Rates'!D$16))))","v":""},{"$f":"IF($A79=\"\",\"\",(VLOOKUP($R79,'Pollutant Loading Rates'!$A$5:$F$12,5,0)*$L79/43560)+IF($R79=\"Forest\",'Pollutant Loading Rates'!E$13*($V79-$L79)/43560,IF($R79=\"Agriculture\",'Pollutant Loading Rates'!E$14*($V79-$L79)/43560,IF($D79=\"RIDOT\",($V79-$L79)/43560*'Pollutant Loading Rates'!E$15,($V79-$L79)/43560*'Pollutant Loading Rates'!E$16))))","v":""},{"$f":"IF($A79=\"\",\"\",(VLOOKUP($R79,'Pollutant Loading Rates'!$A$5:$F$12,6,0)*$L79/43560)+IF($R79=\"Forest\",'Pollutant Loading Rates'!F$13*($V79-$L79)/43560,IF($R79=\"Agriculture\",'Pollutant Loading Rates'!F$14*($V79-$L79)/43560,IF($D79=\"RIDOT\",($V79-$L79)/43560*'Pollutant Loading Rates'!F$15,$V79-$L79)/43560*'Pollutant Loading Rates'!F$16)))","v":""}]
[null,null,null,null,null,null,null,null,null,null,null,null,null,null,null,null,null,null,null,null,null,null,null,{"$f":"IF($A80=\"\",\"\",(VLOOKUP($R80,'Pollutant Loading Rates'!$A$5:$F$12,3,0)*$L80/43560)+IF($R80=\"Forest\",'Pollutant Loading Rates'!C$13*($V80-$L80)/43560,IF($R80=\"Agriculture\",'Pollutant Loading Rates'!C$14*($V80-$L80)/43560,IF($D80=\"RIDOT\",($V80-$L80)/43560*'Pollutant Loading Rates'!C$15,($V80-$L80)/43560*'Pollutant Loading Rates'!C$16))))","v":""},{"$f":"IF($A80=\"\",\"\",(VLOOKUP($R80,'Pollutant Loading Rates'!$A$5:$F$12,4,0)*$L80/43560)+IF($R80=\"Forest\",'Pollutant Loading Rates'!D$13*($V80-$L80)/43560,IF($R80=\"Agriculture\",'Pollutant Loading Rates'!D$14*($V80-$L80)/43560,IF($D80=\"RIDOT\",($V80-$L80)/43560*'Pollutant Loading Rates'!D$15,($V80-$L80)/43560*'Pollutant Loading Rates'!D$16))))","v":""},{"$f":"IF($A80=\"\",\"\",(VLOOKUP($R80,'Pollutant Loading Rates'!$A$5:$F$12,5,0)*$L80/43560)+IF($R80=\"Forest\",'Pollutant Loading Rates'!E$13*($V80-$L80)/43560,IF($R80=\"Agriculture\",'Pollutant Loading Rates'!E$14*($V80-$L80)/43560,IF($D80=\"RIDOT\",($V80-$L80)/43560*'Pollutant Loading Rates'!E$15,($V80-$L80)/43560*'Pollutant Loading Rates'!E$16))))","v":""},{"$f":"IF($A80=\"\",\"\",(VLOOKUP($R80,'Pollutant Loading Rates'!$A$5:$F$12,6,0)*$L80/43560)+IF($R80=\"Forest\",'Pollutant Loading Rates'!F$13*($V80-$L80)/43560,IF($R80=\"Agriculture\",'Pollutant Loading Rates'!F$14*($V80-$L80)/43560,IF($D80=\"RIDOT\",($V80-$L80)/43560*'Pollutant Loading Rates'!F$15,$V80-$L80)/43560*'Pollutant Loading Rates'!F$16)))","v":""}]
[null,null,null,null,null,null,null,null,null,null,null,null,null,null,null,null,null,null,null,null,null,null,null,{"$f":"IF($A81=\"\",\"\",(VLOOKUP($R81,'Pollutant Loading Rates'!$A$5:$F$12,3,0)*$L81/43560)+IF($R81=\"Forest\",'Pollutant Loading Rates'!C$13*($V81-$L81)/43560,IF($R81=\"Agriculture\",'Pollutant Loading Rates'!C$14*($V81-$L81)/43560,IF($D81=\"RIDOT\",($V81-$L81)/43560*'Pollutant Loading Rates'!C$15,($V81-$L81)/43560*'Pollutant Loading Rates'!C$16))))","v":""},{"$f":"IF($A81=\"\",\"\",(VLOOKUP($R81,'Pollutant Loading Rates'!$A$5:$F$12,4,0)*$L81/43560)+IF($R81=\"Forest\",'Pollutant Loading Rates'!D$13*($V81-$L81)/43560,IF($R81=\"Agriculture\",'Pollutant Loading Rates'!D$14*($V81-$L81)/43560,IF($D81=\"RIDOT\",($V81-$L81)/43560*'Pollutant Loading Rates'!D$15,($V81-$L81)/43560*'Pollutant Loading Rates'!D$16))))","v":""},{"$f":"IF($A81=\"\",\"\",(VLOOKUP($R81,'Pollutant Loading Rates'!$A$5:$F$12,5,0)*$L81/43560)+IF($R81=\"Forest\",'Pollutant Loading Rates'!E$13*($V81-$L81)/43560,IF($R81=\"Agriculture\",'Pollutant Loading Rates'!E$14*($V81-$L81)/43560,IF($D81=\"RIDOT\",($V81-$L81)/43560*'Pollutant Loading Rates'!E$15,($V81-$L81)/43560*'Pollutant Loading Rates'!E$16))))","v":""},{"$f":"IF($A81=\"\",\"\",(VLOOKUP($R81,'Pollutant Loading Rates'!$A$5:$F$12,6,0)*$L81/43560)+IF($R81=\"Forest\",'Pollutant Loading Rates'!F$13*($V81-$L81)/43560,IF($R81=\"Agriculture\",'Pollutant Loading Rates'!F$14*($V81-$L81)/43560,IF($D81=\"RIDOT\",($V81-$L81)/43560*'Pollutant Loading Rates'!F$15,$V81-$L81)/43560*'Pollutant Loading Rates'!F$16)))","v":""}]
[null,null,null,null,null,null,null,null,null,null,null,null,null,null,null,null,null,null,null,null,null,null,null,{"$f":"IF($A82=\"\",\"\",(VLOOKUP($R82,'Pollutant Loading Rates'!$A$5:$F$12,3,0)*$L82/43560)+IF($R82=\"Forest\",'Pollutant Loading Rates'!C$13*($V82-$L82)/43560,IF($R82=\"Agriculture\",'Pollutant Loading Rates'!C$14*($V82-$L82)/43560,IF($D82=\"RIDOT\",($V82-$L82)/43560*'Pollutant Loading Rates'!C$15,($V82-$L82)/43560*'Pollutant Loading Rates'!C$16))))","v":""},{"$f":"IF($A82=\"\",\"\",(VLOOKUP($R82,'Pollutant Loading Rates'!$A$5:$F$12,4,0)*$L82/43560)+IF($R82=\"Forest\",'Pollutant Loading Rates'!D$13*($V82-$L82)/43560,IF($R82=\"Agriculture\",'Pollutant Loading Rates'!D$14*($V82-$L82)/43560,IF($D82=\"RIDOT\",($V82-$L82)/43560*'Pollutant Loading Rates'!D$15,($V82-$L82)/43560*'Pollutant Loading Rates'!D$16))))","v":""},{"$f":"IF($A82=\"\",\"\",(VLOOKUP($R82,'Pollutant Loading Rates'!$A$5:$F$12,5,0)*$L82/43560)+IF($R82=\"Forest\",'Pollutant Loading Rates'!E$13*($V82-$L82)/43560,IF($R82=\"Agriculture\",'Pollutant Loading Rates'!E$14*($V82-$L82)/43560,IF($D82=\"RIDOT\",($V82-$L82)/43560*'Pollutant Loading Rates'!E$15,($V82-$L82)/43560*'Pollutant Loading Rates'!E$16))))","v":""},{"$f":"IF($A82=\"\",\"\",(VLOOKUP($R82,'Pollutant Loading Rates'!$A$5:$F$12,6,0)*$L82/43560)+IF($R82=\"Forest\",'Pollutant Loading Rates'!F$13*($V82-$L82)/43560,IF($R82=\"Agriculture\",'Pollutant Loading Rates'!F$14*($V82-$L82)/43560,IF($D82=\"RIDOT\",($V82-$L82)/43560*'Pollutant Loading Rates'!F$15,$V82-$L82)/43560*'Pollutant Loading Rates'!F$16)))","v":""}]
[null,null,null,null,null,null,null,null,null,null,null,null,null,null,null,null,null,null,null,null,null,null,null,{"$f":"IF($A83=\"\",\"\",(VLOOKUP($R83,'Pollutant Loading Rates'!$A$5:$F$12,3,0)*$L83/43560)+IF($R83=\"Forest\",'Pollutant Loading Rates'!C$13*($V83-$L83)/43560,IF($R83=\"Agriculture\",'Pollutant Loading Rates'!C$14*($V83-$L83)/43560,IF($D83=\"RIDOT\",($V83-$L83)/43560*'Pollutant Loading Rates'!C$15,($V83-$L83)/43560*'Pollutant Loading Rates'!C$16))))","v":""},{"$f":"IF($A83=\"\",\"\",(VLOOKUP($R83,'Pollutant Loading Rates'!$A$5:$F$12,4,0)*$L83/43560)+IF($R83=\"Forest\",'Pollutant Loading Rates'!D$13*($V83-$L83)/43560,IF($R83=\"Agriculture\",'Pollutant Loading Rates'!D$14*($V83-$L83)/43560,IF($D83=\"RIDOT\",($V83-$L83)/43560*'Pollutant Loading Rates'!D$15,($V83-$L83)/43560*'Pollutant Loading Rates'!D$16))))","v":""},{"$f":"IF($A83=\"\",\"\",(VLOOKUP($R83,'Pollutant Loading Rates'!$A$5:$F$12,5,0)*$L83/43560)+IF($R83=\"Forest\",'Pollutant Loading Rates'!E$13*($V83-$L83)/43560,IF($R83=\"Agriculture\",'Pollutant Loading Rates'!E$14*($V83-$L83)/43560,IF($D83=\"RIDOT\",($V83-$L83)/43560*'Pollutant Loading Rates'!E$15,($V83-$L83)/43560*'Pollutant Loading Rates'!E$16))))","v":""},{"$f":"IF($A83=\"\",\"\",(VLOOKUP($R83,'Pollutant Loading Rates'!$A$5:$F$12,6,0)*$L83/43560)+IF($R83=\"Forest\",'Pollutant Loading Rates'!F$13*($V83-$L83)/43560,IF($R83=\"Agriculture\",'Pollutant Loading Rates'!F$14*($V83-$L83)/43560,IF($D83=\"RIDOT\",($V83-$L83)/43560*'Pollutant Loading Rates'!F$15,$V83-$L83)/43560*'Pollutant Loading Rates'!F$16)))","v":""}]
[null,null,null,null,null,null,null,null,null,null,null,null,null,null,null,null,null,null,null,null,null,null,null,{"$f":"IF($A84=\"\",\"\",(VLOOKUP($R84,'Pollutant Loading Rates'!$A$5:$F$12,3,0)*$L84/43560)+IF($R84=\"Forest\",'Pollutant Loading Rates'!C$13*($V84-$L84)/43560,IF($R84=\"Agriculture\",'Pollutant Loading Rates'!C$14*($V84-$L84)/43560,IF($D84=\"RIDOT\",($V84-$L84)/43560*'Pollutant Loading Rates'!C$15,($V84-$L84)/43560*'Pollutant Loading Rates'!C$16))))","v":""},{"$f":"IF($A84=\"\",\"\",(VLOOKUP($R84,'Pollutant Loading Rates'!$A$5:$F$12,4,0)*$L84/43560)+IF($R84=\"Forest\",'Pollutant Loading Rates'!D$13*($V84-$L84)/43560,IF($R84=\"Agriculture\",'Pollutant Loading Rates'!D$14*($V84-$L84)/43560,IF($D84=\"RIDOT\",($V84-$L84)/43560*'Pollutant Loading Rates'!D$15,($V84-$L84)/43560*'Pollutant Loading Rates'!D$16))))","v":""},{"$f":"IF($A84=\"\",\"\",(VLOOKUP($R84,'Pollutant Loading Rates'!$A$5:$F$12,5,0)*$L84/43560)+IF($R84=\"Forest\",'Pollutant Loading Rates'!E$13*($V84-$L84)/43560,IF($R84=\"Agriculture\",'Pollutant Loading Rates'!E$14*($V84-$L84)/43560,IF($D84=\"RIDOT\",($V84-$L84)/43560*'Pollutant Loading Rates'!E$15,($V84-$L84)/43560*'Pollutant Loading Rates'!E$16))))","v":""},{"$f":"IF($A84=\"\",\"\",(VLOOKUP($R84,'Pollutant Loading Rates'!$A$5:$F$12,6,0)*$L84/43560)+IF($R84=\"Forest\",'Pollutant Loading Rates'!F$13*($V84-$L84)/43560,IF($R84=\"Agriculture\",'Pollutant Loading Rates'!F$14*($V84-$L84)/43560,IF($D84=\"RIDOT\",($V84-$L84)/43560*'Pollutant Loading Rates'!F$15,$V84-$L84)/43560*'Pollutant Loading Rates'!F$16)))","v":""}]
[null,null,null,null,null,null,null,null,null,null,null,null,null,null,null,null,null,null,null,null,null,null,null,{"$f":"IF($A85=\"\",\"\",(VLOOKUP($R85,'Pollutant Loading Rates'!$A$5:$F$12,3,0)*$L85/43560)+IF($R85=\"Forest\",'Pollutant Loading Rates'!C$13*($V85-$L85)/43560,IF($R85=\"Agriculture\",'Pollutant Loading Rates'!C$14*($V85-$L85)/43560,IF($D85=\"RIDOT\",($V85-$L85)/43560*'Pollutant Loading Rates'!C$15,($V85-$L85)/43560*'Pollutant Loading Rates'!C$16))))","v":""},{"$f":"IF($A85=\"\",\"\",(VLOOKUP($R85,'Pollutant Loading Rates'!$A$5:$F$12,4,0)*$L85/43560)+IF($R85=\"Forest\",'Pollutant Loading Rates'!D$13*($V85-$L85)/43560,IF($R85=\"Agriculture\",'Pollutant Loading Rates'!D$14*($V85-$L85)/43560,IF($D85=\"RIDOT\",($V85-$L85)/43560*'Pollutant Loading Rates'!D$15,($V85-$L85)/43560*'Pollutant Loading Rates'!D$16))))","v":""},{"$f":"IF($A85=\"\",\"\",(VLOOKUP($R85,'Pollutant Loading Rates'!$A$5:$F$12,5,0)*$L85/43560)+IF($R85=\"Forest\",'Pollutant Loading Rates'!E$13*($V85-$L85)/43560,IF($R85=\"Agriculture\",'Pollutant Loading Rates'!E$14*($V85-$L85)/43560,IF($D85=\"RIDOT\",($V85-$L85)/43560*'Pollutant Loading Rates'!E$15,($V85-$L85)/43560*'Pollutant Loading Rates'!E$16))))","v":""},{"$f":"IF($A85=\"\",\"\",(VLOOKUP($R85,'Pollutant Loading Rates'!$A$5:$F$12,6,0)*$L85/43560)+IF($R85=\"Forest\",'Pollutant Loading Rates'!F$13*($V85-$L85)/43560,IF($R85=\"Agriculture\",'Pollutant Loading Rates'!F$14*($V85-$L85)/43560,IF($D85=\"RIDOT\",($V85-$L85)/43560*'Pollutant Loading Rates'!F$15,$V85-$L85)/43560*'Pollutant Loading Rates'!F$16)))","v":""}]
[null,null,null,null,null,null,null,null,null,null,null,null,null,null,null,null,null,null,null,null,null,null,null,{"$f":"IF($A86=\"\",\"\",(VLOOKUP($R86,'Pollutant Loading Rates'!$A$5:$F$12,3,0)*$L86/43560)+IF($R86=\"Forest\",'Pollutant Loading Rates'!C$13*($V86-$L86)/43560,IF($R86=\"Agriculture\",'Pollutant Loading Rates'!C$14*($V86-$L86)/43560,IF($D86=\"RIDOT\",($V86-$L86)/43560*'Pollutant Loading Rates'!C$15,($V86-$L86)/43560*'Pollutant Loading Rates'!C$16))))","v":""},{"$f":"IF($A86=\"\",\"\",(VLOOKUP($R86,'Pollutant Loading Rates'!$A$5:$F$12,4,0)*$L86/43560)+IF($R86=\"Forest\",'Pollutant Loading Rates'!D$13*($V86-$L86)/43560,IF($R86=\"Agriculture\",'Pollutant Loading Rates'!D$14*($V86-$L86)/43560,IF($D86=\"RIDOT\",($V86-$L86)/43560*'Pollutant Loading Rates'!D$15,($V86-$L86)/43560*'Pollutant Loading Rates'!D$16))))","v":""},{"$f":"IF($A86=\"\",\"\",(VLOOKUP($R86,'Pollutant Loading Rates'!$A$5:$F$12,5,0)*$L86/43560)+IF($R86=\"Forest\",'Pollutant Loading Rates'!E$13*($V86-$L86)/43560,IF($R86=\"Agriculture\",'Pollutant Loading Rates'!E$14*($V86-$L86)/43560,IF($D86=\"RIDOT\",($V86-$L86)/43560*'Pollutant Loading Rates'!E$15,($V86-$L86)/43560*'Pollutant Loading Rates'!E$16))))","v":""},{"$f":"IF($A86=\"\",\"\",(VLOOKUP($R86,'Pollutant Loading Rates'!$A$5:$F$12,6,0)*$L86/43560)+IF($R86=\"Forest\",'Pollutant Loading Rates'!F$13*($V86-$L86)/43560,IF($R86=\"Agriculture\",'Pollutant Loading Rates'!F$14*($V86-$L86)/43560,IF($D86=\"RIDOT\",($V86-$L86)/43560*'Pollutant Loading Rates'!F$15,$V86-$L86)/43560*'Pollutant Loading Rates'!F$16)))","v":""}]
[null,null,null,null,null,null,null,null,null,null,null,null,null,null,null,null,null,null,null,null,null,null,null,{"$f":"IF($A87=\"\",\"\",(VLOOKUP($R87,'Pollutant Loading Rates'!$A$5:$F$12,3,0)*$L87/43560)+IF($R87=\"Forest\",'Pollutant Loading Rates'!C$13*($V87-$L87)/43560,IF($R87=\"Agriculture\",'Pollutant Loading Rates'!C$14*($V87-$L87)/43560,IF($D87=\"RIDOT\",($V87-$L87)/43560*'Pollutant Loading Rates'!C$15,($V87-$L87)/43560*'Pollutant Loading Rates'!C$16))))","v":""},{"$f":"IF($A87=\"\",\"\",(VLOOKUP($R87,'Pollutant Loading Rates'!$A$5:$F$12,4,0)*$L87/43560)+IF($R87=\"Forest\",'Pollutant Loading Rates'!D$13*($V87-$L87)/43560,IF($R87=\"Agriculture\",'Pollutant Loading Rates'!D$14*($V87-$L87)/43560,IF($D87=\"RIDOT\",($V87-$L87)/43560*'Pollutant Loading Rates'!D$15,($V87-$L87)/43560*'Pollutant Loading Rates'!D$16))))","v":""},{"$f":"IF($A87=\"\",\"\",(VLOOKUP($R87,'Pollutant Loading Rates'!$A$5:$F$12,5,0)*$L87/43560)+IF($R87=\"Forest\",'Pollutant Loading Rates'!E$13*($V87-$L87)/43560,IF($R87=\"Agriculture\",'Pollutant Loading Rates'!E$14*($V87-$L87)/43560,IF($D87=\"RIDOT\",($V87-$L87)/43560*'Pollutant Loading Rates'!E$15,($V87-$L87)/43560*'Pollutant Loading Rates'!E$16))))","v":""},{"$f":"IF($A87=\"\",\"\",(VLOOKUP($R87,'Pollutant Loading Rates'!$A$5:$F$12,6,0)*$L87/43560)+IF($R87=\"Forest\",'Pollutant Loading Rates'!F$13*($V87-$L87)/43560,IF($R87=\"Agriculture\",'Pollutant Loading Rates'!F$14*($V87-$L87)/43560,IF($D87=\"RIDOT\",($V87-$L87)/43560*'Pollutant Loading Rates'!F$15,$V87-$L87)/43560*'Pollutant Loading Rates'!F$16)))","v":""}]
[null,null,null,null,null,null,null,null,null,null,null,null,null,null,null,null,null,null,null,null,null,null,null,{"$f":"IF($A88=\"\",\"\",(VLOOKUP($R88,'Pollutant Loading Rates'!$A$5:$F$12,3,0)*$L88/43560)+IF($R88=\"Forest\",'Pollutant Loading Rates'!C$13*($V88-$L88)/43560,IF($R88=\"Agriculture\",'Pollutant Loading Rates'!C$14*($V88-$L88)/43560,IF($D88=\"RIDOT\",($V88-$L88)/43560*'Pollutant Loading Rates'!C$15,($V88-$L88)/43560*'Pollutant Loading Rates'!C$16))))","v":""},{"$f":"IF($A88=\"\",\"\",(VLOOKUP($R88,'Pollutant Loading Rates'!$A$5:$F$12,4,0)*$L88/43560)+IF($R88=\"Forest\",'Pollutant Loading Rates'!D$13*($V88-$L88)/43560,IF($R88=\"Agriculture\",'Pollutant Loading Rates'!D$14*($V88-$L88)/43560,IF($D88=\"RIDOT\",($V88-$L88)/43560*'Pollutant Loading Rates'!D$15,($V88-$L88)/43560*'Pollutant Loading Rates'!D$16))))","v":""},{"$f":"IF($A88=\"\",\"\",(VLOOKUP($R88,'Pollutant Loading Rates'!$A$5:$F$12,5,0)*$L88/43560)+IF($R88=\"Forest\",'Pollutant Loading Rates'!E$13*($V88-$L88)/43560,IF($R88=\"Agriculture\",'Pollutant Loading Rates'!E$14*($V88-$L88)/43560,IF($D88=\"RIDOT\",($V88-$L88)/43560*'Pollutant Loading Rates'!E$15,($V88-$L88)/43560*'Pollutant Loading Rates'!E$16))))","v":""},{"$f":"IF($A88=\"\",\"\",(VLOOKUP($R88,'Pollutant Loading Rates'!$A$5:$F$12,6,0)*$L88/43560)+IF($R88=\"Forest\",'Pollutant Loading Rates'!F$13*($V88-$L88)/43560,IF($R88=\"Agriculture\",'Pollutant Loading Rates'!F$14*($V88-$L88)/43560,IF($D88=\"RIDOT\",($V88-$L88)/43560*'Pollutant Loading Rates'!F$15,$V88-$L88)/43560*'Pollutant Loading Rates'!F$16)))","v":""}]
[null,null,null,null,null,null,null,null,null,null,null,null,null,null,null,null,null,null,null,null,null,null,null,{"$f":"IF($A89=\"\",\"\",(VLOOKUP($R89,'Pollutant Loading Rates'!$A$5:$F$12,3,0)*$L89/43560)+IF($R89=\"Forest\",'Pollutant Loading Rates'!C$13*($V89-$L89)/43560,IF($R89=\"Agriculture\",'Pollutant Loading Rates'!C$14*($V89-$L89)/43560,IF($D89=\"RIDOT\",($V89-$L89)/43560*'Pollutant Loading Rates'!C$15,($V89-$L89)/43560*'Pollutant Loading Rates'!C$16))))","v":""},{"$f":"IF($A89=\"\",\"\",(VLOOKUP($R89,'Pollutant Loading Rates'!$A$5:$F$12,4,0)*$L89/43560)+IF($R89=\"Forest\",'Pollutant Loading Rates'!D$13*($V89-$L89)/43560,IF($R89=\"Agriculture\",'Pollutant Loading Rates'!D$14*($V89-$L89)/43560,IF($D89=\"RIDOT\",($V89-$L89)/43560*'Pollutant Loading Rates'!D$15,($V89-$L89)/43560*'Pollutant Loading Rates'!D$16))))","v":""},{"$f":"IF($A89=\"\",\"\",(VLOOKUP($R89,'Pollutant Loading Rates'!$A$5:$F$12,5,0)*$L89/43560)+IF($R89=\"Forest\",'Pollutant Loading Rates'!E$13*($V89-$L89)/43560,IF($R89=\"Agriculture\",'Pollutant Loading Rates'!E$14*($V89-$L89)/43560,IF($D89=\"RIDOT\",($V89-$L89)/43560*'Pollutant Loading Rates'!E$15,($V89-$L89)/43560*'Pollutant Loading Rates'!E$16))))","v":""},{"$f":"IF($A89=\"\",\"\",(VLOOKUP($R89,'Pollutant Loading Rates'!$A$5:$F$12,6,0)*$L89/43560)+IF($R89=\"Forest\",'Pollutant Loading Rates'!F$13*($V89-$L89)/43560,IF($R89=\"Agriculture\",'Pollutant Loading Rates'!F$14*($V89-$L89)/43560,IF($D89=\"RIDOT\",($V89-$L89)/43560*'Pollutant Loading Rates'!F$15,$V89-$L89)/43560*'Pollutant Loading Rates'!F$16)))","v":""}]
[null,null,null,null,null,null,null,null,null,null,null,null,null,null,null,null,null,null,null,null,null,null,null,{"$f":"IF($A90=\"\",\"\",(VLOOKUP($R90,'Pollutant Loading Rates'!$A$5:$F$12,3,0)*$L90/43560)+IF($R90=\"Forest\",'Pollutant Loading Rates'!C$13*($V90-$L90)/43560,IF($R90=\"Agriculture\",'Pollutant Loading Rates'!C$14*($V90-$L90)/43560,IF($D90=\"RIDOT\",($V90-$L90)/43560*'Pollutant Loading Rates'!C$15,($V90-$L90)/43560*'Pollutant Loading Rates'!C$16))))","v":""},{"$f":"IF($A90=\"\",\"\",(VLOOKUP($R90,'Pollutant Loading Rates'!$A$5:$F$12,4,0)*$L90/43560)+IF($R90=\"Forest\",'Pollutant Loading Rates'!D$13*($V90-$L90)/43560,IF($R90=\"Agriculture\",'Pollutant Loading Rates'!D$14*($V90-$L90)/43560,IF($D90=\"RIDOT\",($V90-$L90)/43560*'Pollutant Loading Rates'!D$15,($V90-$L90)/43560*'Pollutant Loading Rates'!D$16))))","v":""},{"$f":"IF($A90=\"\",\"\",(VLOOKUP($R90,'Pollutant Loading Rates'!$A$5:$F$12,5,0)*$L90/43560)+IF($R90=\"Forest\",'Pollutant Loading Rates'!E$13*($V90-$L90)/43560,IF($R90=\"Agriculture\",'Pollutant Loading Rates'!E$14*($V90-$L90)/43560,IF($D90=\"RIDOT\",($V90-$L90)/43560*'Pollutant Loading Rates'!E$15,($V90-$L90)/43560*'Pollutant Loading Rates'!E$16))))","v":""},{"$f":"IF($A90=\"\",\"\",(VLOOKUP($R90,'Pollutant Loading Rates'!$A$5:$F$12,6,0)*$L90/43560)+IF($R90=\"Forest\",'Pollutant Loading Rates'!F$13*($V90-$L90)/43560,IF($R90=\"Agriculture\",'Pollutant Loading Rates'!F$14*($V90-$L90)/43560,IF($D90=\"RIDOT\",($V90-$L90)/43560*'Pollutant Loading Rates'!F$15,$V90-$L90)/43560*'Pollutant Loading Rates'!F$16)))","v":""}]
[null,null,null,null,null,null,null,null,null,null,null,null,null,null,null,null,null,null,null,null,null,null,null,{"$f":"IF($A91=\"\",\"\",(VLOOKUP($R91,'Pollutant Loading Rates'!$A$5:$F$12,3,0)*$L91/43560)+IF($R91=\"Forest\",'Pollutant Loading Rates'!C$13*($V91-$L91)/43560,IF($R91=\"Agriculture\",'Pollutant Loading Rates'!C$14*($V91-$L91)/43560,IF($D91=\"RIDOT\",($V91-$L91)/43560*'Pollutant Loading Rates'!C$15,($V91-$L91)/43560*'Pollutant Loading Rates'!C$16))))","v":""},{"$f":"IF($A91=\"\",\"\",(VLOOKUP($R91,'Pollutant Loading Rates'!$A$5:$F$12,4,0)*$L91/43560)+IF($R91=\"Forest\",'Pollutant Loading Rates'!D$13*($V91-$L91)/43560,IF($R91=\"Agriculture\",'Pollutant Loading Rates'!D$14*($V91-$L91)/43560,IF($D91=\"RIDOT\",($V91-$L91)/43560*'Pollutant Loading Rates'!D$15,($V91-$L91)/43560*'Pollutant Loading Rates'!D$16))))","v":""},{"$f":"IF($A91=\"\",\"\",(VLOOKUP($R91,'Pollutant Loading Rates'!$A$5:$F$12,5,0)*$L91/43560)+IF($R91=\"Forest\",'Pollutant Loading Rates'!E$13*($V91-$L91)/43560,IF($R91=\"Agriculture\",'Pollutant Loading Rates'!E$14*($V91-$L91)/43560,IF($D91=\"RIDOT\",($V91-$L91)/43560*'Pollutant Loading Rates'!E$15,($V91-$L91)/43560*'Pollutant Loading Rates'!E$16))))","v":""},{"$f":"IF($A91=\"\",\"\",(VLOOKUP($R91,'Pollutant Loading Rates'!$A$5:$F$12,6,0)*$L91/43560)+IF($R91=\"Forest\",'Pollutant Loading Rates'!F$13*($V91-$L91)/43560,IF($R91=\"Agriculture\",'Pollutant Loading Rates'!F$14*($V91-$L91)/43560,IF($D91=\"RIDOT\",($V91-$L91)/43560*'Pollutant Loading Rates'!F$15,$V91-$L91)/43560*'Pollutant Loading Rates'!F$16)))","v":""}]
[null,null,null,null,null,null,null,null,null,null,null,null,null,null,null,null,null,null,null,null,null,null,null,{"$f":"IF($A92=\"\",\"\",(VLOOKUP($R92,'Pollutant Loading Rates'!$A$5:$F$12,3,0)*$L92/43560)+IF($R92=\"Forest\",'Pollutant Loading Rates'!C$13*($V92-$L92)/43560,IF($R92=\"Agriculture\",'Pollutant Loading Rates'!C$14*($V92-$L92)/43560,IF($D92=\"RIDOT\",($V92-$L92)/43560*'Pollutant Loading Rates'!C$15,($V92-$L92)/43560*'Pollutant Loading Rates'!C$16))))","v":""},{"$f":"IF($A92=\"\",\"\",(VLOOKUP($R92,'Pollutant Loading Rates'!$A$5:$F$12,4,0)*$L92/43560)+IF($R92=\"Forest\",'Pollutant Loading Rates'!D$13*($V92-$L92)/43560,IF($R92=\"Agriculture\",'Pollutant Loading Rates'!D$14*($V92-$L92)/43560,IF($D92=\"RIDOT\",($V92-$L92)/43560*'Pollutant Loading Rates'!D$15,($V92-$L92)/43560*'Pollutant Loading Rates'!D$16))))","v":""},{"$f":"IF($A92=\"\",\"\",(VLOOKUP($R92,'Pollutant Loading Rates'!$A$5:$F$12,5,0)*$L92/43560)+IF($R92=\"Forest\",'Pollutant Loading Rates'!E$13*($V92-$L92)/43560,IF($R92=\"Agriculture\",'Pollutant Loading Rates'!E$14*($V92-$L92)/43560,IF($D92=\"RIDOT\",($V92-$L92)/43560*'Pollutant Loading Rates'!E$15,($V92-$L92)/43560*'Pollutant Loading Rates'!E$16))))","v":""},{"$f":"IF($A92=\"\",\"\",(VLOOKUP($R92,'Pollutant Loading Rates'!$A$5:$F$12,6,0)*$L92/43560)+IF($R92=\"Forest\",'Pollutant Loading Rates'!F$13*($V92-$L92)/43560,IF($R92=\"Agriculture\",'Pollutant Loading Rates'!F$14*($V92-$L92)/43560,IF($D92=\"RIDOT\",($V92-$L92)/43560*'Pollutant Loading Rates'!F$15,$V92-$L92)/43560*'Pollutant Loading Rates'!F$16)))","v":""}]
[null,null,null,null,null,null,null,null,null,null,null,null,null,null,null,null,null,null,null,null,null,null,null,{"$f":"IF($A93=\"\",\"\",(VLOOKUP($R93,'Pollutant Loading Rates'!$A$5:$F$12,3,0)*$L93/43560)+IF($R93=\"Forest\",'Pollutant Loading Rates'!C$13*($V93-$L93)/43560,IF($R93=\"Agriculture\",'Pollutant Loading Rates'!C$14*($V93-$L93)/43560,IF($D93=\"RIDOT\",($V93-$L93)/43560*'Pollutant Loading Rates'!C$15,($V93-$L93)/43560*'Pollutant Loading Rates'!C$16))))","v":""},{"$f":"IF($A93=\"\",\"\",(VLOOKUP($R93,'Pollutant Loading Rates'!$A$5:$F$12,4,0)*$L93/43560)+IF($R93=\"Forest\",'Pollutant Loading Rates'!D$13*($V93-$L93)/43560,IF($R93=\"Agriculture\",'Pollutant Loading Rates'!D$14*($V93-$L93)/43560,IF($D93=\"RIDOT\",($V93-$L93)/43560*'Pollutant Loading Rates'!D$15,($V93-$L93)/43560*'Pollutant Loading Rates'!D$16))))","v":""},{"$f":"IF($A93=\"\",\"\",(VLOOKUP($R93,'Pollutant Loading Rates'!$A$5:$F$12,5,0)*$L93/43560)+IF($R93=\"Forest\",'Pollutant Loading Rates'!E$13*($V93-$L93)/43560,IF($R93=\"Agriculture\",'Pollutant Loading Rates'!E$14*($V93-$L93)/43560,IF($D93=\"RIDOT\",($V93-$L93)/43560*'Pollutant Loading Rates'!E$15,($V93-$L93)/43560*'Pollutant Loading Rates'!E$16))))","v":""},{"$f":"IF($A93=\"\",\"\",(VLOOKUP($R93,'Pollutant Loading Rates'!$A$5:$F$12,6,0)*$L93/43560)+IF($R93=\"Forest\",'Pollutant Loading Rates'!F$13*($V93-$L93)/43560,IF($R93=\"Agriculture\",'Pollutant Loading Rates'!F$14*($V93-$L93)/43560,IF($D93=\"RIDOT\",($V93-$L93)/43560*'Pollutant Loading Rates'!F$15,$V93-$L93)/43560*'Pollutant Loading Rates'!F$16)))","v":""}]
[null,null,null,null,null,null,null,null,null,null,null,null,null,null,null,null,null,null,null,null,null,null,null,{"$f":"IF($A94=\"\",\"\",(VLOOKUP($R94,'Pollutant Loading Rates'!$A$5:$F$12,3,0)*$L94/43560)+IF($R94=\"Forest\",'Pollutant Loading Rates'!C$13*($V94-$L94)/43560,IF($R94=\"Agriculture\",'Pollutant Loading Rates'!C$14*($V94-$L94)/43560,IF($D94=\"RIDOT\",($V94-$L94)/43560*'Pollutant Loading Rates'!C$15,($V94-$L94)/43560*'Pollutant Loading Rates'!C$16))))","v":""},{"$f":"IF($A94=\"\",\"\",(VLOOKUP($R94,'Pollutant Loading Rates'!$A$5:$F$12,4,0)*$L94/43560)+IF($R94=\"Forest\",'Pollutant Loading Rates'!D$13*($V94-$L94)/43560,IF($R94=\"Agriculture\",'Pollutant Loading Rates'!D$14*($V94-$L94)/43560,IF($D94=\"RIDOT\",($V94-$L94)/43560*'Pollutant Loading Rates'!D$15,($V94-$L94)/43560*'Pollutant Loading Rates'!D$16))))","v":""},{"$f":"IF($A94=\"\",\"\",(VLOOKUP($R94,'Pollutant Loading Rates'!$A$5:$F$12,5,0)*$L94/43560)+IF($R94=\"Forest\",'Pollutant Loading Rates'!E$13*($V94-$L94)/43560,IF($R94=\"Agriculture\",'Pollutant Loading Rates'!E$14*($V94-$L94)/43560,IF($D94=\"RIDOT\",($V94-$L94)/43560*'Pollutant Loading Rates'!E$15,($V94-$L94)/43560*'Pollutant Loading Rates'!E$16))))","v":""},{"$f":"IF($A94=\"\",\"\",(VLOOKUP($R94,'Pollutant Loading Rates'!$A$5:$F$12,6,0)*$L94/43560)+IF($R94=\"Forest\",'Pollutant Loading Rates'!F$13*($V94-$L94)/43560,IF($R94=\"Agriculture\",'Pollutant Loading Rates'!F$14*($V94-$L94)/43560,IF($D94=\"RIDOT\",($V94-$L94)/43560*'Pollutant Loading Rates'!F$15,$V94-$L94)/43560*'Pollutant Loading Rates'!F$16)))","v":""}]
[null,null,null,null,null,null,null,null,null,null,null,null,null,null,null,null,null,null,null,null,null,null,null,{"$f":"IF($A95=\"\",\"\",(VLOOKUP($R95,'Pollutant Loading Rates'!$A$5:$F$12,3,0)*$L95/43560)+IF($R95=\"Forest\",'Pollutant Loading Rates'!C$13*($V95-$L95)/43560,IF($R95=\"Agriculture\",'Pollutant Loading Rates'!C$14*($V95-$L95)/43560,IF($D95=\"RIDOT\",($V95-$L95)/43560*'Pollutant Loading Rates'!C$15,($V95-$L95)/43560*'Pollutant Loading Rates'!C$16))))","v":""},{"$f":"IF($A95=\"\",\"\",(VLOOKUP($R95,'Pollutant Loading Rates'!$A$5:$F$12,4,0)*$L95/43560)+IF($R95=\"Forest\",'Pollutant Loading Rates'!D$13*($V95-$L95)/43560,IF($R95=\"Agriculture\",'Pollutant Loading Rates'!D$14*($V95-$L95)/43560,IF($D95=\"RIDOT\",($V95-$L95)/43560*'Pollutant Loading Rates'!D$15,($V95-$L95)/43560*'Pollutant Loading Rates'!D$16))))","v":""},{"$f":"IF($A95=\"\",\"\",(VLOOKUP($R95,'Pollutant Loading Rates'!$A$5:$F$12,5,0)*$L95/43560)+IF($R95=\"Forest\",'Pollutant Loading Rates'!E$13*($V95-$L95)/43560,IF($R95=\"Agriculture\",'Pollutant Loading Rates'!E$14*($V95-$L95)/43560,IF($D95=\"RIDOT\",($V95-$L95)/43560*'Pollutant Loading Rates'!E$15,($V95-$L95)/43560*'Pollutant Loading Rates'!E$16))))","v":""},{"$f":"IF($A95=\"\",\"\",(VLOOKUP($R95,'Pollutant Loading Rates'!$A$5:$F$12,6,0)*$L95/43560)+IF($R95=\"Forest\",'Pollutant Loading Rates'!F$13*($V95-$L95)/43560,IF($R95=\"Agriculture\",'Pollutant Loading Rates'!F$14*($V95-$L95)/43560,IF($D95=\"RIDOT\",($V95-$L95)/43560*'Pollutant Loading Rates'!F$15,$V95-$L95)/43560*'Pollutant Loading Rates'!F$16)))","v":""}]
[null,null,null,null,null,null,null,null,null,null,null,null,null,null,null,null,null,null,null,null,null,null,null,{"$f":"IF($A96=\"\",\"\",(VLOOKUP($R96,'Pollutant Loading Rates'!$A$5:$F$12,3,0)*$L96/43560)+IF($R96=\"Forest\",'Pollutant Loading Rates'!C$13*($V96-$L96)/43560,IF($R96=\"Agriculture\",'Pollutant Loading Rates'!C$14*($V96-$L96)/43560,IF($D96=\"RIDOT\",($V96-$L96)/43560*'Pollutant Loading Rates'!C$15,($V96-$L96)/43560*'Pollutant Loading Rates'!C$16))))","v":""},{"$f":"IF($A96=\"\",\"\",(VLOOKUP($R96,'Pollutant Loading Rates'!$A$5:$F$12,4,0)*$L96/43560)+IF($R96=\"Forest\",'Pollutant Loading Rates'!D$13*($V96-$L96)/43560,IF($R96=\"Agriculture\",'Pollutant Loading Rates'!D$14*($V96-$L96)/43560,IF($D96=\"RIDOT\",($V96-$L96)/43560*'Pollutant Loading Rates'!D$15,($V96-$L96)/43560*'Pollutant Loading Rates'!D$16))))","v":""},{"$f":"IF($A96=\"\",\"\",(VLOOKUP($R96,'Pollutant Loading Rates'!$A$5:$F$12,5,0)*$L96/43560)+IF($R96=\"Forest\",'Pollutant Loading Rates'!E$13*($V96-$L96)/43560,IF($R96=\"Agriculture\",'Pollutant Loading Rates'!E$14*($V96-$L96)/43560,IF($D96=\"RIDOT\",($V96-$L96)/43560*'Pollutant Loading Rates'!E$15,($V96-$L96)/43560*'Pollutant Loading Rates'!E$16))))","v":""},{"$f":"IF($A96=\"\",\"\",(VLOOKUP($R96,'Pollutant Loading Rates'!$A$5:$F$12,6,0)*$L96/43560)+IF($R96=\"Forest\",'Pollutant Loading Rates'!F$13*($V96-$L96)/43560,IF($R96=\"Agriculture\",'Pollutant Loading Rates'!F$14*($V96-$L96)/43560,IF($D96=\"RIDOT\",($V96-$L96)/43560*'Pollutant Loading Rates'!F$15,$V96-$L96)/43560*'Pollutant Loading Rates'!F$16)))","v":""}]
[null,null,null,null,null,null,null,null,null,null,null,null,null,null,null,null,null,null,null,null,null,null,null,{"$f":"IF($A97=\"\",\"\",(VLOOKUP($R97,'Pollutant Loading Rates'!$A$5:$F$12,3,0)*$L97/43560)+IF($R97=\"Forest\",'Pollutant Loading Rates'!C$13*($V97-$L97)/43560,IF($R97=\"Agriculture\",'Pollutant Loading Rates'!C$14*($V97-$L97)/43560,IF($D97=\"RIDOT\",($V97-$L97)/43560*'Pollutant Loading Rates'!C$15,($V97-$L97)/43560*'Pollutant Loading Rates'!C$16))))","v":""},{"$f":"IF($A97=\"\",\"\",(VLOOKUP($R97,'Pollutant Loading Rates'!$A$5:$F$12,4,0)*$L97/43560)+IF($R97=\"Forest\",'Pollutant Loading Rates'!D$13*($V97-$L97)/43560,IF($R97=\"Agriculture\",'Pollutant Loading Rates'!D$14*($V97-$L97)/43560,IF($D97=\"RIDOT\",($V97-$L97)/43560*'Pollutant Loading Rates'!D$15,($V97-$L97)/43560*'Pollutant Loading Rates'!D$16))))","v":""},{"$f":"IF($A97=\"\",\"\",(VLOOKUP($R97,'Pollutant Loading Rates'!$A$5:$F$12,5,0)*$L97/43560)+IF($R97=\"Forest\",'Pollutant Loading Rates'!E$13*($V97-$L97)/43560,IF($R97=\"Agriculture\",'Pollutant Loading Rates'!E$14*($V97-$L97)/43560,IF($D97=\"RIDOT\",($V97-$L97)/43560*'Pollutant Loading Rates'!E$15,($V97-$L97)/43560*'Pollutant Loading Rates'!E$16))))","v":""},{"$f":"IF($A97=\"\",\"\",(VLOOKUP($R97,'Pollutant Loading Rates'!$A$5:$F$12,6,0)*$L97/43560)+IF($R97=\"Forest\",'Pollutant Loading Rates'!F$13*($V97-$L97)/43560,IF($R97=\"Agriculture\",'Pollutant Loading Rates'!F$14*($V97-$L97)/43560,IF($D97=\"RIDOT\",($V97-$L97)/43560*'Pollutant Loading Rates'!F$15,$V97-$L97)/43560*'Pollutant Loading Rates'!F$16)))","v":""}]
[null,null,null,null,null,null,null,null,null,null,null,null,null,null,null,null,null,null,null,null,null,null,null,{"$f":"IF($A98=\"\",\"\",(VLOOKUP($R98,'Pollutant Loading Rates'!$A$5:$F$12,3,0)*$L98/43560)+IF($R98=\"Forest\",'Pollutant Loading Rates'!C$13*($V98-$L98)/43560,IF($R98=\"Agriculture\",'Pollutant Loading Rates'!C$14*($V98-$L98)/43560,IF($D98=\"RIDOT\",($V98-$L98)/43560*'Pollutant Loading Rates'!C$15,($V98-$L98)/43560*'Pollutant Loading Rates'!C$16))))","v":""},{"$f":"IF($A98=\"\",\"\",(VLOOKUP($R98,'Pollutant Loading Rates'!$A$5:$F$12,4,0)*$L98/43560)+IF($R98=\"Forest\",'Pollutant Loading Rates'!D$13*($V98-$L98)/43560,IF($R98=\"Agriculture\",'Pollutant Loading Rates'!D$14*($V98-$L98)/43560,IF($D98=\"RIDOT\",($V98-$L98)/43560*'Pollutant Loading Rates'!D$15,($V98-$L98)/43560*'Pollutant Loading Rates'!D$16))))","v":""},{"$f":"IF($A98=\"\",\"\",(VLOOKUP($R98,'Pollutant Loading Rates'!$A$5:$F$12,5,0)*$L98/43560)+IF($R98=\"Forest\",'Pollutant Loading Rates'!E$13*($V98-$L98)/43560,IF($R98=\"Agriculture\",'Pollutant Loading Rates'!E$14*($V98-$L98)/43560,IF($D98=\"RIDOT\",($V98-$L98)/43560*'Pollutant Loading Rates'!E$15,($V98-$L98)/43560*'Pollutant Loading Rates'!E$16))))","v":""},{"$f":"IF($A98=\"\",\"\",(VLOOKUP($R98,'Pollutant Loading Rates'!$A$5:$F$12,6,0)*$L98/43560)+IF($R98=\"Forest\",'Pollutant Loading Rates'!F$13*($V98-$L98)/43560,IF($R98=\"Agriculture\",'Pollutant Loading Rates'!F$14*($V98-$L98)/43560,IF($D98=\"RIDOT\",($V98-$L98)/43560*'Pollutant Loading Rates'!F$15,$V98-$L98)/43560*'Pollutant Loading Rates'!F$16)))","v":""}]
[null,null,null,null,null,null,null,null,null,null,null,null,null,null,null,null,null,null,null,null,null,null,null,{"$f":"IF($A99=\"\",\"\",(VLOOKUP($R99,'Pollutant Loading Rates'!$A$5:$F$12,3,0)*$L99/43560)+IF($R99=\"Forest\",'Pollutant Loading Rates'!C$13*($V99-$L99)/43560,IF($R99=\"Agriculture\",'Pollutant Loading Rates'!C$14*($V99-$L99)/43560,IF($D99=\"RIDOT\",($V99-$L99)/43560*'Pollutant Loading Rates'!C$15,($V99-$L99)/43560*'Pollutant Loading Rates'!C$16))))","v":""},{"$f":"IF($A99=\"\",\"\",(VLOOKUP($R99,'Pollutant Loading Rates'!$A$5:$F$12,4,0)*$L99/43560)+IF($R99=\"Forest\",'Pollutant Loading Rates'!D$13*($V99-$L99)/43560,IF($R99=\"Agriculture\",'Pollutant Loading Rates'!D$14*($V99-$L99)/43560,IF($D99=\"RIDOT\",($V99-$L99)/43560*'Pollutant Loading Rates'!D$15,($V99-$L99)/43560*'Pollutant Loading Rates'!D$16))))","v":""},{"$f":"IF($A99=\"\",\"\",(VLOOKUP($R99,'Pollutant Loading Rates'!$A$5:$F$12,5,0)*$L99/43560)+IF($R99=\"Forest\",'Pollutant Loading Rates'!E$13*($V99-$L99)/43560,IF($R99=\"Agriculture\",'Pollutant Loading Rates'!E$14*($V99-$L99)/43560,IF($D99=\"RIDOT\",($V99-$L99)/43560*'Pollutant Loading Rates'!E$15,($V99-$L99)/43560*'Pollutant Loading Rates'!E$16))))","v":""},{"$f":"IF($A99=\"\",\"\",(VLOOKUP($R99,'Pollutant Loading Rates'!$A$5:$F$12,6,0)*$L99/43560)+IF($R99=\"Forest\",'Pollutant Loading Rates'!F$13*($V99-$L99)/43560,IF($R99=\"Agriculture\",'Pollutant Loading Rates'!F$14*($V99-$L99)/43560,IF($D99=\"RIDOT\",($V99-$L99)/43560*'Pollutant Loading Rates'!F$15,$V99-$L99)/43560*'Pollutant Loading Rates'!F$16)))","v":""}]
[null,null,null,null,null,null,null,null,null,null,null,null,null,null,null,null,null,null,null,null,null,null,null,{"$f":"IF($A100=\"\",\"\",(VLOOKUP($R100,'Pollutant Loading Rates'!$A$5:$F$12,3,0)*$L100/43560)+IF($R100=\"Forest\",'Pollutant Loading Rates'!C$13*($V100-$L100)/43560,IF($R100=\"Agriculture\",'Pollutant Loading Rates'!C$14*($V100-$L100)/43560,IF($D100=\"RIDOT\",($V100-$L100)/43560*'Pollutant Loading Rates'!C$15,($V100-$L100)/43560*'Pollutant Loading Rates'!C$16))))","v":""},{"$f":"IF($A100=\"\",\"\",(VLOOKUP($R100,'Pollutant Loading Rates'!$A$5:$F$12,4,0)*$L100/43560)+IF($R100=\"Forest\",'Pollutant Loading Rates'!D$13*($V100-$L100)/43560,IF($R100=\"Agriculture\",'Pollutant Loading Rates'!D$14*($V100-$L100)/43560,IF($D100=\"RIDOT\",($V100-$L100)/43560*'Pollutant Loading Rates'!D$15,($V100-$L100)/43560*'Pollutant Loading Rates'!D$16))))","v":""},{"$f":"IF($A100=\"\",\"\",(VLOOKUP($R100,'Pollutant Loading Rates'!$A$5:$F$12,5,0)*$L100/43560)+IF($R100=\"Forest\",'Pollutant Loading Rates'!E$13*($V100-$L100)/43560,IF($R100=\"Agriculture\",'Pollutant Loading Rates'!E$14*($V100-$L100)/43560,IF($D100=\"RIDOT\",($V100-$L100)/43560*'Pollutant Loading Rates'!E$15,($V100-$L100)/43560*'Pollutant Loading Rates'!E$16))))","v":""},{"$f":"IF($A100=\"\",\"\",(VLOOKUP($R100,'Pollutant Loading Rates'!$A$5:$F$12,6,0)*$L100/43560)+IF($R100=\"Forest\",'Pollutant Loading Rates'!F$13*($V100-$L100)/43560,IF($R100=\"Agriculture\",'Pollutant Loading Rates'!F$14*($V100-$L100)/43560,IF($D100=\"RIDOT\",($V100-$L100)/43560*'Pollutant Loading Rates'!F$15,$V100-$L100)/43560*'Pollutant Loading Rates'!F$16)))","v":""}]
[null,null,null,null,null,null,null,null,null,null,null,null,null,null,null,null,null,null,null,null,null,null,null,{"$f":"IF($A101=\"\",\"\",(VLOOKUP($R101,'Pollutant Loading Rates'!$A$5:$F$12,3,0)*$L101/43560)+IF($R101=\"Forest\",'Pollutant Loading Rates'!C$13*($V101-$L101)/43560,IF($R101=\"Agriculture\",'Pollutant Loading Rates'!C$14*($V101-$L101)/43560,IF($D101=\"RIDOT\",($V101-$L101)/43560*'Pollutant Loading Rates'!C$15,($V101-$L101)/43560*'Pollutant Loading Rates'!C$16))))","v":""},{"$f":"IF($A101=\"\",\"\",(VLOOKUP($R101,'Pollutant Loading Rates'!$A$5:$F$12,4,0)*$L101/43560)+IF($R101=\"Forest\",'Pollutant Loading Rates'!D$13*($V101-$L101)/43560,IF($R101=\"Agriculture\",'Pollutant Loading Rates'!D$14*($V101-$L101)/43560,IF($D101=\"RIDOT\",($V101-$L101)/43560*'Pollutant Loading Rates'!D$15,($V101-$L101)/43560*'Pollutant Loading Rates'!D$16))))","v":""},{"$f":"IF($A101=\"\",\"\",(VLOOKUP($R101,'Pollutant Loading Rates'!$A$5:$F$12,5,0)*$L101/43560)+IF($R101=\"Forest\",'Pollutant Loading Rates'!E$13*($V101-$L101)/43560,IF($R101=\"Agriculture\",'Pollutant Loading Rates'!E$14*($V101-$L101)/43560,IF($D101=\"RIDOT\",($V101-$L101)/43560*'Pollutant Loading Rates'!E$15,($V101-$L101)/43560*'Pollutant Loading Rates'!E$16))))","v":""},{"$f":"IF($A101=\"\",\"\",(VLOOKUP($R101,'Pollutant Loading Rates'!$A$5:$F$12,6,0)*$L101/43560)+IF($R101=\"Forest\",'Pollutant Loading Rates'!F$13*($V101-$L101)/43560,IF($R101=\"Agriculture\",'Pollutant Loading Rates'!F$14*($V101-$L101)/43560,IF($D101=\"RIDOT\",($V101-$L101)/43560*'Pollutant Loading Rates'!F$15,$V101-$L101)/43560*'Pollutant Loading Rates'!F$16)))","v":""}]
[null,null,null,null,null,null,null,null,null,null,null,null,null,null,null,null,null,null,null,null,null,null,null,{"$f":"IF($A102=\"\",\"\",(VLOOKUP($R102,'Pollutant Loading Rates'!$A$5:$F$12,3,0)*$L102/43560)+IF($R102=\"Forest\",'Pollutant Loading Rates'!C$13*($V102-$L102)/43560,IF($R102=\"Agriculture\",'Pollutant Loading Rates'!C$14*($V102-$L102)/43560,IF($D102=\"RIDOT\",($V102-$L102)/43560*'Pollutant Loading Rates'!C$15,($V102-$L102)/43560*'Pollutant Loading Rates'!C$16))))","v":""},{"$f":"IF($A102=\"\",\"\",(VLOOKUP($R102,'Pollutant Loading Rates'!$A$5:$F$12,4,0)*$L102/43560)+IF($R102=\"Forest\",'Pollutant Loading Rates'!D$13*($V102-$L102)/43560,IF($R102=\"Agriculture\",'Pollutant Loading Rates'!D$14*($V102-$L102)/43560,IF($D102=\"RIDOT\",($V102-$L102)/43560*'Pollutant Loading Rates'!D$15,($V102-$L102)/43560*'Pollutant Loading Rates'!D$16))))","v":""},{"$f":"IF($A102=\"\",\"\",(VLOOKUP($R102,'Pollutant Loading Rates'!$A$5:$F$12,5,0)*$L102/43560)+IF($R102=\"Forest\",'Pollutant Loading Rates'!E$13*($V102-$L102)/43560,IF($R102=\"Agriculture\",'Pollutant Loading Rates'!E$14*($V102-$L102)/43560,IF($D102=\"RIDOT\",($V102-$L102)/43560*'Pollutant Loading Rates'!E$15,($V102-$L102)/43560*'Pollutant Loading Rates'!E$16))))","v":""},{"$f":"IF($A102=\"\",\"\",(VLOOKUP($R102,'Pollutant Loading Rates'!$A$5:$F$12,6,0)*$L102/43560)+IF($R102=\"Forest\",'Pollutant Loading Rates'!F$13*($V102-$L102)/43560,IF($R102=\"Agriculture\",'Pollutant Loading Rates'!F$14*($V102-$L102)/43560,IF($D102=\"RIDOT\",($V102-$L102)/43560*'Pollutant Loading Rates'!F$15,$V102-$L102)/43560*'Pollutant Loading Rates'!F$16)))","v":""}]
[null,null,null,null,null,null,null,null,null,null,null,null,null,null,null,null,null,null,null,null,null,null,null,{"$f":"IF($A103=\"\",\"\",(VLOOKUP($R103,'Pollutant Loading Rates'!$A$5:$F$12,3,0)*$L103/43560)+IF($R103=\"Forest\",'Pollutant Loading Rates'!C$13*($V103-$L103)/43560,IF($R103=\"Agriculture\",'Pollutant Loading Rates'!C$14*($V103-$L103)/43560,IF($D103=\"RIDOT\",($V103-$L103)/43560*'Pollutant Loading Rates'!C$15,($V103-$L103)/43560*'Pollutant Loading Rates'!C$16))))","v":""},{"$f":"IF($A103=\"\",\"\",(VLOOKUP($R103,'Pollutant Loading Rates'!$A$5:$F$12,4,0)*$L103/43560)+IF($R103=\"Forest\",'Pollutant Loading Rates'!D$13*($V103-$L103)/43560,IF($R103=\"Agriculture\",'Pollutant Loading Rates'!D$14*($V103-$L103)/43560,IF($D103=\"RIDOT\",($V103-$L103)/43560*'Pollutant Loading Rates'!D$15,($V103-$L103)/43560*'Pollutant Loading Rates'!D$16))))","v":""},{"$f":"IF($A103=\"\",\"\",(VLOOKUP($R103,'Pollutant Loading Rates'!$A$5:$F$12,5,0)*$L103/43560)+IF($R103=\"Forest\",'Pollutant Loading Rates'!E$13*($V103-$L103)/43560,IF($R103=\"Agriculture\",'Pollutant Loading Rates'!E$14*($V103-$L103)/43560,IF($D103=\"RIDOT\",($V103-$L103)/43560*'Pollutant Loading Rates'!E$15,($V103-$L103)/43560*'Pollutant Loading Rates'!E$16))))","v":""},{"$f":"IF($A103=\"\",\"\",(VLOOKUP($R103,'Pollutant Loading Rates'!$A$5:$F$12,6,0)*$L103/43560)+IF($R103=\"Forest\",'Pollutant Loading Rates'!F$13*($V103-$L103)/43560,IF($R103=\"Agriculture\",'Pollutant Loading Rates'!F$14*($V103-$L103)/43560,IF($D103=\"RIDOT\",($V103-$L103)/43560*'Pollutant Loading Rates'!F$15,$V103-$L103)/43560*'Pollutant Loading Rates'!F$16)))","v":""}]
[null,null,null,null,null,null,null,null,null,null,null,null,null,null,null,null,null,null,null,null,null,null,null,{"$f":"IF($A104=\"\",\"\",(VLOOKUP($R104,'Pollutant Loading Rates'!$A$5:$F$12,3,0)*$L104/43560)+IF($R104=\"Forest\",'Pollutant Loading Rates'!C$13*($V104-$L104)/43560,IF($R104=\"Agriculture\",'Pollutant Loading Rates'!C$14*($V104-$L104)/43560,IF($D104=\"RIDOT\",($V104-$L104)/43560*'Pollutant Loading Rates'!C$15,($V104-$L104)/43560*'Pollutant Loading Rates'!C$16))))","v":""},{"$f":"IF($A104=\"\",\"\",(VLOOKUP($R104,'Pollutant Loading Rates'!$A$5:$F$12,4,0)*$L104/43560)+IF($R104=\"Forest\",'Pollutant Loading Rates'!D$13*($V104-$L104)/43560,IF($R104=\"Agriculture\",'Pollutant Loading Rates'!D$14*($V104-$L104)/43560,IF($D104=\"RIDOT\",($V104-$L104)/43560*'Pollutant Loading Rates'!D$15,($V104-$L104)/43560*'Pollutant Loading Rates'!D$16))))","v":""},{"$f":"IF($A104=\"\",\"\",(VLOOKUP($R104,'Pollutant Loading Rates'!$A$5:$F$12,5,0)*$L104/43560)+IF($R104=\"Forest\",'Pollutant Loading Rates'!E$13*($V104-$L104)/43560,IF($R104=\"Agriculture\",'Pollutant Loading Rates'!E$14*($V104-$L104)/43560,IF($D104=\"RIDOT\",($V104-$L104)/43560*'Pollutant Loading Rates'!E$15,($V104-$L104)/43560*'Pollutant Loading Rates'!E$16))))","v":""},{"$f":"IF($A104=\"\",\"\",(VLOOKUP($R104,'Pollutant Loading Rates'!$A$5:$F$12,6,0)*$L104/43560)+IF($R104=\"Forest\",'Pollutant Loading Rates'!F$13*($V104-$L104)/43560,IF($R104=\"Agriculture\",'Pollutant Loading Rates'!F$14*($V104-$L104)/43560,IF($D104=\"RIDOT\",($V104-$L104)/43560*'Pollutant Loading Rates'!F$15,$V104-$L104)/43560*'Pollutant Loading Rates'!F$16)))","v":""}]
[null,null,null,null,null,null,null,null,null,null,null,null,null,null,null,null,null,null,null,null,null,null,null,{"$f":"IF($A105=\"\",\"\",(VLOOKUP($R105,'Pollutant Loading Rates'!$A$5:$F$12,3,0)*$L105/43560)+IF($R105=\"Forest\",'Pollutant Loading Rates'!C$13*($V105-$L105)/43560,IF($R105=\"Agriculture\",'Pollutant Loading Rates'!C$14*($V105-$L105)/43560,IF($D105=\"RIDOT\",($V105-$L105)/43560*'Pollutant Loading Rates'!C$15,($V105-$L105)/43560*'Pollutant Loading Rates'!C$16))))","v":""},{"$f":"IF($A105=\"\",\"\",(VLOOKUP($R105,'Pollutant Loading Rates'!$A$5:$F$12,4,0)*$L105/43560)+IF($R105=\"Forest\",'Pollutant Loading Rates'!D$13*($V105-$L105)/43560,IF($R105=\"Agriculture\",'Pollutant Loading Rates'!D$14*($V105-$L105)/43560,IF($D105=\"RIDOT\",($V105-$L105)/43560*'Pollutant Loading Rates'!D$15,($V105-$L105)/43560*'Pollutant Loading Rates'!D$16))))","v":""},{"$f":"IF($A105=\"\",\"\",(VLOOKUP($R105,'Pollutant Loading Rates'!$A$5:$F$12,5,0)*$L105/43560)+IF($R105=\"Forest\",'Pollutant Loading Rates'!E$13*($V105-$L105)/43560,IF($R105=\"Agriculture\",'Pollutant Loading Rates'!E$14*($V105-$L105)/43560,IF($D105=\"RIDOT\",($V105-$L105)/43560*'Pollutant Loading Rates'!E$15,($V105-$L105)/43560*'Pollutant Loading Rates'!E$16))))","v":""},{"$f":"IF($A105=\"\",\"\",(VLOOKUP($R105,'Pollutant Loading Rates'!$A$5:$F$12,6,0)*$L105/43560)+IF($R105=\"Forest\",'Pollutant Loading Rates'!F$13*($V105-$L105)/43560,IF($R105=\"Agriculture\",'Pollutant Loading Rates'!F$14*($V105-$L105)/43560,IF($D105=\"RIDOT\",($V105-$L105)/43560*'Pollutant Loading Rates'!F$15,$V105-$L105)/43560*'Pollutant Loading Rates'!F$16)))","v":""}]
[null,null,null,null,null,null,null,null,null,null,null,null,null,null,null,null,null,null,null,null,null,null,null,{"$f":"IF($A106=\"\",\"\",(VLOOKUP($R106,'Pollutant Loading Rates'!$A$5:$F$12,3,0)*$L106/43560)+IF($R106=\"Forest\",'Pollutant Loading Rates'!C$13*($V106-$L106)/43560,IF($R106=\"Agriculture\",'Pollutant Loading Rates'!C$14*($V106-$L106)/43560,IF($D106=\"RIDOT\",($V106-$L106)/43560*'Pollutant Loading Rates'!C$15,($V106-$L106)/43560*'Pollutant Loading Rates'!C$16))))","v":""},{"$f":"IF($A106=\"\",\"\",(VLOOKUP($R106,'Pollutant Loading Rates'!$A$5:$F$12,4,0)*$L106/43560)+IF($R106=\"Forest\",'Pollutant Loading Rates'!D$13*($V106-$L106)/43560,IF($R106=\"Agriculture\",'Pollutant Loading Rates'!D$14*($V106-$L106)/43560,IF($D106=\"RIDOT\",($V106-$L106)/43560*'Pollutant Loading Rates'!D$15,($V106-$L106)/43560*'Pollutant Loading Rates'!D$16))))","v":""},{"$f":"IF($A106=\"\",\"\",(VLOOKUP($R106,'Pollutant Loading Rates'!$A$5:$F$12,5,0)*$L106/43560)+IF($R106=\"Forest\",'Pollutant Loading Rates'!E$13*($V106-$L106)/43560,IF($R106=\"Agriculture\",'Pollutant Loading Rates'!E$14*($V106-$L106)/43560,IF($D106=\"RIDOT\",($V106-$L106)/43560*'Pollutant Loading Rates'!E$15,($V106-$L106)/43560*'Pollutant Loading Rates'!E$16))))","v":""},{"$f":"IF($A106=\"\",\"\",(VLOOKUP($R106,'Pollutant Loading Rates'!$A$5:$F$12,6,0)*$L106/43560)+IF($R106=\"Forest\",'Pollutant Loading Rates'!F$13*($V106-$L106)/43560,IF($R106=\"Agriculture\",'Pollutant Loading Rates'!F$14*($V106-$L106)/43560,IF($D106=\"RIDOT\",($V106-$L106)/43560*'Pollutant Loading Rates'!F$15,$V106-$L106)/43560*'Pollutant Loading Rates'!F$16)))","v":""}]
[null,null,null,null,null,null,null,null,null,null,null,null,null,null,null,null,null,null,null,null,null,null,null,{"$f":"IF($A107=\"\",\"\",(VLOOKUP($R107,'Pollutant Loading Rates'!$A$5:$F$12,3,0)*$L107/43560)+IF($R107=\"Forest\",'Pollutant Loading Rates'!C$13*($V107-$L107)/43560,IF($R107=\"Agriculture\",'Pollutant Loading Rates'!C$14*($V107-$L107)/43560,IF($D107=\"RIDOT\",($V107-$L107)/43560*'Pollutant Loading Rates'!C$15,($V107-$L107)/43560*'Pollutant Loading Rates'!C$16))))","v":""},{"$f":"IF($A107=\"\",\"\",(VLOOKUP($R107,'Pollutant Loading Rates'!$A$5:$F$12,4,0)*$L107/43560)+IF($R107=\"Forest\",'Pollutant Loading Rates'!D$13*($V107-$L107)/43560,IF($R107=\"Agriculture\",'Pollutant Loading Rates'!D$14*($V107-$L107)/43560,IF($D107=\"RIDOT\",($V107-$L107)/43560*'Pollutant Loading Rates'!D$15,($V107-$L107)/43560*'Pollutant Loading Rates'!D$16))))","v":""},{"$f":"IF($A107=\"\",\"\",(VLOOKUP($R107,'Pollutant Loading Rates'!$A$5:$F$12,5,0)*$L107/43560)+IF($R107=\"Forest\",'Pollutant Loading Rates'!E$13*($V107-$L107)/43560,IF($R107=\"Agriculture\",'Pollutant Loading Rates'!E$14*($V107-$L107)/43560,IF($D107=\"RIDOT\",($V107-$L107)/43560*'Pollutant Loading Rates'!E$15,($V107-$L107)/43560*'Pollutant Loading Rates'!E$16))))","v":""},{"$f":"IF($A107=\"\",\"\",(VLOOKUP($R107,'Pollutant Loading Rates'!$A$5:$F$12,6,0)*$L107/43560)+IF($R107=\"Forest\",'Pollutant Loading Rates'!F$13*($V107-$L107)/43560,IF($R107=\"Agriculture\",'Pollutant Loading Rates'!F$14*($V107-$L107)/43560,IF($D107=\"RIDOT\",($V107-$L107)/43560*'Pollutant Loading Rates'!F$15,$V107-$L107)/43560*'Pollutant Loading Rates'!F$16)))","v":""}]
[null,null,null,null,null,null,null,null,null,null,null,null,null,null,null,null,null,null,null,null,null,null,null,{"$f":"IF($A108=\"\",\"\",(VLOOKUP($R108,'Pollutant Loading Rates'!$A$5:$F$12,3,0)*$L108/43560)+IF($R108=\"Forest\",'Pollutant Loading Rates'!C$13*($V108-$L108)/43560,IF($R108=\"Agriculture\",'Pollutant Loading Rates'!C$14*($V108-$L108)/43560,IF($D108=\"RIDOT\",($V108-$L108)/43560*'Pollutant Loading Rates'!C$15,($V108-$L108)/43560*'Pollutant Loading Rates'!C$16))))","v":""},{"$f":"IF($A108=\"\",\"\",(VLOOKUP($R108,'Pollutant Loading Rates'!$A$5:$F$12,4,0)*$L108/43560)+IF($R108=\"Forest\",'Pollutant Loading Rates'!D$13*($V108-$L108)/43560,IF($R108=\"Agriculture\",'Pollutant Loading Rates'!D$14*($V108-$L108)/43560,IF($D108=\"RIDOT\",($V108-$L108)/43560*'Pollutant Loading Rates'!D$15,($V108-$L108)/43560*'Pollutant Loading Rates'!D$16))))","v":""},{"$f":"IF($A108=\"\",\"\",(VLOOKUP($R108,'Pollutant Loading Rates'!$A$5:$F$12,5,0)*$L108/43560)+IF($R108=\"Forest\",'Pollutant Loading Rates'!E$13*($V108-$L108)/43560,IF($R108=\"Agriculture\",'Pollutant Loading Rates'!E$14*($V108-$L108)/43560,IF($D108=\"RIDOT\",($V108-$L108)/43560*'Pollutant Loading Rates'!E$15,($V108-$L108)/43560*'Pollutant Loading Rates'!E$16))))","v":""},{"$f":"IF($A108=\"\",\"\",(VLOOKUP($R108,'Pollutant Loading Rates'!$A$5:$F$12,6,0)*$L108/43560)+IF($R108=\"Forest\",'Pollutant Loading Rates'!F$13*($V108-$L108)/43560,IF($R108=\"Agriculture\",'Pollutant Loading Rates'!F$14*($V108-$L108)/43560,IF($D108=\"RIDOT\",($V108-$L108)/43560*'Pollutant Loading Rates'!F$15,$V108-$L108)/43560*'Pollutant Loading Rates'!F$16)))","v":""}]
[null,null,null,null,null,null,null,null,null,null,null,null,null,null,null,null,null,null,null,null,null,null,null,{"$f":"IF($A109=\"\",\"\",(VLOOKUP($R109,'Pollutant Loading Rates'!$A$5:$F$12,3,0)*$L109/43560)+IF($R109=\"Forest\",'Pollutant Loading Rates'!C$13*($V109-$L109)/43560,IF($R109=\"Agriculture\",'Pollutant Loading Rates'!C$14*($V109-$L109)/43560,IF($D109=\"RIDOT\",($V109-$L109)/43560*'Pollutant Loading Rates'!C$15,($V109-$L109)/43560*'Pollutant Loading Rates'!C$16))))","v":""},{"$f":"IF($A109=\"\",\"\",(VLOOKUP($R109,'Pollutant Loading Rates'!$A$5:$F$12,4,0)*$L109/43560)+IF($R109=\"Forest\",'Pollutant Loading Rates'!D$13*($V109-$L109)/43560,IF($R109=\"Agriculture\",'Pollutant Loading Rates'!D$14*($V109-$L109)/43560,IF($D109=\"RIDOT\",($V109-$L109)/43560*'Pollutant Loading Rates'!D$15,($V109-$L109)/43560*'Pollutant Loading Rates'!D$16))))","v":""},{"$f":"IF($A109=\"\",\"\",(VLOOKUP($R109,'Pollutant Loading Rates'!$A$5:$F$12,5,0)*$L109/43560)+IF($R109=\"Forest\",'Pollutant Loading Rates'!E$13*($V109-$L109)/43560,IF($R109=\"Agriculture\",'Pollutant Loading Rates'!E$14*($V109-$L109)/43560,IF($D109=\"RIDOT\",($V109-$L109)/43560*'Pollutant Loading Rates'!E$15,($V109-$L109)/43560*'Pollutant Loading Rates'!E$16))))","v":""},{"$f":"IF($A109=\"\",\"\",(VLOOKUP($R109,'Pollutant Loading Rates'!$A$5:$F$12,6,0)*$L109/43560)+IF($R109=\"Forest\",'Pollutant Loading Rates'!F$13*($V109-$L109)/43560,IF($R109=\"Agriculture\",'Pollutant Loading Rates'!F$14*($V109-$L109)/43560,IF($D109=\"RIDOT\",($V109-$L109)/43560*'Pollutant Loading Rates'!F$15,$V109-$L109)/43560*'Pollutant Loading Rates'!F$16)))","v":""}]
[null,null,null,null,null,null,null,null,null,null,null,null,null,null,null,null,null,null,null,null,null,null,null,{"$f":"IF($A110=\"\",\"\",(VLOOKUP($R110,'Pollutant Loading Rates'!$A$5:$F$12,3,0)*$L110/43560)+IF($R110=\"Forest\",'Pollutant Loading Rates'!C$13*($V110-$L110)/43560,IF($R110=\"Agriculture\",'Pollutant Loading Rates'!C$14*($V110-$L110)/43560,IF($D110=\"RIDOT\",($V110-$L110)/43560*'Pollutant Loading Rates'!C$15,($V110-$L110)/43560*'Pollutant Loading Rates'!C$16))))","v":""},{"$f":"IF($A110=\"\",\"\",(VLOOKUP($R110,'Pollutant Loading Rates'!$A$5:$F$12,4,0)*$L110/43560)+IF($R110=\"Forest\",'Pollutant Loading Rates'!D$13*($V110-$L110)/43560,IF($R110=\"Agriculture\",'Pollutant Loading Rates'!D$14*($V110-$L110)/43560,IF($D110=\"RIDOT\",($V110-$L110)/43560*'Pollutant Loading Rates'!D$15,($V110-$L110)/43560*'Pollutant Loading Rates'!D$16))))","v":""},{"$f":"IF($A110=\"\",\"\",(VLOOKUP($R110,'Pollutant Loading Rates'!$A$5:$F$12,5,0)*$L110/43560)+IF($R110=\"Forest\",'Pollutant Loading Rates'!E$13*($V110-$L110)/43560,IF($R110=\"Agriculture\",'Pollutant Loading Rates'!E$14*($V110-$L110)/43560,IF($D110=\"RIDOT\",($V110-$L110)/43560*'Pollutant Loading Rates'!E$15,($V110-$L110)/43560*'Pollutant Loading Rates'!E$16))))","v":""},{"$f":"IF($A110=\"\",\"\",(VLOOKUP($R110,'Pollutant Loading Rates'!$A$5:$F$12,6,0)*$L110/43560)+IF($R110=\"Forest\",'Pollutant Loading Rates'!F$13*($V110-$L110)/43560,IF($R110=\"Agriculture\",'Pollutant Loading Rates'!F$14*($V110-$L110)/43560,IF($D110=\"RIDOT\",($V110-$L110)/43560*'Pollutant Loading Rates'!F$15,$V110-$L110)/43560*'Pollutant Loading Rates'!F$16)))","v":""}]
[null,null,null,null,null,null,null,null,null,null,null,null,null,null,null,null,null,null,null,null,null,null,null,{"$f":"IF($A111=\"\",\"\",(VLOOKUP($R111,'Pollutant Loading Rates'!$A$5:$F$12,3,0)*$L111/43560)+IF($R111=\"Forest\",'Pollutant Loading Rates'!C$13*($V111-$L111)/43560,IF($R111=\"Agriculture\",'Pollutant Loading Rates'!C$14*($V111-$L111)/43560,IF($D111=\"RIDOT\",($V111-$L111)/43560*'Pollutant Loading Rates'!C$15,($V111-$L111)/43560*'Pollutant Loading Rates'!C$16))))","v":""},{"$f":"IF($A111=\"\",\"\",(VLOOKUP($R111,'Pollutant Loading Rates'!$A$5:$F$12,4,0)*$L111/43560)+IF($R111=\"Forest\",'Pollutant Loading Rates'!D$13*($V111-$L111)/43560,IF($R111=\"Agriculture\",'Pollutant Loading Rates'!D$14*($V111-$L111)/43560,IF($D111=\"RIDOT\",($V111-$L111)/43560*'Pollutant Loading Rates'!D$15,($V111-$L111)/43560*'Pollutant Loading Rates'!D$16))))","v":""},{"$f":"IF($A111=\"\",\"\",(VLOOKUP($R111,'Pollutant Loading Rates'!$A$5:$F$12,5,0)*$L111/43560)+IF($R111=\"Forest\",'Pollutant Loading Rates'!E$13*($V111-$L111)/43560,IF($R111=\"Agriculture\",'Pollutant Loading Rates'!E$14*($V111-$L111)/43560,IF($D111=\"RIDOT\",($V111-$L111)/43560*'Pollutant Loading Rates'!E$15,($V111-$L111)/43560*'Pollutant Loading Rates'!E$16))))","v":""},{"$f":"IF($A111=\"\",\"\",(VLOOKUP($R111,'Pollutant Loading Rates'!$A$5:$F$12,6,0)*$L111/43560)+IF($R111=\"Forest\",'Pollutant Loading Rates'!F$13*($V111-$L111)/43560,IF($R111=\"Agriculture\",'Pollutant Loading Rates'!F$14*($V111-$L111)/43560,IF($D111=\"RIDOT\",($V111-$L111)/43560*'Pollutant Loading Rates'!F$15,$V111-$L111)/43560*'Pollutant Loading Rates'!F$16)))","v":""}]
[null,null,null,null,null,null,null,null,null,null,null,null,null,null,null,null,null,null,null,null,null,null,null,{"$f":"IF($A112=\"\",\"\",(VLOOKUP($R112,'Pollutant Loading Rates'!$A$5:$F$12,3,0)*$L112/43560)+IF($R112=\"Forest\",'Pollutant Loading Rates'!C$13*($V112-$L112)/43560,IF($R112=\"Agriculture\",'Pollutant Loading Rates'!C$14*($V112-$L112)/43560,IF($D112=\"RIDOT\",($V112-$L112)/43560*'Pollutant Loading Rates'!C$15,($V112-$L112)/43560*'Pollutant Loading Rates'!C$16))))","v":""},{"$f":"IF($A112=\"\",\"\",(VLOOKUP($R112,'Pollutant Loading Rates'!$A$5:$F$12,4,0)*$L112/43560)+IF($R112=\"Forest\",'Pollutant Loading Rates'!D$13*($V112-$L112)/43560,IF($R112=\"Agriculture\",'Pollutant Loading Rates'!D$14*($V112-$L112)/43560,IF($D112=\"RIDOT\",($V112-$L112)/43560*'Pollutant Loading Rates'!D$15,($V112-$L112)/43560*'Pollutant Loading Rates'!D$16))))","v":""},{"$f":"IF($A112=\"\",\"\",(VLOOKUP($R112,'Pollutant Loading Rates'!$A$5:$F$12,5,0)*$L112/43560)+IF($R112=\"Forest\",'Pollutant Loading Rates'!E$13*($V112-$L112)/43560,IF($R112=\"Agriculture\",'Pollutant Loading Rates'!E$14*($V112-$L112)/43560,IF($D112=\"RIDOT\",($V112-$L112)/43560*'Pollutant Loading Rates'!E$15,($V112-$L112)/43560*'Pollutant Loading Rates'!E$16))))","v":""},{"$f":"IF($A112=\"\",\"\",(VLOOKUP($R112,'Pollutant Loading Rates'!$A$5:$F$12,6,0)*$L112/43560)+IF($R112=\"Forest\",'Pollutant Loading Rates'!F$13*($V112-$L112)/43560,IF($R112=\"Agriculture\",'Pollutant Loading Rates'!F$14*($V112-$L112)/43560,IF($D112=\"RIDOT\",($V112-$L112)/43560*'Pollutant Loading Rates'!F$15,$V112-$L112)/43560*'Pollutant Loading Rates'!F$16)))","v":""}]
[null,null,null,null,null,null,null,null,null,null,null,null,null,null,null,null,null,null,null,null,null,null,null,{"$f":"IF($A113=\"\",\"\",(VLOOKUP($R113,'Pollutant Loading Rates'!$A$5:$F$12,3,0)*$L113/43560)+IF($R113=\"Forest\",'Pollutant Loading Rates'!C$13*($V113-$L113)/43560,IF($R113=\"Agriculture\",'Pollutant Loading Rates'!C$14*($V113-$L113)/43560,IF($D113=\"RIDOT\",($V113-$L113)/43560*'Pollutant Loading Rates'!C$15,($V113-$L113)/43560*'Pollutant Loading Rates'!C$16))))","v":""},{"$f":"IF($A113=\"\",\"\",(VLOOKUP($R113,'Pollutant Loading Rates'!$A$5:$F$12,4,0)*$L113/43560)+IF($R113=\"Forest\",'Pollutant Loading Rates'!D$13*($V113-$L113)/43560,IF($R113=\"Agriculture\",'Pollutant Loading Rates'!D$14*($V113-$L113)/43560,IF($D113=\"RIDOT\",($V113-$L113)/43560*'Pollutant Loading Rates'!D$15,($V113-$L113)/43560*'Pollutant Loading Rates'!D$16))))","v":""},{"$f":"IF($A113=\"\",\"\",(VLOOKUP($R113,'Pollutant Loading Rates'!$A$5:$F$12,5,0)*$L113/43560)+IF($R113=\"Forest\",'Pollutant Loading Rates'!E$13*($V113-$L113)/43560,IF($R113=\"Agriculture\",'Pollutant Loading Rates'!E$14*($V113-$L113)/43560,IF($D113=\"RIDOT\",($V113-$L113)/43560*'Pollutant Loading Rates'!E$15,($V113-$L113)/43560*'Pollutant Loading Rates'!E$16))))","v":""},{"$f":"IF($A113=\"\",\"\",(VLOOKUP($R113,'Pollutant Loading Rates'!$A$5:$F$12,6,0)*$L113/43560)+IF($R113=\"Forest\",'Pollutant Loading Rates'!F$13*($V113-$L113)/43560,IF($R113=\"Agriculture\",'Pollutant Loading Rates'!F$14*($V113-$L113)/43560,IF($D113=\"RIDOT\",($V113-$L113)/43560*'Pollutant Loading Rates'!F$15,$V113-$L113)/43560*'Pollutant Loading Rates'!F$16)))","v":""}]
[null,null,null,null,null,null,null,null,null,null,null,null,null,null,null,null,null,null,null,null,null,null,null,{"$f":"IF($A114=\"\",\"\",(VLOOKUP($R114,'Pollutant Loading Rates'!$A$5:$F$12,3,0)*$L114/43560)+IF($R114=\"Forest\",'Pollutant Loading Rates'!C$13*($V114-$L114)/43560,IF($R114=\"Agriculture\",'Pollutant Loading Rates'!C$14*($V114-$L114)/43560,IF($D114=\"RIDOT\",($V114-$L114)/43560*'Pollutant Loading Rates'!C$15,($V114-$L114)/43560*'Pollutant Loading Rates'!C$16))))","v":""},{"$f":"IF($A114=\"\",\"\",(VLOOKUP($R114,'Pollutant Loading Rates'!$A$5:$F$12,4,0)*$L114/43560)+IF($R114=\"Forest\",'Pollutant Loading Rates'!D$13*($V114-$L114)/43560,IF($R114=\"Agriculture\",'Pollutant Loading Rates'!D$14*($V114-$L114)/43560,IF($D114=\"RIDOT\",($V114-$L114)/43560*'Pollutant Loading Rates'!D$15,($V114-$L114)/43560*'Pollutant Loading Rates'!D$16))))","v":""},{"$f":"IF($A114=\"\",\"\",(VLOOKUP($R114,'Pollutant Loading Rates'!$A$5:$F$12,5,0)*$L114/43560)+IF($R114=\"Forest\",'Pollutant Loading Rates'!E$13*($V114-$L114)/43560,IF($R114=\"Agriculture\",'Pollutant Loading Rates'!E$14*($V114-$L114)/43560,IF($D114=\"RIDOT\",($V114-$L114)/43560*'Pollutant Loading Rates'!E$15,($V114-$L114)/43560*'Pollutant Loading Rates'!E$16))))","v":""},{"$f":"IF($A114=\"\",\"\",(VLOOKUP($R114,'Pollutant Loading Rates'!$A$5:$F$12,6,0)*$L114/43560)+IF($R114=\"Forest\",'Pollutant Loading Rates'!F$13*($V114-$L114)/43560,IF($R114=\"Agriculture\",'Pollutant Loading Rates'!F$14*($V114-$L114)/43560,IF($D114=\"RIDOT\",($V114-$L114)/43560*'Pollutant Loading Rates'!F$15,$V114-$L114)/43560*'Pollutant Loading Rates'!F$16)))","v":""}]
[null,null,null,null,null,null,null,null,null,null,null,null,null,null,null,null,null,null,null,null,null,null,null,{"$f":"IF($A115=\"\",\"\",(VLOOKUP($R115,'Pollutant Loading Rates'!$A$5:$F$12,3,0)*$L115/43560)+IF($R115=\"Forest\",'Pollutant Loading Rates'!C$13*($V115-$L115)/43560,IF($R115=\"Agriculture\",'Pollutant Loading Rates'!C$14*($V115-$L115)/43560,IF($D115=\"RIDOT\",($V115-$L115)/43560*'Pollutant Loading Rates'!C$15,($V115-$L115)/43560*'Pollutant Loading Rates'!C$16))))","v":""},{"$f":"IF($A115=\"\",\"\",(VLOOKUP($R115,'Pollutant Loading Rates'!$A$5:$F$12,4,0)*$L115/43560)+IF($R115=\"Forest\",'Pollutant Loading Rates'!D$13*($V115-$L115)/43560,IF($R115=\"Agriculture\",'Pollutant Loading Rates'!D$14*($V115-$L115)/43560,IF($D115=\"RIDOT\",($V115-$L115)/43560*'Pollutant Loading Rates'!D$15,($V115-$L115)/43560*'Pollutant Loading Rates'!D$16))))","v":""},{"$f":"IF($A115=\"\",\"\",(VLOOKUP($R115,'Pollutant Loading Rates'!$A$5:$F$12,5,0)*$L115/43560)+IF($R115=\"Forest\",'Pollutant Loading Rates'!E$13*($V115-$L115)/43560,IF($R115=\"Agriculture\",'Pollutant Loading Rates'!E$14*($V115-$L115)/43560,IF($D115=\"RIDOT\",($V115-$L115)/43560*'Pollutant Loading Rates'!E$15,($V115-$L115)/43560*'Pollutant Loading Rates'!E$16))))","v":""},{"$f":"IF($A115=\"\",\"\",(VLOOKUP($R115,'Pollutant Loading Rates'!$A$5:$F$12,6,0)*$L115/43560)+IF($R115=\"Forest\",'Pollutant Loading Rates'!F$13*($V115-$L115)/43560,IF($R115=\"Agriculture\",'Pollutant Loading Rates'!F$14*($V115-$L115)/43560,IF($D115=\"RIDOT\",($V115-$L115)/43560*'Pollutant Loading Rates'!F$15,$V115-$L115)/43560*'Pollutant Loading Rates'!F$16)))","v":""}]
[null,null,null,null,null,null,null,null,null,null,null,null,null,null,null,null,null,null,null,null,null,null,null,{"$f":"IF($A116=\"\",\"\",(VLOOKUP($R116,'Pollutant Loading Rates'!$A$5:$F$12,3,0)*$L116/43560)+IF($R116=\"Forest\",'Pollutant Loading Rates'!C$13*($V116-$L116)/43560,IF($R116=\"Agriculture\",'Pollutant Loading Rates'!C$14*($V116-$L116)/43560,IF($D116=\"RIDOT\",($V116-$L116)/43560*'Pollutant Loading Rates'!C$15,($V116-$L116)/43560*'Pollutant Loading Rates'!C$16))))","v":""},{"$f":"IF($A116=\"\",\"\",(VLOOKUP($R116,'Pollutant Loading Rates'!$A$5:$F$12,4,0)*$L116/43560)+IF($R116=\"Forest\",'Pollutant Loading Rates'!D$13*($V116-$L116)/43560,IF($R116=\"Agriculture\",'Pollutant Loading Rates'!D$14*($V116-$L116)/43560,IF($D116=\"RIDOT\",($V116-$L116)/43560*'Pollutant Loading Rates'!D$15,($V116-$L116)/43560*'Pollutant Loading Rates'!D$16))))","v":""},{"$f":"IF($A116=\"\",\"\",(VLOOKUP($R116,'Pollutant Loading Rates'!$A$5:$F$12,5,0)*$L116/43560)+IF($R116=\"Forest\",'Pollutant Loading Rates'!E$13*($V116-$L116)/43560,IF($R116=\"Agriculture\",'Pollutant Loading Rates'!E$14*($V116-$L116)/43560,IF($D116=\"RIDOT\",($V116-$L116)/43560*'Pollutant Loading Rates'!E$15,($V116-$L116)/43560*'Pollutant Loading Rates'!E$16))))","v":""},{"$f":"IF($A116=\"\",\"\",(VLOOKUP($R116,'Pollutant Loading Rates'!$A$5:$F$12,6,0)*$L116/43560)+IF($R116=\"Forest\",'Pollutant Loading Rates'!F$13*($V116-$L116)/43560,IF($R116=\"Agriculture\",'Pollutant Loading Rates'!F$14*($V116-$L116)/43560,IF($D116=\"RIDOT\",($V116-$L116)/43560*'Pollutant Loading Rates'!F$15,$V116-$L116)/43560*'Pollutant Loading Rates'!F$16)))","v":""}]
[null,null,null,null,null,null,null,null,null,null,null,null,null,null,null,null,null,null,null,null,null,null,null,{"$f":"IF($A117=\"\",\"\",(VLOOKUP($R117,'Pollutant Loading Rates'!$A$5:$F$12,3,0)*$L117/43560)+IF($R117=\"Forest\",'Pollutant Loading Rates'!C$13*($V117-$L117)/43560,IF($R117=\"Agriculture\",'Pollutant Loading Rates'!C$14*($V117-$L117)/43560,IF($D117=\"RIDOT\",($V117-$L117)/43560*'Pollutant Loading Rates'!C$15,($V117-$L117)/43560*'Pollutant Loading Rates'!C$16))))","v":""},{"$f":"IF($A117=\"\",\"\",(VLOOKUP($R117,'Pollutant Loading Rates'!$A$5:$F$12,4,0)*$L117/43560)+IF($R117=\"Forest\",'Pollutant Loading Rates'!D$13*($V117-$L117)/43560,IF($R117=\"Agriculture\",'Pollutant Loading Rates'!D$14*($V117-$L117)/43560,IF($D117=\"RIDOT\",($V117-$L117)/43560*'Pollutant Loading Rates'!D$15,($V117-$L117)/43560*'Pollutant Loading Rates'!D$16))))","v":""},{"$f":"IF($A117=\"\",\"\",(VLOOKUP($R117,'Pollutant Loading Rates'!$A$5:$F$12,5,0)*$L117/43560)+IF($R117=\"Forest\",'Pollutant Loading Rates'!E$13*($V117-$L117)/43560,IF($R117=\"Agriculture\",'Pollutant Loading Rates'!E$14*($V117-$L117)/43560,IF($D117=\"RIDOT\",($V117-$L117)/43560*'Pollutant Loading Rates'!E$15,($V117-$L117)/43560*'Pollutant Loading Rates'!E$16))))","v":""},{"$f":"IF($A117=\"\",\"\",(VLOOKUP($R117,'Pollutant Loading Rates'!$A$5:$F$12,6,0)*$L117/43560)+IF($R117=\"Forest\",'Pollutant Loading Rates'!F$13*($V117-$L117)/43560,IF($R117=\"Agriculture\",'Pollutant Loading Rates'!F$14*($V117-$L117)/43560,IF($D117=\"RIDOT\",($V117-$L117)/43560*'Pollutant Loading Rates'!F$15,$V117-$L117)/43560*'Pollutant Loading Rates'!F$16)))","v":""}]
[null,null,null,null,null,null,null,null,null,null,null,null,null,null,null,null,null,null,null,null,null,null,null,{"$f":"IF($A118=\"\",\"\",(VLOOKUP($R118,'Pollutant Loading Rates'!$A$5:$F$12,3,0)*$L118/43560)+IF($R118=\"Forest\",'Pollutant Loading Rates'!C$13*($V118-$L118)/43560,IF($R118=\"Agriculture\",'Pollutant Loading Rates'!C$14*($V118-$L118)/43560,IF($D118=\"RIDOT\",($V118-$L118)/43560*'Pollutant Loading Rates'!C$15,($V118-$L118)/43560*'Pollutant Loading Rates'!C$16))))","v":""},{"$f":"IF($A118=\"\",\"\",(VLOOKUP($R118,'Pollutant Loading Rates'!$A$5:$F$12,4,0)*$L118/43560)+IF($R118=\"Forest\",'Pollutant Loading Rates'!D$13*($V118-$L118)/43560,IF($R118=\"Agriculture\",'Pollutant Loading Rates'!D$14*($V118-$L118)/43560,IF($D118=\"RIDOT\",($V118-$L118)/43560*'Pollutant Loading Rates'!D$15,($V118-$L118)/43560*'Pollutant Loading Rates'!D$16))))","v":""},{"$f":"IF($A118=\"\",\"\",(VLOOKUP($R118,'Pollutant Loading Rates'!$A$5:$F$12,5,0)*$L118/43560)+IF($R118=\"Forest\",'Pollutant Loading Rates'!E$13*($V118-$L118)/43560,IF($R118=\"Agriculture\",'Pollutant Loading Rates'!E$14*($V118-$L118)/43560,IF($D118=\"RIDOT\",($V118-$L118)/43560*'Pollutant Loading Rates'!E$15,($V118-$L118)/43560*'Pollutant Loading Rates'!E$16))))","v":""},{"$f":"IF($A118=\"\",\"\",(VLOOKUP($R118,'Pollutant Loading Rates'!$A$5:$F$12,6,0)*$L118/43560)+IF($R118=\"Forest\",'Pollutant Loading Rates'!F$13*($V118-$L118)/43560,IF($R118=\"Agriculture\",'Pollutant Loading Rates'!F$14*($V118-$L118)/43560,IF($D118=\"RIDOT\",($V118-$L118)/43560*'Pollutant Loading Rates'!F$15,$V118-$L118)/43560*'Pollutant Loading Rates'!F$16)))","v":""}]
[null,null,null,null,null,null,null,null,null,null,null,null,null,null,null,null,null,null,null,null,null,null,null,{"$f":"IF($A119=\"\",\"\",(VLOOKUP($R119,'Pollutant Loading Rates'!$A$5:$F$12,3,0)*$L119/43560)+IF($R119=\"Forest\",'Pollutant Loading Rates'!C$13*($V119-$L119)/43560,IF($R119=\"Agriculture\",'Pollutant Loading Rates'!C$14*($V119-$L119)/43560,IF($D119=\"RIDOT\",($V119-$L119)/43560*'Pollutant Loading Rates'!C$15,($V119-$L119)/43560*'Pollutant Loading Rates'!C$16))))","v":""},{"$f":"IF($A119=\"\",\"\",(VLOOKUP($R119,'Pollutant Loading Rates'!$A$5:$F$12,4,0)*$L119/43560)+IF($R119=\"Forest\",'Pollutant Loading Rates'!D$13*($V119-$L119)/43560,IF($R119=\"Agriculture\",'Pollutant Loading Rates'!D$14*($V119-$L119)/43560,IF($D119=\"RIDOT\",($V119-$L119)/43560*'Pollutant Loading Rates'!D$15,($V119-$L119)/43560*'Pollutant Loading Rates'!D$16))))","v":""},{"$f":"IF($A119=\"\",\"\",(VLOOKUP($R119,'Pollutant Loading Rates'!$A$5:$F$12,5,0)*$L119/43560)+IF($R119=\"Forest\",'Pollutant Loading Rates'!E$13*($V119-$L119)/43560,IF($R119=\"Agriculture\",'Pollutant Loading Rates'!E$14*($V119-$L119)/43560,IF($D119=\"RIDOT\",($V119-$L119)/43560*'Pollutant Loading Rates'!E$15,($V119-$L119)/43560*'Pollutant Loading Rates'!E$16))))","v":""},{"$f":"IF($A119=\"\",\"\",(VLOOKUP($R119,'Pollutant Loading Rates'!$A$5:$F$12,6,0)*$L119/43560)+IF($R119=\"Forest\",'Pollutant Loading Rates'!F$13*($V119-$L119)/43560,IF($R119=\"Agriculture\",'Pollutant Loading Rates'!F$14*($V119-$L119)/43560,IF($D119=\"RIDOT\",($V119-$L119)/43560*'Pollutant Loading Rates'!F$15,$V119-$L119)/43560*'Pollutant Loading Rates'!F$16)))","v":""}]
[null,null,null,null,null,null,null,null,null,null,null,null,null,null,null,null,null,null,null,null,null,null,null,{"$f":"IF($A120=\"\",\"\",(VLOOKUP($R120,'Pollutant Loading Rates'!$A$5:$F$12,3,0)*$L120/43560)+IF($R120=\"Forest\",'Pollutant Loading Rates'!C$13*($V120-$L120)/43560,IF($R120=\"Agriculture\",'Pollutant Loading Rates'!C$14*($V120-$L120)/43560,IF($D120=\"RIDOT\",($V120-$L120)/43560*'Pollutant Loading Rates'!C$15,($V120-$L120)/43560*'Pollutant Loading Rates'!C$16))))","v":""},{"$f":"IF($A120=\"\",\"\",(VLOOKUP($R120,'Pollutant Loading Rates'!$A$5:$F$12,4,0)*$L120/43560)+IF($R120=\"Forest\",'Pollutant Loading Rates'!D$13*($V120-$L120)/43560,IF($R120=\"Agriculture\",'Pollutant Loading Rates'!D$14*($V120-$L120)/43560,IF($D120=\"RIDOT\",($V120-$L120)/43560*'Pollutant Loading Rates'!D$15,($V120-$L120)/43560*'Pollutant Loading Rates'!D$16))))","v":""},{"$f":"IF($A120=\"\",\"\",(VLOOKUP($R120,'Pollutant Loading Rates'!$A$5:$F$12,5,0)*$L120/43560)+IF($R120=\"Forest\",'Pollutant Loading Rates'!E$13*($V120-$L120)/43560,IF($R120=\"Agriculture\",'Pollutant Loading Rates'!E$14*($V120-$L120)/43560,IF($D120=\"RIDOT\",($V120-$L120)/43560*'Pollutant Loading Rates'!E$15,($V120-$L120)/43560*'Pollutant Loading Rates'!E$16))))","v":""},{"$f":"IF($A120=\"\",\"\",(VLOOKUP($R120,'Pollutant Loading Rates'!$A$5:$F$12,6,0)*$L120/43560)+IF($R120=\"Forest\",'Pollutant Loading Rates'!F$13*($V120-$L120)/43560,IF($R120=\"Agriculture\",'Pollutant Loading Rates'!F$14*($V120-$L120)/43560,IF($D120=\"RIDOT\",($V120-$L120)/43560*'Pollutant Loading Rates'!F$15,$V120-$L120)/43560*'Pollutant Loading Rates'!F$16)))","v":""}]
[null,null,null,null,null,null,null,null,null,null,null,null,null,null,null,null,null,null,null,null,null,null,null,{"$f":"IF($A121=\"\",\"\",(VLOOKUP($R121,'Pollutant Loading Rates'!$A$5:$F$12,3,0)*$L121/43560)+IF($R121=\"Forest\",'Pollutant Loading Rates'!C$13*($V121-$L121)/43560,IF($R121=\"Agriculture\",'Pollutant Loading Rates'!C$14*($V121-$L121)/43560,IF($D121=\"RIDOT\",($V121-$L121)/43560*'Pollutant Loading Rates'!C$15,($V121-$L121)/43560*'Pollutant Loading Rates'!C$16))))","v":""},{"$f":"IF($A121=\"\",\"\",(VLOOKUP($R121,'Pollutant Loading Rates'!$A$5:$F$12,4,0)*$L121/43560)+IF($R121=\"Forest\",'Pollutant Loading Rates'!D$13*($V121-$L121)/43560,IF($R121=\"Agriculture\",'Pollutant Loading Rates'!D$14*($V121-$L121)/43560,IF($D121=\"RIDOT\",($V121-$L121)/43560*'Pollutant Loading Rates'!D$15,($V121-$L121)/43560*'Pollutant Loading Rates'!D$16))))","v":""},{"$f":"IF($A121=\"\",\"\",(VLOOKUP($R121,'Pollutant Loading Rates'!$A$5:$F$12,5,0)*$L121/43560)+IF($R121=\"Forest\",'Pollutant Loading Rates'!E$13*($V121-$L121)/43560,IF($R121=\"Agriculture\",'Pollutant Loading Rates'!E$14*($V121-$L121)/43560,IF($D121=\"RIDOT\",($V121-$L121)/43560*'Pollutant Loading Rates'!E$15,($V121-$L121)/43560*'Pollutant Loading Rates'!E$16))))","v":""},{"$f":"IF($A121=\"\",\"\",(VLOOKUP($R121,'Pollutant Loading Rates'!$A$5:$F$12,6,0)*$L121/43560)+IF($R121=\"Forest\",'Pollutant Loading Rates'!F$13*($V121-$L121)/43560,IF($R121=\"Agriculture\",'Pollutant Loading Rates'!F$14*($V121-$L121)/43560,IF($D121=\"RIDOT\",($V121-$L121)/43560*'Pollutant Loading Rates'!F$15,$V121-$L121)/43560*'Pollutant Loading Rates'!F$16)))","v":""}]
[null,null,null,null,null,null,null,null,null,null,null,null,null,null,null,null,null,null,null,null,null,null,null,{"$f":"IF($A122=\"\",\"\",(VLOOKUP($R122,'Pollutant Loading Rates'!$A$5:$F$12,3,0)*$L122/43560)+IF($R122=\"Forest\",'Pollutant Loading Rates'!C$13*($V122-$L122)/43560,IF($R122=\"Agriculture\",'Pollutant Loading Rates'!C$14*($V122-$L122)/43560,IF($D122=\"RIDOT\",($V122-$L122)/43560*'Pollutant Loading Rates'!C$15,($V122-$L122)/43560*'Pollutant Loading Rates'!C$16))))","v":""},{"$f":"IF($A122=\"\",\"\",(VLOOKUP($R122,'Pollutant Loading Rates'!$A$5:$F$12,4,0)*$L122/43560)+IF($R122=\"Forest\",'Pollutant Loading Rates'!D$13*($V122-$L122)/43560,IF($R122=\"Agriculture\",'Pollutant Loading Rates'!D$14*($V122-$L122)/43560,IF($D122=\"RIDOT\",($V122-$L122)/43560*'Pollutant Loading Rates'!D$15,($V122-$L122)/43560*'Pollutant Loading Rates'!D$16))))","v":""},{"$f":"IF($A122=\"\",\"\",(VLOOKUP($R122,'Pollutant Loading Rates'!$A$5:$F$12,5,0)*$L122/43560)+IF($R122=\"Forest\",'Pollutant Loading Rates'!E$13*($V122-$L122)/43560,IF($R122=\"Agriculture\",'Pollutant Loading Rates'!E$14*($V122-$L122)/43560,IF($D122=\"RIDOT\",($V122-$L122)/43560*'Pollutant Loading Rates'!E$15,($V122-$L122)/43560*'Pollutant Loading Rates'!E$16))))","v":""},{"$f":"IF($A122=\"\",\"\",(VLOOKUP($R122,'Pollutant Loading Rates'!$A$5:$F$12,6,0)*$L122/43560)+IF($R122=\"Forest\",'Pollutant Loading Rates'!F$13*($V122-$L122)/43560,IF($R122=\"Agriculture\",'Pollutant Loading Rates'!F$14*($V122-$L122)/43560,IF($D122=\"RIDOT\",($V122-$L122)/43560*'Pollutant Loading Rates'!F$15,$V122-$L122)/43560*'Pollutant Loading Rates'!F$16)))","v":""}]
[null,null,null,null,null,null,null,null,null,null,null,null,null,null,null,null,null,null,null,null,null,null,null,{"$f":"IF($A123=\"\",\"\",(VLOOKUP($R123,'Pollutant Loading Rates'!$A$5:$F$12,3,0)*$L123/43560)+IF($R123=\"Forest\",'Pollutant Loading Rates'!C$13*($V123-$L123)/43560,IF($R123=\"Agriculture\",'Pollutant Loading Rates'!C$14*($V123-$L123)/43560,IF($D123=\"RIDOT\",($V123-$L123)/43560*'Pollutant Loading Rates'!C$15,($V123-$L123)/43560*'Pollutant Loading Rates'!C$16))))","v":""},{"$f":"IF($A123=\"\",\"\",(VLOOKUP($R123,'Pollutant Loading Rates'!$A$5:$F$12,4,0)*$L123/43560)+IF($R123=\"Forest\",'Pollutant Loading Rates'!D$13*($V123-$L123)/43560,IF($R123=\"Agriculture\",'Pollutant Loading Rates'!D$14*($V123-$L123)/43560,IF($D123=\"RIDOT\",($V123-$L123)/43560*'Pollutant Loading Rates'!D$15,($V123-$L123)/43560*'Pollutant Loading Rates'!D$16))))","v":""},{"$f":"IF($A123=\"\",\"\",(VLOOKUP($R123,'Pollutant Loading Rates'!$A$5:$F$12,5,0)*$L123/43560)+IF($R123=\"Forest\",'Pollutant Loading Rates'!E$13*($V123-$L123)/43560,IF($R123=\"Agriculture\",'Pollutant Loading Rates'!E$14*($V123-$L123)/43560,IF($D123=\"RIDOT\",($V123-$L123)/43560*'Pollutant Loading Rates'!E$15,($V123-$L123)/43560*'Pollutant Loading Rates'!E$16))))","v":""},{"$f":"IF($A123=\"\",\"\",(VLOOKUP($R123,'Pollutant Loading Rates'!$A$5:$F$12,6,0)*$L123/43560)+IF($R123=\"Forest\",'Pollutant Loading Rates'!F$13*($V123-$L123)/43560,IF($R123=\"Agriculture\",'Pollutant Loading Rates'!F$14*($V123-$L123)/43560,IF($D123=\"RIDOT\",($V123-$L123)/43560*'Pollutant Loading Rates'!F$15,$V123-$L123)/43560*'Pollutant Loading Rates'!F$16)))","v":""}]
[null,null,null,null,null,null,null,null,null,null,null,null,null,null,null,null,null,null,null,null,null,null,null,{"$f":"IF($A124=\"\",\"\",(VLOOKUP($R124,'Pollutant Loading Rates'!$A$5:$F$12,3,0)*$L124/43560)+IF($R124=\"Forest\",'Pollutant Loading Rates'!C$13*($V124-$L124)/43560,IF($R124=\"Agriculture\",'Pollutant Loading Rates'!C$14*($V124-$L124)/43560,IF($D124=\"RIDOT\",($V124-$L124)/43560*'Pollutant Loading Rates'!C$15,($V124-$L124)/43560*'Pollutant Loading Rates'!C$16))))","v":""},{"$f":"IF($A124=\"\",\"\",(VLOOKUP($R124,'Pollutant Loading Rates'!$A$5:$F$12,4,0)*$L124/43560)+IF($R124=\"Forest\",'Pollutant Loading Rates'!D$13*($V124-$L124)/43560,IF($R124=\"Agriculture\",'Pollutant Loading Rates'!D$14*($V124-$L124)/43560,IF($D124=\"RIDOT\",($V124-$L124)/43560*'Pollutant Loading Rates'!D$15,($V124-$L124)/43560*'Pollutant Loading Rates'!D$16))))","v":""},{"$f":"IF($A124=\"\",\"\",(VLOOKUP($R124,'Pollutant Loading Rates'!$A$5:$F$12,5,0)*$L124/43560)+IF($R124=\"Forest\",'Pollutant Loading Rates'!E$13*($V124-$L124)/43560,IF($R124=\"Agriculture\",'Pollutant Loading Rates'!E$14*($V124-$L124)/43560,IF($D124=\"RIDOT\",($V124-$L124)/43560*'Pollutant Loading Rates'!E$15,($V124-$L124)/43560*'Pollutant Loading Rates'!E$16))))","v":""},{"$f":"IF($A124=\"\",\"\",(VLOOKUP($R124,'Pollutant Loading Rates'!$A$5:$F$12,6,0)*$L124/43560)+IF($R124=\"Forest\",'Pollutant Loading Rates'!F$13*($V124-$L124)/43560,IF($R124=\"Agriculture\",'Pollutant Loading Rates'!F$14*($V124-$L124)/43560,IF($D124=\"RIDOT\",($V124-$L124)/43560*'Pollutant Loading Rates'!F$15,$V124-$L124)/43560*'Pollutant Loading Rates'!F$16)))","v":""}]
[null,null,null,null,null,null,null,null,null,null,null,null,null,null,null,null,null,null,null,null,null,null,null,{"$f":"IF($A125=\"\",\"\",(VLOOKUP($R125,'Pollutant Loading Rates'!$A$5:$F$12,3,0)*$L125/43560)+IF($R125=\"Forest\",'Pollutant Loading Rates'!C$13*($V125-$L125)/43560,IF($R125=\"Agriculture\",'Pollutant Loading Rates'!C$14*($V125-$L125)/43560,IF($D125=\"RIDOT\",($V125-$L125)/43560*'Pollutant Loading Rates'!C$15,($V125-$L125)/43560*'Pollutant Loading Rates'!C$16))))","v":""},{"$f":"IF($A125=\"\",\"\",(VLOOKUP($R125,'Pollutant Loading Rates'!$A$5:$F$12,4,0)*$L125/43560)+IF($R125=\"Forest\",'Pollutant Loading Rates'!D$13*($V125-$L125)/43560,IF($R125=\"Agriculture\",'Pollutant Loading Rates'!D$14*($V125-$L125)/43560,IF($D125=\"RIDOT\",($V125-$L125)/43560*'Pollutant Loading Rates'!D$15,($V125-$L125)/43560*'Pollutant Loading Rates'!D$16))))","v":""},{"$f":"IF($A125=\"\",\"\",(VLOOKUP($R125,'Pollutant Loading Rates'!$A$5:$F$12,5,0)*$L125/43560)+IF($R125=\"Forest\",'Pollutant Loading Rates'!E$13*($V125-$L125)/43560,IF($R125=\"Agriculture\",'Pollutant Loading Rates'!E$14*($V125-$L125)/43560,IF($D125=\"RIDOT\",($V125-$L125)/43560*'Pollutant Loading Rates'!E$15,($V125-$L125)/43560*'Pollutant Loading Rates'!E$16))))","v":""},{"$f":"IF($A125=\"\",\"\",(VLOOKUP($R125,'Pollutant Loading Rates'!$A$5:$F$12,6,0)*$L125/43560)+IF($R125=\"Forest\",'Pollutant Loading Rates'!F$13*($V125-$L125)/43560,IF($R125=\"Agriculture\",'Pollutant Loading Rates'!F$14*($V125-$L125)/43560,IF($D125=\"RIDOT\",($V125-$L125)/43560*'Pollutant Loading Rates'!F$15,$V125-$L125)/43560*'Pollutant Loading Rates'!F$16)))","v":""}]
[null,null,null,null,null,null,null,null,null,null,null,null,null,null,null,null,null,null,null,null,null,null,null,{"$f":"IF($A126=\"\",\"\",(VLOOKUP($R126,'Pollutant Loading Rates'!$A$5:$F$12,3,0)*$L126/43560)+IF($R126=\"Forest\",'Pollutant Loading Rates'!C$13*($V126-$L126)/43560,IF($R126=\"Agriculture\",'Pollutant Loading Rates'!C$14*($V126-$L126)/43560,IF($D126=\"RIDOT\",($V126-$L126)/43560*'Pollutant Loading Rates'!C$15,($V126-$L126)/43560*'Pollutant Loading Rates'!C$16))))","v":""},{"$f":"IF($A126=\"\",\"\",(VLOOKUP($R126,'Pollutant Loading Rates'!$A$5:$F$12,4,0)*$L126/43560)+IF($R126=\"Forest\",'Pollutant Loading Rates'!D$13*($V126-$L126)/43560,IF($R126=\"Agriculture\",'Pollutant Loading Rates'!D$14*($V126-$L126)/43560,IF($D126=\"RIDOT\",($V126-$L126)/43560*'Pollutant Loading Rates'!D$15,($V126-$L126)/43560*'Pollutant Loading Rates'!D$16))))","v":""},{"$f":"IF($A126=\"\",\"\",(VLOOKUP($R126,'Pollutant Loading Rates'!$A$5:$F$12,5,0)*$L126/43560)+IF($R126=\"Forest\",'Pollutant Loading Rates'!E$13*($V126-$L126)/43560,IF($R126=\"Agriculture\",'Pollutant Loading Rates'!E$14*($V126-$L126)/43560,IF($D126=\"RIDOT\",($V126-$L126)/43560*'Pollutant Loading Rates'!E$15,($V126-$L126)/43560*'Pollutant Loading Rates'!E$16))))","v":""},{"$f":"IF($A126=\"\",\"\",(VLOOKUP($R126,'Pollutant Loading Rates'!$A$5:$F$12,6,0)*$L126/43560)+IF($R126=\"Forest\",'Pollutant Loading Rates'!F$13*($V126-$L126)/43560,IF($R126=\"Agriculture\",'Pollutant Loading Rates'!F$14*($V126-$L126)/43560,IF($D126=\"RIDOT\",($V126-$L126)/43560*'Pollutant Loading Rates'!F$15,$V126-$L126)/43560*'Pollutant Loading Rates'!F$16)))","v":""}]
[null,null,null,null,null,null,null,null,null,null,null,null,null,null,null,null,null,null,null,null,null,null,null,{"$f":"IF($A127=\"\",\"\",(VLOOKUP($R127,'Pollutant Loading Rates'!$A$5:$F$12,3,0)*$L127/43560)+IF($R127=\"Forest\",'Pollutant Loading Rates'!C$13*($V127-$L127)/43560,IF($R127=\"Agriculture\",'Pollutant Loading Rates'!C$14*($V127-$L127)/43560,IF($D127=\"RIDOT\",($V127-$L127)/43560*'Pollutant Loading Rates'!C$15,($V127-$L127)/43560*'Pollutant Loading Rates'!C$16))))","v":""},{"$f":"IF($A127=\"\",\"\",(VLOOKUP($R127,'Pollutant Loading Rates'!$A$5:$F$12,4,0)*$L127/43560)+IF($R127=\"Forest\",'Pollutant Loading Rates'!D$13*($V127-$L127)/43560,IF($R127=\"Agriculture\",'Pollutant Loading Rates'!D$14*($V127-$L127)/43560,IF($D127=\"RIDOT\",($V127-$L127)/43560*'Pollutant Loading Rates'!D$15,($V127-$L127)/43560*'Pollutant Loading Rates'!D$16))))","v":""},{"$f":"IF($A127=\"\",\"\",(VLOOKUP($R127,'Pollutant Loading Rates'!$A$5:$F$12,5,0)*$L127/43560)+IF($R127=\"Forest\",'Pollutant Loading Rates'!E$13*($V127-$L127)/43560,IF($R127=\"Agriculture\",'Pollutant Loading Rates'!E$14*($V127-$L127)/43560,IF($D127=\"RIDOT\",($V127-$L127)/43560*'Pollutant Loading Rates'!E$15,($V127-$L127)/43560*'Pollutant Loading Rates'!E$16))))","v":""},{"$f":"IF($A127=\"\",\"\",(VLOOKUP($R127,'Pollutant Loading Rates'!$A$5:$F$12,6,0)*$L127/43560)+IF($R127=\"Forest\",'Pollutant Loading Rates'!F$13*($V127-$L127)/43560,IF($R127=\"Agriculture\",'Pollutant Loading Rates'!F$14*($V127-$L127)/43560,IF($D127=\"RIDOT\",($V127-$L127)/43560*'Pollutant Loading Rates'!F$15,$V127-$L127)/43560*'Pollutant Loading Rates'!F$16)))","v":""}]
[null,null,null,null,null,null,null,null,null,null,null,null,null,null,null,null,null,null,null,null,null,null,null,{"$f":"IF($A128=\"\",\"\",(VLOOKUP($R128,'Pollutant Loading Rates'!$A$5:$F$12,3,0)*$L128/43560)+IF($R128=\"Forest\",'Pollutant Loading Rates'!C$13*($V128-$L128)/43560,IF($R128=\"Agriculture\",'Pollutant Loading Rates'!C$14*($V128-$L128)/43560,IF($D128=\"RIDOT\",($V128-$L128)/43560*'Pollutant Loading Rates'!C$15,($V128-$L128)/43560*'Pollutant Loading Rates'!C$16))))","v":""},{"$f":"IF($A128=\"\",\"\",(VLOOKUP($R128,'Pollutant Loading Rates'!$A$5:$F$12,4,0)*$L128/43560)+IF($R128=\"Forest\",'Pollutant Loading Rates'!D$13*($V128-$L128)/43560,IF($R128=\"Agriculture\",'Pollutant Loading Rates'!D$14*($V128-$L128)/43560,IF($D128=\"RIDOT\",($V128-$L128)/43560*'Pollutant Loading Rates'!D$15,($V128-$L128)/43560*'Pollutant Loading Rates'!D$16))))","v":""},{"$f":"IF($A128=\"\",\"\",(VLOOKUP($R128,'Pollutant Loading Rates'!$A$5:$F$12,5,0)*$L128/43560)+IF($R128=\"Forest\",'Pollutant Loading Rates'!E$13*($V128-$L128)/43560,IF($R128=\"Agriculture\",'Pollutant Loading Rates'!E$14*($V128-$L128)/43560,IF($D128=\"RIDOT\",($V128-$L128)/43560*'Pollutant Loading Rates'!E$15,($V128-$L128)/43560*'Pollutant Loading Rates'!E$16))))","v":""},{"$f":"IF($A128=\"\",\"\",(VLOOKUP($R128,'Pollutant Loading Rates'!$A$5:$F$12,6,0)*$L128/43560)+IF($R128=\"Forest\",'Pollutant Loading Rates'!F$13*($V128-$L128)/43560,IF($R128=\"Agriculture\",'Pollutant Loading Rates'!F$14*($V128-$L128)/43560,IF($D128=\"RIDOT\",($V128-$L128)/43560*'Pollutant Loading Rates'!F$15,$V128-$L128)/43560*'Pollutant Loading Rates'!F$16)))","v":""}]
[null,null,null,null,null,null,null,null,null,null,null,null,null,null,null,null,null,null,null,null,null,null,null,{"$f":"IF($A129=\"\",\"\",(VLOOKUP($R129,'Pollutant Loading Rates'!$A$5:$F$12,3,0)*$L129/43560)+IF($R129=\"Forest\",'Pollutant Loading Rates'!C$13*($V129-$L129)/43560,IF($R129=\"Agriculture\",'Pollutant Loading Rates'!C$14*($V129-$L129)/43560,IF($D129=\"RIDOT\",($V129-$L129)/43560*'Pollutant Loading Rates'!C$15,($V129-$L129)/43560*'Pollutant Loading Rates'!C$16))))","v":""},{"$f":"IF($A129=\"\",\"\",(VLOOKUP($R129,'Pollutant Loading Rates'!$A$5:$F$12,4,0)*$L129/43560)+IF($R129=\"Forest\",'Pollutant Loading Rates'!D$13*($V129-$L129)/43560,IF($R129=\"Agriculture\",'Pollutant Loading Rates'!D$14*($V129-$L129)/43560,IF($D129=\"RIDOT\",($V129-$L129)/43560*'Pollutant Loading Rates'!D$15,($V129-$L129)/43560*'Pollutant Loading Rates'!D$16))))","v":""},{"$f":"IF($A129=\"\",\"\",(VLOOKUP($R129,'Pollutant Loading Rates'!$A$5:$F$12,5,0)*$L129/43560)+IF($R129=\"Forest\",'Pollutant Loading Rates'!E$13*($V129-$L129)/43560,IF($R129=\"Agriculture\",'Pollutant Loading Rates'!E$14*($V129-$L129)/43560,IF($D129=\"RIDOT\",($V129-$L129)/43560*'Pollutant Loading Rates'!E$15,($V129-$L129)/43560*'Pollutant Loading Rates'!E$16))))","v":""},{"$f":"IF($A129=\"\",\"\",(VLOOKUP($R129,'Pollutant Loading Rates'!$A$5:$F$12,6,0)*$L129/43560)+IF($R129=\"Forest\",'Pollutant Loading Rates'!F$13*($V129-$L129)/43560,IF($R129=\"Agriculture\",'Pollutant Loading Rates'!F$14*($V129-$L129)/43560,IF($D129=\"RIDOT\",($V129-$L129)/43560*'Pollutant Loading Rates'!F$15,$V129-$L129)/43560*'Pollutant Loading Rates'!F$16)))","v":""}]
[null,null,null,null,null,null,null,null,null,null,null,null,null,null,null,null,null,null,null,null,null,null,null,{"$f":"IF($A130=\"\",\"\",(VLOOKUP($R130,'Pollutant Loading Rates'!$A$5:$F$12,3,0)*$L130/43560)+IF($R130=\"Forest\",'Pollutant Loading Rates'!C$13*($V130-$L130)/43560,IF($R130=\"Agriculture\",'Pollutant Loading Rates'!C$14*($V130-$L130)/43560,IF($D130=\"RIDOT\",($V130-$L130)/43560*'Pollutant Loading Rates'!C$15,($V130-$L130)/43560*'Pollutant Loading Rates'!C$16))))","v":""},{"$f":"IF($A130=\"\",\"\",(VLOOKUP($R130,'Pollutant Loading Rates'!$A$5:$F$12,4,0)*$L130/43560)+IF($R130=\"Forest\",'Pollutant Loading Rates'!D$13*($V130-$L130)/43560,IF($R130=\"Agriculture\",'Pollutant Loading Rates'!D$14*($V130-$L130)/43560,IF($D130=\"RIDOT\",($V130-$L130)/43560*'Pollutant Loading Rates'!D$15,($V130-$L130)/43560*'Pollutant Loading Rates'!D$16))))","v":""},{"$f":"IF($A130=\"\",\"\",(VLOOKUP($R130,'Pollutant Loading Rates'!$A$5:$F$12,5,0)*$L130/43560)+IF($R130=\"Forest\",'Pollutant Loading Rates'!E$13*($V130-$L130)/43560,IF($R130=\"Agriculture\",'Pollutant Loading Rates'!E$14*($V130-$L130)/43560,IF($D130=\"RIDOT\",($V130-$L130)/43560*'Pollutant Loading Rates'!E$15,($V130-$L130)/43560*'Pollutant Loading Rates'!E$16))))","v":""},{"$f":"IF($A130=\"\",\"\",(VLOOKUP($R130,'Pollutant Loading Rates'!$A$5:$F$12,6,0)*$L130/43560)+IF($R130=\"Forest\",'Pollutant Loading Rates'!F$13*($V130-$L130)/43560,IF($R130=\"Agriculture\",'Pollutant Loading Rates'!F$14*($V130-$L130)/43560,IF($D130=\"RIDOT\",($V130-$L130)/43560*'Pollutant Loading Rates'!F$15,$V130-$L130)/43560*'Pollutant Loading Rates'!F$16)))","v":""}]
[null,null,null,null,null,null,null,null,null,null,null,null,null,null,null,null,null,null,null,null,null,null,null,{"$f":"IF($A131=\"\",\"\",(VLOOKUP($R131,'Pollutant Loading Rates'!$A$5:$F$12,3,0)*$L131/43560)+IF($R131=\"Forest\",'Pollutant Loading Rates'!C$13*($V131-$L131)/43560,IF($R131=\"Agriculture\",'Pollutant Loading Rates'!C$14*($V131-$L131)/43560,IF($D131=\"RIDOT\",($V131-$L131)/43560*'Pollutant Loading Rates'!C$15,($V131-$L131)/43560*'Pollutant Loading Rates'!C$16))))","v":""},{"$f":"IF($A131=\"\",\"\",(VLOOKUP($R131,'Pollutant Loading Rates'!$A$5:$F$12,4,0)*$L131/43560)+IF($R131=\"Forest\",'Pollutant Loading Rates'!D$13*($V131-$L131)/43560,IF($R131=\"Agriculture\",'Pollutant Loading Rates'!D$14*($V131-$L131)/43560,IF($D131=\"RIDOT\",($V131-$L131)/43560*'Pollutant Loading Rates'!D$15,($V131-$L131)/43560*'Pollutant Loading Rates'!D$16))))","v":""},{"$f":"IF($A131=\"\",\"\",(VLOOKUP($R131,'Pollutant Loading Rates'!$A$5:$F$12,5,0)*$L131/43560)+IF($R131=\"Forest\",'Pollutant Loading Rates'!E$13*($V131-$L131)/43560,IF($R131=\"Agriculture\",'Pollutant Loading Rates'!E$14*($V131-$L131)/43560,IF($D131=\"RIDOT\",($V131-$L131)/43560*'Pollutant Loading Rates'!E$15,($V131-$L131)/43560*'Pollutant Loading Rates'!E$16))))","v":""},{"$f":"IF($A131=\"\",\"\",(VLOOKUP($R131,'Pollutant Loading Rates'!$A$5:$F$12,6,0)*$L131/43560)+IF($R131=\"Forest\",'Pollutant Loading Rates'!F$13*($V131-$L131)/43560,IF($R131=\"Agriculture\",'Pollutant Loading Rates'!F$14*($V131-$L131)/43560,IF($D131=\"RIDOT\",($V131-$L131)/43560*'Pollutant Loading Rates'!F$15,$V131-$L131)/43560*'Pollutant Loading Rates'!F$16)))","v":""}]
[null,null,null,null,null,null,null,null,null,null,null,null,null,null,null,null,null,null,null,null,null,null,null,{"$f":"IF($A132=\"\",\"\",(VLOOKUP($R132,'Pollutant Loading Rates'!$A$5:$F$12,3,0)*$L132/43560)+IF($R132=\"Forest\",'Pollutant Loading Rates'!C$13*($V132-$L132)/43560,IF($R132=\"Agriculture\",'Pollutant Loading Rates'!C$14*($V132-$L132)/43560,IF($D132=\"RIDOT\",($V132-$L132)/43560*'Pollutant Loading Rates'!C$15,($V132-$L132)/43560*'Pollutant Loading Rates'!C$16))))","v":""},{"$f":"IF($A132=\"\",\"\",(VLOOKUP($R132,'Pollutant Loading Rates'!$A$5:$F$12,4,0)*$L132/43560)+IF($R132=\"Forest\",'Pollutant Loading Rates'!D$13*($V132-$L132)/43560,IF($R132=\"Agriculture\",'Pollutant Loading Rates'!D$14*($V132-$L132)/43560,IF($D132=\"RIDOT\",($V132-$L132)/43560*'Pollutant Loading Rates'!D$15,($V132-$L132)/43560*'Pollutant Loading Rates'!D$16))))","v":""},{"$f":"IF($A132=\"\",\"\",(VLOOKUP($R132,'Pollutant Loading Rates'!$A$5:$F$12,5,0)*$L132/43560)+IF($R132=\"Forest\",'Pollutant Loading Rates'!E$13*($V132-$L132)/43560,IF($R132=\"Agriculture\",'Pollutant Loading Rates'!E$14*($V132-$L132)/43560,IF($D132=\"RIDOT\",($V132-$L132)/43560*'Pollutant Loading Rates'!E$15,($V132-$L132)/43560*'Pollutant Loading Rates'!E$16))))","v":""},{"$f":"IF($A132=\"\",\"\",(VLOOKUP($R132,'Pollutant Loading Rates'!$A$5:$F$12,6,0)*$L132/43560)+IF($R132=\"Forest\",'Pollutant Loading Rates'!F$13*($V132-$L132)/43560,IF($R132=\"Agriculture\",'Pollutant Loading Rates'!F$14*($V132-$L132)/43560,IF($D132=\"RIDOT\",($V132-$L132)/43560*'Pollutant Loading Rates'!F$15,$V132-$L132)/43560*'Pollutant Loading Rates'!F$16)))","v":""}]
[null,null,null,null,null,null,null,null,null,null,null,null,null,null,null,null,null,null,null,null,null,null,null,{"$f":"IF($A133=\"\",\"\",(VLOOKUP($R133,'Pollutant Loading Rates'!$A$5:$F$12,3,0)*$L133/43560)+IF($R133=\"Forest\",'Pollutant Loading Rates'!C$13*($V133-$L133)/43560,IF($R133=\"Agriculture\",'Pollutant Loading Rates'!C$14*($V133-$L133)/43560,IF($D133=\"RIDOT\",($V133-$L133)/43560*'Pollutant Loading Rates'!C$15,($V133-$L133)/43560*'Pollutant Loading Rates'!C$16))))","v":""},{"$f":"IF($A133=\"\",\"\",(VLOOKUP($R133,'Pollutant Loading Rates'!$A$5:$F$12,4,0)*$L133/43560)+IF($R133=\"Forest\",'Pollutant Loading Rates'!D$13*($V133-$L133)/43560,IF($R133=\"Agriculture\",'Pollutant Loading Rates'!D$14*($V133-$L133)/43560,IF($D133=\"RIDOT\",($V133-$L133)/43560*'Pollutant Loading Rates'!D$15,($V133-$L133)/43560*'Pollutant Loading Rates'!D$16))))","v":""},{"$f":"IF($A133=\"\",\"\",(VLOOKUP($R133,'Pollutant Loading Rates'!$A$5:$F$12,5,0)*$L133/43560)+IF($R133=\"Forest\",'Pollutant Loading Rates'!E$13*($V133-$L133)/43560,IF($R133=\"Agriculture\",'Pollutant Loading Rates'!E$14*($V133-$L133)/43560,IF($D133=\"RIDOT\",($V133-$L133)/43560*'Pollutant Loading Rates'!E$15,($V133-$L133)/43560*'Pollutant Loading Rates'!E$16))))","v":""},{"$f":"IF($A133=\"\",\"\",(VLOOKUP($R133,'Pollutant Loading Rates'!$A$5:$F$12,6,0)*$L133/43560)+IF($R133=\"Forest\",'Pollutant Loading Rates'!F$13*($V133-$L133)/43560,IF($R133=\"Agriculture\",'Pollutant Loading Rates'!F$14*($V133-$L133)/43560,IF($D133=\"RIDOT\",($V133-$L133)/43560*'Pollutant Loading Rates'!F$15,$V133-$L133)/43560*'Pollutant Loading Rates'!F$16)))","v":""}]
[null,null,null,null,null,null,null,null,null,null,null,null,null,null,null,null,null,null,null,null,null,null,null,{"$f":"IF($A134=\"\",\"\",(VLOOKUP($R134,'Pollutant Loading Rates'!$A$5:$F$12,3,0)*$L134/43560)+IF($R134=\"Forest\",'Pollutant Loading Rates'!C$13*($V134-$L134)/43560,IF($R134=\"Agriculture\",'Pollutant Loading Rates'!C$14*($V134-$L134)/43560,IF($D134=\"RIDOT\",($V134-$L134)/43560*'Pollutant Loading Rates'!C$15,($V134-$L134)/43560*'Pollutant Loading Rates'!C$16))))","v":""},{"$f":"IF($A134=\"\",\"\",(VLOOKUP($R134,'Pollutant Loading Rates'!$A$5:$F$12,4,0)*$L134/43560)+IF($R134=\"Forest\",'Pollutant Loading Rates'!D$13*($V134-$L134)/43560,IF($R134=\"Agriculture\",'Pollutant Loading Rates'!D$14*($V134-$L134)/43560,IF($D134=\"RIDOT\",($V134-$L134)/43560*'Pollutant Loading Rates'!D$15,($V134-$L134)/43560*'Pollutant Loading Rates'!D$16))))","v":""},{"$f":"IF($A134=\"\",\"\",(VLOOKUP($R134,'Pollutant Loading Rates'!$A$5:$F$12,5,0)*$L134/43560)+IF($R134=\"Forest\",'Pollutant Loading Rates'!E$13*($V134-$L134)/43560,IF($R134=\"Agriculture\",'Pollutant Loading Rates'!E$14*($V134-$L134)/43560,IF($D134=\"RIDOT\",($V134-$L134)/43560*'Pollutant Loading Rates'!E$15,($V134-$L134)/43560*'Pollutant Loading Rates'!E$16))))","v":""},{"$f":"IF($A134=\"\",\"\",(VLOOKUP($R134,'Pollutant Loading Rates'!$A$5:$F$12,6,0)*$L134/43560)+IF($R134=\"Forest\",'Pollutant Loading Rates'!F$13*($V134-$L134)/43560,IF($R134=\"Agriculture\",'Pollutant Loading Rates'!F$14*($V134-$L134)/43560,IF($D134=\"RIDOT\",($V134-$L134)/43560*'Pollutant Loading Rates'!F$15,$V134-$L134)/43560*'Pollutant Loading Rates'!F$16)))","v":""}]
[null,null,null,null,null,null,null,null,null,null,null,null,null,null,null,null,null,null,null,null,null,null,null,{"$f":"IF($A135=\"\",\"\",(VLOOKUP($R135,'Pollutant Loading Rates'!$A$5:$F$12,3,0)*$L135/43560)+IF($R135=\"Forest\",'Pollutant Loading Rates'!C$13*($V135-$L135)/43560,IF($R135=\"Agriculture\",'Pollutant Loading Rates'!C$14*($V135-$L135)/43560,IF($D135=\"RIDOT\",($V135-$L135)/43560*'Pollutant Loading Rates'!C$15,($V135-$L135)/43560*'Pollutant Loading Rates'!C$16))))","v":""},{"$f":"IF($A135=\"\",\"\",(VLOOKUP($R135,'Pollutant Loading Rates'!$A$5:$F$12,4,0)*$L135/43560)+IF($R135=\"Forest\",'Pollutant Loading Rates'!D$13*($V135-$L135)/43560,IF($R135=\"Agriculture\",'Pollutant Loading Rates'!D$14*($V135-$L135)/43560,IF($D135=\"RIDOT\",($V135-$L135)/43560*'Pollutant Loading Rates'!D$15,($V135-$L135)/43560*'Pollutant Loading Rates'!D$16))))","v":""},{"$f":"IF($A135=\"\",\"\",(VLOOKUP($R135,'Pollutant Loading Rates'!$A$5:$F$12,5,0)*$L135/43560)+IF($R135=\"Forest\",'Pollutant Loading Rates'!E$13*($V135-$L135)/43560,IF($R135=\"Agriculture\",'Pollutant Loading Rates'!E$14*($V135-$L135)/43560,IF($D135=\"RIDOT\",($V135-$L135)/43560*'Pollutant Loading Rates'!E$15,($V135-$L135)/43560*'Pollutant Loading Rates'!E$16))))","v":""},{"$f":"IF($A135=\"\",\"\",(VLOOKUP($R135,'Pollutant Loading Rates'!$A$5:$F$12,6,0)*$L135/43560)+IF($R135=\"Forest\",'Pollutant Loading Rates'!F$13*($V135-$L135)/43560,IF($R135=\"Agriculture\",'Pollutant Loading Rates'!F$14*($V135-$L135)/43560,IF($D135=\"RIDOT\",($V135-$L135)/43560*'Pollutant Loading Rates'!F$15,$V135-$L135)/43560*'Pollutant Loading Rates'!F$16)))","v":""}]
[null,null,null,null,null,null,null,null,null,null,null,null,null,null,null,null,null,null,null,null,null,null,null,{"$f":"IF($A136=\"\",\"\",(VLOOKUP($R136,'Pollutant Loading Rates'!$A$5:$F$12,3,0)*$L136/43560)+IF($R136=\"Forest\",'Pollutant Loading Rates'!C$13*($V136-$L136)/43560,IF($R136=\"Agriculture\",'Pollutant Loading Rates'!C$14*($V136-$L136)/43560,IF($D136=\"RIDOT\",($V136-$L136)/43560*'Pollutant Loading Rates'!C$15,($V136-$L136)/43560*'Pollutant Loading Rates'!C$16))))","v":""},{"$f":"IF($A136=\"\",\"\",(VLOOKUP($R136,'Pollutant Loading Rates'!$A$5:$F$12,4,0)*$L136/43560)+IF($R136=\"Forest\",'Pollutant Loading Rates'!D$13*($V136-$L136)/43560,IF($R136=\"Agriculture\",'Pollutant Loading Rates'!D$14*($V136-$L136)/43560,IF($D136=\"RIDOT\",($V136-$L136)/43560*'Pollutant Loading Rates'!D$15,($V136-$L136)/43560*'Pollutant Loading Rates'!D$16))))","v":""},{"$f":"IF($A136=\"\",\"\",(VLOOKUP($R136,'Pollutant Loading Rates'!$A$5:$F$12,5,0)*$L136/43560)+IF($R136=\"Forest\",'Pollutant Loading Rates'!E$13*($V136-$L136)/43560,IF($R136=\"Agriculture\",'Pollutant Loading Rates'!E$14*($V136-$L136)/43560,IF($D136=\"RIDOT\",($V136-$L136)/43560*'Pollutant Loading Rates'!E$15,($V136-$L136)/43560*'Pollutant Loading Rates'!E$16))))","v":""},{"$f":"IF($A136=\"\",\"\",(VLOOKUP($R136,'Pollutant Loading Rates'!$A$5:$F$12,6,0)*$L136/43560)+IF($R136=\"Forest\",'Pollutant Loading Rates'!F$13*($V136-$L136)/43560,IF($R136=\"Agriculture\",'Pollutant Loading Rates'!F$14*($V136-$L136)/43560,IF($D136=\"RIDOT\",($V136-$L136)/43560*'Pollutant Loading Rates'!F$15,$V136-$L136)/43560*'Pollutant Loading Rates'!F$16)))","v":""}]
[null,null,null,null,null,null,null,null,null,null,null,null,null,null,null,null,null,null,null,null,null,null,null,{"$f":"IF($A137=\"\",\"\",(VLOOKUP($R137,'Pollutant Loading Rates'!$A$5:$F$12,3,0)*$L137/43560)+IF($R137=\"Forest\",'Pollutant Loading Rates'!C$13*($V137-$L137)/43560,IF($R137=\"Agriculture\",'Pollutant Loading Rates'!C$14*($V137-$L137)/43560,IF($D137=\"RIDOT\",($V137-$L137)/43560*'Pollutant Loading Rates'!C$15,($V137-$L137)/43560*'Pollutant Loading Rates'!C$16))))","v":""},{"$f":"IF($A137=\"\",\"\",(VLOOKUP($R137,'Pollutant Loading Rates'!$A$5:$F$12,4,0)*$L137/43560)+IF($R137=\"Forest\",'Pollutant Loading Rates'!D$13*($V137-$L137)/43560,IF($R137=\"Agriculture\",'Pollutant Loading Rates'!D$14*($V137-$L137)/43560,IF($D137=\"RIDOT\",($V137-$L137)/43560*'Pollutant Loading Rates'!D$15,($V137-$L137)/43560*'Pollutant Loading Rates'!D$16))))","v":""},{"$f":"IF($A137=\"\",\"\",(VLOOKUP($R137,'Pollutant Loading Rates'!$A$5:$F$12,5,0)*$L137/43560)+IF($R137=\"Forest\",'Pollutant Loading Rates'!E$13*($V137-$L137)/43560,IF($R137=\"Agriculture\",'Pollutant Loading Rates'!E$14*($V137-$L137)/43560,IF($D137=\"RIDOT\",($V137-$L137)/43560*'Pollutant Loading Rates'!E$15,($V137-$L137)/43560*'Pollutant Loading Rates'!E$16))))","v":""},{"$f":"IF($A137=\"\",\"\",(VLOOKUP($R137,'Pollutant Loading Rates'!$A$5:$F$12,6,0)*$L137/43560)+IF($R137=\"Forest\",'Pollutant Loading Rates'!F$13*($V137-$L137)/43560,IF($R137=\"Agriculture\",'Pollutant Loading Rates'!F$14*($V137-$L137)/43560,IF($D137=\"RIDOT\",($V137-$L137)/43560*'Pollutant Loading Rates'!F$15,$V137-$L137)/43560*'Pollutant Loading Rates'!F$16)))","v":""}]
[null,null,null,null,null,null,null,null,null,null,null,null,null,null,null,null,null,null,null,null,null,null,null,{"$f":"IF($A138=\"\",\"\",(VLOOKUP($R138,'Pollutant Loading Rates'!$A$5:$F$12,3,0)*$L138/43560)+IF($R138=\"Forest\",'Pollutant Loading Rates'!C$13*($V138-$L138)/43560,IF($R138=\"Agriculture\",'Pollutant Loading Rates'!C$14*($V138-$L138)/43560,IF($D138=\"RIDOT\",($V138-$L138)/43560*'Pollutant Loading Rates'!C$15,($V138-$L138)/43560*'Pollutant Loading Rates'!C$16))))","v":""},{"$f":"IF($A138=\"\",\"\",(VLOOKUP($R138,'Pollutant Loading Rates'!$A$5:$F$12,4,0)*$L138/43560)+IF($R138=\"Forest\",'Pollutant Loading Rates'!D$13*($V138-$L138)/43560,IF($R138=\"Agriculture\",'Pollutant Loading Rates'!D$14*($V138-$L138)/43560,IF($D138=\"RIDOT\",($V138-$L138)/43560*'Pollutant Loading Rates'!D$15,($V138-$L138)/43560*'Pollutant Loading Rates'!D$16))))","v":""},{"$f":"IF($A138=\"\",\"\",(VLOOKUP($R138,'Pollutant Loading Rates'!$A$5:$F$12,5,0)*$L138/43560)+IF($R138=\"Forest\",'Pollutant Loading Rates'!E$13*($V138-$L138)/43560,IF($R138=\"Agriculture\",'Pollutant Loading Rates'!E$14*($V138-$L138)/43560,IF($D138=\"RIDOT\",($V138-$L138)/43560*'Pollutant Loading Rates'!E$15,($V138-$L138)/43560*'Pollutant Loading Rates'!E$16))))","v":""},{"$f":"IF($A138=\"\",\"\",(VLOOKUP($R138,'Pollutant Loading Rates'!$A$5:$F$12,6,0)*$L138/43560)+IF($R138=\"Forest\",'Pollutant Loading Rates'!F$13*($V138-$L138)/43560,IF($R138=\"Agriculture\",'Pollutant Loading Rates'!F$14*($V138-$L138)/43560,IF($D138=\"RIDOT\",($V138-$L138)/43560*'Pollutant Loading Rates'!F$15,$V138-$L138)/43560*'Pollutant Loading Rates'!F$16)))","v":""}]
[null,null,null,null,null,null,null,null,null,null,null,null,null,null,null,null,null,null,null,null,null,null,null,{"$f":"IF($A139=\"\",\"\",(VLOOKUP($R139,'Pollutant Loading Rates'!$A$5:$F$12,3,0)*$L139/43560)+IF($R139=\"Forest\",'Pollutant Loading Rates'!C$13*($V139-$L139)/43560,IF($R139=\"Agriculture\",'Pollutant Loading Rates'!C$14*($V139-$L139)/43560,IF($D139=\"RIDOT\",($V139-$L139)/43560*'Pollutant Loading Rates'!C$15,($V139-$L139)/43560*'Pollutant Loading Rates'!C$16))))","v":""},{"$f":"IF($A139=\"\",\"\",(VLOOKUP($R139,'Pollutant Loading Rates'!$A$5:$F$12,4,0)*$L139/43560)+IF($R139=\"Forest\",'Pollutant Loading Rates'!D$13*($V139-$L139)/43560,IF($R139=\"Agriculture\",'Pollutant Loading Rates'!D$14*($V139-$L139)/43560,IF($D139=\"RIDOT\",($V139-$L139)/43560*'Pollutant Loading Rates'!D$15,($V139-$L139)/43560*'Pollutant Loading Rates'!D$16))))","v":""},{"$f":"IF($A139=\"\",\"\",(VLOOKUP($R139,'Pollutant Loading Rates'!$A$5:$F$12,5,0)*$L139/43560)+IF($R139=\"Forest\",'Pollutant Loading Rates'!E$13*($V139-$L139)/43560,IF($R139=\"Agriculture\",'Pollutant Loading Rates'!E$14*($V139-$L139)/43560,IF($D139=\"RIDOT\",($V139-$L139)/43560*'Pollutant Loading Rates'!E$15,($V139-$L139)/43560*'Pollutant Loading Rates'!E$16))))","v":""},{"$f":"IF($A139=\"\",\"\",(VLOOKUP($R139,'Pollutant Loading Rates'!$A$5:$F$12,6,0)*$L139/43560)+IF($R139=\"Forest\",'Pollutant Loading Rates'!F$13*($V139-$L139)/43560,IF($R139=\"Agriculture\",'Pollutant Loading Rates'!F$14*($V139-$L139)/43560,IF($D139=\"RIDOT\",($V139-$L139)/43560*'Pollutant Loading Rates'!F$15,$V139-$L139)/43560*'Pollutant Loading Rates'!F$16)))","v":""}]
[null,null,null,null,null,null,null,null,null,null,null,null,null,null,null,null,null,null,null,null,null,null,null,{"$f":"IF($A140=\"\",\"\",(VLOOKUP($R140,'Pollutant Loading Rates'!$A$5:$F$12,3,0)*$L140/43560)+IF($R140=\"Forest\",'Pollutant Loading Rates'!C$13*($V140-$L140)/43560,IF($R140=\"Agriculture\",'Pollutant Loading Rates'!C$14*($V140-$L140)/43560,IF($D140=\"RIDOT\",($V140-$L140)/43560*'Pollutant Loading Rates'!C$15,($V140-$L140)/43560*'Pollutant Loading Rates'!C$16))))","v":""},{"$f":"IF($A140=\"\",\"\",(VLOOKUP($R140,'Pollutant Loading Rates'!$A$5:$F$12,4,0)*$L140/43560)+IF($R140=\"Forest\",'Pollutant Loading Rates'!D$13*($V140-$L140)/43560,IF($R140=\"Agriculture\",'Pollutant Loading Rates'!D$14*($V140-$L140)/43560,IF($D140=\"RIDOT\",($V140-$L140)/43560*'Pollutant Loading Rates'!D$15,($V140-$L140)/43560*'Pollutant Loading Rates'!D$16))))","v":""},{"$f":"IF($A140=\"\",\"\",(VLOOKUP($R140,'Pollutant Loading Rates'!$A$5:$F$12,5,0)*$L140/43560)+IF($R140=\"Forest\",'Pollutant Loading Rates'!E$13*($V140-$L140)/43560,IF($R140=\"Agriculture\",'Pollutant Loading Rates'!E$14*($V140-$L140)/43560,IF($D140=\"RIDOT\",($V140-$L140)/43560*'Pollutant Loading Rates'!E$15,($V140-$L140)/43560*'Pollutant Loading Rates'!E$16))))","v":""},{"$f":"IF($A140=\"\",\"\",(VLOOKUP($R140,'Pollutant Loading Rates'!$A$5:$F$12,6,0)*$L140/43560)+IF($R140=\"Forest\",'Pollutant Loading Rates'!F$13*($V140-$L140)/43560,IF($R140=\"Agriculture\",'Pollutant Loading Rates'!F$14*($V140-$L140)/43560,IF($D140=\"RIDOT\",($V140-$L140)/43560*'Pollutant Loading Rates'!F$15,$V140-$L140)/43560*'Pollutant Loading Rates'!F$16)))","v":""}]
[null,null,null,null,null,null,null,null,null,null,null,null,null,null,null,null,null,null,null,null,null,null,null,{"$f":"IF($A141=\"\",\"\",(VLOOKUP($R141,'Pollutant Loading Rates'!$A$5:$F$12,3,0)*$L141/43560)+IF($R141=\"Forest\",'Pollutant Loading Rates'!C$13*($V141-$L141)/43560,IF($R141=\"Agriculture\",'Pollutant Loading Rates'!C$14*($V141-$L141)/43560,IF($D141=\"RIDOT\",($V141-$L141)/43560*'Pollutant Loading Rates'!C$15,($V141-$L141)/43560*'Pollutant Loading Rates'!C$16))))","v":""},{"$f":"IF($A141=\"\",\"\",(VLOOKUP($R141,'Pollutant Loading Rates'!$A$5:$F$12,4,0)*$L141/43560)+IF($R141=\"Forest\",'Pollutant Loading Rates'!D$13*($V141-$L141)/43560,IF($R141=\"Agriculture\",'Pollutant Loading Rates'!D$14*($V141-$L141)/43560,IF($D141=\"RIDOT\",($V141-$L141)/43560*'Pollutant Loading Rates'!D$15,($V141-$L141)/43560*'Pollutant Loading Rates'!D$16))))","v":""},{"$f":"IF($A141=\"\",\"\",(VLOOKUP($R141,'Pollutant Loading Rates'!$A$5:$F$12,5,0)*$L141/43560)+IF($R141=\"Forest\",'Pollutant Loading Rates'!E$13*($V141-$L141)/43560,IF($R141=\"Agriculture\",'Pollutant Loading Rates'!E$14*($V141-$L141)/43560,IF($D141=\"RIDOT\",($V141-$L141)/43560*'Pollutant Loading Rates'!E$15,($V141-$L141)/43560*'Pollutant Loading Rates'!E$16))))","v":""},{"$f":"IF($A141=\"\",\"\",(VLOOKUP($R141,'Pollutant Loading Rates'!$A$5:$F$12,6,0)*$L141/43560)+IF($R141=\"Forest\",'Pollutant Loading Rates'!F$13*($V141-$L141)/43560,IF($R141=\"Agriculture\",'Pollutant Loading Rates'!F$14*($V141-$L141)/43560,IF($D141=\"RIDOT\",($V141-$L141)/43560*'Pollutant Loading Rates'!F$15,$V141-$L141)/43560*'Pollutant Loading Rates'!F$16)))","v":""}]
[null,null,null,null,null,null,null,null,null,null,null,null,null,null,null,null,null,null,null,null,null,null,null,{"$f":"IF($A142=\"\",\"\",(VLOOKUP($R142,'Pollutant Loading Rates'!$A$5:$F$12,3,0)*$L142/43560)+IF($R142=\"Forest\",'Pollutant Loading Rates'!C$13*($V142-$L142)/43560,IF($R142=\"Agriculture\",'Pollutant Loading Rates'!C$14*($V142-$L142)/43560,IF($D142=\"RIDOT\",($V142-$L142)/43560*'Pollutant Loading Rates'!C$15,($V142-$L142)/43560*'Pollutant Loading Rates'!C$16))))","v":""},{"$f":"IF($A142=\"\",\"\",(VLOOKUP($R142,'Pollutant Loading Rates'!$A$5:$F$12,4,0)*$L142/43560)+IF($R142=\"Forest\",'Pollutant Loading Rates'!D$13*($V142-$L142)/43560,IF($R142=\"Agriculture\",'Pollutant Loading Rates'!D$14*($V142-$L142)/43560,IF($D142=\"RIDOT\",($V142-$L142)/43560*'Pollutant Loading Rates'!D$15,($V142-$L142)/43560*'Pollutant Loading Rates'!D$16))))","v":""},{"$f":"IF($A142=\"\",\"\",(VLOOKUP($R142,'Pollutant Loading Rates'!$A$5:$F$12,5,0)*$L142/43560)+IF($R142=\"Forest\",'Pollutant Loading Rates'!E$13*($V142-$L142)/43560,IF($R142=\"Agriculture\",'Pollutant Loading Rates'!E$14*($V142-$L142)/43560,IF($D142=\"RIDOT\",($V142-$L142)/43560*'Pollutant Loading Rates'!E$15,($V142-$L142)/43560*'Pollutant Loading Rates'!E$16))))","v":""},{"$f":"IF($A142=\"\",\"\",(VLOOKUP($R142,'Pollutant Loading Rates'!$A$5:$F$12,6,0)*$L142/43560)+IF($R142=\"Forest\",'Pollutant Loading Rates'!F$13*($V142-$L142)/43560,IF($R142=\"Agriculture\",'Pollutant Loading Rates'!F$14*($V142-$L142)/43560,IF($D142=\"RIDOT\",($V142-$L142)/43560*'Pollutant Loading Rates'!F$15,$V142-$L142)/43560*'Pollutant Loading Rates'!F$16)))","v":""}]
[null,null,null,null,null,null,null,null,null,null,null,null,null,null,null,null,null,null,null,null,null,null,null,{"$f":"IF($A143=\"\",\"\",(VLOOKUP($R143,'Pollutant Loading Rates'!$A$5:$F$12,3,0)*$L143/43560)+IF($R143=\"Forest\",'Pollutant Loading Rates'!C$13*($V143-$L143)/43560,IF($R143=\"Agriculture\",'Pollutant Loading Rates'!C$14*($V143-$L143)/43560,IF($D143=\"RIDOT\",($V143-$L143)/43560*'Pollutant Loading Rates'!C$15,($V143-$L143)/43560*'Pollutant Loading Rates'!C$16))))","v":""},{"$f":"IF($A143=\"\",\"\",(VLOOKUP($R143,'Pollutant Loading Rates'!$A$5:$F$12,4,0)*$L143/43560)+IF($R143=\"Forest\",'Pollutant Loading Rates'!D$13*($V143-$L143)/43560,IF($R143=\"Agriculture\",'Pollutant Loading Rates'!D$14*($V143-$L143)/43560,IF($D143=\"RIDOT\",($V143-$L143)/43560*'Pollutant Loading Rates'!D$15,($V143-$L143)/43560*'Pollutant Loading Rates'!D$16))))","v":""},{"$f":"IF($A143=\"\",\"\",(VLOOKUP($R143,'Pollutant Loading Rates'!$A$5:$F$12,5,0)*$L143/43560)+IF($R143=\"Forest\",'Pollutant Loading Rates'!E$13*($V143-$L143)/43560,IF($R143=\"Agriculture\",'Pollutant Loading Rates'!E$14*($V143-$L143)/43560,IF($D143=\"RIDOT\",($V143-$L143)/43560*'Pollutant Loading Rates'!E$15,($V143-$L143)/43560*'Pollutant Loading Rates'!E$16))))","v":""},{"$f":"IF($A143=\"\",\"\",(VLOOKUP($R143,'Pollutant Loading Rates'!$A$5:$F$12,6,0)*$L143/43560)+IF($R143=\"Forest\",'Pollutant Loading Rates'!F$13*($V143-$L143)/43560,IF($R143=\"Agriculture\",'Pollutant Loading Rates'!F$14*($V143-$L143)/43560,IF($D143=\"RIDOT\",($V143-$L143)/43560*'Pollutant Loading Rates'!F$15,$V143-$L143)/43560*'Pollutant Loading Rates'!F$16)))","v":""}]
[null,null,null,null,null,null,null,null,null,null,null,null,null,null,null,null,null,null,null,null,null,null,null,{"$f":"IF($A144=\"\",\"\",(VLOOKUP($R144,'Pollutant Loading Rates'!$A$5:$F$12,3,0)*$L144/43560)+IF($R144=\"Forest\",'Pollutant Loading Rates'!C$13*($V144-$L144)/43560,IF($R144=\"Agriculture\",'Pollutant Loading Rates'!C$14*($V144-$L144)/43560,IF($D144=\"RIDOT\",($V144-$L144)/43560*'Pollutant Loading Rates'!C$15,($V144-$L144)/43560*'Pollutant Loading Rates'!C$16))))","v":""},{"$f":"IF($A144=\"\",\"\",(VLOOKUP($R144,'Pollutant Loading Rates'!$A$5:$F$12,4,0)*$L144/43560)+IF($R144=\"Forest\",'Pollutant Loading Rates'!D$13*($V144-$L144)/43560,IF($R144=\"Agriculture\",'Pollutant Loading Rates'!D$14*($V144-$L144)/43560,IF($D144=\"RIDOT\",($V144-$L144)/43560*'Pollutant Loading Rates'!D$15,($V144-$L144)/43560*'Pollutant Loading Rates'!D$16))))","v":""},{"$f":"IF($A144=\"\",\"\",(VLOOKUP($R144,'Pollutant Loading Rates'!$A$5:$F$12,5,0)*$L144/43560)+IF($R144=\"Forest\",'Pollutant Loading Rates'!E$13*($V144-$L144)/43560,IF($R144=\"Agriculture\",'Pollutant Loading Rates'!E$14*($V144-$L144)/43560,IF($D144=\"RIDOT\",($V144-$L144)/43560*'Pollutant Loading Rates'!E$15,($V144-$L144)/43560*'Pollutant Loading Rates'!E$16))))","v":""},{"$f":"IF($A144=\"\",\"\",(VLOOKUP($R144,'Pollutant Loading Rates'!$A$5:$F$12,6,0)*$L144/43560)+IF($R144=\"Forest\",'Pollutant Loading Rates'!F$13*($V144-$L144)/43560,IF($R144=\"Agriculture\",'Pollutant Loading Rates'!F$14*($V144-$L144)/43560,IF($D144=\"RIDOT\",($V144-$L144)/43560*'Pollutant Loading Rates'!F$15,$V144-$L144)/43560*'Pollutant Loading Rates'!F$16)))","v":""}]
[null,null,null,null,null,null,null,null,null,null,null,null,null,null,null,null,null,null,null,null,null,null,null,{"$f":"IF($A145=\"\",\"\",(VLOOKUP($R145,'Pollutant Loading Rates'!$A$5:$F$12,3,0)*$L145/43560)+IF($R145=\"Forest\",'Pollutant Loading Rates'!C$13*($V145-$L145)/43560,IF($R145=\"Agriculture\",'Pollutant Loading Rates'!C$14*($V145-$L145)/43560,IF($D145=\"RIDOT\",($V145-$L145)/43560*'Pollutant Loading Rates'!C$15,($V145-$L145)/43560*'Pollutant Loading Rates'!C$16))))","v":""},{"$f":"IF($A145=\"\",\"\",(VLOOKUP($R145,'Pollutant Loading Rates'!$A$5:$F$12,4,0)*$L145/43560)+IF($R145=\"Forest\",'Pollutant Loading Rates'!D$13*($V145-$L145)/43560,IF($R145=\"Agriculture\",'Pollutant Loading Rates'!D$14*($V145-$L145)/43560,IF($D145=\"RIDOT\",($V145-$L145)/43560*'Pollutant Loading Rates'!D$15,($V145-$L145)/43560*'Pollutant Loading Rates'!D$16))))","v":""},{"$f":"IF($A145=\"\",\"\",(VLOOKUP($R145,'Pollutant Loading Rates'!$A$5:$F$12,5,0)*$L145/43560)+IF($R145=\"Forest\",'Pollutant Loading Rates'!E$13*($V145-$L145)/43560,IF($R145=\"Agriculture\",'Pollutant Loading Rates'!E$14*($V145-$L145)/43560,IF($D145=\"RIDOT\",($V145-$L145)/43560*'Pollutant Loading Rates'!E$15,($V145-$L145)/43560*'Pollutant Loading Rates'!E$16))))","v":""},{"$f":"IF($A145=\"\",\"\",(VLOOKUP($R145,'Pollutant Loading Rates'!$A$5:$F$12,6,0)*$L145/43560)+IF($R145=\"Forest\",'Pollutant Loading Rates'!F$13*($V145-$L145)/43560,IF($R145=\"Agriculture\",'Pollutant Loading Rates'!F$14*($V145-$L145)/43560,IF($D145=\"RIDOT\",($V145-$L145)/43560*'Pollutant Loading Rates'!F$15,$V145-$L145)/43560*'Pollutant Loading Rates'!F$16)))","v":""}]
[null,null,null,null,null,null,null,null,null,null,null,null,null,null,null,null,null,null,null,null,null,null,null,{"$f":"IF($A146=\"\",\"\",(VLOOKUP($R146,'Pollutant Loading Rates'!$A$5:$F$12,3,0)*$L146/43560)+IF($R146=\"Forest\",'Pollutant Loading Rates'!C$13*($V146-$L146)/43560,IF($R146=\"Agriculture\",'Pollutant Loading Rates'!C$14*($V146-$L146)/43560,IF($D146=\"RIDOT\",($V146-$L146)/43560*'Pollutant Loading Rates'!C$15,($V146-$L146)/43560*'Pollutant Loading Rates'!C$16))))","v":""},{"$f":"IF($A146=\"\",\"\",(VLOOKUP($R146,'Pollutant Loading Rates'!$A$5:$F$12,4,0)*$L146/43560)+IF($R146=\"Forest\",'Pollutant Loading Rates'!D$13*($V146-$L146)/43560,IF($R146=\"Agriculture\",'Pollutant Loading Rates'!D$14*($V146-$L146)/43560,IF($D146=\"RIDOT\",($V146-$L146)/43560*'Pollutant Loading Rates'!D$15,($V146-$L146)/43560*'Pollutant Loading Rates'!D$16))))","v":""},{"$f":"IF($A146=\"\",\"\",(VLOOKUP($R146,'Pollutant Loading Rates'!$A$5:$F$12,5,0)*$L146/43560)+IF($R146=\"Forest\",'Pollutant Loading Rates'!E$13*($V146-$L146)/43560,IF($R146=\"Agriculture\",'Pollutant Loading Rates'!E$14*($V146-$L146)/43560,IF($D146=\"RIDOT\",($V146-$L146)/43560*'Pollutant Loading Rates'!E$15,($V146-$L146)/43560*'Pollutant Loading Rates'!E$16))))","v":""},{"$f":"IF($A146=\"\",\"\",(VLOOKUP($R146,'Pollutant Loading Rates'!$A$5:$F$12,6,0)*$L146/43560)+IF($R146=\"Forest\",'Pollutant Loading Rates'!F$13*($V146-$L146)/43560,IF($R146=\"Agriculture\",'Pollutant Loading Rates'!F$14*($V146-$L146)/43560,IF($D146=\"RIDOT\",($V146-$L146)/43560*'Pollutant Loading Rates'!F$15,$V146-$L146)/43560*'Pollutant Loading Rates'!F$16)))","v":""}]
[null,null,null,null,null,null,null,null,null,null,null,null,null,null,null,null,null,null,null,null,null,null,null,{"$f":"IF($A147=\"\",\"\",(VLOOKUP($R147,'Pollutant Loading Rates'!$A$5:$F$12,3,0)*$L147/43560)+IF($R147=\"Forest\",'Pollutant Loading Rates'!C$13*($V147-$L147)/43560,IF($R147=\"Agriculture\",'Pollutant Loading Rates'!C$14*($V147-$L147)/43560,IF($D147=\"RIDOT\",($V147-$L147)/43560*'Pollutant Loading Rates'!C$15,($V147-$L147)/43560*'Pollutant Loading Rates'!C$16))))","v":""},{"$f":"IF($A147=\"\",\"\",(VLOOKUP($R147,'Pollutant Loading Rates'!$A$5:$F$12,4,0)*$L147/43560)+IF($R147=\"Forest\",'Pollutant Loading Rates'!D$13*($V147-$L147)/43560,IF($R147=\"Agriculture\",'Pollutant Loading Rates'!D$14*($V147-$L147)/43560,IF($D147=\"RIDOT\",($V147-$L147)/43560*'Pollutant Loading Rates'!D$15,($V147-$L147)/43560*'Pollutant Loading Rates'!D$16))))","v":""},{"$f":"IF($A147=\"\",\"\",(VLOOKUP($R147,'Pollutant Loading Rates'!$A$5:$F$12,5,0)*$L147/43560)+IF($R147=\"Forest\",'Pollutant Loading Rates'!E$13*($V147-$L147)/43560,IF($R147=\"Agriculture\",'Pollutant Loading Rates'!E$14*($V147-$L147)/43560,IF($D147=\"RIDOT\",($V147-$L147)/43560*'Pollutant Loading Rates'!E$15,($V147-$L147)/43560*'Pollutant Loading Rates'!E$16))))","v":""},{"$f":"IF($A147=\"\",\"\",(VLOOKUP($R147,'Pollutant Loading Rates'!$A$5:$F$12,6,0)*$L147/43560)+IF($R147=\"Forest\",'Pollutant Loading Rates'!F$13*($V147-$L147)/43560,IF($R147=\"Agriculture\",'Pollutant Loading Rates'!F$14*($V147-$L147)/43560,IF($D147=\"RIDOT\",($V147-$L147)/43560*'Pollutant Loading Rates'!F$15,$V147-$L147)/43560*'Pollutant Loading Rates'!F$16)))","v":""}]
[null,null,null,null,null,null,null,null,null,null,null,null,null,null,null,null,null,null,null,null,null,null,null,{"$f":"IF($A148=\"\",\"\",(VLOOKUP($R148,'Pollutant Loading Rates'!$A$5:$F$12,3,0)*$L148/43560)+IF($R148=\"Forest\",'Pollutant Loading Rates'!C$13*($V148-$L148)/43560,IF($R148=\"Agriculture\",'Pollutant Loading Rates'!C$14*($V148-$L148)/43560,IF($D148=\"RIDOT\",($V148-$L148)/43560*'Pollutant Loading Rates'!C$15,($V148-$L148)/43560*'Pollutant Loading Rates'!C$16))))","v":""},{"$f":"IF($A148=\"\",\"\",(VLOOKUP($R148,'Pollutant Loading Rates'!$A$5:$F$12,4,0)*$L148/43560)+IF($R148=\"Forest\",'Pollutant Loading Rates'!D$13*($V148-$L148)/43560,IF($R148=\"Agriculture\",'Pollutant Loading Rates'!D$14*($V148-$L148)/43560,IF($D148=\"RIDOT\",($V148-$L148)/43560*'Pollutant Loading Rates'!D$15,($V148-$L148)/43560*'Pollutant Loading Rates'!D$16))))","v":""},{"$f":"IF($A148=\"\",\"\",(VLOOKUP($R148,'Pollutant Loading Rates'!$A$5:$F$12,5,0)*$L148/43560)+IF($R148=\"Forest\",'Pollutant Loading Rates'!E$13*($V148-$L148)/43560,IF($R148=\"Agriculture\",'Pollutant Loading Rates'!E$14*($V148-$L148)/43560,IF($D148=\"RIDOT\",($V148-$L148)/43560*'Pollutant Loading Rates'!E$15,($V148-$L148)/43560*'Pollutant Loading Rates'!E$16))))","v":""},{"$f":"IF($A148=\"\",\"\",(VLOOKUP($R148,'Pollutant Loading Rates'!$A$5:$F$12,6,0)*$L148/43560)+IF($R148=\"Forest\",'Pollutant Loading Rates'!F$13*($V148-$L148)/43560,IF($R148=\"Agriculture\",'Pollutant Loading Rates'!F$14*($V148-$L148)/43560,IF($D148=\"RIDOT\",($V148-$L148)/43560*'Pollutant Loading Rates'!F$15,$V148-$L148)/43560*'Pollutant Loading Rates'!F$16)))","v":""}]
[null,null,null,null,null,null,null,null,null,null,null,null,null,null,null,null,null,null,null,null,null,null,null,{"$f":"IF($A149=\"\",\"\",(VLOOKUP($R149,'Pollutant Loading Rates'!$A$5:$F$12,3,0)*$L149/43560)+IF($R149=\"Forest\",'Pollutant Loading Rates'!C$13*($V149-$L149)/43560,IF($R149=\"Agriculture\",'Pollutant Loading Rates'!C$14*($V149-$L149)/43560,IF($D149=\"RIDOT\",($V149-$L149)/43560*'Pollutant Loading Rates'!C$15,($V149-$L149)/43560*'Pollutant Loading Rates'!C$16))))","v":""},{"$f":"IF($A149=\"\",\"\",(VLOOKUP($R149,'Pollutant Loading Rates'!$A$5:$F$12,4,0)*$L149/43560)+IF($R149=\"Forest\",'Pollutant Loading Rates'!D$13*($V149-$L149)/43560,IF($R149=\"Agriculture\",'Pollutant Loading Rates'!D$14*($V149-$L149)/43560,IF($D149=\"RIDOT\",($V149-$L149)/43560*'Pollutant Loading Rates'!D$15,($V149-$L149)/43560*'Pollutant Loading Rates'!D$16))))","v":""},{"$f":"IF($A149=\"\",\"\",(VLOOKUP($R149,'Pollutant Loading Rates'!$A$5:$F$12,5,0)*$L149/43560)+IF($R149=\"Forest\",'Pollutant Loading Rates'!E$13*($V149-$L149)/43560,IF($R149=\"Agriculture\",'Pollutant Loading Rates'!E$14*($V149-$L149)/43560,IF($D149=\"RIDOT\",($V149-$L149)/43560*'Pollutant Loading Rates'!E$15,($V149-$L149)/43560*'Pollutant Loading Rates'!E$16))))","v":""},{"$f":"IF($A149=\"\",\"\",(VLOOKUP($R149,'Pollutant Loading Rates'!$A$5:$F$12,6,0)*$L149/43560)+IF($R149=\"Forest\",'Pollutant Loading Rates'!F$13*($V149-$L149)/43560,IF($R149=\"Agriculture\",'Pollutant Loading Rates'!F$14*($V149-$L149)/43560,IF($D149=\"RIDOT\",($V149-$L149)/43560*'Pollutant Loading Rates'!F$15,$V149-$L149)/43560*'Pollutant Loading Rates'!F$16)))","v":""}]
[null,null,null,null,null,null,null,null,null,null,null,null,null,null,null,null,null,null,null,null,null,null,null,{"$f":"IF($A150=\"\",\"\",(VLOOKUP($R150,'Pollutant Loading Rates'!$A$5:$F$12,3,0)*$L150/43560)+IF($R150=\"Forest\",'Pollutant Loading Rates'!C$13*($V150-$L150)/43560,IF($R150=\"Agriculture\",'Pollutant Loading Rates'!C$14*($V150-$L150)/43560,IF($D150=\"RIDOT\",($V150-$L150)/43560*'Pollutant Loading Rates'!C$15,($V150-$L150)/43560*'Pollutant Loading Rates'!C$16))))","v":""},{"$f":"IF($A150=\"\",\"\",(VLOOKUP($R150,'Pollutant Loading Rates'!$A$5:$F$12,4,0)*$L150/43560)+IF($R150=\"Forest\",'Pollutant Loading Rates'!D$13*($V150-$L150)/43560,IF($R150=\"Agriculture\",'Pollutant Loading Rates'!D$14*($V150-$L150)/43560,IF($D150=\"RIDOT\",($V150-$L150)/43560*'Pollutant Loading Rates'!D$15,($V150-$L150)/43560*'Pollutant Loading Rates'!D$16))))","v":""},{"$f":"IF($A150=\"\",\"\",(VLOOKUP($R150,'Pollutant Loading Rates'!$A$5:$F$12,5,0)*$L150/43560)+IF($R150=\"Forest\",'Pollutant Loading Rates'!E$13*($V150-$L150)/43560,IF($R150=\"Agriculture\",'Pollutant Loading Rates'!E$14*($V150-$L150)/43560,IF($D150=\"RIDOT\",($V150-$L150)/43560*'Pollutant Loading Rates'!E$15,($V150-$L150)/43560*'Pollutant Loading Rates'!E$16))))","v":""},{"$f":"IF($A150=\"\",\"\",(VLOOKUP($R150,'Pollutant Loading Rates'!$A$5:$F$12,6,0)*$L150/43560)+IF($R150=\"Forest\",'Pollutant Loading Rates'!F$13*($V150-$L150)/43560,IF($R150=\"Agriculture\",'Pollutant Loading Rates'!F$14*($V150-$L150)/43560,IF($D150=\"RIDOT\",($V150-$L150)/43560*'Pollutant Loading Rates'!F$15,$V150-$L150)/43560*'Pollutant Loading Rates'!F$16)))","v":""}]
[null,null,null,null,null,null,null,null,null,null,null,null,null,null,null,null,null,null,null,null,null,null,null,{"$f":"IF($A151=\"\",\"\",(VLOOKUP($R151,'Pollutant Loading Rates'!$A$5:$F$12,3,0)*$L151/43560)+IF($R151=\"Forest\",'Pollutant Loading Rates'!C$13*($V151-$L151)/43560,IF($R151=\"Agriculture\",'Pollutant Loading Rates'!C$14*($V151-$L151)/43560,IF($D151=\"RIDOT\",($V151-$L151)/43560*'Pollutant Loading Rates'!C$15,($V151-$L151)/43560*'Pollutant Loading Rates'!C$16))))","v":""},{"$f":"IF($A151=\"\",\"\",(VLOOKUP($R151,'Pollutant Loading Rates'!$A$5:$F$12,4,0)*$L151/43560)+IF($R151=\"Forest\",'Pollutant Loading Rates'!D$13*($V151-$L151)/43560,IF($R151=\"Agriculture\",'Pollutant Loading Rates'!D$14*($V151-$L151)/43560,IF($D151=\"RIDOT\",($V151-$L151)/43560*'Pollutant Loading Rates'!D$15,($V151-$L151)/43560*'Pollutant Loading Rates'!D$16))))","v":""},{"$f":"IF($A151=\"\",\"\",(VLOOKUP($R151,'Pollutant Loading Rates'!$A$5:$F$12,5,0)*$L151/43560)+IF($R151=\"Forest\",'Pollutant Loading Rates'!E$13*($V151-$L151)/43560,IF($R151=\"Agriculture\",'Pollutant Loading Rates'!E$14*($V151-$L151)/43560,IF($D151=\"RIDOT\",($V151-$L151)/43560*'Pollutant Loading Rates'!E$15,($V151-$L151)/43560*'Pollutant Loading Rates'!E$16))))","v":""},{"$f":"IF($A151=\"\",\"\",(VLOOKUP($R151,'Pollutant Loading Rates'!$A$5:$F$12,6,0)*$L151/43560)+IF($R151=\"Forest\",'Pollutant Loading Rates'!F$13*($V151-$L151)/43560,IF($R151=\"Agriculture\",'Pollutant Loading Rates'!F$14*($V151-$L151)/43560,IF($D151=\"RIDOT\",($V151-$L151)/43560*'Pollutant Loading Rates'!F$15,$V151-$L151)/43560*'Pollutant Loading Rates'!F$16)))","v":""}]
[null,null,null,null,null,null,null,null,null,null,null,null,null,null,null,null,null,null,null,null,null,null,null,{"$f":"IF($A152=\"\",\"\",(VLOOKUP($R152,'Pollutant Loading Rates'!$A$5:$F$12,3,0)*$L152/43560)+IF($R152=\"Forest\",'Pollutant Loading Rates'!C$13*($V152-$L152)/43560,IF($R152=\"Agriculture\",'Pollutant Loading Rates'!C$14*($V152-$L152)/43560,IF($D152=\"RIDOT\",($V152-$L152)/43560*'Pollutant Loading Rates'!C$15,($V152-$L152)/43560*'Pollutant Loading Rates'!C$16))))","v":""},{"$f":"IF($A152=\"\",\"\",(VLOOKUP($R152,'Pollutant Loading Rates'!$A$5:$F$12,4,0)*$L152/43560)+IF($R152=\"Forest\",'Pollutant Loading Rates'!D$13*($V152-$L152)/43560,IF($R152=\"Agriculture\",'Pollutant Loading Rates'!D$14*($V152-$L152)/43560,IF($D152=\"RIDOT\",($V152-$L152)/43560*'Pollutant Loading Rates'!D$15,($V152-$L152)/43560*'Pollutant Loading Rates'!D$16))))","v":""},{"$f":"IF($A152=\"\",\"\",(VLOOKUP($R152,'Pollutant Loading Rates'!$A$5:$F$12,5,0)*$L152/43560)+IF($R152=\"Forest\",'Pollutant Loading Rates'!E$13*($V152-$L152)/43560,IF($R152=\"Agriculture\",'Pollutant Loading Rates'!E$14*($V152-$L152)/43560,IF($D152=\"RIDOT\",($V152-$L152)/43560*'Pollutant Loading Rates'!E$15,($V152-$L152)/43560*'Pollutant Loading Rates'!E$16))))","v":""},{"$f":"IF($A152=\"\",\"\",(VLOOKUP($R152,'Pollutant Loading Rates'!$A$5:$F$12,6,0)*$L152/43560)+IF($R152=\"Forest\",'Pollutant Loading Rates'!F$13*($V152-$L152)/43560,IF($R152=\"Agriculture\",'Pollutant Loading Rates'!F$14*($V152-$L152)/43560,IF($D152=\"RIDOT\",($V152-$L152)/43560*'Pollutant Loading Rates'!F$15,$V152-$L152)/43560*'Pollutant Loading Rates'!F$16)))","v":""}]
[null,null,null,null,null,null,null,null,null,null,null,null,null,null,null,null,null,null,null,null,null,null,null,{"$f":"IF($A153=\"\",\"\",(VLOOKUP($R153,'Pollutant Loading Rates'!$A$5:$F$12,3,0)*$L153/43560)+IF($R153=\"Forest\",'Pollutant Loading Rates'!C$13*($V153-$L153)/43560,IF($R153=\"Agriculture\",'Pollutant Loading Rates'!C$14*($V153-$L153)/43560,IF($D153=\"RIDOT\",($V153-$L153)/43560*'Pollutant Loading Rates'!C$15,($V153-$L153)/43560*'Pollutant Loading Rates'!C$16))))","v":""},{"$f":"IF($A153=\"\",\"\",(VLOOKUP($R153,'Pollutant Loading Rates'!$A$5:$F$12,4,0)*$L153/43560)+IF($R153=\"Forest\",'Pollutant Loading Rates'!D$13*($V153-$L153)/43560,IF($R153=\"Agriculture\",'Pollutant Loading Rates'!D$14*($V153-$L153)/43560,IF($D153=\"RIDOT\",($V153-$L153)/43560*'Pollutant Loading Rates'!D$15,($V153-$L153)/43560*'Pollutant Loading Rates'!D$16))))","v":""},{"$f":"IF($A153=\"\",\"\",(VLOOKUP($R153,'Pollutant Loading Rates'!$A$5:$F$12,5,0)*$L153/43560)+IF($R153=\"Forest\",'Pollutant Loading Rates'!E$13*($V153-$L153)/43560,IF($R153=\"Agriculture\",'Pollutant Loading Rates'!E$14*($V153-$L153)/43560,IF($D153=\"RIDOT\",($V153-$L153)/43560*'Pollutant Loading Rates'!E$15,($V153-$L153)/43560*'Pollutant Loading Rates'!E$16))))","v":""},{"$f":"IF($A153=\"\",\"\",(VLOOKUP($R153,'Pollutant Loading Rates'!$A$5:$F$12,6,0)*$L153/43560)+IF($R153=\"Forest\",'Pollutant Loading Rates'!F$13*($V153-$L153)/43560,IF($R153=\"Agriculture\",'Pollutant Loading Rates'!F$14*($V153-$L153)/43560,IF($D153=\"RIDOT\",($V153-$L153)/43560*'Pollutant Loading Rates'!F$15,$V153-$L153)/43560*'Pollutant Loading Rates'!F$16)))","v":""}]
[null,null,null,null,null,null,null,null,null,null,null,null,null,null,null,null,null,null,null,null,null,null,null,{"$f":"IF($A154=\"\",\"\",(VLOOKUP($R154,'Pollutant Loading Rates'!$A$5:$F$12,3,0)*$L154/43560)+IF($R154=\"Forest\",'Pollutant Loading Rates'!C$13*($V154-$L154)/43560,IF($R154=\"Agriculture\",'Pollutant Loading Rates'!C$14*($V154-$L154)/43560,IF($D154=\"RIDOT\",($V154-$L154)/43560*'Pollutant Loading Rates'!C$15,($V154-$L154)/43560*'Pollutant Loading Rates'!C$16))))","v":""},{"$f":"IF($A154=\"\",\"\",(VLOOKUP($R154,'Pollutant Loading Rates'!$A$5:$F$12,4,0)*$L154/43560)+IF($R154=\"Forest\",'Pollutant Loading Rates'!D$13*($V154-$L154)/43560,IF($R154=\"Agriculture\",'Pollutant Loading Rates'!D$14*($V154-$L154)/43560,IF($D154=\"RIDOT\",($V154-$L154)/43560*'Pollutant Loading Rates'!D$15,($V154-$L154)/43560*'Pollutant Loading Rates'!D$16))))","v":""},{"$f":"IF($A154=\"\",\"\",(VLOOKUP($R154,'Pollutant Loading Rates'!$A$5:$F$12,5,0)*$L154/43560)+IF($R154=\"Forest\",'Pollutant Loading Rates'!E$13*($V154-$L154)/43560,IF($R154=\"Agriculture\",'Pollutant Loading Rates'!E$14*($V154-$L154)/43560,IF($D154=\"RIDOT\",($V154-$L154)/43560*'Pollutant Loading Rates'!E$15,($V154-$L154)/43560*'Pollutant Loading Rates'!E$16))))","v":""},{"$f":"IF($A154=\"\",\"\",(VLOOKUP($R154,'Pollutant Loading Rates'!$A$5:$F$12,6,0)*$L154/43560)+IF($R154=\"Forest\",'Pollutant Loading Rates'!F$13*($V154-$L154)/43560,IF($R154=\"Agriculture\",'Pollutant Loading Rates'!F$14*($V154-$L154)/43560,IF($D154=\"RIDOT\",($V154-$L154)/43560*'Pollutant Loading Rates'!F$15,$V154-$L154)/43560*'Pollutant Loading Rates'!F$16)))","v":""}]
[null,null,null,null,null,null,null,null,null,null,null,null,null,null,null,null,null,null,null,null,null,null,null,{"$f":"IF($A155=\"\",\"\",(VLOOKUP($R155,'Pollutant Loading Rates'!$A$5:$F$12,3,0)*$L155/43560)+IF($R155=\"Forest\",'Pollutant Loading Rates'!C$13*($V155-$L155)/43560,IF($R155=\"Agriculture\",'Pollutant Loading Rates'!C$14*($V155-$L155)/43560,IF($D155=\"RIDOT\",($V155-$L155)/43560*'Pollutant Loading Rates'!C$15,($V155-$L155)/43560*'Pollutant Loading Rates'!C$16))))","v":""},{"$f":"IF($A155=\"\",\"\",(VLOOKUP($R155,'Pollutant Loading Rates'!$A$5:$F$12,4,0)*$L155/43560)+IF($R155=\"Forest\",'Pollutant Loading Rates'!D$13*($V155-$L155)/43560,IF($R155=\"Agriculture\",'Pollutant Loading Rates'!D$14*($V155-$L155)/43560,IF($D155=\"RIDOT\",($V155-$L155)/43560*'Pollutant Loading Rates'!D$15,($V155-$L155)/43560*'Pollutant Loading Rates'!D$16))))","v":""},{"$f":"IF($A155=\"\",\"\",(VLOOKUP($R155,'Pollutant Loading Rates'!$A$5:$F$12,5,0)*$L155/43560)+IF($R155=\"Forest\",'Pollutant Loading Rates'!E$13*($V155-$L155)/43560,IF($R155=\"Agriculture\",'Pollutant Loading Rates'!E$14*($V155-$L155)/43560,IF($D155=\"RIDOT\",($V155-$L155)/43560*'Pollutant Loading Rates'!E$15,($V155-$L155)/43560*'Pollutant Loading Rates'!E$16))))","v":""},{"$f":"IF($A155=\"\",\"\",(VLOOKUP($R155,'Pollutant Loading Rates'!$A$5:$F$12,6,0)*$L155/43560)+IF($R155=\"Forest\",'Pollutant Loading Rates'!F$13*($V155-$L155)/43560,IF($R155=\"Agriculture\",'Pollutant Loading Rates'!F$14*($V155-$L155)/43560,IF($D155=\"RIDOT\",($V155-$L155)/43560*'Pollutant Loading Rates'!F$15,$V155-$L155)/43560*'Pollutant Loading Rates'!F$16)))","v":""}]
[null,null,null,null,null,null,null,null,null,null,null,null,null,null,null,null,null,null,null,null,null,null,null,{"$f":"IF($A156=\"\",\"\",(VLOOKUP($R156,'Pollutant Loading Rates'!$A$5:$F$12,3,0)*$L156/43560)+IF($R156=\"Forest\",'Pollutant Loading Rates'!C$13*($V156-$L156)/43560,IF($R156=\"Agriculture\",'Pollutant Loading Rates'!C$14*($V156-$L156)/43560,IF($D156=\"RIDOT\",($V156-$L156)/43560*'Pollutant Loading Rates'!C$15,($V156-$L156)/43560*'Pollutant Loading Rates'!C$16))))","v":""},{"$f":"IF($A156=\"\",\"\",(VLOOKUP($R156,'Pollutant Loading Rates'!$A$5:$F$12,4,0)*$L156/43560)+IF($R156=\"Forest\",'Pollutant Loading Rates'!D$13*($V156-$L156)/43560,IF($R156=\"Agriculture\",'Pollutant Loading Rates'!D$14*($V156-$L156)/43560,IF($D156=\"RIDOT\",($V156-$L156)/43560*'Pollutant Loading Rates'!D$15,($V156-$L156)/43560*'Pollutant Loading Rates'!D$16))))","v":""},{"$f":"IF($A156=\"\",\"\",(VLOOKUP($R156,'Pollutant Loading Rates'!$A$5:$F$12,5,0)*$L156/43560)+IF($R156=\"Forest\",'Pollutant Loading Rates'!E$13*($V156-$L156)/43560,IF($R156=\"Agriculture\",'Pollutant Loading Rates'!E$14*($V156-$L156)/43560,IF($D156=\"RIDOT\",($V156-$L156)/43560*'Pollutant Loading Rates'!E$15,($V156-$L156)/43560*'Pollutant Loading Rates'!E$16))))","v":""},{"$f":"IF($A156=\"\",\"\",(VLOOKUP($R156,'Pollutant Loading Rates'!$A$5:$F$12,6,0)*$L156/43560)+IF($R156=\"Forest\",'Pollutant Loading Rates'!F$13*($V156-$L156)/43560,IF($R156=\"Agriculture\",'Pollutant Loading Rates'!F$14*($V156-$L156)/43560,IF($D156=\"RIDOT\",($V156-$L156)/43560*'Pollutant Loading Rates'!F$15,$V156-$L156)/43560*'Pollutant Loading Rates'!F$16)))","v":""}]
[null,null,null,null,null,null,null,null,null,null,null,null,null,null,null,null,null,null,null,null,null,null,null,{"$f":"IF($A157=\"\",\"\",(VLOOKUP($R157,'Pollutant Loading Rates'!$A$5:$F$12,3,0)*$L157/43560)+IF($R157=\"Forest\",'Pollutant Loading Rates'!C$13*($V157-$L157)/43560,IF($R157=\"Agriculture\",'Pollutant Loading Rates'!C$14*($V157-$L157)/43560,IF($D157=\"RIDOT\",($V157-$L157)/43560*'Pollutant Loading Rates'!C$15,($V157-$L157)/43560*'Pollutant Loading Rates'!C$16))))","v":""},{"$f":"IF($A157=\"\",\"\",(VLOOKUP($R157,'Pollutant Loading Rates'!$A$5:$F$12,4,0)*$L157/43560)+IF($R157=\"Forest\",'Pollutant Loading Rates'!D$13*($V157-$L157)/43560,IF($R157=\"Agriculture\",'Pollutant Loading Rates'!D$14*($V157-$L157)/43560,IF($D157=\"RIDOT\",($V157-$L157)/43560*'Pollutant Loading Rates'!D$15,($V157-$L157)/43560*'Pollutant Loading Rates'!D$16))))","v":""},{"$f":"IF($A157=\"\",\"\",(VLOOKUP($R157,'Pollutant Loading Rates'!$A$5:$F$12,5,0)*$L157/43560)+IF($R157=\"Forest\",'Pollutant Loading Rates'!E$13*($V157-$L157)/43560,IF($R157=\"Agriculture\",'Pollutant Loading Rates'!E$14*($V157-$L157)/43560,IF($D157=\"RIDOT\",($V157-$L157)/43560*'Pollutant Loading Rates'!E$15,($V157-$L157)/43560*'Pollutant Loading Rates'!E$16))))","v":""},{"$f":"IF($A157=\"\",\"\",(VLOOKUP($R157,'Pollutant Loading Rates'!$A$5:$F$12,6,0)*$L157/43560)+IF($R157=\"Forest\",'Pollutant Loading Rates'!F$13*($V157-$L157)/43560,IF($R157=\"Agriculture\",'Pollutant Loading Rates'!F$14*($V157-$L157)/43560,IF($D157=\"RIDOT\",($V157-$L157)/43560*'Pollutant Loading Rates'!F$15,$V157-$L157)/43560*'Pollutant Loading Rates'!F$16)))","v":""}]
[null,null,null,null,null,null,null,null,null,null,null,null,null,null,null,null,null,null,null,null,null,null,null,{"$f":"IF($A158=\"\",\"\",(VLOOKUP($R158,'Pollutant Loading Rates'!$A$5:$F$12,3,0)*$L158/43560)+IF($R158=\"Forest\",'Pollutant Loading Rates'!C$13*($V158-$L158)/43560,IF($R158=\"Agriculture\",'Pollutant Loading Rates'!C$14*($V158-$L158)/43560,IF($D158=\"RIDOT\",($V158-$L158)/43560*'Pollutant Loading Rates'!C$15,($V158-$L158)/43560*'Pollutant Loading Rates'!C$16))))","v":""},{"$f":"IF($A158=\"\",\"\",(VLOOKUP($R158,'Pollutant Loading Rates'!$A$5:$F$12,4,0)*$L158/43560)+IF($R158=\"Forest\",'Pollutant Loading Rates'!D$13*($V158-$L158)/43560,IF($R158=\"Agriculture\",'Pollutant Loading Rates'!D$14*($V158-$L158)/43560,IF($D158=\"RIDOT\",($V158-$L158)/43560*'Pollutant Loading Rates'!D$15,($V158-$L158)/43560*'Pollutant Loading Rates'!D$16))))","v":""},{"$f":"IF($A158=\"\",\"\",(VLOOKUP($R158,'Pollutant Loading Rates'!$A$5:$F$12,5,0)*$L158/43560)+IF($R158=\"Forest\",'Pollutant Loading Rates'!E$13*($V158-$L158)/43560,IF($R158=\"Agriculture\",'Pollutant Loading Rates'!E$14*($V158-$L158)/43560,IF($D158=\"RIDOT\",($V158-$L158)/43560*'Pollutant Loading Rates'!E$15,($V158-$L158)/43560*'Pollutant Loading Rates'!E$16))))","v":""},{"$f":"IF($A158=\"\",\"\",(VLOOKUP($R158,'Pollutant Loading Rates'!$A$5:$F$12,6,0)*$L158/43560)+IF($R158=\"Forest\",'Pollutant Loading Rates'!F$13*($V158-$L158)/43560,IF($R158=\"Agriculture\",'Pollutant Loading Rates'!F$14*($V158-$L158)/43560,IF($D158=\"RIDOT\",($V158-$L158)/43560*'Pollutant Loading Rates'!F$15,$V158-$L158)/43560*'Pollutant Loading Rates'!F$16)))","v":""}]
[null,null,null,null,null,null,null,null,null,null,null,null,null,null,null,null,null,null,null,null,null,null,null,{"$f":"IF($A159=\"\",\"\",(VLOOKUP($R159,'Pollutant Loading Rates'!$A$5:$F$12,3,0)*$L159/43560)+IF($R159=\"Forest\",'Pollutant Loading Rates'!C$13*($V159-$L159)/43560,IF($R159=\"Agriculture\",'Pollutant Loading Rates'!C$14*($V159-$L159)/43560,IF($D159=\"RIDOT\",($V159-$L159)/43560*'Pollutant Loading Rates'!C$15,($V159-$L159)/43560*'Pollutant Loading Rates'!C$16))))","v":""},{"$f":"IF($A159=\"\",\"\",(VLOOKUP($R159,'Pollutant Loading Rates'!$A$5:$F$12,4,0)*$L159/43560)+IF($R159=\"Forest\",'Pollutant Loading Rates'!D$13*($V159-$L159)/43560,IF($R159=\"Agriculture\",'Pollutant Loading Rates'!D$14*($V159-$L159)/43560,IF($D159=\"RIDOT\",($V159-$L159)/43560*'Pollutant Loading Rates'!D$15,($V159-$L159)/43560*'Pollutant Loading Rates'!D$16))))","v":""},{"$f":"IF($A159=\"\",\"\",(VLOOKUP($R159,'Pollutant Loading Rates'!$A$5:$F$12,5,0)*$L159/43560)+IF($R159=\"Forest\",'Pollutant Loading Rates'!E$13*($V159-$L159)/43560,IF($R159=\"Agriculture\",'Pollutant Loading Rates'!E$14*($V159-$L159)/43560,IF($D159=\"RIDOT\",($V159-$L159)/43560*'Pollutant Loading Rates'!E$15,($V159-$L159)/43560*'Pollutant Loading Rates'!E$16))))","v":""},{"$f":"IF($A159=\"\",\"\",(VLOOKUP($R159,'Pollutant Loading Rates'!$A$5:$F$12,6,0)*$L159/43560)+IF($R159=\"Forest\",'Pollutant Loading Rates'!F$13*($V159-$L159)/43560,IF($R159=\"Agriculture\",'Pollutant Loading Rates'!F$14*($V159-$L159)/43560,IF($D159=\"RIDOT\",($V159-$L159)/43560*'Pollutant Loading Rates'!F$15,$V159-$L159)/43560*'Pollutant Loading Rates'!F$16)))","v":""}]
[null,null,null,null,null,null,null,null,null,null,null,null,null,null,null,null,null,null,null,null,null,null,null,{"$f":"IF($A160=\"\",\"\",(VLOOKUP($R160,'Pollutant Loading Rates'!$A$5:$F$12,3,0)*$L160/43560)+IF($R160=\"Forest\",'Pollutant Loading Rates'!C$13*($V160-$L160)/43560,IF($R160=\"Agriculture\",'Pollutant Loading Rates'!C$14*($V160-$L160)/43560,IF($D160=\"RIDOT\",($V160-$L160)/43560*'Pollutant Loading Rates'!C$15,($V160-$L160)/43560*'Pollutant Loading Rates'!C$16))))","v":""},{"$f":"IF($A160=\"\",\"\",(VLOOKUP($R160,'Pollutant Loading Rates'!$A$5:$F$12,4,0)*$L160/43560)+IF($R160=\"Forest\",'Pollutant Loading Rates'!D$13*($V160-$L160)/43560,IF($R160=\"Agriculture\",'Pollutant Loading Rates'!D$14*($V160-$L160)/43560,IF($D160=\"RIDOT\",($V160-$L160)/43560*'Pollutant Loading Rates'!D$15,($V160-$L160)/43560*'Pollutant Loading Rates'!D$16))))","v":""},{"$f":"IF($A160=\"\",\"\",(VLOOKUP($R160,'Pollutant Loading Rates'!$A$5:$F$12,5,0)*$L160/43560)+IF($R160=\"Forest\",'Pollutant Loading Rates'!E$13*($V160-$L160)/43560,IF($R160=\"Agriculture\",'Pollutant Loading Rates'!E$14*($V160-$L160)/43560,IF($D160=\"RIDOT\",($V160-$L160)/43560*'Pollutant Loading Rates'!E$15,($V160-$L160)/43560*'Pollutant Loading Rates'!E$16))))","v":""},{"$f":"IF($A160=\"\",\"\",(VLOOKUP($R160,'Pollutant Loading Rates'!$A$5:$F$12,6,0)*$L160/43560)+IF($R160=\"Forest\",'Pollutant Loading Rates'!F$13*($V160-$L160)/43560,IF($R160=\"Agriculture\",'Pollutant Loading Rates'!F$14*($V160-$L160)/43560,IF($D160=\"RIDOT\",($V160-$L160)/43560*'Pollutant Loading Rates'!F$15,$V160-$L160)/43560*'Pollutant Loading Rates'!F$16)))","v":""}]
[null,null,null,null,null,null,null,null,null,null,null,null,null,null,null,null,null,null,null,null,null,null,null,{"$f":"IF($A161=\"\",\"\",(VLOOKUP($R161,'Pollutant Loading Rates'!$A$5:$F$12,3,0)*$L161/43560)+IF($R161=\"Forest\",'Pollutant Loading Rates'!C$13*($V161-$L161)/43560,IF($R161=\"Agriculture\",'Pollutant Loading Rates'!C$14*($V161-$L161)/43560,IF($D161=\"RIDOT\",($V161-$L161)/43560*'Pollutant Loading Rates'!C$15,($V161-$L161)/43560*'Pollutant Loading Rates'!C$16))))","v":""},{"$f":"IF($A161=\"\",\"\",(VLOOKUP($R161,'Pollutant Loading Rates'!$A$5:$F$12,4,0)*$L161/43560)+IF($R161=\"Forest\",'Pollutant Loading Rates'!D$13*($V161-$L161)/43560,IF($R161=\"Agriculture\",'Pollutant Loading Rates'!D$14*($V161-$L161)/43560,IF($D161=\"RIDOT\",($V161-$L161)/43560*'Pollutant Loading Rates'!D$15,($V161-$L161)/43560*'Pollutant Loading Rates'!D$16))))","v":""},{"$f":"IF($A161=\"\",\"\",(VLOOKUP($R161,'Pollutant Loading Rates'!$A$5:$F$12,5,0)*$L161/43560)+IF($R161=\"Forest\",'Pollutant Loading Rates'!E$13*($V161-$L161)/43560,IF($R161=\"Agriculture\",'Pollutant Loading Rates'!E$14*($V161-$L161)/43560,IF($D161=\"RIDOT\",($V161-$L161)/43560*'Pollutant Loading Rates'!E$15,($V161-$L161)/43560*'Pollutant Loading Rates'!E$16))))","v":""},{"$f":"IF($A161=\"\",\"\",(VLOOKUP($R161,'Pollutant Loading Rates'!$A$5:$F$12,6,0)*$L161/43560)+IF($R161=\"Forest\",'Pollutant Loading Rates'!F$13*($V161-$L161)/43560,IF($R161=\"Agriculture\",'Pollutant Loading Rates'!F$14*($V161-$L161)/43560,IF($D161=\"RIDOT\",($V161-$L161)/43560*'Pollutant Loading Rates'!F$15,$V161-$L161)/43560*'Pollutant Loading Rates'!F$16)))","v":""}]
[null,null,null,null,null,null,null,null,null,null,null,null,null,null,null,null,null,null,null,null,null,null,null,{"$f":"IF($A162=\"\",\"\",(VLOOKUP($R162,'Pollutant Loading Rates'!$A$5:$F$12,3,0)*$L162/43560)+IF($R162=\"Forest\",'Pollutant Loading Rates'!C$13*($V162-$L162)/43560,IF($R162=\"Agriculture\",'Pollutant Loading Rates'!C$14*($V162-$L162)/43560,IF($D162=\"RIDOT\",($V162-$L162)/43560*'Pollutant Loading Rates'!C$15,($V162-$L162)/43560*'Pollutant Loading Rates'!C$16))))","v":""},{"$f":"IF($A162=\"\",\"\",(VLOOKUP($R162,'Pollutant Loading Rates'!$A$5:$F$12,4,0)*$L162/43560)+IF($R162=\"Forest\",'Pollutant Loading Rates'!D$13*($V162-$L162)/43560,IF($R162=\"Agriculture\",'Pollutant Loading Rates'!D$14*($V162-$L162)/43560,IF($D162=\"RIDOT\",($V162-$L162)/43560*'Pollutant Loading Rates'!D$15,($V162-$L162)/43560*'Pollutant Loading Rates'!D$16))))","v":""},{"$f":"IF($A162=\"\",\"\",(VLOOKUP($R162,'Pollutant Loading Rates'!$A$5:$F$12,5,0)*$L162/43560)+IF($R162=\"Forest\",'Pollutant Loading Rates'!E$13*($V162-$L162)/43560,IF($R162=\"Agriculture\",'Pollutant Loading Rates'!E$14*($V162-$L162)/43560,IF($D162=\"RIDOT\",($V162-$L162)/43560*'Pollutant Loading Rates'!E$15,($V162-$L162)/43560*'Pollutant Loading Rates'!E$16))))","v":""},{"$f":"IF($A162=\"\",\"\",(VLOOKUP($R162,'Pollutant Loading Rates'!$A$5:$F$12,6,0)*$L162/43560)+IF($R162=\"Forest\",'Pollutant Loading Rates'!F$13*($V162-$L162)/43560,IF($R162=\"Agriculture\",'Pollutant Loading Rates'!F$14*($V162-$L162)/43560,IF($D162=\"RIDOT\",($V162-$L162)/43560*'Pollutant Loading Rates'!F$15,$V162-$L162)/43560*'Pollutant Loading Rates'!F$16)))","v":""}]
[null,null,null,null,null,null,null,null,null,null,null,null,null,null,null,null,null,null,null,null,null,null,null,{"$f":"IF($A163=\"\",\"\",(VLOOKUP($R163,'Pollutant Loading Rates'!$A$5:$F$12,3,0)*$L163/43560)+IF($R163=\"Forest\",'Pollutant Loading Rates'!C$13*($V163-$L163)/43560,IF($R163=\"Agriculture\",'Pollutant Loading Rates'!C$14*($V163-$L163)/43560,IF($D163=\"RIDOT\",($V163-$L163)/43560*'Pollutant Loading Rates'!C$15,($V163-$L163)/43560*'Pollutant Loading Rates'!C$16))))","v":""},{"$f":"IF($A163=\"\",\"\",(VLOOKUP($R163,'Pollutant Loading Rates'!$A$5:$F$12,4,0)*$L163/43560)+IF($R163=\"Forest\",'Pollutant Loading Rates'!D$13*($V163-$L163)/43560,IF($R163=\"Agriculture\",'Pollutant Loading Rates'!D$14*($V163-$L163)/43560,IF($D163=\"RIDOT\",($V163-$L163)/43560*'Pollutant Loading Rates'!D$15,($V163-$L163)/43560*'Pollutant Loading Rates'!D$16))))","v":""},{"$f":"IF($A163=\"\",\"\",(VLOOKUP($R163,'Pollutant Loading Rates'!$A$5:$F$12,5,0)*$L163/43560)+IF($R163=\"Forest\",'Pollutant Loading Rates'!E$13*($V163-$L163)/43560,IF($R163=\"Agriculture\",'Pollutant Loading Rates'!E$14*($V163-$L163)/43560,IF($D163=\"RIDOT\",($V163-$L163)/43560*'Pollutant Loading Rates'!E$15,($V163-$L163)/43560*'Pollutant Loading Rates'!E$16))))","v":""},{"$f":"IF($A163=\"\",\"\",(VLOOKUP($R163,'Pollutant Loading Rates'!$A$5:$F$12,6,0)*$L163/43560)+IF($R163=\"Forest\",'Pollutant Loading Rates'!F$13*($V163-$L163)/43560,IF($R163=\"Agriculture\",'Pollutant Loading Rates'!F$14*($V163-$L163)/43560,IF($D163=\"RIDOT\",($V163-$L163)/43560*'Pollutant Loading Rates'!F$15,$V163-$L163)/43560*'Pollutant Loading Rates'!F$16)))","v":""}]
[null,null,null,null,null,null,null,null,null,null,null,null,null,null,null,null,null,null,null,null,null,null,null,{"$f":"IF($A164=\"\",\"\",(VLOOKUP($R164,'Pollutant Loading Rates'!$A$5:$F$12,3,0)*$L164/43560)+IF($R164=\"Forest\",'Pollutant Loading Rates'!C$13*($V164-$L164)/43560,IF($R164=\"Agriculture\",'Pollutant Loading Rates'!C$14*($V164-$L164)/43560,IF($D164=\"RIDOT\",($V164-$L164)/43560*'Pollutant Loading Rates'!C$15,($V164-$L164)/43560*'Pollutant Loading Rates'!C$16))))","v":""},{"$f":"IF($A164=\"\",\"\",(VLOOKUP($R164,'Pollutant Loading Rates'!$A$5:$F$12,4,0)*$L164/43560)+IF($R164=\"Forest\",'Pollutant Loading Rates'!D$13*($V164-$L164)/43560,IF($R164=\"Agriculture\",'Pollutant Loading Rates'!D$14*($V164-$L164)/43560,IF($D164=\"RIDOT\",($V164-$L164)/43560*'Pollutant Loading Rates'!D$15,($V164-$L164)/43560*'Pollutant Loading Rates'!D$16))))","v":""},{"$f":"IF($A164=\"\",\"\",(VLOOKUP($R164,'Pollutant Loading Rates'!$A$5:$F$12,5,0)*$L164/43560)+IF($R164=\"Forest\",'Pollutant Loading Rates'!E$13*($V164-$L164)/43560,IF($R164=\"Agriculture\",'Pollutant Loading Rates'!E$14*($V164-$L164)/43560,IF($D164=\"RIDOT\",($V164-$L164)/43560*'Pollutant Loading Rates'!E$15,($V164-$L164)/43560*'Pollutant Loading Rates'!E$16))))","v":""},{"$f":"IF($A164=\"\",\"\",(VLOOKUP($R164,'Pollutant Loading Rates'!$A$5:$F$12,6,0)*$L164/43560)+IF($R164=\"Forest\",'Pollutant Loading Rates'!F$13*($V164-$L164)/43560,IF($R164=\"Agriculture\",'Pollutant Loading Rates'!F$14*($V164-$L164)/43560,IF($D164=\"RIDOT\",($V164-$L164)/43560*'Pollutant Loading Rates'!F$15,$V164-$L164)/43560*'Pollutant Loading Rates'!F$16)))","v":""}]
[null,null,null,null,null,null,null,null,null,null,null,null,null,null,null,null,null,null,null,null,null,null,null,{"$f":"IF($A165=\"\",\"\",(VLOOKUP($R165,'Pollutant Loading Rates'!$A$5:$F$12,3,0)*$L165/43560)+IF($R165=\"Forest\",'Pollutant Loading Rates'!C$13*($V165-$L165)/43560,IF($R165=\"Agriculture\",'Pollutant Loading Rates'!C$14*($V165-$L165)/43560,IF($D165=\"RIDOT\",($V165-$L165)/43560*'Pollutant Loading Rates'!C$15,($V165-$L165)/43560*'Pollutant Loading Rates'!C$16))))","v":""},{"$f":"IF($A165=\"\",\"\",(VLOOKUP($R165,'Pollutant Loading Rates'!$A$5:$F$12,4,0)*$L165/43560)+IF($R165=\"Forest\",'Pollutant Loading Rates'!D$13*($V165-$L165)/43560,IF($R165=\"Agriculture\",'Pollutant Loading Rates'!D$14*($V165-$L165)/43560,IF($D165=\"RIDOT\",($V165-$L165)/43560*'Pollutant Loading Rates'!D$15,($V165-$L165)/43560*'Pollutant Loading Rates'!D$16))))","v":""},{"$f":"IF($A165=\"\",\"\",(VLOOKUP($R165,'Pollutant Loading Rates'!$A$5:$F$12,5,0)*$L165/43560)+IF($R165=\"Forest\",'Pollutant Loading Rates'!E$13*($V165-$L165)/43560,IF($R165=\"Agriculture\",'Pollutant Loading Rates'!E$14*($V165-$L165)/43560,IF($D165=\"RIDOT\",($V165-$L165)/43560*'Pollutant Loading Rates'!E$15,($V165-$L165)/43560*'Pollutant Loading Rates'!E$16))))","v":""},{"$f":"IF($A165=\"\",\"\",(VLOOKUP($R165,'Pollutant Loading Rates'!$A$5:$F$12,6,0)*$L165/43560)+IF($R165=\"Forest\",'Pollutant Loading Rates'!F$13*($V165-$L165)/43560,IF($R165=\"Agriculture\",'Pollutant Loading Rates'!F$14*($V165-$L165)/43560,IF($D165=\"RIDOT\",($V165-$L165)/43560*'Pollutant Loading Rates'!F$15,$V165-$L165)/43560*'Pollutant Loading Rates'!F$16)))","v":""}]
[null,null,null,null,null,null,null,null,null,null,null,null,null,null,null,null,null,null,null,null,null,null,null,{"$f":"IF($A166=\"\",\"\",(VLOOKUP($R166,'Pollutant Loading Rates'!$A$5:$F$12,3,0)*$L166/43560)+IF($R166=\"Forest\",'Pollutant Loading Rates'!C$13*($V166-$L166)/43560,IF($R166=\"Agriculture\",'Pollutant Loading Rates'!C$14*($V166-$L166)/43560,IF($D166=\"RIDOT\",($V166-$L166)/43560*'Pollutant Loading Rates'!C$15,($V166-$L166)/43560*'Pollutant Loading Rates'!C$16))))","v":""},{"$f":"IF($A166=\"\",\"\",(VLOOKUP($R166,'Pollutant Loading Rates'!$A$5:$F$12,4,0)*$L166/43560)+IF($R166=\"Forest\",'Pollutant Loading Rates'!D$13*($V166-$L166)/43560,IF($R166=\"Agriculture\",'Pollutant Loading Rates'!D$14*($V166-$L166)/43560,IF($D166=\"RIDOT\",($V166-$L166)/43560*'Pollutant Loading Rates'!D$15,($V166-$L166)/43560*'Pollutant Loading Rates'!D$16))))","v":""},{"$f":"IF($A166=\"\",\"\",(VLOOKUP($R166,'Pollutant Loading Rates'!$A$5:$F$12,5,0)*$L166/43560)+IF($R166=\"Forest\",'Pollutant Loading Rates'!E$13*($V166-$L166)/43560,IF($R166=\"Agriculture\",'Pollutant Loading Rates'!E$14*($V166-$L166)/43560,IF($D166=\"RIDOT\",($V166-$L166)/43560*'Pollutant Loading Rates'!E$15,($V166-$L166)/43560*'Pollutant Loading Rates'!E$16))))","v":""},{"$f":"IF($A166=\"\",\"\",(VLOOKUP($R166,'Pollutant Loading Rates'!$A$5:$F$12,6,0)*$L166/43560)+IF($R166=\"Forest\",'Pollutant Loading Rates'!F$13*($V166-$L166)/43560,IF($R166=\"Agriculture\",'Pollutant Loading Rates'!F$14*($V166-$L166)/43560,IF($D166=\"RIDOT\",($V166-$L166)/43560*'Pollutant Loading Rates'!F$15,$V166-$L166)/43560*'Pollutant Loading Rates'!F$16)))","v":""}]
[null,null,null,null,null,null,null,null,null,null,null,null,null,null,null,null,null,null,null,null,null,null,null,{"$f":"IF($A167=\"\",\"\",(VLOOKUP($R167,'Pollutant Loading Rates'!$A$5:$F$12,3,0)*$L167/43560)+IF($R167=\"Forest\",'Pollutant Loading Rates'!C$13*($V167-$L167)/43560,IF($R167=\"Agriculture\",'Pollutant Loading Rates'!C$14*($V167-$L167)/43560,IF($D167=\"RIDOT\",($V167-$L167)/43560*'Pollutant Loading Rates'!C$15,($V167-$L167)/43560*'Pollutant Loading Rates'!C$16))))","v":""},{"$f":"IF($A167=\"\",\"\",(VLOOKUP($R167,'Pollutant Loading Rates'!$A$5:$F$12,4,0)*$L167/43560)+IF($R167=\"Forest\",'Pollutant Loading Rates'!D$13*($V167-$L167)/43560,IF($R167=\"Agriculture\",'Pollutant Loading Rates'!D$14*($V167-$L167)/43560,IF($D167=\"RIDOT\",($V167-$L167)/43560*'Pollutant Loading Rates'!D$15,($V167-$L167)/43560*'Pollutant Loading Rates'!D$16))))","v":""},{"$f":"IF($A167=\"\",\"\",(VLOOKUP($R167,'Pollutant Loading Rates'!$A$5:$F$12,5,0)*$L167/43560)+IF($R167=\"Forest\",'Pollutant Loading Rates'!E$13*($V167-$L167)/43560,IF($R167=\"Agriculture\",'Pollutant Loading Rates'!E$14*($V167-$L167)/43560,IF($D167=\"RIDOT\",($V167-$L167)/43560*'Pollutant Loading Rates'!E$15,($V167-$L167)/43560*'Pollutant Loading Rates'!E$16))))","v":""},{"$f":"IF($A167=\"\",\"\",(VLOOKUP($R167,'Pollutant Loading Rates'!$A$5:$F$12,6,0)*$L167/43560)+IF($R167=\"Forest\",'Pollutant Loading Rates'!F$13*($V167-$L167)/43560,IF($R167=\"Agriculture\",'Pollutant Loading Rates'!F$14*($V167-$L167)/43560,IF($D167=\"RIDOT\",($V167-$L167)/43560*'Pollutant Loading Rates'!F$15,$V167-$L167)/43560*'Pollutant Loading Rates'!F$16)))","v":""}]
[null,null,null,null,null,null,null,null,null,null,null,null,null,null,null,null,null,null,null,null,null,null,null,{"$f":"IF($A168=\"\",\"\",(VLOOKUP($R168,'Pollutant Loading Rates'!$A$5:$F$12,3,0)*$L168/43560)+IF($R168=\"Forest\",'Pollutant Loading Rates'!C$13*($V168-$L168)/43560,IF($R168=\"Agriculture\",'Pollutant Loading Rates'!C$14*($V168-$L168)/43560,IF($D168=\"RIDOT\",($V168-$L168)/43560*'Pollutant Loading Rates'!C$15,($V168-$L168)/43560*'Pollutant Loading Rates'!C$16))))","v":""},{"$f":"IF($A168=\"\",\"\",(VLOOKUP($R168,'Pollutant Loading Rates'!$A$5:$F$12,4,0)*$L168/43560)+IF($R168=\"Forest\",'Pollutant Loading Rates'!D$13*($V168-$L168)/43560,IF($R168=\"Agriculture\",'Pollutant Loading Rates'!D$14*($V168-$L168)/43560,IF($D168=\"RIDOT\",($V168-$L168)/43560*'Pollutant Loading Rates'!D$15,($V168-$L168)/43560*'Pollutant Loading Rates'!D$16))))","v":""},{"$f":"IF($A168=\"\",\"\",(VLOOKUP($R168,'Pollutant Loading Rates'!$A$5:$F$12,5,0)*$L168/43560)+IF($R168=\"Forest\",'Pollutant Loading Rates'!E$13*($V168-$L168)/43560,IF($R168=\"Agriculture\",'Pollutant Loading Rates'!E$14*($V168-$L168)/43560,IF($D168=\"RIDOT\",($V168-$L168)/43560*'Pollutant Loading Rates'!E$15,($V168-$L168)/43560*'Pollutant Loading Rates'!E$16))))","v":""},{"$f":"IF($A168=\"\",\"\",(VLOOKUP($R168,'Pollutant Loading Rates'!$A$5:$F$12,6,0)*$L168/43560)+IF($R168=\"Forest\",'Pollutant Loading Rates'!F$13*($V168-$L168)/43560,IF($R168=\"Agriculture\",'Pollutant Loading Rates'!F$14*($V168-$L168)/43560,IF($D168=\"RIDOT\",($V168-$L168)/43560*'Pollutant Loading Rates'!F$15,$V168-$L168)/43560*'Pollutant Loading Rates'!F$16)))","v":""}]
[null,null,null,null,null,null,null,null,null,null,null,null,null,null,null,null,null,null,null,null,null,null,null,{"$f":"IF($A169=\"\",\"\",(VLOOKUP($R169,'Pollutant Loading Rates'!$A$5:$F$12,3,0)*$L169/43560)+IF($R169=\"Forest\",'Pollutant Loading Rates'!C$13*($V169-$L169)/43560,IF($R169=\"Agriculture\",'Pollutant Loading Rates'!C$14*($V169-$L169)/43560,IF($D169=\"RIDOT\",($V169-$L169)/43560*'Pollutant Loading Rates'!C$15,($V169-$L169)/43560*'Pollutant Loading Rates'!C$16))))","v":""},{"$f":"IF($A169=\"\",\"\",(VLOOKUP($R169,'Pollutant Loading Rates'!$A$5:$F$12,4,0)*$L169/43560)+IF($R169=\"Forest\",'Pollutant Loading Rates'!D$13*($V169-$L169)/43560,IF($R169=\"Agriculture\",'Pollutant Loading Rates'!D$14*($V169-$L169)/43560,IF($D169=\"RIDOT\",($V169-$L169)/43560*'Pollutant Loading Rates'!D$15,($V169-$L169)/43560*'Pollutant Loading Rates'!D$16))))","v":""},{"$f":"IF($A169=\"\",\"\",(VLOOKUP($R169,'Pollutant Loading Rates'!$A$5:$F$12,5,0)*$L169/43560)+IF($R169=\"Forest\",'Pollutant Loading Rates'!E$13*($V169-$L169)/43560,IF($R169=\"Agriculture\",'Pollutant Loading Rates'!E$14*($V169-$L169)/43560,IF($D169=\"RIDOT\",($V169-$L169)/43560*'Pollutant Loading Rates'!E$15,($V169-$L169)/43560*'Pollutant Loading Rates'!E$16))))","v":""},{"$f":"IF($A169=\"\",\"\",(VLOOKUP($R169,'Pollutant Loading Rates'!$A$5:$F$12,6,0)*$L169/43560)+IF($R169=\"Forest\",'Pollutant Loading Rates'!F$13*($V169-$L169)/43560,IF($R169=\"Agriculture\",'Pollutant Loading Rates'!F$14*($V169-$L169)/43560,IF($D169=\"RIDOT\",($V169-$L169)/43560*'Pollutant Loading Rates'!F$15,$V169-$L169)/43560*'Pollutant Loading Rates'!F$16)))","v":""}]
[null,null,null,null,null,null,null,null,null,null,null,null,null,null,null,null,null,null,null,null,null,null,null,{"$f":"IF($A170=\"\",\"\",(VLOOKUP($R170,'Pollutant Loading Rates'!$A$5:$F$12,3,0)*$L170/43560)+IF($R170=\"Forest\",'Pollutant Loading Rates'!C$13*($V170-$L170)/43560,IF($R170=\"Agriculture\",'Pollutant Loading Rates'!C$14*($V170-$L170)/43560,IF($D170=\"RIDOT\",($V170-$L170)/43560*'Pollutant Loading Rates'!C$15,($V170-$L170)/43560*'Pollutant Loading Rates'!C$16))))","v":""},{"$f":"IF($A170=\"\",\"\",(VLOOKUP($R170,'Pollutant Loading Rates'!$A$5:$F$12,4,0)*$L170/43560)+IF($R170=\"Forest\",'Pollutant Loading Rates'!D$13*($V170-$L170)/43560,IF($R170=\"Agriculture\",'Pollutant Loading Rates'!D$14*($V170-$L170)/43560,IF($D170=\"RIDOT\",($V170-$L170)/43560*'Pollutant Loading Rates'!D$15,($V170-$L170)/43560*'Pollutant Loading Rates'!D$16))))","v":""},{"$f":"IF($A170=\"\",\"\",(VLOOKUP($R170,'Pollutant Loading Rates'!$A$5:$F$12,5,0)*$L170/43560)+IF($R170=\"Forest\",'Pollutant Loading Rates'!E$13*($V170-$L170)/43560,IF($R170=\"Agriculture\",'Pollutant Loading Rates'!E$14*($V170-$L170)/43560,IF($D170=\"RIDOT\",($V170-$L170)/43560*'Pollutant Loading Rates'!E$15,($V170-$L170)/43560*'Pollutant Loading Rates'!E$16))))","v":""},{"$f":"IF($A170=\"\",\"\",(VLOOKUP($R170,'Pollutant Loading Rates'!$A$5:$F$12,6,0)*$L170/43560)+IF($R170=\"Forest\",'Pollutant Loading Rates'!F$13*($V170-$L170)/43560,IF($R170=\"Agriculture\",'Pollutant Loading Rates'!F$14*($V170-$L170)/43560,IF($D170=\"RIDOT\",($V170-$L170)/43560*'Pollutant Loading Rates'!F$15,$V170-$L170)/43560*'Pollutant Loading Rates'!F$16)))","v":""}]
[null,null,null,null,null,null,null,null,null,null,null,null,null,null,null,null,null,null,null,null,null,null,null,{"$f":"IF($A171=\"\",\"\",(VLOOKUP($R171,'Pollutant Loading Rates'!$A$5:$F$12,3,0)*$L171/43560)+IF($R171=\"Forest\",'Pollutant Loading Rates'!C$13*($V171-$L171)/43560,IF($R171=\"Agriculture\",'Pollutant Loading Rates'!C$14*($V171-$L171)/43560,IF($D171=\"RIDOT\",($V171-$L171)/43560*'Pollutant Loading Rates'!C$15,($V171-$L171)/43560*'Pollutant Loading Rates'!C$16))))","v":""},{"$f":"IF($A171=\"\",\"\",(VLOOKUP($R171,'Pollutant Loading Rates'!$A$5:$F$12,4,0)*$L171/43560)+IF($R171=\"Forest\",'Pollutant Loading Rates'!D$13*($V171-$L171)/43560,IF($R171=\"Agriculture\",'Pollutant Loading Rates'!D$14*($V171-$L171)/43560,IF($D171=\"RIDOT\",($V171-$L171)/43560*'Pollutant Loading Rates'!D$15,($V171-$L171)/43560*'Pollutant Loading Rates'!D$16))))","v":""},{"$f":"IF($A171=\"\",\"\",(VLOOKUP($R171,'Pollutant Loading Rates'!$A$5:$F$12,5,0)*$L171/43560)+IF($R171=\"Forest\",'Pollutant Loading Rates'!E$13*($V171-$L171)/43560,IF($R171=\"Agriculture\",'Pollutant Loading Rates'!E$14*($V171-$L171)/43560,IF($D171=\"RIDOT\",($V171-$L171)/43560*'Pollutant Loading Rates'!E$15,($V171-$L171)/43560*'Pollutant Loading Rates'!E$16))))","v":""},{"$f":"IF($A171=\"\",\"\",(VLOOKUP($R171,'Pollutant Loading Rates'!$A$5:$F$12,6,0)*$L171/43560)+IF($R171=\"Forest\",'Pollutant Loading Rates'!F$13*($V171-$L171)/43560,IF($R171=\"Agriculture\",'Pollutant Loading Rates'!F$14*($V171-$L171)/43560,IF($D171=\"RIDOT\",($V171-$L171)/43560*'Pollutant Loading Rates'!F$15,$V171-$L171)/43560*'Pollutant Loading Rates'!F$16)))","v":""}]
[null,null,null,null,null,null,null,null,null,null,null,null,null,null,null,null,null,null,null,null,null,null,null,{"$f":"IF($A172=\"\",\"\",(VLOOKUP($R172,'Pollutant Loading Rates'!$A$5:$F$12,3,0)*$L172/43560)+IF($R172=\"Forest\",'Pollutant Loading Rates'!C$13*($V172-$L172)/43560,IF($R172=\"Agriculture\",'Pollutant Loading Rates'!C$14*($V172-$L172)/43560,IF($D172=\"RIDOT\",($V172-$L172)/43560*'Pollutant Loading Rates'!C$15,($V172-$L172)/43560*'Pollutant Loading Rates'!C$16))))","v":""},{"$f":"IF($A172=\"\",\"\",(VLOOKUP($R172,'Pollutant Loading Rates'!$A$5:$F$12,4,0)*$L172/43560)+IF($R172=\"Forest\",'Pollutant Loading Rates'!D$13*($V172-$L172)/43560,IF($R172=\"Agriculture\",'Pollutant Loading Rates'!D$14*($V172-$L172)/43560,IF($D172=\"RIDOT\",($V172-$L172)/43560*'Pollutant Loading Rates'!D$15,($V172-$L172)/43560*'Pollutant Loading Rates'!D$16))))","v":""},{"$f":"IF($A172=\"\",\"\",(VLOOKUP($R172,'Pollutant Loading Rates'!$A$5:$F$12,5,0)*$L172/43560)+IF($R172=\"Forest\",'Pollutant Loading Rates'!E$13*($V172-$L172)/43560,IF($R172=\"Agriculture\",'Pollutant Loading Rates'!E$14*($V172-$L172)/43560,IF($D172=\"RIDOT\",($V172-$L172)/43560*'Pollutant Loading Rates'!E$15,($V172-$L172)/43560*'Pollutant Loading Rates'!E$16))))","v":""},{"$f":"IF($A172=\"\",\"\",(VLOOKUP($R172,'Pollutant Loading Rates'!$A$5:$F$12,6,0)*$L172/43560)+IF($R172=\"Forest\",'Pollutant Loading Rates'!F$13*($V172-$L172)/43560,IF($R172=\"Agriculture\",'Pollutant Loading Rates'!F$14*($V172-$L172)/43560,IF($D172=\"RIDOT\",($V172-$L172)/43560*'Pollutant Loading Rates'!F$15,$V172-$L172)/43560*'Pollutant Loading Rates'!F$16)))","v":""}]
[null,null,null,null,null,null,null,null,null,null,null,null,null,null,null,null,null,null,null,null,null,null,null,{"$f":"IF($A173=\"\",\"\",(VLOOKUP($R173,'Pollutant Loading Rates'!$A$5:$F$12,3,0)*$L173/43560)+IF($R173=\"Forest\",'Pollutant Loading Rates'!C$13*($V173-$L173)/43560,IF($R173=\"Agriculture\",'Pollutant Loading Rates'!C$14*($V173-$L173)/43560,IF($D173=\"RIDOT\",($V173-$L173)/43560*'Pollutant Loading Rates'!C$15,($V173-$L173)/43560*'Pollutant Loading Rates'!C$16))))","v":""},{"$f":"IF($A173=\"\",\"\",(VLOOKUP($R173,'Pollutant Loading Rates'!$A$5:$F$12,4,0)*$L173/43560)+IF($R173=\"Forest\",'Pollutant Loading Rates'!D$13*($V173-$L173)/43560,IF($R173=\"Agriculture\",'Pollutant Loading Rates'!D$14*($V173-$L173)/43560,IF($D173=\"RIDOT\",($V173-$L173)/43560*'Pollutant Loading Rates'!D$15,($V173-$L173)/43560*'Pollutant Loading Rates'!D$16))))","v":""},{"$f":"IF($A173=\"\",\"\",(VLOOKUP($R173,'Pollutant Loading Rates'!$A$5:$F$12,5,0)*$L173/43560)+IF($R173=\"Forest\",'Pollutant Loading Rates'!E$13*($V173-$L173)/43560,IF($R173=\"Agriculture\",'Pollutant Loading Rates'!E$14*($V173-$L173)/43560,IF($D173=\"RIDOT\",($V173-$L173)/43560*'Pollutant Loading Rates'!E$15,($V173-$L173)/43560*'Pollutant Loading Rates'!E$16))))","v":""},{"$f":"IF($A173=\"\",\"\",(VLOOKUP($R173,'Pollutant Loading Rates'!$A$5:$F$12,6,0)*$L173/43560)+IF($R173=\"Forest\",'Pollutant Loading Rates'!F$13*($V173-$L173)/43560,IF($R173=\"Agriculture\",'Pollutant Loading Rates'!F$14*($V173-$L173)/43560,IF($D173=\"RIDOT\",($V173-$L173)/43560*'Pollutant Loading Rates'!F$15,$V173-$L173)/43560*'Pollutant Loading Rates'!F$16)))","v":""}]
[null,null,null,null,null,null,null,null,null,null,null,null,null,null,null,null,null,null,null,null,null,null,null,{"$f":"IF($A174=\"\",\"\",(VLOOKUP($R174,'Pollutant Loading Rates'!$A$5:$F$12,3,0)*$L174/43560)+IF($R174=\"Forest\",'Pollutant Loading Rates'!C$13*($V174-$L174)/43560,IF($R174=\"Agriculture\",'Pollutant Loading Rates'!C$14*($V174-$L174)/43560,IF($D174=\"RIDOT\",($V174-$L174)/43560*'Pollutant Loading Rates'!C$15,($V174-$L174)/43560*'Pollutant Loading Rates'!C$16))))","v":""},{"$f":"IF($A174=\"\",\"\",(VLOOKUP($R174,'Pollutant Loading Rates'!$A$5:$F$12,4,0)*$L174/43560)+IF($R174=\"Forest\",'Pollutant Loading Rates'!D$13*($V174-$L174)/43560,IF($R174=\"Agriculture\",'Pollutant Loading Rates'!D$14*($V174-$L174)/43560,IF($D174=\"RIDOT\",($V174-$L174)/43560*'Pollutant Loading Rates'!D$15,($V174-$L174)/43560*'Pollutant Loading Rates'!D$16))))","v":""},{"$f":"IF($A174=\"\",\"\",(VLOOKUP($R174,'Pollutant Loading Rates'!$A$5:$F$12,5,0)*$L174/43560)+IF($R174=\"Forest\",'Pollutant Loading Rates'!E$13*($V174-$L174)/43560,IF($R174=\"Agriculture\",'Pollutant Loading Rates'!E$14*($V174-$L174)/43560,IF($D174=\"RIDOT\",($V174-$L174)/43560*'Pollutant Loading Rates'!E$15,($V174-$L174)/43560*'Pollutant Loading Rates'!E$16))))","v":""},{"$f":"IF($A174=\"\",\"\",(VLOOKUP($R174,'Pollutant Loading Rates'!$A$5:$F$12,6,0)*$L174/43560)+IF($R174=\"Forest\",'Pollutant Loading Rates'!F$13*($V174-$L174)/43560,IF($R174=\"Agriculture\",'Pollutant Loading Rates'!F$14*($V174-$L174)/43560,IF($D174=\"RIDOT\",($V174-$L174)/43560*'Pollutant Loading Rates'!F$15,$V174-$L174)/43560*'Pollutant Loading Rates'!F$16)))","v":""}]
[null,null,null,null,null,null,null,null,null,null,null,null,null,null,null,null,null,null,null,null,null,null,null,{"$f":"IF($A175=\"\",\"\",(VLOOKUP($R175,'Pollutant Loading Rates'!$A$5:$F$12,3,0)*$L175/43560)+IF($R175=\"Forest\",'Pollutant Loading Rates'!C$13*($V175-$L175)/43560,IF($R175=\"Agriculture\",'Pollutant Loading Rates'!C$14*($V175-$L175)/43560,IF($D175=\"RIDOT\",($V175-$L175)/43560*'Pollutant Loading Rates'!C$15,($V175-$L175)/43560*'Pollutant Loading Rates'!C$16))))","v":""},{"$f":"IF($A175=\"\",\"\",(VLOOKUP($R175,'Pollutant Loading Rates'!$A$5:$F$12,4,0)*$L175/43560)+IF($R175=\"Forest\",'Pollutant Loading Rates'!D$13*($V175-$L175)/43560,IF($R175=\"Agriculture\",'Pollutant Loading Rates'!D$14*($V175-$L175)/43560,IF($D175=\"RIDOT\",($V175-$L175)/43560*'Pollutant Loading Rates'!D$15,($V175-$L175)/43560*'Pollutant Loading Rates'!D$16))))","v":""},{"$f":"IF($A175=\"\",\"\",(VLOOKUP($R175,'Pollutant Loading Rates'!$A$5:$F$12,5,0)*$L175/43560)+IF($R175=\"Forest\",'Pollutant Loading Rates'!E$13*($V175-$L175)/43560,IF($R175=\"Agriculture\",'Pollutant Loading Rates'!E$14*($V175-$L175)/43560,IF($D175=\"RIDOT\",($V175-$L175)/43560*'Pollutant Loading Rates'!E$15,($V175-$L175)/43560*'Pollutant Loading Rates'!E$16))))","v":""},{"$f":"IF($A175=\"\",\"\",(VLOOKUP($R175,'Pollutant Loading Rates'!$A$5:$F$12,6,0)*$L175/43560)+IF($R175=\"Forest\",'Pollutant Loading Rates'!F$13*($V175-$L175)/43560,IF($R175=\"Agriculture\",'Pollutant Loading Rates'!F$14*($V175-$L175)/43560,IF($D175=\"RIDOT\",($V175-$L175)/43560*'Pollutant Loading Rates'!F$15,$V175-$L175)/43560*'Pollutant Loading Rates'!F$16)))","v":""}]
[null,null,null,null,null,null,null,null,null,null,null,null,null,null,null,null,null,null,null,null,null,null,null,{"$f":"IF($A176=\"\",\"\",(VLOOKUP($R176,'Pollutant Loading Rates'!$A$5:$F$12,3,0)*$L176/43560)+IF($R176=\"Forest\",'Pollutant Loading Rates'!C$13*($V176-$L176)/43560,IF($R176=\"Agriculture\",'Pollutant Loading Rates'!C$14*($V176-$L176)/43560,IF($D176=\"RIDOT\",($V176-$L176)/43560*'Pollutant Loading Rates'!C$15,($V176-$L176)/43560*'Pollutant Loading Rates'!C$16))))","v":""},{"$f":"IF($A176=\"\",\"\",(VLOOKUP($R176,'Pollutant Loading Rates'!$A$5:$F$12,4,0)*$L176/43560)+IF($R176=\"Forest\",'Pollutant Loading Rates'!D$13*($V176-$L176)/43560,IF($R176=\"Agriculture\",'Pollutant Loading Rates'!D$14*($V176-$L176)/43560,IF($D176=\"RIDOT\",($V176-$L176)/43560*'Pollutant Loading Rates'!D$15,($V176-$L176)/43560*'Pollutant Loading Rates'!D$16))))","v":""},{"$f":"IF($A176=\"\",\"\",(VLOOKUP($R176,'Pollutant Loading Rates'!$A$5:$F$12,5,0)*$L176/43560)+IF($R176=\"Forest\",'Pollutant Loading Rates'!E$13*($V176-$L176)/43560,IF($R176=\"Agriculture\",'Pollutant Loading Rates'!E$14*($V176-$L176)/43560,IF($D176=\"RIDOT\",($V176-$L176)/43560*'Pollutant Loading Rates'!E$15,($V176-$L176)/43560*'Pollutant Loading Rates'!E$16))))","v":""},{"$f":"IF($A176=\"\",\"\",(VLOOKUP($R176,'Pollutant Loading Rates'!$A$5:$F$12,6,0)*$L176/43560)+IF($R176=\"Forest\",'Pollutant Loading Rates'!F$13*($V176-$L176)/43560,IF($R176=\"Agriculture\",'Pollutant Loading Rates'!F$14*($V176-$L176)/43560,IF($D176=\"RIDOT\",($V176-$L176)/43560*'Pollutant Loading Rates'!F$15,$V176-$L176)/43560*'Pollutant Loading Rates'!F$16)))","v":""}]
[null,null,null,null,null,null,null,null,null,null,null,null,null,null,null,null,null,null,null,null,null,null,null,{"$f":"IF($A177=\"\",\"\",(VLOOKUP($R177,'Pollutant Loading Rates'!$A$5:$F$12,3,0)*$L177/43560)+IF($R177=\"Forest\",'Pollutant Loading Rates'!C$13*($V177-$L177)/43560,IF($R177=\"Agriculture\",'Pollutant Loading Rates'!C$14*($V177-$L177)/43560,IF($D177=\"RIDOT\",($V177-$L177)/43560*'Pollutant Loading Rates'!C$15,($V177-$L177)/43560*'Pollutant Loading Rates'!C$16))))","v":""},{"$f":"IF($A177=\"\",\"\",(VLOOKUP($R177,'Pollutant Loading Rates'!$A$5:$F$12,4,0)*$L177/43560)+IF($R177=\"Forest\",'Pollutant Loading Rates'!D$13*($V177-$L177)/43560,IF($R177=\"Agriculture\",'Pollutant Loading Rates'!D$14*($V177-$L177)/43560,IF($D177=\"RIDOT\",($V177-$L177)/43560*'Pollutant Loading Rates'!D$15,($V177-$L177)/43560*'Pollutant Loading Rates'!D$16))))","v":""},{"$f":"IF($A177=\"\",\"\",(VLOOKUP($R177,'Pollutant Loading Rates'!$A$5:$F$12,5,0)*$L177/43560)+IF($R177=\"Forest\",'Pollutant Loading Rates'!E$13*($V177-$L177)/43560,IF($R177=\"Agriculture\",'Pollutant Loading Rates'!E$14*($V177-$L177)/43560,IF($D177=\"RIDOT\",($V177-$L177)/43560*'Pollutant Loading Rates'!E$15,($V177-$L177)/43560*'Pollutant Loading Rates'!E$16))))","v":""},{"$f":"IF($A177=\"\",\"\",(VLOOKUP($R177,'Pollutant Loading Rates'!$A$5:$F$12,6,0)*$L177/43560)+IF($R177=\"Forest\",'Pollutant Loading Rates'!F$13*($V177-$L177)/43560,IF($R177=\"Agriculture\",'Pollutant Loading Rates'!F$14*($V177-$L177)/43560,IF($D177=\"RIDOT\",($V177-$L177)/43560*'Pollutant Loading Rates'!F$15,$V177-$L177)/43560*'Pollutant Loading Rates'!F$16)))","v":""}]
[null,null,null,null,null,null,null,null,null,null,null,null,null,null,null,null,null,null,null,null,null,null,null,{"$f":"IF($A178=\"\",\"\",(VLOOKUP($R178,'Pollutant Loading Rates'!$A$5:$F$12,3,0)*$L178/43560)+IF($R178=\"Forest\",'Pollutant Loading Rates'!C$13*($V178-$L178)/43560,IF($R178=\"Agriculture\",'Pollutant Loading Rates'!C$14*($V178-$L178)/43560,IF($D178=\"RIDOT\",($V178-$L178)/43560*'Pollutant Loading Rates'!C$15,($V178-$L178)/43560*'Pollutant Loading Rates'!C$16))))","v":""},{"$f":"IF($A178=\"\",\"\",(VLOOKUP($R178,'Pollutant Loading Rates'!$A$5:$F$12,4,0)*$L178/43560)+IF($R178=\"Forest\",'Pollutant Loading Rates'!D$13*($V178-$L178)/43560,IF($R178=\"Agriculture\",'Pollutant Loading Rates'!D$14*($V178-$L178)/43560,IF($D178=\"RIDOT\",($V178-$L178)/43560*'Pollutant Loading Rates'!D$15,($V178-$L178)/43560*'Pollutant Loading Rates'!D$16))))","v":""},{"$f":"IF($A178=\"\",\"\",(VLOOKUP($R178,'Pollutant Loading Rates'!$A$5:$F$12,5,0)*$L178/43560)+IF($R178=\"Forest\",'Pollutant Loading Rates'!E$13*($V178-$L178)/43560,IF($R178=\"Agriculture\",'Pollutant Loading Rates'!E$14*($V178-$L178)/43560,IF($D178=\"RIDOT\",($V178-$L178)/43560*'Pollutant Loading Rates'!E$15,($V178-$L178)/43560*'Pollutant Loading Rates'!E$16))))","v":""},{"$f":"IF($A178=\"\",\"\",(VLOOKUP($R178,'Pollutant Loading Rates'!$A$5:$F$12,6,0)*$L178/43560)+IF($R178=\"Forest\",'Pollutant Loading Rates'!F$13*($V178-$L178)/43560,IF($R178=\"Agriculture\",'Pollutant Loading Rates'!F$14*($V178-$L178)/43560,IF($D178=\"RIDOT\",($V178-$L178)/43560*'Pollutant Loading Rates'!F$15,$V178-$L178)/43560*'Pollutant Loading Rates'!F$16)))","v":""}]
[null,null,null,null,null,null,null,null,null,null,null,null,null,null,null,null,null,null,null,null,null,null,null,{"$f":"IF($A179=\"\",\"\",(VLOOKUP($R179,'Pollutant Loading Rates'!$A$5:$F$12,3,0)*$L179/43560)+IF($R179=\"Forest\",'Pollutant Loading Rates'!C$13*($V179-$L179)/43560,IF($R179=\"Agriculture\",'Pollutant Loading Rates'!C$14*($V179-$L179)/43560,IF($D179=\"RIDOT\",($V179-$L179)/43560*'Pollutant Loading Rates'!C$15,($V179-$L179)/43560*'Pollutant Loading Rates'!C$16))))","v":""},{"$f":"IF($A179=\"\",\"\",(VLOOKUP($R179,'Pollutant Loading Rates'!$A$5:$F$12,4,0)*$L179/43560)+IF($R179=\"Forest\",'Pollutant Loading Rates'!D$13*($V179-$L179)/43560,IF($R179=\"Agriculture\",'Pollutant Loading Rates'!D$14*($V179-$L179)/43560,IF($D179=\"RIDOT\",($V179-$L179)/43560*'Pollutant Loading Rates'!D$15,($V179-$L179)/43560*'Pollutant Loading Rates'!D$16))))","v":""},{"$f":"IF($A179=\"\",\"\",(VLOOKUP($R179,'Pollutant Loading Rates'!$A$5:$F$12,5,0)*$L179/43560)+IF($R179=\"Forest\",'Pollutant Loading Rates'!E$13*($V179-$L179)/43560,IF($R179=\"Agriculture\",'Pollutant Loading Rates'!E$14*($V179-$L179)/43560,IF($D179=\"RIDOT\",($V179-$L179)/43560*'Pollutant Loading Rates'!E$15,($V179-$L179)/43560*'Pollutant Loading Rates'!E$16))))","v":""},{"$f":"IF($A179=\"\",\"\",(VLOOKUP($R179,'Pollutant Loading Rates'!$A$5:$F$12,6,0)*$L179/43560)+IF($R179=\"Forest\",'Pollutant Loading Rates'!F$13*($V179-$L179)/43560,IF($R179=\"Agriculture\",'Pollutant Loading Rates'!F$14*($V179-$L179)/43560,IF($D179=\"RIDOT\",($V179-$L179)/43560*'Pollutant Loading Rates'!F$15,$V179-$L179)/43560*'Pollutant Loading Rates'!F$16)))","v":""}]
[null,null,null,null,null,null,null,null,null,null,null,null,null,null,null,null,null,null,null,null,null,null,null,{"$f":"IF($A180=\"\",\"\",(VLOOKUP($R180,'Pollutant Loading Rates'!$A$5:$F$12,3,0)*$L180/43560)+IF($R180=\"Forest\",'Pollutant Loading Rates'!C$13*($V180-$L180)/43560,IF($R180=\"Agriculture\",'Pollutant Loading Rates'!C$14*($V180-$L180)/43560,IF($D180=\"RIDOT\",($V180-$L180)/43560*'Pollutant Loading Rates'!C$15,($V180-$L180)/43560*'Pollutant Loading Rates'!C$16))))","v":""},{"$f":"IF($A180=\"\",\"\",(VLOOKUP($R180,'Pollutant Loading Rates'!$A$5:$F$12,4,0)*$L180/43560)+IF($R180=\"Forest\",'Pollutant Loading Rates'!D$13*($V180-$L180)/43560,IF($R180=\"Agriculture\",'Pollutant Loading Rates'!D$14*($V180-$L180)/43560,IF($D180=\"RIDOT\",($V180-$L180)/43560*'Pollutant Loading Rates'!D$15,($V180-$L180)/43560*'Pollutant Loading Rates'!D$16))))","v":""},{"$f":"IF($A180=\"\",\"\",(VLOOKUP($R180,'Pollutant Loading Rates'!$A$5:$F$12,5,0)*$L180/43560)+IF($R180=\"Forest\",'Pollutant Loading Rates'!E$13*($V180-$L180)/43560,IF($R180=\"Agriculture\",'Pollutant Loading Rates'!E$14*($V180-$L180)/43560,IF($D180=\"RIDOT\",($V180-$L180)/43560*'Pollutant Loading Rates'!E$15,($V180-$L180)/43560*'Pollutant Loading Rates'!E$16))))","v":""},{"$f":"IF($A180=\"\",\"\",(VLOOKUP($R180,'Pollutant Loading Rates'!$A$5:$F$12,6,0)*$L180/43560)+IF($R180=\"Forest\",'Pollutant Loading Rates'!F$13*($V180-$L180)/43560,IF($R180=\"Agriculture\",'Pollutant Loading Rates'!F$14*($V180-$L180)/43560,IF($D180=\"RIDOT\",($V180-$L180)/43560*'Pollutant Loading Rates'!F$15,$V180-$L180)/43560*'Pollutant Loading Rates'!F$16)))","v":""}]
[null,null,null,null,null,null,null,null,null,null,null,null,null,null,null,null,null,null,null,null,null,null,null,{"$f":"IF($A181=\"\",\"\",(VLOOKUP($R181,'Pollutant Loading Rates'!$A$5:$F$12,3,0)*$L181/43560)+IF($R181=\"Forest\",'Pollutant Loading Rates'!C$13*($V181-$L181)/43560,IF($R181=\"Agriculture\",'Pollutant Loading Rates'!C$14*($V181-$L181)/43560,IF($D181=\"RIDOT\",($V181-$L181)/43560*'Pollutant Loading Rates'!C$15,($V181-$L181)/43560*'Pollutant Loading Rates'!C$16))))","v":""},{"$f":"IF($A181=\"\",\"\",(VLOOKUP($R181,'Pollutant Loading Rates'!$A$5:$F$12,4,0)*$L181/43560)+IF($R181=\"Forest\",'Pollutant Loading Rates'!D$13*($V181-$L181)/43560,IF($R181=\"Agriculture\",'Pollutant Loading Rates'!D$14*($V181-$L181)/43560,IF($D181=\"RIDOT\",($V181-$L181)/43560*'Pollutant Loading Rates'!D$15,($V181-$L181)/43560*'Pollutant Loading Rates'!D$16))))","v":""},{"$f":"IF($A181=\"\",\"\",(VLOOKUP($R181,'Pollutant Loading Rates'!$A$5:$F$12,5,0)*$L181/43560)+IF($R181=\"Forest\",'Pollutant Loading Rates'!E$13*($V181-$L181)/43560,IF($R181=\"Agriculture\",'Pollutant Loading Rates'!E$14*($V181-$L181)/43560,IF($D181=\"RIDOT\",($V181-$L181)/43560*'Pollutant Loading Rates'!E$15,($V181-$L181)/43560*'Pollutant Loading Rates'!E$16))))","v":""},{"$f":"IF($A181=\"\",\"\",(VLOOKUP($R181,'Pollutant Loading Rates'!$A$5:$F$12,6,0)*$L181/43560)+IF($R181=\"Forest\",'Pollutant Loading Rates'!F$13*($V181-$L181)/43560,IF($R181=\"Agriculture\",'Pollutant Loading Rates'!F$14*($V181-$L181)/43560,IF($D181=\"RIDOT\",($V181-$L181)/43560*'Pollutant Loading Rates'!F$15,$V181-$L181)/43560*'Pollutant Loading Rates'!F$16)))","v":""}]
[null,null,null,null,null,null,null,null,null,null,null,null,null,null,null,null,null,null,null,null,null,null,null,{"$f":"IF($A182=\"\",\"\",(VLOOKUP($R182,'Pollutant Loading Rates'!$A$5:$F$12,3,0)*$L182/43560)+IF($R182=\"Forest\",'Pollutant Loading Rates'!C$13*($V182-$L182)/43560,IF($R182=\"Agriculture\",'Pollutant Loading Rates'!C$14*($V182-$L182)/43560,IF($D182=\"RIDOT\",($V182-$L182)/43560*'Pollutant Loading Rates'!C$15,($V182-$L182)/43560*'Pollutant Loading Rates'!C$16))))","v":""},{"$f":"IF($A182=\"\",\"\",(VLOOKUP($R182,'Pollutant Loading Rates'!$A$5:$F$12,4,0)*$L182/43560)+IF($R182=\"Forest\",'Pollutant Loading Rates'!D$13*($V182-$L182)/43560,IF($R182=\"Agriculture\",'Pollutant Loading Rates'!D$14*($V182-$L182)/43560,IF($D182=\"RIDOT\",($V182-$L182)/43560*'Pollutant Loading Rates'!D$15,($V182-$L182)/43560*'Pollutant Loading Rates'!D$16))))","v":""},{"$f":"IF($A182=\"\",\"\",(VLOOKUP($R182,'Pollutant Loading Rates'!$A$5:$F$12,5,0)*$L182/43560)+IF($R182=\"Forest\",'Pollutant Loading Rates'!E$13*($V182-$L182)/43560,IF($R182=\"Agriculture\",'Pollutant Loading Rates'!E$14*($V182-$L182)/43560,IF($D182=\"RIDOT\",($V182-$L182)/43560*'Pollutant Loading Rates'!E$15,($V182-$L182)/43560*'Pollutant Loading Rates'!E$16))))","v":""},{"$f":"IF($A182=\"\",\"\",(VLOOKUP($R182,'Pollutant Loading Rates'!$A$5:$F$12,6,0)*$L182/43560)+IF($R182=\"Forest\",'Pollutant Loading Rates'!F$13*($V182-$L182)/43560,IF($R182=\"Agriculture\",'Pollutant Loading Rates'!F$14*($V182-$L182)/43560,IF($D182=\"RIDOT\",($V182-$L182)/43560*'Pollutant Loading Rates'!F$15,$V182-$L182)/43560*'Pollutant Loading Rates'!F$16)))","v":""}]
[null,null,null,null,null,null,null,null,null,null,null,null,null,null,null,null,null,null,null,null,null,null,null,{"$f":"IF($A183=\"\",\"\",(VLOOKUP($R183,'Pollutant Loading Rates'!$A$5:$F$12,3,0)*$L183/43560)+IF($R183=\"Forest\",'Pollutant Loading Rates'!C$13*($V183-$L183)/43560,IF($R183=\"Agriculture\",'Pollutant Loading Rates'!C$14*($V183-$L183)/43560,IF($D183=\"RIDOT\",($V183-$L183)/43560*'Pollutant Loading Rates'!C$15,($V183-$L183)/43560*'Pollutant Loading Rates'!C$16))))","v":""},{"$f":"IF($A183=\"\",\"\",(VLOOKUP($R183,'Pollutant Loading Rates'!$A$5:$F$12,4,0)*$L183/43560)+IF($R183=\"Forest\",'Pollutant Loading Rates'!D$13*($V183-$L183)/43560,IF($R183=\"Agriculture\",'Pollutant Loading Rates'!D$14*($V183-$L183)/43560,IF($D183=\"RIDOT\",($V183-$L183)/43560*'Pollutant Loading Rates'!D$15,($V183-$L183)/43560*'Pollutant Loading Rates'!D$16))))","v":""},{"$f":"IF($A183=\"\",\"\",(VLOOKUP($R183,'Pollutant Loading Rates'!$A$5:$F$12,5,0)*$L183/43560)+IF($R183=\"Forest\",'Pollutant Loading Rates'!E$13*($V183-$L183)/43560,IF($R183=\"Agriculture\",'Pollutant Loading Rates'!E$14*($V183-$L183)/43560,IF($D183=\"RIDOT\",($V183-$L183)/43560*'Pollutant Loading Rates'!E$15,($V183-$L183)/43560*'Pollutant Loading Rates'!E$16))))","v":""},{"$f":"IF($A183=\"\",\"\",(VLOOKUP($R183,'Pollutant Loading Rates'!$A$5:$F$12,6,0)*$L183/43560)+IF($R183=\"Forest\",'Pollutant Loading Rates'!F$13*($V183-$L183)/43560,IF($R183=\"Agriculture\",'Pollutant Loading Rates'!F$14*($V183-$L183)/43560,IF($D183=\"RIDOT\",($V183-$L183)/43560*'Pollutant Loading Rates'!F$15,$V183-$L183)/43560*'Pollutant Loading Rates'!F$16)))","v":""}]
[null,null,null,null,null,null,null,null,null,null,null,null,null,null,null,null,null,null,null,null,null,null,null,{"$f":"IF($A184=\"\",\"\",(VLOOKUP($R184,'Pollutant Loading Rates'!$A$5:$F$12,3,0)*$L184/43560)+IF($R184=\"Forest\",'Pollutant Loading Rates'!C$13*($V184-$L184)/43560,IF($R184=\"Agriculture\",'Pollutant Loading Rates'!C$14*($V184-$L184)/43560,IF($D184=\"RIDOT\",($V184-$L184)/43560*'Pollutant Loading Rates'!C$15,($V184-$L184)/43560*'Pollutant Loading Rates'!C$16))))","v":""},{"$f":"IF($A184=\"\",\"\",(VLOOKUP($R184,'Pollutant Loading Rates'!$A$5:$F$12,4,0)*$L184/43560)+IF($R184=\"Forest\",'Pollutant Loading Rates'!D$13*($V184-$L184)/43560,IF($R184=\"Agriculture\",'Pollutant Loading Rates'!D$14*($V184-$L184)/43560,IF($D184=\"RIDOT\",($V184-$L184)/43560*'Pollutant Loading Rates'!D$15,($V184-$L184)/43560*'Pollutant Loading Rates'!D$16))))","v":""},{"$f":"IF($A184=\"\",\"\",(VLOOKUP($R184,'Pollutant Loading Rates'!$A$5:$F$12,5,0)*$L184/43560)+IF($R184=\"Forest\",'Pollutant Loading Rates'!E$13*($V184-$L184)/43560,IF($R184=\"Agriculture\",'Pollutant Loading Rates'!E$14*($V184-$L184)/43560,IF($D184=\"RIDOT\",($V184-$L184)/43560*'Pollutant Loading Rates'!E$15,($V184-$L184)/43560*'Pollutant Loading Rates'!E$16))))","v":""},{"$f":"IF($A184=\"\",\"\",(VLOOKUP($R184,'Pollutant Loading Rates'!$A$5:$F$12,6,0)*$L184/43560)+IF($R184=\"Forest\",'Pollutant Loading Rates'!F$13*($V184-$L184)/43560,IF($R184=\"Agriculture\",'Pollutant Loading Rates'!F$14*($V184-$L184)/43560,IF($D184=\"RIDOT\",($V184-$L184)/43560*'Pollutant Loading Rates'!F$15,$V184-$L184)/43560*'Pollutant Loading Rates'!F$16)))","v":""}]
[null,null,null,null,null,null,null,null,null,null,null,null,null,null,null,null,null,null,null,null,null,null,null,{"$f":"IF($A185=\"\",\"\",(VLOOKUP($R185,'Pollutant Loading Rates'!$A$5:$F$12,3,0)*$L185/43560)+IF($R185=\"Forest\",'Pollutant Loading Rates'!C$13*($V185-$L185)/43560,IF($R185=\"Agriculture\",'Pollutant Loading Rates'!C$14*($V185-$L185)/43560,IF($D185=\"RIDOT\",($V185-$L185)/43560*'Pollutant Loading Rates'!C$15,($V185-$L185)/43560*'Pollutant Loading Rates'!C$16))))","v":""},{"$f":"IF($A185=\"\",\"\",(VLOOKUP($R185,'Pollutant Loading Rates'!$A$5:$F$12,4,0)*$L185/43560)+IF($R185=\"Forest\",'Pollutant Loading Rates'!D$13*($V185-$L185)/43560,IF($R185=\"Agriculture\",'Pollutant Loading Rates'!D$14*($V185-$L185)/43560,IF($D185=\"RIDOT\",($V185-$L185)/43560*'Pollutant Loading Rates'!D$15,($V185-$L185)/43560*'Pollutant Loading Rates'!D$16))))","v":""},{"$f":"IF($A185=\"\",\"\",(VLOOKUP($R185,'Pollutant Loading Rates'!$A$5:$F$12,5,0)*$L185/43560)+IF($R185=\"Forest\",'Pollutant Loading Rates'!E$13*($V185-$L185)/43560,IF($R185=\"Agriculture\",'Pollutant Loading Rates'!E$14*($V185-$L185)/43560,IF($D185=\"RIDOT\",($V185-$L185)/43560*'Pollutant Loading Rates'!E$15,($V185-$L185)/43560*'Pollutant Loading Rates'!E$16))))","v":""},{"$f":"IF($A185=\"\",\"\",(VLOOKUP($R185,'Pollutant Loading Rates'!$A$5:$F$12,6,0)*$L185/43560)+IF($R185=\"Forest\",'Pollutant Loading Rates'!F$13*($V185-$L185)/43560,IF($R185=\"Agriculture\",'Pollutant Loading Rates'!F$14*($V185-$L185)/43560,IF($D185=\"RIDOT\",($V185-$L185)/43560*'Pollutant Loading Rates'!F$15,$V185-$L185)/43560*'Pollutant Loading Rates'!F$16)))","v":""}]
[null,null,null,null,null,null,null,null,null,null,null,null,null,null,null,null,null,null,null,null,null,null,null,{"$f":"IF($A186=\"\",\"\",(VLOOKUP($R186,'Pollutant Loading Rates'!$A$5:$F$12,3,0)*$L186/43560)+IF($R186=\"Forest\",'Pollutant Loading Rates'!C$13*($V186-$L186)/43560,IF($R186=\"Agriculture\",'Pollutant Loading Rates'!C$14*($V186-$L186)/43560,IF($D186=\"RIDOT\",($V186-$L186)/43560*'Pollutant Loading Rates'!C$15,($V186-$L186)/43560*'Pollutant Loading Rates'!C$16))))","v":""},{"$f":"IF($A186=\"\",\"\",(VLOOKUP($R186,'Pollutant Loading Rates'!$A$5:$F$12,4,0)*$L186/43560)+IF($R186=\"Forest\",'Pollutant Loading Rates'!D$13*($V186-$L186)/43560,IF($R186=\"Agriculture\",'Pollutant Loading Rates'!D$14*($V186-$L186)/43560,IF($D186=\"RIDOT\",($V186-$L186)/43560*'Pollutant Loading Rates'!D$15,($V186-$L186)/43560*'Pollutant Loading Rates'!D$16))))","v":""},{"$f":"IF($A186=\"\",\"\",(VLOOKUP($R186,'Pollutant Loading Rates'!$A$5:$F$12,5,0)*$L186/43560)+IF($R186=\"Forest\",'Pollutant Loading Rates'!E$13*($V186-$L186)/43560,IF($R186=\"Agriculture\",'Pollutant Loading Rates'!E$14*($V186-$L186)/43560,IF($D186=\"RIDOT\",($V186-$L186)/43560*'Pollutant Loading Rates'!E$15,($V186-$L186)/43560*'Pollutant Loading Rates'!E$16))))","v":""},{"$f":"IF($A186=\"\",\"\",(VLOOKUP($R186,'Pollutant Loading Rates'!$A$5:$F$12,6,0)*$L186/43560)+IF($R186=\"Forest\",'Pollutant Loading Rates'!F$13*($V186-$L186)/43560,IF($R186=\"Agriculture\",'Pollutant Loading Rates'!F$14*($V186-$L186)/43560,IF($D186=\"RIDOT\",($V186-$L186)/43560*'Pollutant Loading Rates'!F$15,$V186-$L186)/43560*'Pollutant Loading Rates'!F$16)))","v":""}]
[null,null,null,null,null,null,null,null,null,null,null,null,null,null,null,null,null,null,null,null,null,null,null,{"$f":"IF($A187=\"\",\"\",(VLOOKUP($R187,'Pollutant Loading Rates'!$A$5:$F$12,3,0)*$L187/43560)+IF($R187=\"Forest\",'Pollutant Loading Rates'!C$13*($V187-$L187)/43560,IF($R187=\"Agriculture\",'Pollutant Loading Rates'!C$14*($V187-$L187)/43560,IF($D187=\"RIDOT\",($V187-$L187)/43560*'Pollutant Loading Rates'!C$15,($V187-$L187)/43560*'Pollutant Loading Rates'!C$16))))","v":""},{"$f":"IF($A187=\"\",\"\",(VLOOKUP($R187,'Pollutant Loading Rates'!$A$5:$F$12,4,0)*$L187/43560)+IF($R187=\"Forest\",'Pollutant Loading Rates'!D$13*($V187-$L187)/43560,IF($R187=\"Agriculture\",'Pollutant Loading Rates'!D$14*($V187-$L187)/43560,IF($D187=\"RIDOT\",($V187-$L187)/43560*'Pollutant Loading Rates'!D$15,($V187-$L187)/43560*'Pollutant Loading Rates'!D$16))))","v":""},{"$f":"IF($A187=\"\",\"\",(VLOOKUP($R187,'Pollutant Loading Rates'!$A$5:$F$12,5,0)*$L187/43560)+IF($R187=\"Forest\",'Pollutant Loading Rates'!E$13*($V187-$L187)/43560,IF($R187=\"Agriculture\",'Pollutant Loading Rates'!E$14*($V187-$L187)/43560,IF($D187=\"RIDOT\",($V187-$L187)/43560*'Pollutant Loading Rates'!E$15,($V187-$L187)/43560*'Pollutant Loading Rates'!E$16))))","v":""},{"$f":"IF($A187=\"\",\"\",(VLOOKUP($R187,'Pollutant Loading Rates'!$A$5:$F$12,6,0)*$L187/43560)+IF($R187=\"Forest\",'Pollutant Loading Rates'!F$13*($V187-$L187)/43560,IF($R187=\"Agriculture\",'Pollutant Loading Rates'!F$14*($V187-$L187)/43560,IF($D187=\"RIDOT\",($V187-$L187)/43560*'Pollutant Loading Rates'!F$15,$V187-$L187)/43560*'Pollutant Loading Rates'!F$16)))","v":""}]
[null,null,null,null,null,null,null,null,null,null,null,null,null,null,null,null,null,null,null,null,null,null,null,{"$f":"IF($A188=\"\",\"\",(VLOOKUP($R188,'Pollutant Loading Rates'!$A$5:$F$12,3,0)*$L188/43560)+IF($R188=\"Forest\",'Pollutant Loading Rates'!C$13*($V188-$L188)/43560,IF($R188=\"Agriculture\",'Pollutant Loading Rates'!C$14*($V188-$L188)/43560,IF($D188=\"RIDOT\",($V188-$L188)/43560*'Pollutant Loading Rates'!C$15,($V188-$L188)/43560*'Pollutant Loading Rates'!C$16))))","v":""},{"$f":"IF($A188=\"\",\"\",(VLOOKUP($R188,'Pollutant Loading Rates'!$A$5:$F$12,4,0)*$L188/43560)+IF($R188=\"Forest\",'Pollutant Loading Rates'!D$13*($V188-$L188)/43560,IF($R188=\"Agriculture\",'Pollutant Loading Rates'!D$14*($V188-$L188)/43560,IF($D188=\"RIDOT\",($V188-$L188)/43560*'Pollutant Loading Rates'!D$15,($V188-$L188)/43560*'Pollutant Loading Rates'!D$16))))","v":""},{"$f":"IF($A188=\"\",\"\",(VLOOKUP($R188,'Pollutant Loading Rates'!$A$5:$F$12,5,0)*$L188/43560)+IF($R188=\"Forest\",'Pollutant Loading Rates'!E$13*($V188-$L188)/43560,IF($R188=\"Agriculture\",'Pollutant Loading Rates'!E$14*($V188-$L188)/43560,IF($D188=\"RIDOT\",($V188-$L188)/43560*'Pollutant Loading Rates'!E$15,($V188-$L188)/43560*'Pollutant Loading Rates'!E$16))))","v":""},{"$f":"IF($A188=\"\",\"\",(VLOOKUP($R188,'Pollutant Loading Rates'!$A$5:$F$12,6,0)*$L188/43560)+IF($R188=\"Forest\",'Pollutant Loading Rates'!F$13*($V188-$L188)/43560,IF($R188=\"Agriculture\",'Pollutant Loading Rates'!F$14*($V188-$L188)/43560,IF($D188=\"RIDOT\",($V188-$L188)/43560*'Pollutant Loading Rates'!F$15,$V188-$L188)/43560*'Pollutant Loading Rates'!F$16)))","v":""}]
[null,null,null,null,null,null,null,null,null,null,null,null,null,null,null,null,null,null,null,null,null,null,null,{"$f":"IF($A189=\"\",\"\",(VLOOKUP($R189,'Pollutant Loading Rates'!$A$5:$F$12,3,0)*$L189/43560)+IF($R189=\"Forest\",'Pollutant Loading Rates'!C$13*($V189-$L189)/43560,IF($R189=\"Agriculture\",'Pollutant Loading Rates'!C$14*($V189-$L189)/43560,IF($D189=\"RIDOT\",($V189-$L189)/43560*'Pollutant Loading Rates'!C$15,($V189-$L189)/43560*'Pollutant Loading Rates'!C$16))))","v":""},{"$f":"IF($A189=\"\",\"\",(VLOOKUP($R189,'Pollutant Loading Rates'!$A$5:$F$12,4,0)*$L189/43560)+IF($R189=\"Forest\",'Pollutant Loading Rates'!D$13*($V189-$L189)/43560,IF($R189=\"Agriculture\",'Pollutant Loading Rates'!D$14*($V189-$L189)/43560,IF($D189=\"RIDOT\",($V189-$L189)/43560*'Pollutant Loading Rates'!D$15,($V189-$L189)/43560*'Pollutant Loading Rates'!D$16))))","v":""},{"$f":"IF($A189=\"\",\"\",(VLOOKUP($R189,'Pollutant Loading Rates'!$A$5:$F$12,5,0)*$L189/43560)+IF($R189=\"Forest\",'Pollutant Loading Rates'!E$13*($V189-$L189)/43560,IF($R189=\"Agriculture\",'Pollutant Loading Rates'!E$14*($V189-$L189)/43560,IF($D189=\"RIDOT\",($V189-$L189)/43560*'Pollutant Loading Rates'!E$15,($V189-$L189)/43560*'Pollutant Loading Rates'!E$16))))","v":""},{"$f":"IF($A189=\"\",\"\",(VLOOKUP($R189,'Pollutant Loading Rates'!$A$5:$F$12,6,0)*$L189/43560)+IF($R189=\"Forest\",'Pollutant Loading Rates'!F$13*($V189-$L189)/43560,IF($R189=\"Agriculture\",'Pollutant Loading Rates'!F$14*($V189-$L189)/43560,IF($D189=\"RIDOT\",($V189-$L189)/43560*'Pollutant Loading Rates'!F$15,$V189-$L189)/43560*'Pollutant Loading Rates'!F$16)))","v":""}]
[null,null,null,null,null,null,null,null,null,null,null,null,null,null,null,null,null,null,null,null,null,null,null,{"$f":"IF($A190=\"\",\"\",(VLOOKUP($R190,'Pollutant Loading Rates'!$A$5:$F$12,3,0)*$L190/43560)+IF($R190=\"Forest\",'Pollutant Loading Rates'!C$13*($V190-$L190)/43560,IF($R190=\"Agriculture\",'Pollutant Loading Rates'!C$14*($V190-$L190)/43560,IF($D190=\"RIDOT\",($V190-$L190)/43560*'Pollutant Loading Rates'!C$15,($V190-$L190)/43560*'Pollutant Loading Rates'!C$16))))","v":""},{"$f":"IF($A190=\"\",\"\",(VLOOKUP($R190,'Pollutant Loading Rates'!$A$5:$F$12,4,0)*$L190/43560)+IF($R190=\"Forest\",'Pollutant Loading Rates'!D$13*($V190-$L190)/43560,IF($R190=\"Agriculture\",'Pollutant Loading Rates'!D$14*($V190-$L190)/43560,IF($D190=\"RIDOT\",($V190-$L190)/43560*'Pollutant Loading Rates'!D$15,($V190-$L190)/43560*'Pollutant Loading Rates'!D$16))))","v":""},{"$f":"IF($A190=\"\",\"\",(VLOOKUP($R190,'Pollutant Loading Rates'!$A$5:$F$12,5,0)*$L190/43560)+IF($R190=\"Forest\",'Pollutant Loading Rates'!E$13*($V190-$L190)/43560,IF($R190=\"Agriculture\",'Pollutant Loading Rates'!E$14*($V190-$L190)/43560,IF($D190=\"RIDOT\",($V190-$L190)/43560*'Pollutant Loading Rates'!E$15,($V190-$L190)/43560*'Pollutant Loading Rates'!E$16))))","v":""},{"$f":"IF($A190=\"\",\"\",(VLOOKUP($R190,'Pollutant Loading Rates'!$A$5:$F$12,6,0)*$L190/43560)+IF($R190=\"Forest\",'Pollutant Loading Rates'!F$13*($V190-$L190)/43560,IF($R190=\"Agriculture\",'Pollutant Loading Rates'!F$14*($V190-$L190)/43560,IF($D190=\"RIDOT\",($V190-$L190)/43560*'Pollutant Loading Rates'!F$15,$V190-$L190)/43560*'Pollutant Loading Rates'!F$16)))","v":""}]
[null,null,null,null,null,null,null,null,null,null,null,null,null,null,null,null,null,null,null,null,null,null,null,{"$f":"IF($A191=\"\",\"\",(VLOOKUP($R191,'Pollutant Loading Rates'!$A$5:$F$12,3,0)*$L191/43560)+IF($R191=\"Forest\",'Pollutant Loading Rates'!C$13*($V191-$L191)/43560,IF($R191=\"Agriculture\",'Pollutant Loading Rates'!C$14*($V191-$L191)/43560,IF($D191=\"RIDOT\",($V191-$L191)/43560*'Pollutant Loading Rates'!C$15,($V191-$L191)/43560*'Pollutant Loading Rates'!C$16))))","v":""},{"$f":"IF($A191=\"\",\"\",(VLOOKUP($R191,'Pollutant Loading Rates'!$A$5:$F$12,4,0)*$L191/43560)+IF($R191=\"Forest\",'Pollutant Loading Rates'!D$13*($V191-$L191)/43560,IF($R191=\"Agriculture\",'Pollutant Loading Rates'!D$14*($V191-$L191)/43560,IF($D191=\"RIDOT\",($V191-$L191)/43560*'Pollutant Loading Rates'!D$15,($V191-$L191)/43560*'Pollutant Loading Rates'!D$16))))","v":""},{"$f":"IF($A191=\"\",\"\",(VLOOKUP($R191,'Pollutant Loading Rates'!$A$5:$F$12,5,0)*$L191/43560)+IF($R191=\"Forest\",'Pollutant Loading Rates'!E$13*($V191-$L191)/43560,IF($R191=\"Agriculture\",'Pollutant Loading Rates'!E$14*($V191-$L191)/43560,IF($D191=\"RIDOT\",($V191-$L191)/43560*'Pollutant Loading Rates'!E$15,($V191-$L191)/43560*'Pollutant Loading Rates'!E$16))))","v":""},{"$f":"IF($A191=\"\",\"\",(VLOOKUP($R191,'Pollutant Loading Rates'!$A$5:$F$12,6,0)*$L191/43560)+IF($R191=\"Forest\",'Pollutant Loading Rates'!F$13*($V191-$L191)/43560,IF($R191=\"Agriculture\",'Pollutant Loading Rates'!F$14*($V191-$L191)/43560,IF($D191=\"RIDOT\",($V191-$L191)/43560*'Pollutant Loading Rates'!F$15,$V191-$L191)/43560*'Pollutant Loading Rates'!F$16)))","v":""}]
[null,null,null,null,null,null,null,null,null,null,null,null,null,null,null,null,null,null,null,null,null,null,null,{"$f":"IF($A192=\"\",\"\",(VLOOKUP($R192,'Pollutant Loading Rates'!$A$5:$F$12,3,0)*$L192/43560)+IF($R192=\"Forest\",'Pollutant Loading Rates'!C$13*($V192-$L192)/43560,IF($R192=\"Agriculture\",'Pollutant Loading Rates'!C$14*($V192-$L192)/43560,IF($D192=\"RIDOT\",($V192-$L192)/43560*'Pollutant Loading Rates'!C$15,($V192-$L192)/43560*'Pollutant Loading Rates'!C$16))))","v":""},{"$f":"IF($A192=\"\",\"\",(VLOOKUP($R192,'Pollutant Loading Rates'!$A$5:$F$12,4,0)*$L192/43560)+IF($R192=\"Forest\",'Pollutant Loading Rates'!D$13*($V192-$L192)/43560,IF($R192=\"Agriculture\",'Pollutant Loading Rates'!D$14*($V192-$L192)/43560,IF($D192=\"RIDOT\",($V192-$L192)/43560*'Pollutant Loading Rates'!D$15,($V192-$L192)/43560*'Pollutant Loading Rates'!D$16))))","v":""},{"$f":"IF($A192=\"\",\"\",(VLOOKUP($R192,'Pollutant Loading Rates'!$A$5:$F$12,5,0)*$L192/43560)+IF($R192=\"Forest\",'Pollutant Loading Rates'!E$13*($V192-$L192)/43560,IF($R192=\"Agriculture\",'Pollutant Loading Rates'!E$14*($V192-$L192)/43560,IF($D192=\"RIDOT\",($V192-$L192)/43560*'Pollutant Loading Rates'!E$15,($V192-$L192)/43560*'Pollutant Loading Rates'!E$16))))","v":""},{"$f":"IF($A192=\"\",\"\",(VLOOKUP($R192,'Pollutant Loading Rates'!$A$5:$F$12,6,0)*$L192/43560)+IF($R192=\"Forest\",'Pollutant Loading Rates'!F$13*($V192-$L192)/43560,IF($R192=\"Agriculture\",'Pollutant Loading Rates'!F$14*($V192-$L192)/43560,IF($D192=\"RIDOT\",($V192-$L192)/43560*'Pollutant Loading Rates'!F$15,$V192-$L192)/43560*'Pollutant Loading Rates'!F$16)))","v":""}]
[null,null,null,null,null,null,null,null,null,null,null,null,null,null,null,null,null,null,null,null,null,null,null,{"$f":"IF($A193=\"\",\"\",(VLOOKUP($R193,'Pollutant Loading Rates'!$A$5:$F$12,3,0)*$L193/43560)+IF($R193=\"Forest\",'Pollutant Loading Rates'!C$13*($V193-$L193)/43560,IF($R193=\"Agriculture\",'Pollutant Loading Rates'!C$14*($V193-$L193)/43560,IF($D193=\"RIDOT\",($V193-$L193)/43560*'Pollutant Loading Rates'!C$15,($V193-$L193)/43560*'Pollutant Loading Rates'!C$16))))","v":""},{"$f":"IF($A193=\"\",\"\",(VLOOKUP($R193,'Pollutant Loading Rates'!$A$5:$F$12,4,0)*$L193/43560)+IF($R193=\"Forest\",'Pollutant Loading Rates'!D$13*($V193-$L193)/43560,IF($R193=\"Agriculture\",'Pollutant Loading Rates'!D$14*($V193-$L193)/43560,IF($D193=\"RIDOT\",($V193-$L193)/43560*'Pollutant Loading Rates'!D$15,($V193-$L193)/43560*'Pollutant Loading Rates'!D$16))))","v":""},{"$f":"IF($A193=\"\",\"\",(VLOOKUP($R193,'Pollutant Loading Rates'!$A$5:$F$12,5,0)*$L193/43560)+IF($R193=\"Forest\",'Pollutant Loading Rates'!E$13*($V193-$L193)/43560,IF($R193=\"Agriculture\",'Pollutant Loading Rates'!E$14*($V193-$L193)/43560,IF($D193=\"RIDOT\",($V193-$L193)/43560*'Pollutant Loading Rates'!E$15,($V193-$L193)/43560*'Pollutant Loading Rates'!E$16))))","v":""},{"$f":"IF($A193=\"\",\"\",(VLOOKUP($R193,'Pollutant Loading Rates'!$A$5:$F$12,6,0)*$L193/43560)+IF($R193=\"Forest\",'Pollutant Loading Rates'!F$13*($V193-$L193)/43560,IF($R193=\"Agriculture\",'Pollutant Loading Rates'!F$14*($V193-$L193)/43560,IF($D193=\"RIDOT\",($V193-$L193)/43560*'Pollutant Loading Rates'!F$15,$V193-$L193)/43560*'Pollutant Loading Rates'!F$16)))","v":""}]
[null,null,null,null,null,null,null,null,null,null,null,null,null,null,null,null,null,null,null,null,null,null,null,{"$f":"IF($A194=\"\",\"\",(VLOOKUP($R194,'Pollutant Loading Rates'!$A$5:$F$12,3,0)*$L194/43560)+IF($R194=\"Forest\",'Pollutant Loading Rates'!C$13*($V194-$L194)/43560,IF($R194=\"Agriculture\",'Pollutant Loading Rates'!C$14*($V194-$L194)/43560,IF($D194=\"RIDOT\",($V194-$L194)/43560*'Pollutant Loading Rates'!C$15,($V194-$L194)/43560*'Pollutant Loading Rates'!C$16))))","v":""},{"$f":"IF($A194=\"\",\"\",(VLOOKUP($R194,'Pollutant Loading Rates'!$A$5:$F$12,4,0)*$L194/43560)+IF($R194=\"Forest\",'Pollutant Loading Rates'!D$13*($V194-$L194)/43560,IF($R194=\"Agriculture\",'Pollutant Loading Rates'!D$14*($V194-$L194)/43560,IF($D194=\"RIDOT\",($V194-$L194)/43560*'Pollutant Loading Rates'!D$15,($V194-$L194)/43560*'Pollutant Loading Rates'!D$16))))","v":""},{"$f":"IF($A194=\"\",\"\",(VLOOKUP($R194,'Pollutant Loading Rates'!$A$5:$F$12,5,0)*$L194/43560)+IF($R194=\"Forest\",'Pollutant Loading Rates'!E$13*($V194-$L194)/43560,IF($R194=\"Agriculture\",'Pollutant Loading Rates'!E$14*($V194-$L194)/43560,IF($D194=\"RIDOT\",($V194-$L194)/43560*'Pollutant Loading Rates'!E$15,($V194-$L194)/43560*'Pollutant Loading Rates'!E$16))))","v":""},{"$f":"IF($A194=\"\",\"\",(VLOOKUP($R194,'Pollutant Loading Rates'!$A$5:$F$12,6,0)*$L194/43560)+IF($R194=\"Forest\",'Pollutant Loading Rates'!F$13*($V194-$L194)/43560,IF($R194=\"Agriculture\",'Pollutant Loading Rates'!F$14*($V194-$L194)/43560,IF($D194=\"RIDOT\",($V194-$L194)/43560*'Pollutant Loading Rates'!F$15,$V194-$L194)/43560*'Pollutant Loading Rates'!F$16)))","v":""}]
[null,null,null,null,null,null,null,null,null,null,null,null,null,null,null,null,null,null,null,null,null,null,null,{"$f":"IF($A195=\"\",\"\",(VLOOKUP($R195,'Pollutant Loading Rates'!$A$5:$F$12,3,0)*$L195/43560)+IF($R195=\"Forest\",'Pollutant Loading Rates'!C$13*($V195-$L195)/43560,IF($R195=\"Agriculture\",'Pollutant Loading Rates'!C$14*($V195-$L195)/43560,IF($D195=\"RIDOT\",($V195-$L195)/43560*'Pollutant Loading Rates'!C$15,($V195-$L195)/43560*'Pollutant Loading Rates'!C$16))))","v":""},{"$f":"IF($A195=\"\",\"\",(VLOOKUP($R195,'Pollutant Loading Rates'!$A$5:$F$12,4,0)*$L195/43560)+IF($R195=\"Forest\",'Pollutant Loading Rates'!D$13*($V195-$L195)/43560,IF($R195=\"Agriculture\",'Pollutant Loading Rates'!D$14*($V195-$L195)/43560,IF($D195=\"RIDOT\",($V195-$L195)/43560*'Pollutant Loading Rates'!D$15,($V195-$L195)/43560*'Pollutant Loading Rates'!D$16))))","v":""},{"$f":"IF($A195=\"\",\"\",(VLOOKUP($R195,'Pollutant Loading Rates'!$A$5:$F$12,5,0)*$L195/43560)+IF($R195=\"Forest\",'Pollutant Loading Rates'!E$13*($V195-$L195)/43560,IF($R195=\"Agriculture\",'Pollutant Loading Rates'!E$14*($V195-$L195)/43560,IF($D195=\"RIDOT\",($V195-$L195)/43560*'Pollutant Loading Rates'!E$15,($V195-$L195)/43560*'Pollutant Loading Rates'!E$16))))","v":""},{"$f":"IF($A195=\"\",\"\",(VLOOKUP($R195,'Pollutant Loading Rates'!$A$5:$F$12,6,0)*$L195/43560)+IF($R195=\"Forest\",'Pollutant Loading Rates'!F$13*($V195-$L195)/43560,IF($R195=\"Agriculture\",'Pollutant Loading Rates'!F$14*($V195-$L195)/43560,IF($D195=\"RIDOT\",($V195-$L195)/43560*'Pollutant Loading Rates'!F$15,$V195-$L195)/43560*'Pollutant Loading Rates'!F$16)))","v":""}]
[null,null,null,null,null,null,null,null,null,null,null,null,null,null,null,null,null,null,null,null,null,null,null,{"$f":"IF($A196=\"\",\"\",(VLOOKUP($R196,'Pollutant Loading Rates'!$A$5:$F$12,3,0)*$L196/43560)+IF($R196=\"Forest\",'Pollutant Loading Rates'!C$13*($V196-$L196)/43560,IF($R196=\"Agriculture\",'Pollutant Loading Rates'!C$14*($V196-$L196)/43560,IF($D196=\"RIDOT\",($V196-$L196)/43560*'Pollutant Loading Rates'!C$15,($V196-$L196)/43560*'Pollutant Loading Rates'!C$16))))","v":""},{"$f":"IF($A196=\"\",\"\",(VLOOKUP($R196,'Pollutant Loading Rates'!$A$5:$F$12,4,0)*$L196/43560)+IF($R196=\"Forest\",'Pollutant Loading Rates'!D$13*($V196-$L196)/43560,IF($R196=\"Agriculture\",'Pollutant Loading Rates'!D$14*($V196-$L196)/43560,IF($D196=\"RIDOT\",($V196-$L196)/43560*'Pollutant Loading Rates'!D$15,($V196-$L196)/43560*'Pollutant Loading Rates'!D$16))))","v":""},{"$f":"IF($A196=\"\",\"\",(VLOOKUP($R196,'Pollutant Loading Rates'!$A$5:$F$12,5,0)*$L196/43560)+IF($R196=\"Forest\",'Pollutant Loading Rates'!E$13*($V196-$L196)/43560,IF($R196=\"Agriculture\",'Pollutant Loading Rates'!E$14*($V196-$L196)/43560,IF($D196=\"RIDOT\",($V196-$L196)/43560*'Pollutant Loading Rates'!E$15,($V196-$L196)/43560*'Pollutant Loading Rates'!E$16))))","v":""},{"$f":"IF($A196=\"\",\"\",(VLOOKUP($R196,'Pollutant Loading Rates'!$A$5:$F$12,6,0)*$L196/43560)+IF($R196=\"Forest\",'Pollutant Loading Rates'!F$13*($V196-$L196)/43560,IF($R196=\"Agriculture\",'Pollutant Loading Rates'!F$14*($V196-$L196)/43560,IF($D196=\"RIDOT\",($V196-$L196)/43560*'Pollutant Loading Rates'!F$15,$V196-$L196)/43560*'Pollutant Loading Rates'!F$16)))","v":""}]
[null,null,null,null,null,null,null,null,null,null,null,null,null,null,null,null,null,null,null,null,null,null,null,{"$f":"IF($A197=\"\",\"\",(VLOOKUP($R197,'Pollutant Loading Rates'!$A$5:$F$12,3,0)*$L197/43560)+IF($R197=\"Forest\",'Pollutant Loading Rates'!C$13*($V197-$L197)/43560,IF($R197=\"Agriculture\",'Pollutant Loading Rates'!C$14*($V197-$L197)/43560,IF($D197=\"RIDOT\",($V197-$L197)/43560*'Pollutant Loading Rates'!C$15,($V197-$L197)/43560*'Pollutant Loading Rates'!C$16))))","v":""},{"$f":"IF($A197=\"\",\"\",(VLOOKUP($R197,'Pollutant Loading Rates'!$A$5:$F$12,4,0)*$L197/43560)+IF($R197=\"Forest\",'Pollutant Loading Rates'!D$13*($V197-$L197)/43560,IF($R197=\"Agriculture\",'Pollutant Loading Rates'!D$14*($V197-$L197)/43560,IF($D197=\"RIDOT\",($V197-$L197)/43560*'Pollutant Loading Rates'!D$15,($V197-$L197)/43560*'Pollutant Loading Rates'!D$16))))","v":""},{"$f":"IF($A197=\"\",\"\",(VLOOKUP($R197,'Pollutant Loading Rates'!$A$5:$F$12,5,0)*$L197/43560)+IF($R197=\"Forest\",'Pollutant Loading Rates'!E$13*($V197-$L197)/43560,IF($R197=\"Agriculture\",'Pollutant Loading Rates'!E$14*($V197-$L197)/43560,IF($D197=\"RIDOT\",($V197-$L197)/43560*'Pollutant Loading Rates'!E$15,($V197-$L197)/43560*'Pollutant Loading Rates'!E$16))))","v":""},{"$f":"IF($A197=\"\",\"\",(VLOOKUP($R197,'Pollutant Loading Rates'!$A$5:$F$12,6,0)*$L197/43560)+IF($R197=\"Forest\",'Pollutant Loading Rates'!F$13*($V197-$L197)/43560,IF($R197=\"Agriculture\",'Pollutant Loading Rates'!F$14*($V197-$L197)/43560,IF($D197=\"RIDOT\",($V197-$L197)/43560*'Pollutant Loading Rates'!F$15,$V197-$L197)/43560*'Pollutant Loading Rates'!F$16)))","v":""}]
[null,null,null,null,null,null,null,null,null,null,null,null,null,null,null,null,null,null,null,null,null,null,null,{"$f":"IF($A198=\"\",\"\",(VLOOKUP($R198,'Pollutant Loading Rates'!$A$5:$F$12,3,0)*$L198/43560)+IF($R198=\"Forest\",'Pollutant Loading Rates'!C$13*($V198-$L198)/43560,IF($R198=\"Agriculture\",'Pollutant Loading Rates'!C$14*($V198-$L198)/43560,IF($D198=\"RIDOT\",($V198-$L198)/43560*'Pollutant Loading Rates'!C$15,($V198-$L198)/43560*'Pollutant Loading Rates'!C$16))))","v":""},{"$f":"IF($A198=\"\",\"\",(VLOOKUP($R198,'Pollutant Loading Rates'!$A$5:$F$12,4,0)*$L198/43560)+IF($R198=\"Forest\",'Pollutant Loading Rates'!D$13*($V198-$L198)/43560,IF($R198=\"Agriculture\",'Pollutant Loading Rates'!D$14*($V198-$L198)/43560,IF($D198=\"RIDOT\",($V198-$L198)/43560*'Pollutant Loading Rates'!D$15,($V198-$L198)/43560*'Pollutant Loading Rates'!D$16))))","v":""},{"$f":"IF($A198=\"\",\"\",(VLOOKUP($R198,'Pollutant Loading Rates'!$A$5:$F$12,5,0)*$L198/43560)+IF($R198=\"Forest\",'Pollutant Loading Rates'!E$13*($V198-$L198)/43560,IF($R198=\"Agriculture\",'Pollutant Loading Rates'!E$14*($V198-$L198)/43560,IF($D198=\"RIDOT\",($V198-$L198)/43560*'Pollutant Loading Rates'!E$15,($V198-$L198)/43560*'Pollutant Loading Rates'!E$16))))","v":""},{"$f":"IF($A198=\"\",\"\",(VLOOKUP($R198,'Pollutant Loading Rates'!$A$5:$F$12,6,0)*$L198/43560)+IF($R198=\"Forest\",'Pollutant Loading Rates'!F$13*($V198-$L198)/43560,IF($R198=\"Agriculture\",'Pollutant Loading Rates'!F$14*($V198-$L198)/43560,IF($D198=\"RIDOT\",($V198-$L198)/43560*'Pollutant Loading Rates'!F$15,$V198-$L198)/43560*'Pollutant Loading Rates'!F$16)))","v":""}]
[null,null,null,null,null,null,null,null,null,null,null,null,null,null,null,null,null,null,null,null,null,null,null,{"$f":"IF($A199=\"\",\"\",(VLOOKUP($R199,'Pollutant Loading Rates'!$A$5:$F$12,3,0)*$L199/43560)+IF($R199=\"Forest\",'Pollutant Loading Rates'!C$13*($V199-$L199)/43560,IF($R199=\"Agriculture\",'Pollutant Loading Rates'!C$14*($V199-$L199)/43560,IF($D199=\"RIDOT\",($V199-$L199)/43560*'Pollutant Loading Rates'!C$15,($V199-$L199)/43560*'Pollutant Loading Rates'!C$16))))","v":""},{"$f":"IF($A199=\"\",\"\",(VLOOKUP($R199,'Pollutant Loading Rates'!$A$5:$F$12,4,0)*$L199/43560)+IF($R199=\"Forest\",'Pollutant Loading Rates'!D$13*($V199-$L199)/43560,IF($R199=\"Agriculture\",'Pollutant Loading Rates'!D$14*($V199-$L199)/43560,IF($D199=\"RIDOT\",($V199-$L199)/43560*'Pollutant Loading Rates'!D$15,($V199-$L199)/43560*'Pollutant Loading Rates'!D$16))))","v":""},{"$f":"IF($A199=\"\",\"\",(VLOOKUP($R199,'Pollutant Loading Rates'!$A$5:$F$12,5,0)*$L199/43560)+IF($R199=\"Forest\",'Pollutant Loading Rates'!E$13*($V199-$L199)/43560,IF($R199=\"Agriculture\",'Pollutant Loading Rates'!E$14*($V199-$L199)/43560,IF($D199=\"RIDOT\",($V199-$L199)/43560*'Pollutant Loading Rates'!E$15,($V199-$L199)/43560*'Pollutant Loading Rates'!E$16))))","v":""},{"$f":"IF($A199=\"\",\"\",(VLOOKUP($R199,'Pollutant Loading Rates'!$A$5:$F$12,6,0)*$L199/43560)+IF($R199=\"Forest\",'Pollutant Loading Rates'!F$13*($V199-$L199)/43560,IF($R199=\"Agriculture\",'Pollutant Loading Rates'!F$14*($V199-$L199)/43560,IF($D199=\"RIDOT\",($V199-$L199)/43560*'Pollutant Loading Rates'!F$15,$V199-$L199)/43560*'Pollutant Loading Rates'!F$16)))","v":""}]
[null,null,null,null,null,null,null,null,null,null,null,null,null,null,null,null,null,null,null,null,null,null,null,{"$f":"IF($A200=\"\",\"\",(VLOOKUP($R200,'Pollutant Loading Rates'!$A$5:$F$12,3,0)*$L200/43560)+IF($R200=\"Forest\",'Pollutant Loading Rates'!C$13*($V200-$L200)/43560,IF($R200=\"Agriculture\",'Pollutant Loading Rates'!C$14*($V200-$L200)/43560,IF($D200=\"RIDOT\",($V200-$L200)/43560*'Pollutant Loading Rates'!C$15,($V200-$L200)/43560*'Pollutant Loading Rates'!C$16))))","v":""},{"$f":"IF($A200=\"\",\"\",(VLOOKUP($R200,'Pollutant Loading Rates'!$A$5:$F$12,4,0)*$L200/43560)+IF($R200=\"Forest\",'Pollutant Loading Rates'!D$13*($V200-$L200)/43560,IF($R200=\"Agriculture\",'Pollutant Loading Rates'!D$14*($V200-$L200)/43560,IF($D200=\"RIDOT\",($V200-$L200)/43560*'Pollutant Loading Rates'!D$15,($V200-$L200)/43560*'Pollutant Loading Rates'!D$16))))","v":""},{"$f":"IF($A200=\"\",\"\",(VLOOKUP($R200,'Pollutant Loading Rates'!$A$5:$F$12,5,0)*$L200/43560)+IF($R200=\"Forest\",'Pollutant Loading Rates'!E$13*($V200-$L200)/43560,IF($R200=\"Agriculture\",'Pollutant Loading Rates'!E$14*($V200-$L200)/43560,IF($D200=\"RIDOT\",($V200-$L200)/43560*'Pollutant Loading Rates'!E$15,($V200-$L200)/43560*'Pollutant Loading Rates'!E$16))))","v":""},{"$f":"IF($A200=\"\",\"\",(VLOOKUP($R200,'Pollutant Loading Rates'!$A$5:$F$12,6,0)*$L200/43560)+IF($R200=\"Forest\",'Pollutant Loading Rates'!F$13*($V200-$L200)/43560,IF($R200=\"Agriculture\",'Pollutant Loading Rates'!F$14*($V200-$L200)/43560,IF($D200=\"RIDOT\",($V200-$L200)/43560*'Pollutant Loading Rates'!F$15,$V200-$L200)/43560*'Pollutant Loading Rates'!F$16)))","v":""}]
[null,null,null,null,null,null,null,null,null,null,null,null,null,null,null,null,null,null,null,null,null,null,null,{"$f":"IF($A201=\"\",\"\",(VLOOKUP($R201,'Pollutant Loading Rates'!$A$5:$F$12,3,0)*$L201/43560)+IF($R201=\"Forest\",'Pollutant Loading Rates'!C$13*($V201-$L201)/43560,IF($R201=\"Agriculture\",'Pollutant Loading Rates'!C$14*($V201-$L201)/43560,IF($D201=\"RIDOT\",($V201-$L201)/43560*'Pollutant Loading Rates'!C$15,($V201-$L201)/43560*'Pollutant Loading Rates'!C$16))))","v":""},{"$f":"IF($A201=\"\",\"\",(VLOOKUP($R201,'Pollutant Loading Rates'!$A$5:$F$12,4,0)*$L201/43560)+IF($R201=\"Forest\",'Pollutant Loading Rates'!D$13*($V201-$L201)/43560,IF($R201=\"Agriculture\",'Pollutant Loading Rates'!D$14*($V201-$L201)/43560,IF($D201=\"RIDOT\",($V201-$L201)/43560*'Pollutant Loading Rates'!D$15,($V201-$L201)/43560*'Pollutant Loading Rates'!D$16))))","v":""},{"$f":"IF($A201=\"\",\"\",(VLOOKUP($R201,'Pollutant Loading Rates'!$A$5:$F$12,5,0)*$L201/43560)+IF($R201=\"Forest\",'Pollutant Loading Rates'!E$13*($V201-$L201)/43560,IF($R201=\"Agriculture\",'Pollutant Loading Rates'!E$14*($V201-$L201)/43560,IF($D201=\"RIDOT\",($V201-$L201)/43560*'Pollutant Loading Rates'!E$15,($V201-$L201)/43560*'Pollutant Loading Rates'!E$16))))","v":""},{"$f":"IF($A201=\"\",\"\",(VLOOKUP($R201,'Pollutant Loading Rates'!$A$5:$F$12,6,0)*$L201/43560)+IF($R201=\"Forest\",'Pollutant Loading Rates'!F$13*($V201-$L201)/43560,IF($R201=\"Agriculture\",'Pollutant Loading Rates'!F$14*($V201-$L201)/43560,IF($D201=\"RIDOT\",($V201-$L201)/43560*'Pollutant Loading Rates'!F$15,$V201-$L201)/43560*'Pollutant Loading Rates'!F$16)))","v":""}]
[null,null,null,null,null,null,null,null,null,null,null,null,null,null,null,null,null,null,null,null,null,null,null,{"$f":"IF($A202=\"\",\"\",(VLOOKUP($R202,'Pollutant Loading Rates'!$A$5:$F$12,3,0)*$L202/43560)+IF($R202=\"Forest\",'Pollutant Loading Rates'!C$13*($V202-$L202)/43560,IF($R202=\"Agriculture\",'Pollutant Loading Rates'!C$14*($V202-$L202)/43560,IF($D202=\"RIDOT\",($V202-$L202)/43560*'Pollutant Loading Rates'!C$15,($V202-$L202)/43560*'Pollutant Loading Rates'!C$16))))","v":""},{"$f":"IF($A202=\"\",\"\",(VLOOKUP($R202,'Pollutant Loading Rates'!$A$5:$F$12,4,0)*$L202/43560)+IF($R202=\"Forest\",'Pollutant Loading Rates'!D$13*($V202-$L202)/43560,IF($R202=\"Agriculture\",'Pollutant Loading Rates'!D$14*($V202-$L202)/43560,IF($D202=\"RIDOT\",($V202-$L202)/43560*'Pollutant Loading Rates'!D$15,($V202-$L202)/43560*'Pollutant Loading Rates'!D$16))))","v":""},{"$f":"IF($A202=\"\",\"\",(VLOOKUP($R202,'Pollutant Loading Rates'!$A$5:$F$12,5,0)*$L202/43560)+IF($R202=\"Forest\",'Pollutant Loading Rates'!E$13*($V202-$L202)/43560,IF($R202=\"Agriculture\",'Pollutant Loading Rates'!E$14*($V202-$L202)/43560,IF($D202=\"RIDOT\",($V202-$L202)/43560*'Pollutant Loading Rates'!E$15,($V202-$L202)/43560*'Pollutant Loading Rates'!E$16))))","v":""},{"$f":"IF($A202=\"\",\"\",(VLOOKUP($R202,'Pollutant Loading Rates'!$A$5:$F$12,6,0)*$L202/43560)+IF($R202=\"Forest\",'Pollutant Loading Rates'!F$13*($V202-$L202)/43560,IF($R202=\"Agriculture\",'Pollutant Loading Rates'!F$14*($V202-$L202)/43560,IF($D202=\"RIDOT\",($V202-$L202)/43560*'Pollutant Loading Rates'!F$15,$V202-$L202)/43560*'Pollutant Loading Rates'!F$16)))","v":""}]
[null,null,null,null,null,null,null,null,null,null,null,null,null,null,null,null,null,null,null,null,null,null,null,{"$f":"IF($A203=\"\",\"\",(VLOOKUP($R203,'Pollutant Loading Rates'!$A$5:$F$12,3,0)*$L203/43560)+IF($R203=\"Forest\",'Pollutant Loading Rates'!C$13*($V203-$L203)/43560,IF($R203=\"Agriculture\",'Pollutant Loading Rates'!C$14*($V203-$L203)/43560,IF($D203=\"RIDOT\",($V203-$L203)/43560*'Pollutant Loading Rates'!C$15,($V203-$L203)/43560*'Pollutant Loading Rates'!C$16))))","v":""},{"$f":"IF($A203=\"\",\"\",(VLOOKUP($R203,'Pollutant Loading Rates'!$A$5:$F$12,4,0)*$L203/43560)+IF($R203=\"Forest\",'Pollutant Loading Rates'!D$13*($V203-$L203)/43560,IF($R203=\"Agriculture\",'Pollutant Loading Rates'!D$14*($V203-$L203)/43560,IF($D203=\"RIDOT\",($V203-$L203)/43560*'Pollutant Loading Rates'!D$15,($V203-$L203)/43560*'Pollutant Loading Rates'!D$16))))","v":""},{"$f":"IF($A203=\"\",\"\",(VLOOKUP($R203,'Pollutant Loading Rates'!$A$5:$F$12,5,0)*$L203/43560)+IF($R203=\"Forest\",'Pollutant Loading Rates'!E$13*($V203-$L203)/43560,IF($R203=\"Agriculture\",'Pollutant Loading Rates'!E$14*($V203-$L203)/43560,IF($D203=\"RIDOT\",($V203-$L203)/43560*'Pollutant Loading Rates'!E$15,($V203-$L203)/43560*'Pollutant Loading Rates'!E$16))))","v":""},{"$f":"IF($A203=\"\",\"\",(VLOOKUP($R203,'Pollutant Loading Rates'!$A$5:$F$12,6,0)*$L203/43560)+IF($R203=\"Forest\",'Pollutant Loading Rates'!F$13*($V203-$L203)/43560,IF($R203=\"Agriculture\",'Pollutant Loading Rates'!F$14*($V203-$L203)/43560,IF($D203=\"RIDOT\",($V203-$L203)/43560*'Pollutant Loading Rates'!F$15,$V203-$L203)/43560*'Pollutant Loading Rates'!F$16)))","v":""}]
[null,null,null,null,null,null,null,null,null,null,null,null,null,null,null,null,null,null,null,null,null,null,null,{"$f":"IF($A204=\"\",\"\",(VLOOKUP($R204,'Pollutant Loading Rates'!$A$5:$F$12,3,0)*$L204/43560)+IF($R204=\"Forest\",'Pollutant Loading Rates'!C$13*($V204-$L204)/43560,IF($R204=\"Agriculture\",'Pollutant Loading Rates'!C$14*($V204-$L204)/43560,IF($D204=\"RIDOT\",($V204-$L204)/43560*'Pollutant Loading Rates'!C$15,($V204-$L204)/43560*'Pollutant Loading Rates'!C$16))))","v":""},{"$f":"IF($A204=\"\",\"\",(VLOOKUP($R204,'Pollutant Loading Rates'!$A$5:$F$12,4,0)*$L204/43560)+IF($R204=\"Forest\",'Pollutant Loading Rates'!D$13*($V204-$L204)/43560,IF($R204=\"Agriculture\",'Pollutant Loading Rates'!D$14*($V204-$L204)/43560,IF($D204=\"RIDOT\",($V204-$L204)/43560*'Pollutant Loading Rates'!D$15,($V204-$L204)/43560*'Pollutant Loading Rates'!D$16))))","v":""},{"$f":"IF($A204=\"\",\"\",(VLOOKUP($R204,'Pollutant Loading Rates'!$A$5:$F$12,5,0)*$L204/43560)+IF($R204=\"Forest\",'Pollutant Loading Rates'!E$13*($V204-$L204)/43560,IF($R204=\"Agriculture\",'Pollutant Loading Rates'!E$14*($V204-$L204)/43560,IF($D204=\"RIDOT\",($V204-$L204)/43560*'Pollutant Loading Rates'!E$15,($V204-$L204)/43560*'Pollutant Loading Rates'!E$16))))","v":""},{"$f":"IF($A204=\"\",\"\",(VLOOKUP($R204,'Pollutant Loading Rates'!$A$5:$F$12,6,0)*$L204/43560)+IF($R204=\"Forest\",'Pollutant Loading Rates'!F$13*($V204-$L204)/43560,IF($R204=\"Agriculture\",'Pollutant Loading Rates'!F$14*($V204-$L204)/43560,IF($D204=\"RIDOT\",($V204-$L204)/43560*'Pollutant Loading Rates'!F$15,$V204-$L204)/43560*'Pollutant Loading Rates'!F$16)))","v":""}]
[null,null,null,null,null,null,null,null,null,null,null,null,null,null,null,null,null,null,null,null,null,null,null,{"$f":"IF($A205=\"\",\"\",(VLOOKUP($R205,'Pollutant Loading Rates'!$A$5:$F$12,3,0)*$L205/43560)+IF($R205=\"Forest\",'Pollutant Loading Rates'!C$13*($V205-$L205)/43560,IF($R205=\"Agriculture\",'Pollutant Loading Rates'!C$14*($V205-$L205)/43560,IF($D205=\"RIDOT\",($V205-$L205)/43560*'Pollutant Loading Rates'!C$15,($V205-$L205)/43560*'Pollutant Loading Rates'!C$16))))","v":""},{"$f":"IF($A205=\"\",\"\",(VLOOKUP($R205,'Pollutant Loading Rates'!$A$5:$F$12,4,0)*$L205/43560)+IF($R205=\"Forest\",'Pollutant Loading Rates'!D$13*($V205-$L205)/43560,IF($R205=\"Agriculture\",'Pollutant Loading Rates'!D$14*($V205-$L205)/43560,IF($D205=\"RIDOT\",($V205-$L205)/43560*'Pollutant Loading Rates'!D$15,($V205-$L205)/43560*'Pollutant Loading Rates'!D$16))))","v":""},{"$f":"IF($A205=\"\",\"\",(VLOOKUP($R205,'Pollutant Loading Rates'!$A$5:$F$12,5,0)*$L205/43560)+IF($R205=\"Forest\",'Pollutant Loading Rates'!E$13*($V205-$L205)/43560,IF($R205=\"Agriculture\",'Pollutant Loading Rates'!E$14*($V205-$L205)/43560,IF($D205=\"RIDOT\",($V205-$L205)/43560*'Pollutant Loading Rates'!E$15,($V205-$L205)/43560*'Pollutant Loading Rates'!E$16))))","v":""},{"$f":"IF($A205=\"\",\"\",(VLOOKUP($R205,'Pollutant Loading Rates'!$A$5:$F$12,6,0)*$L205/43560)+IF($R205=\"Forest\",'Pollutant Loading Rates'!F$13*($V205-$L205)/43560,IF($R205=\"Agriculture\",'Pollutant Loading Rates'!F$14*($V205-$L205)/43560,IF($D205=\"RIDOT\",($V205-$L205)/43560*'Pollutant Loading Rates'!F$15,$V205-$L205)/43560*'Pollutant Loading Rates'!F$16)))","v":""}]
[null,null,null,null,null,null,null,null,null,null,null,null,null,null,null,null,null,null,null,null,null,null,null,{"$f":"IF($A206=\"\",\"\",(VLOOKUP($R206,'Pollutant Loading Rates'!$A$5:$F$12,3,0)*$L206/43560)+IF($R206=\"Forest\",'Pollutant Loading Rates'!C$13*($V206-$L206)/43560,IF($R206=\"Agriculture\",'Pollutant Loading Rates'!C$14*($V206-$L206)/43560,IF($D206=\"RIDOT\",($V206-$L206)/43560*'Pollutant Loading Rates'!C$15,($V206-$L206)/43560*'Pollutant Loading Rates'!C$16))))","v":""},{"$f":"IF($A206=\"\",\"\",(VLOOKUP($R206,'Pollutant Loading Rates'!$A$5:$F$12,4,0)*$L206/43560)+IF($R206=\"Forest\",'Pollutant Loading Rates'!D$13*($V206-$L206)/43560,IF($R206=\"Agriculture\",'Pollutant Loading Rates'!D$14*($V206-$L206)/43560,IF($D206=\"RIDOT\",($V206-$L206)/43560*'Pollutant Loading Rates'!D$15,($V206-$L206)/43560*'Pollutant Loading Rates'!D$16))))","v":""},{"$f":"IF($A206=\"\",\"\",(VLOOKUP($R206,'Pollutant Loading Rates'!$A$5:$F$12,5,0)*$L206/43560)+IF($R206=\"Forest\",'Pollutant Loading Rates'!E$13*($V206-$L206)/43560,IF($R206=\"Agriculture\",'Pollutant Loading Rates'!E$14*($V206-$L206)/43560,IF($D206=\"RIDOT\",($V206-$L206)/43560*'Pollutant Loading Rates'!E$15,($V206-$L206)/43560*'Pollutant Loading Rates'!E$16))))","v":""},{"$f":"IF($A206=\"\",\"\",(VLOOKUP($R206,'Pollutant Loading Rates'!$A$5:$F$12,6,0)*$L206/43560)+IF($R206=\"Forest\",'Pollutant Loading Rates'!F$13*($V206-$L206)/43560,IF($R206=\"Agriculture\",'Pollutant Loading Rates'!F$14*($V206-$L206)/43560,IF($D206=\"RIDOT\",($V206-$L206)/43560*'Pollutant Loading Rates'!F$15,$V206-$L206)/43560*'Pollutant Loading Rates'!F$16)))","v":""}]
[null,null,null,null,null,null,null,null,null,null,null,null,null,null,null,null,null,null,null,null,null,null,null,{"$f":"IF($A207=\"\",\"\",(VLOOKUP($R207,'Pollutant Loading Rates'!$A$5:$F$12,3,0)*$L207/43560)+IF($R207=\"Forest\",'Pollutant Loading Rates'!C$13*($V207-$L207)/43560,IF($R207=\"Agriculture\",'Pollutant Loading Rates'!C$14*($V207-$L207)/43560,IF($D207=\"RIDOT\",($V207-$L207)/43560*'Pollutant Loading Rates'!C$15,($V207-$L207)/43560*'Pollutant Loading Rates'!C$16))))","v":""},{"$f":"IF($A207=\"\",\"\",(VLOOKUP($R207,'Pollutant Loading Rates'!$A$5:$F$12,4,0)*$L207/43560)+IF($R207=\"Forest\",'Pollutant Loading Rates'!D$13*($V207-$L207)/43560,IF($R207=\"Agriculture\",'Pollutant Loading Rates'!D$14*($V207-$L207)/43560,IF($D207=\"RIDOT\",($V207-$L207)/43560*'Pollutant Loading Rates'!D$15,($V207-$L207)/43560*'Pollutant Loading Rates'!D$16))))","v":""},{"$f":"IF($A207=\"\",\"\",(VLOOKUP($R207,'Pollutant Loading Rates'!$A$5:$F$12,5,0)*$L207/43560)+IF($R207=\"Forest\",'Pollutant Loading Rates'!E$13*($V207-$L207)/43560,IF($R207=\"Agriculture\",'Pollutant Loading Rates'!E$14*($V207-$L207)/43560,IF($D207=\"RIDOT\",($V207-$L207)/43560*'Pollutant Loading Rates'!E$15,($V207-$L207)/43560*'Pollutant Loading Rates'!E$16))))","v":""},{"$f":"IF($A207=\"\",\"\",(VLOOKUP($R207,'Pollutant Loading Rates'!$A$5:$F$12,6,0)*$L207/43560)+IF($R207=\"Forest\",'Pollutant Loading Rates'!F$13*($V207-$L207)/43560,IF($R207=\"Agriculture\",'Pollutant Loading Rates'!F$14*($V207-$L207)/43560,IF($D207=\"RIDOT\",($V207-$L207)/43560*'Pollutant Loading Rates'!F$15,$V207-$L207)/43560*'Pollutant Loading Rates'!F$16)))","v":""}]
[null,null,null,null,null,null,null,null,null,null,null,null,null,null,null,null,null,null,null,null,null,null,null,{"$f":"IF($A208=\"\",\"\",(VLOOKUP($R208,'Pollutant Loading Rates'!$A$5:$F$12,3,0)*$L208/43560)+IF($R208=\"Forest\",'Pollutant Loading Rates'!C$13*($V208-$L208)/43560,IF($R208=\"Agriculture\",'Pollutant Loading Rates'!C$14*($V208-$L208)/43560,IF($D208=\"RIDOT\",($V208-$L208)/43560*'Pollutant Loading Rates'!C$15,($V208-$L208)/43560*'Pollutant Loading Rates'!C$16))))","v":""},{"$f":"IF($A208=\"\",\"\",(VLOOKUP($R208,'Pollutant Loading Rates'!$A$5:$F$12,4,0)*$L208/43560)+IF($R208=\"Forest\",'Pollutant Loading Rates'!D$13*($V208-$L208)/43560,IF($R208=\"Agriculture\",'Pollutant Loading Rates'!D$14*($V208-$L208)/43560,IF($D208=\"RIDOT\",($V208-$L208)/43560*'Pollutant Loading Rates'!D$15,($V208-$L208)/43560*'Pollutant Loading Rates'!D$16))))","v":""},{"$f":"IF($A208=\"\",\"\",(VLOOKUP($R208,'Pollutant Loading Rates'!$A$5:$F$12,5,0)*$L208/43560)+IF($R208=\"Forest\",'Pollutant Loading Rates'!E$13*($V208-$L208)/43560,IF($R208=\"Agriculture\",'Pollutant Loading Rates'!E$14*($V208-$L208)/43560,IF($D208=\"RIDOT\",($V208-$L208)/43560*'Pollutant Loading Rates'!E$15,($V208-$L208)/43560*'Pollutant Loading Rates'!E$16))))","v":""},{"$f":"IF($A208=\"\",\"\",(VLOOKUP($R208,'Pollutant Loading Rates'!$A$5:$F$12,6,0)*$L208/43560)+IF($R208=\"Forest\",'Pollutant Loading Rates'!F$13*($V208-$L208)/43560,IF($R208=\"Agriculture\",'Pollutant Loading Rates'!F$14*($V208-$L208)/43560,IF($D208=\"RIDOT\",($V208-$L208)/43560*'Pollutant Loading Rates'!F$15,$V208-$L208)/43560*'Pollutant Loading Rates'!F$16)))","v":""}]
[null,null,null,null,null,null,null,null,null,null,null,null,null,null,null,null,null,null,null,null,null,null,null,{"$f":"IF($A209=\"\",\"\",(VLOOKUP($R209,'Pollutant Loading Rates'!$A$5:$F$12,3,0)*$L209/43560)+IF($R209=\"Forest\",'Pollutant Loading Rates'!C$13*($V209-$L209)/43560,IF($R209=\"Agriculture\",'Pollutant Loading Rates'!C$14*($V209-$L209)/43560,IF($D209=\"RIDOT\",($V209-$L209)/43560*'Pollutant Loading Rates'!C$15,($V209-$L209)/43560*'Pollutant Loading Rates'!C$16))))","v":""},{"$f":"IF($A209=\"\",\"\",(VLOOKUP($R209,'Pollutant Loading Rates'!$A$5:$F$12,4,0)*$L209/43560)+IF($R209=\"Forest\",'Pollutant Loading Rates'!D$13*($V209-$L209)/43560,IF($R209=\"Agriculture\",'Pollutant Loading Rates'!D$14*($V209-$L209)/43560,IF($D209=\"RIDOT\",($V209-$L209)/43560*'Pollutant Loading Rates'!D$15,($V209-$L209)/43560*'Pollutant Loading Rates'!D$16))))","v":""},{"$f":"IF($A209=\"\",\"\",(VLOOKUP($R209,'Pollutant Loading Rates'!$A$5:$F$12,5,0)*$L209/43560)+IF($R209=\"Forest\",'Pollutant Loading Rates'!E$13*($V209-$L209)/43560,IF($R209=\"Agriculture\",'Pollutant Loading Rates'!E$14*($V209-$L209)/43560,IF($D209=\"RIDOT\",($V209-$L209)/43560*'Pollutant Loading Rates'!E$15,($V209-$L209)/43560*'Pollutant Loading Rates'!E$16))))","v":""},{"$f":"IF($A209=\"\",\"\",(VLOOKUP($R209,'Pollutant Loading Rates'!$A$5:$F$12,6,0)*$L209/43560)+IF($R209=\"Forest\",'Pollutant Loading Rates'!F$13*($V209-$L209)/43560,IF($R209=\"Agriculture\",'Pollutant Loading Rates'!F$14*($V209-$L209)/43560,IF($D209=\"RIDOT\",($V209-$L209)/43560*'Pollutant Loading Rates'!F$15,$V209-$L209)/43560*'Pollutant Loading Rates'!F$16)))","v":""}]
[null,null,null,null,null,null,null,null,null,null,null,null,null,null,null,null,null,null,null,null,null,null,null,{"$f":"IF($A210=\"\",\"\",(VLOOKUP($R210,'Pollutant Loading Rates'!$A$5:$F$12,3,0)*$L210/43560)+IF($R210=\"Forest\",'Pollutant Loading Rates'!C$13*($V210-$L210)/43560,IF($R210=\"Agriculture\",'Pollutant Loading Rates'!C$14*($V210-$L210)/43560,IF($D210=\"RIDOT\",($V210-$L210)/43560*'Pollutant Loading Rates'!C$15,($V210-$L210)/43560*'Pollutant Loading Rates'!C$16))))","v":""},{"$f":"IF($A210=\"\",\"\",(VLOOKUP($R210,'Pollutant Loading Rates'!$A$5:$F$12,4,0)*$L210/43560)+IF($R210=\"Forest\",'Pollutant Loading Rates'!D$13*($V210-$L210)/43560,IF($R210=\"Agriculture\",'Pollutant Loading Rates'!D$14*($V210-$L210)/43560,IF($D210=\"RIDOT\",($V210-$L210)/43560*'Pollutant Loading Rates'!D$15,($V210-$L210)/43560*'Pollutant Loading Rates'!D$16))))","v":""},{"$f":"IF($A210=\"\",\"\",(VLOOKUP($R210,'Pollutant Loading Rates'!$A$5:$F$12,5,0)*$L210/43560)+IF($R210=\"Forest\",'Pollutant Loading Rates'!E$13*($V210-$L210)/43560,IF($R210=\"Agriculture\",'Pollutant Loading Rates'!E$14*($V210-$L210)/43560,IF($D210=\"RIDOT\",($V210-$L210)/43560*'Pollutant Loading Rates'!E$15,($V210-$L210)/43560*'Pollutant Loading Rates'!E$16))))","v":""},{"$f":"IF($A210=\"\",\"\",(VLOOKUP($R210,'Pollutant Loading Rates'!$A$5:$F$12,6,0)*$L210/43560)+IF($R210=\"Forest\",'Pollutant Loading Rates'!F$13*($V210-$L210)/43560,IF($R210=\"Agriculture\",'Pollutant Loading Rates'!F$14*($V210-$L210)/43560,IF($D210=\"RIDOT\",($V210-$L210)/43560*'Pollutant Loading Rates'!F$15,$V210-$L210)/43560*'Pollutant Loading Rates'!F$16)))","v":""}]
[null,null,null,null,null,null,null,null,null,null,null,null,null,null,null,null,null,null,null,null,null,null,null,{"$f":"IF($A211=\"\",\"\",(VLOOKUP($R211,'Pollutant Loading Rates'!$A$5:$F$12,3,0)*$L211/43560)+IF($R211=\"Forest\",'Pollutant Loading Rates'!C$13*($V211-$L211)/43560,IF($R211=\"Agriculture\",'Pollutant Loading Rates'!C$14*($V211-$L211)/43560,IF($D211=\"RIDOT\",($V211-$L211)/43560*'Pollutant Loading Rates'!C$15,($V211-$L211)/43560*'Pollutant Loading Rates'!C$16))))","v":""},{"$f":"IF($A211=\"\",\"\",(VLOOKUP($R211,'Pollutant Loading Rates'!$A$5:$F$12,4,0)*$L211/43560)+IF($R211=\"Forest\",'Pollutant Loading Rates'!D$13*($V211-$L211)/43560,IF($R211=\"Agriculture\",'Pollutant Loading Rates'!D$14*($V211-$L211)/43560,IF($D211=\"RIDOT\",($V211-$L211)/43560*'Pollutant Loading Rates'!D$15,($V211-$L211)/43560*'Pollutant Loading Rates'!D$16))))","v":""},{"$f":"IF($A211=\"\",\"\",(VLOOKUP($R211,'Pollutant Loading Rates'!$A$5:$F$12,5,0)*$L211/43560)+IF($R211=\"Forest\",'Pollutant Loading Rates'!E$13*($V211-$L211)/43560,IF($R211=\"Agriculture\",'Pollutant Loading Rates'!E$14*($V211-$L211)/43560,IF($D211=\"RIDOT\",($V211-$L211)/43560*'Pollutant Loading Rates'!E$15,($V211-$L211)/43560*'Pollutant Loading Rates'!E$16))))","v":""},{"$f":"IF($A211=\"\",\"\",(VLOOKUP($R211,'Pollutant Loading Rates'!$A$5:$F$12,6,0)*$L211/43560)+IF($R211=\"Forest\",'Pollutant Loading Rates'!F$13*($V211-$L211)/43560,IF($R211=\"Agriculture\",'Pollutant Loading Rates'!F$14*($V211-$L211)/43560,IF($D211=\"RIDOT\",($V211-$L211)/43560*'Pollutant Loading Rates'!F$15,$V211-$L211)/43560*'Pollutant Loading Rates'!F$16)))","v":""}]
[null,null,null,null,null,null,null,null,null,null,null,null,null,null,null,null,null,null,null,null,null,null,null,{"$f":"IF($A212=\"\",\"\",(VLOOKUP($R212,'Pollutant Loading Rates'!$A$5:$F$12,3,0)*$L212/43560)+IF($R212=\"Forest\",'Pollutant Loading Rates'!C$13*($V212-$L212)/43560,IF($R212=\"Agriculture\",'Pollutant Loading Rates'!C$14*($V212-$L212)/43560,IF($D212=\"RIDOT\",($V212-$L212)/43560*'Pollutant Loading Rates'!C$15,($V212-$L212)/43560*'Pollutant Loading Rates'!C$16))))","v":""},{"$f":"IF($A212=\"\",\"\",(VLOOKUP($R212,'Pollutant Loading Rates'!$A$5:$F$12,4,0)*$L212/43560)+IF($R212=\"Forest\",'Pollutant Loading Rates'!D$13*($V212-$L212)/43560,IF($R212=\"Agriculture\",'Pollutant Loading Rates'!D$14*($V212-$L212)/43560,IF($D212=\"RIDOT\",($V212-$L212)/43560*'Pollutant Loading Rates'!D$15,($V212-$L212)/43560*'Pollutant Loading Rates'!D$16))))","v":""},{"$f":"IF($A212=\"\",\"\",(VLOOKUP($R212,'Pollutant Loading Rates'!$A$5:$F$12,5,0)*$L212/43560)+IF($R212=\"Forest\",'Pollutant Loading Rates'!E$13*($V212-$L212)/43560,IF($R212=\"Agriculture\",'Pollutant Loading Rates'!E$14*($V212-$L212)/43560,IF($D212=\"RIDOT\",($V212-$L212)/43560*'Pollutant Loading Rates'!E$15,($V212-$L212)/43560*'Pollutant Loading Rates'!E$16))))","v":""},{"$f":"IF($A212=\"\",\"\",(VLOOKUP($R212,'Pollutant Loading Rates'!$A$5:$F$12,6,0)*$L212/43560)+IF($R212=\"Forest\",'Pollutant Loading Rates'!F$13*($V212-$L212)/43560,IF($R212=\"Agriculture\",'Pollutant Loading Rates'!F$14*($V212-$L212)/43560,IF($D212=\"RIDOT\",($V212-$L212)/43560*'Pollutant Loading Rates'!F$15,$V212-$L212)/43560*'Pollutant Loading Rates'!F$16)))","v":""}]
[null,null,null,null,null,null,null,null,null,null,null,null,null,null,null,null,null,null,null,null,null,null,null,{"$f":"IF($A213=\"\",\"\",(VLOOKUP($R213,'Pollutant Loading Rates'!$A$5:$F$12,3,0)*$L213/43560)+IF($R213=\"Forest\",'Pollutant Loading Rates'!C$13*($V213-$L213)/43560,IF($R213=\"Agriculture\",'Pollutant Loading Rates'!C$14*($V213-$L213)/43560,IF($D213=\"RIDOT\",($V213-$L213)/43560*'Pollutant Loading Rates'!C$15,($V213-$L213)/43560*'Pollutant Loading Rates'!C$16))))","v":""},{"$f":"IF($A213=\"\",\"\",(VLOOKUP($R213,'Pollutant Loading Rates'!$A$5:$F$12,4,0)*$L213/43560)+IF($R213=\"Forest\",'Pollutant Loading Rates'!D$13*($V213-$L213)/43560,IF($R213=\"Agriculture\",'Pollutant Loading Rates'!D$14*($V213-$L213)/43560,IF($D213=\"RIDOT\",($V213-$L213)/43560*'Pollutant Loading Rates'!D$15,($V213-$L213)/43560*'Pollutant Loading Rates'!D$16))))","v":""},{"$f":"IF($A213=\"\",\"\",(VLOOKUP($R213,'Pollutant Loading Rates'!$A$5:$F$12,5,0)*$L213/43560)+IF($R213=\"Forest\",'Pollutant Loading Rates'!E$13*($V213-$L213)/43560,IF($R213=\"Agriculture\",'Pollutant Loading Rates'!E$14*($V213-$L213)/43560,IF($D213=\"RIDOT\",($V213-$L213)/43560*'Pollutant Loading Rates'!E$15,($V213-$L213)/43560*'Pollutant Loading Rates'!E$16))))","v":""},{"$f":"IF($A213=\"\",\"\",(VLOOKUP($R213,'Pollutant Loading Rates'!$A$5:$F$12,6,0)*$L213/43560)+IF($R213=\"Forest\",'Pollutant Loading Rates'!F$13*($V213-$L213)/43560,IF($R213=\"Agriculture\",'Pollutant Loading Rates'!F$14*($V213-$L213)/43560,IF($D213=\"RIDOT\",($V213-$L213)/43560*'Pollutant Loading Rates'!F$15,$V213-$L213)/43560*'Pollutant Loading Rates'!F$16)))","v":""}]
[null,null,null,null,null,null,null,null,null,null,null,null,null,null,null,null,null,null,null,null,null,null,null,{"$f":"IF($A214=\"\",\"\",(VLOOKUP($R214,'Pollutant Loading Rates'!$A$5:$F$12,3,0)*$L214/43560)+IF($R214=\"Forest\",'Pollutant Loading Rates'!C$13*($V214-$L214)/43560,IF($R214=\"Agriculture\",'Pollutant Loading Rates'!C$14*($V214-$L214)/43560,IF($D214=\"RIDOT\",($V214-$L214)/43560*'Pollutant Loading Rates'!C$15,($V214-$L214)/43560*'Pollutant Loading Rates'!C$16))))","v":""},{"$f":"IF($A214=\"\",\"\",(VLOOKUP($R214,'Pollutant Loading Rates'!$A$5:$F$12,4,0)*$L214/43560)+IF($R214=\"Forest\",'Pollutant Loading Rates'!D$13*($V214-$L214)/43560,IF($R214=\"Agriculture\",'Pollutant Loading Rates'!D$14*($V214-$L214)/43560,IF($D214=\"RIDOT\",($V214-$L214)/43560*'Pollutant Loading Rates'!D$15,($V214-$L214)/43560*'Pollutant Loading Rates'!D$16))))","v":""},{"$f":"IF($A214=\"\",\"\",(VLOOKUP($R214,'Pollutant Loading Rates'!$A$5:$F$12,5,0)*$L214/43560)+IF($R214=\"Forest\",'Pollutant Loading Rates'!E$13*($V214-$L214)/43560,IF($R214=\"Agriculture\",'Pollutant Loading Rates'!E$14*($V214-$L214)/43560,IF($D214=\"RIDOT\",($V214-$L214)/43560*'Pollutant Loading Rates'!E$15,($V214-$L214)/43560*'Pollutant Loading Rates'!E$16))))","v":""},{"$f":"IF($A214=\"\",\"\",(VLOOKUP($R214,'Pollutant Loading Rates'!$A$5:$F$12,6,0)*$L214/43560)+IF($R214=\"Forest\",'Pollutant Loading Rates'!F$13*($V214-$L214)/43560,IF($R214=\"Agriculture\",'Pollutant Loading Rates'!F$14*($V214-$L214)/43560,IF($D214=\"RIDOT\",($V214-$L214)/43560*'Pollutant Loading Rates'!F$15,$V214-$L214)/43560*'Pollutant Loading Rates'!F$16)))","v":""}]
[null,null,null,null,null,null,null,null,null,null,null,null,null,null,null,null,null,null,null,null,null,null,null,{"$f":"IF($A215=\"\",\"\",(VLOOKUP($R215,'Pollutant Loading Rates'!$A$5:$F$12,3,0)*$L215/43560)+IF($R215=\"Forest\",'Pollutant Loading Rates'!C$13*($V215-$L215)/43560,IF($R215=\"Agriculture\",'Pollutant Loading Rates'!C$14*($V215-$L215)/43560,IF($D215=\"RIDOT\",($V215-$L215)/43560*'Pollutant Loading Rates'!C$15,($V215-$L215)/43560*'Pollutant Loading Rates'!C$16))))","v":""},{"$f":"IF($A215=\"\",\"\",(VLOOKUP($R215,'Pollutant Loading Rates'!$A$5:$F$12,4,0)*$L215/43560)+IF($R215=\"Forest\",'Pollutant Loading Rates'!D$13*($V215-$L215)/43560,IF($R215=\"Agriculture\",'Pollutant Loading Rates'!D$14*($V215-$L215)/43560,IF($D215=\"RIDOT\",($V215-$L215)/43560*'Pollutant Loading Rates'!D$15,($V215-$L215)/43560*'Pollutant Loading Rates'!D$16))))","v":""},{"$f":"IF($A215=\"\",\"\",(VLOOKUP($R215,'Pollutant Loading Rates'!$A$5:$F$12,5,0)*$L215/43560)+IF($R215=\"Forest\",'Pollutant Loading Rates'!E$13*($V215-$L215)/43560,IF($R215=\"Agriculture\",'Pollutant Loading Rates'!E$14*($V215-$L215)/43560,IF($D215=\"RIDOT\",($V215-$L215)/43560*'Pollutant Loading Rates'!E$15,($V215-$L215)/43560*'Pollutant Loading Rates'!E$16))))","v":""},{"$f":"IF($A215=\"\",\"\",(VLOOKUP($R215,'Pollutant Loading Rates'!$A$5:$F$12,6,0)*$L215/43560)+IF($R215=\"Forest\",'Pollutant Loading Rates'!F$13*($V215-$L215)/43560,IF($R215=\"Agriculture\",'Pollutant Loading Rates'!F$14*($V215-$L215)/43560,IF($D215=\"RIDOT\",($V215-$L215)/43560*'Pollutant Loading Rates'!F$15,$V215-$L215)/43560*'Pollutant Loading Rates'!F$16)))","v":""}]
[null,null,null,null,null,null,null,null,null,null,null,null,null,null,null,null,null,null,null,null,null,null,null,{"$f":"IF($A216=\"\",\"\",(VLOOKUP($R216,'Pollutant Loading Rates'!$A$5:$F$12,3,0)*$L216/43560)+IF($R216=\"Forest\",'Pollutant Loading Rates'!C$13*($V216-$L216)/43560,IF($R216=\"Agriculture\",'Pollutant Loading Rates'!C$14*($V216-$L216)/43560,IF($D216=\"RIDOT\",($V216-$L216)/43560*'Pollutant Loading Rates'!C$15,($V216-$L216)/43560*'Pollutant Loading Rates'!C$16))))","v":""},{"$f":"IF($A216=\"\",\"\",(VLOOKUP($R216,'Pollutant Loading Rates'!$A$5:$F$12,4,0)*$L216/43560)+IF($R216=\"Forest\",'Pollutant Loading Rates'!D$13*($V216-$L216)/43560,IF($R216=\"Agriculture\",'Pollutant Loading Rates'!D$14*($V216-$L216)/43560,IF($D216=\"RIDOT\",($V216-$L216)/43560*'Pollutant Loading Rates'!D$15,($V216-$L216)/43560*'Pollutant Loading Rates'!D$16))))","v":""},{"$f":"IF($A216=\"\",\"\",(VLOOKUP($R216,'Pollutant Loading Rates'!$A$5:$F$12,5,0)*$L216/43560)+IF($R216=\"Forest\",'Pollutant Loading Rates'!E$13*($V216-$L216)/43560,IF($R216=\"Agriculture\",'Pollutant Loading Rates'!E$14*($V216-$L216)/43560,IF($D216=\"RIDOT\",($V216-$L216)/43560*'Pollutant Loading Rates'!E$15,($V216-$L216)/43560*'Pollutant Loading Rates'!E$16))))","v":""},{"$f":"IF($A216=\"\",\"\",(VLOOKUP($R216,'Pollutant Loading Rates'!$A$5:$F$12,6,0)*$L216/43560)+IF($R216=\"Forest\",'Pollutant Loading Rates'!F$13*($V216-$L216)/43560,IF($R216=\"Agriculture\",'Pollutant Loading Rates'!F$14*($V216-$L216)/43560,IF($D216=\"RIDOT\",($V216-$L216)/43560*'Pollutant Loading Rates'!F$15,$V216-$L216)/43560*'Pollutant Loading Rates'!F$16)))","v":""}]
[null,null,null,null,null,null,null,null,null,null,null,null,null,null,null,null,null,null,null,null,null,null,null,{"$f":"IF($A217=\"\",\"\",(VLOOKUP($R217,'Pollutant Loading Rates'!$A$5:$F$12,3,0)*$L217/43560)+IF($R217=\"Forest\",'Pollutant Loading Rates'!C$13*($V217-$L217)/43560,IF($R217=\"Agriculture\",'Pollutant Loading Rates'!C$14*($V217-$L217)/43560,IF($D217=\"RIDOT\",($V217-$L217)/43560*'Pollutant Loading Rates'!C$15,($V217-$L217)/43560*'Pollutant Loading Rates'!C$16))))","v":""},{"$f":"IF($A217=\"\",\"\",(VLOOKUP($R217,'Pollutant Loading Rates'!$A$5:$F$12,4,0)*$L217/43560)+IF($R217=\"Forest\",'Pollutant Loading Rates'!D$13*($V217-$L217)/43560,IF($R217=\"Agriculture\",'Pollutant Loading Rates'!D$14*($V217-$L217)/43560,IF($D217=\"RIDOT\",($V217-$L217)/43560*'Pollutant Loading Rates'!D$15,($V217-$L217)/43560*'Pollutant Loading Rates'!D$16))))","v":""},{"$f":"IF($A217=\"\",\"\",(VLOOKUP($R217,'Pollutant Loading Rates'!$A$5:$F$12,5,0)*$L217/43560)+IF($R217=\"Forest\",'Pollutant Loading Rates'!E$13*($V217-$L217)/43560,IF($R217=\"Agriculture\",'Pollutant Loading Rates'!E$14*($V217-$L217)/43560,IF($D217=\"RIDOT\",($V217-$L217)/43560*'Pollutant Loading Rates'!E$15,($V217-$L217)/43560*'Pollutant Loading Rates'!E$16))))","v":""},{"$f":"IF($A217=\"\",\"\",(VLOOKUP($R217,'Pollutant Loading Rates'!$A$5:$F$12,6,0)*$L217/43560)+IF($R217=\"Forest\",'Pollutant Loading Rates'!F$13*($V217-$L217)/43560,IF($R217=\"Agriculture\",'Pollutant Loading Rates'!F$14*($V217-$L217)/43560,IF($D217=\"RIDOT\",($V217-$L217)/43560*'Pollutant Loading Rates'!F$15,$V217-$L217)/43560*'Pollutant Loading Rates'!F$16)))","v":""}]
[null,null,null,null,null,null,null,null,null,null,null,null,null,null,null,null,null,null,null,null,null,null,null,{"$f":"IF($A218=\"\",\"\",(VLOOKUP($R218,'Pollutant Loading Rates'!$A$5:$F$12,3,0)*$L218/43560)+IF($R218=\"Forest\",'Pollutant Loading Rates'!C$13*($V218-$L218)/43560,IF($R218=\"Agriculture\",'Pollutant Loading Rates'!C$14*($V218-$L218)/43560,IF($D218=\"RIDOT\",($V218-$L218)/43560*'Pollutant Loading Rates'!C$15,($V218-$L218)/43560*'Pollutant Loading Rates'!C$16))))","v":""},{"$f":"IF($A218=\"\",\"\",(VLOOKUP($R218,'Pollutant Loading Rates'!$A$5:$F$12,4,0)*$L218/43560)+IF($R218=\"Forest\",'Pollutant Loading Rates'!D$13*($V218-$L218)/43560,IF($R218=\"Agriculture\",'Pollutant Loading Rates'!D$14*($V218-$L218)/43560,IF($D218=\"RIDOT\",($V218-$L218)/43560*'Pollutant Loading Rates'!D$15,($V218-$L218)/43560*'Pollutant Loading Rates'!D$16))))","v":""},{"$f":"IF($A218=\"\",\"\",(VLOOKUP($R218,'Pollutant Loading Rates'!$A$5:$F$12,5,0)*$L218/43560)+IF($R218=\"Forest\",'Pollutant Loading Rates'!E$13*($V218-$L218)/43560,IF($R218=\"Agriculture\",'Pollutant Loading Rates'!E$14*($V218-$L218)/43560,IF($D218=\"RIDOT\",($V218-$L218)/43560*'Pollutant Loading Rates'!E$15,($V218-$L218)/43560*'Pollutant Loading Rates'!E$16))))","v":""},{"$f":"IF($A218=\"\",\"\",(VLOOKUP($R218,'Pollutant Loading Rates'!$A$5:$F$12,6,0)*$L218/43560)+IF($R218=\"Forest\",'Pollutant Loading Rates'!F$13*($V218-$L218)/43560,IF($R218=\"Agriculture\",'Pollutant Loading Rates'!F$14*($V218-$L218)/43560,IF($D218=\"RIDOT\",($V218-$L218)/43560*'Pollutant Loading Rates'!F$15,$V218-$L218)/43560*'Pollutant Loading Rates'!F$16)))","v":""}]
[null,null,null,null,null,null,null,null,null,null,null,null,null,null,null,null,null,null,null,null,null,null,null,{"$f":"IF($A219=\"\",\"\",(VLOOKUP($R219,'Pollutant Loading Rates'!$A$5:$F$12,3,0)*$L219/43560)+IF($R219=\"Forest\",'Pollutant Loading Rates'!C$13*($V219-$L219)/43560,IF($R219=\"Agriculture\",'Pollutant Loading Rates'!C$14*($V219-$L219)/43560,IF($D219=\"RIDOT\",($V219-$L219)/43560*'Pollutant Loading Rates'!C$15,($V219-$L219)/43560*'Pollutant Loading Rates'!C$16))))","v":""},{"$f":"IF($A219=\"\",\"\",(VLOOKUP($R219,'Pollutant Loading Rates'!$A$5:$F$12,4,0)*$L219/43560)+IF($R219=\"Forest\",'Pollutant Loading Rates'!D$13*($V219-$L219)/43560,IF($R219=\"Agriculture\",'Pollutant Loading Rates'!D$14*($V219-$L219)/43560,IF($D219=\"RIDOT\",($V219-$L219)/43560*'Pollutant Loading Rates'!D$15,($V219-$L219)/43560*'Pollutant Loading Rates'!D$16))))","v":""},{"$f":"IF($A219=\"\",\"\",(VLOOKUP($R219,'Pollutant Loading Rates'!$A$5:$F$12,5,0)*$L219/43560)+IF($R219=\"Forest\",'Pollutant Loading Rates'!E$13*($V219-$L219)/43560,IF($R219=\"Agriculture\",'Pollutant Loading Rates'!E$14*($V219-$L219)/43560,IF($D219=\"RIDOT\",($V219-$L219)/43560*'Pollutant Loading Rates'!E$15,($V219-$L219)/43560*'Pollutant Loading Rates'!E$16))))","v":""},{"$f":"IF($A219=\"\",\"\",(VLOOKUP($R219,'Pollutant Loading Rates'!$A$5:$F$12,6,0)*$L219/43560)+IF($R219=\"Forest\",'Pollutant Loading Rates'!F$13*($V219-$L219)/43560,IF($R219=\"Agriculture\",'Pollutant Loading Rates'!F$14*($V219-$L219)/43560,IF($D219=\"RIDOT\",($V219-$L219)/43560*'Pollutant Loading Rates'!F$15,$V219-$L219)/43560*'Pollutant Loading Rates'!F$16)))","v":""}]
[null,null,null,null,null,null,null,null,null,null,null,null,null,null,null,null,null,null,null,null,null,null,null,{"$f":"IF($A220=\"\",\"\",(VLOOKUP($R220,'Pollutant Loading Rates'!$A$5:$F$12,3,0)*$L220/43560)+IF($R220=\"Forest\",'Pollutant Loading Rates'!C$13*($V220-$L220)/43560,IF($R220=\"Agriculture\",'Pollutant Loading Rates'!C$14*($V220-$L220)/43560,IF($D220=\"RIDOT\",($V220-$L220)/43560*'Pollutant Loading Rates'!C$15,($V220-$L220)/43560*'Pollutant Loading Rates'!C$16))))","v":""},{"$f":"IF($A220=\"\",\"\",(VLOOKUP($R220,'Pollutant Loading Rates'!$A$5:$F$12,4,0)*$L220/43560)+IF($R220=\"Forest\",'Pollutant Loading Rates'!D$13*($V220-$L220)/43560,IF($R220=\"Agriculture\",'Pollutant Loading Rates'!D$14*($V220-$L220)/43560,IF($D220=\"RIDOT\",($V220-$L220)/43560*'Pollutant Loading Rates'!D$15,($V220-$L220)/43560*'Pollutant Loading Rates'!D$16))))","v":""},{"$f":"IF($A220=\"\",\"\",(VLOOKUP($R220,'Pollutant Loading Rates'!$A$5:$F$12,5,0)*$L220/43560)+IF($R220=\"Forest\",'Pollutant Loading Rates'!E$13*($V220-$L220)/43560,IF($R220=\"Agriculture\",'Pollutant Loading Rates'!E$14*($V220-$L220)/43560,IF($D220=\"RIDOT\",($V220-$L220)/43560*'Pollutant Loading Rates'!E$15,($V220-$L220)/43560*'Pollutant Loading Rates'!E$16))))","v":""},{"$f":"IF($A220=\"\",\"\",(VLOOKUP($R220,'Pollutant Loading Rates'!$A$5:$F$12,6,0)*$L220/43560)+IF($R220=\"Forest\",'Pollutant Loading Rates'!F$13*($V220-$L220)/43560,IF($R220=\"Agriculture\",'Pollutant Loading Rates'!F$14*($V220-$L220)/43560,IF($D220=\"RIDOT\",($V220-$L220)/43560*'Pollutant Loading Rates'!F$15,$V220-$L220)/43560*'Pollutant Loading Rates'!F$16)))","v":""}]
[null,null,null,null,null,null,null,null,null,null,null,null,null,null,null,null,null,null,null,null,null,null,null,{"$f":"IF($A221=\"\",\"\",(VLOOKUP($R221,'Pollutant Loading Rates'!$A$5:$F$12,3,0)*$L221/43560)+IF($R221=\"Forest\",'Pollutant Loading Rates'!C$13*($V221-$L221)/43560,IF($R221=\"Agriculture\",'Pollutant Loading Rates'!C$14*($V221-$L221)/43560,IF($D221=\"RIDOT\",($V221-$L221)/43560*'Pollutant Loading Rates'!C$15,($V221-$L221)/43560*'Pollutant Loading Rates'!C$16))))","v":""},{"$f":"IF($A221=\"\",\"\",(VLOOKUP($R221,'Pollutant Loading Rates'!$A$5:$F$12,4,0)*$L221/43560)+IF($R221=\"Forest\",'Pollutant Loading Rates'!D$13*($V221-$L221)/43560,IF($R221=\"Agriculture\",'Pollutant Loading Rates'!D$14*($V221-$L221)/43560,IF($D221=\"RIDOT\",($V221-$L221)/43560*'Pollutant Loading Rates'!D$15,($V221-$L221)/43560*'Pollutant Loading Rates'!D$16))))","v":""},{"$f":"IF($A221=\"\",\"\",(VLOOKUP($R221,'Pollutant Loading Rates'!$A$5:$F$12,5,0)*$L221/43560)+IF($R221=\"Forest\",'Pollutant Loading Rates'!E$13*($V221-$L221)/43560,IF($R221=\"Agriculture\",'Pollutant Loading Rates'!E$14*($V221-$L221)/43560,IF($D221=\"RIDOT\",($V221-$L221)/43560*'Pollutant Loading Rates'!E$15,($V221-$L221)/43560*'Pollutant Loading Rates'!E$16))))","v":""},{"$f":"IF($A221=\"\",\"\",(VLOOKUP($R221,'Pollutant Loading Rates'!$A$5:$F$12,6,0)*$L221/43560)+IF($R221=\"Forest\",'Pollutant Loading Rates'!F$13*($V221-$L221)/43560,IF($R221=\"Agriculture\",'Pollutant Loading Rates'!F$14*($V221-$L221)/43560,IF($D221=\"RIDOT\",($V221-$L221)/43560*'Pollutant Loading Rates'!F$15,$V221-$L221)/43560*'Pollutant Loading Rates'!F$16)))","v":""}]
[null,null,null,null,null,null,null,null,null,null,null,null,null,null,null,null,null,null,null,null,null,null,null,{"$f":"IF($A222=\"\",\"\",(VLOOKUP($R222,'Pollutant Loading Rates'!$A$5:$F$12,3,0)*$L222/43560)+IF($R222=\"Forest\",'Pollutant Loading Rates'!C$13*($V222-$L222)/43560,IF($R222=\"Agriculture\",'Pollutant Loading Rates'!C$14*($V222-$L222)/43560,IF($D222=\"RIDOT\",($V222-$L222)/43560*'Pollutant Loading Rates'!C$15,($V222-$L222)/43560*'Pollutant Loading Rates'!C$16))))","v":""},{"$f":"IF($A222=\"\",\"\",(VLOOKUP($R222,'Pollutant Loading Rates'!$A$5:$F$12,4,0)*$L222/43560)+IF($R222=\"Forest\",'Pollutant Loading Rates'!D$13*($V222-$L222)/43560,IF($R222=\"Agriculture\",'Pollutant Loading Rates'!D$14*($V222-$L222)/43560,IF($D222=\"RIDOT\",($V222-$L222)/43560*'Pollutant Loading Rates'!D$15,($V222-$L222)/43560*'Pollutant Loading Rates'!D$16))))","v":""},{"$f":"IF($A222=\"\",\"\",(VLOOKUP($R222,'Pollutant Loading Rates'!$A$5:$F$12,5,0)*$L222/43560)+IF($R222=\"Forest\",'Pollutant Loading Rates'!E$13*($V222-$L222)/43560,IF($R222=\"Agriculture\",'Pollutant Loading Rates'!E$14*($V222-$L222)/43560,IF($D222=\"RIDOT\",($V222-$L222)/43560*'Pollutant Loading Rates'!E$15,($V222-$L222)/43560*'Pollutant Loading Rates'!E$16))))","v":""},{"$f":"IF($A222=\"\",\"\",(VLOOKUP($R222,'Pollutant Loading Rates'!$A$5:$F$12,6,0)*$L222/43560)+IF($R222=\"Forest\",'Pollutant Loading Rates'!F$13*($V222-$L222)/43560,IF($R222=\"Agriculture\",'Pollutant Loading Rates'!F$14*($V222-$L222)/43560,IF($D222=\"RIDOT\",($V222-$L222)/43560*'Pollutant Loading Rates'!F$15,$V222-$L222)/43560*'Pollutant Loading Rates'!F$16)))","v":""}]
[null,null,null,null,null,null,null,null,null,null,null,null,null,null,null,null,null,null,null,null,null,null,null,{"$f":"IF($A223=\"\",\"\",(VLOOKUP($R223,'Pollutant Loading Rates'!$A$5:$F$12,3,0)*$L223/43560)+IF($R223=\"Forest\",'Pollutant Loading Rates'!C$13*($V223-$L223)/43560,IF($R223=\"Agriculture\",'Pollutant Loading Rates'!C$14*($V223-$L223)/43560,IF($D223=\"RIDOT\",($V223-$L223)/43560*'Pollutant Loading Rates'!C$15,($V223-$L223)/43560*'Pollutant Loading Rates'!C$16))))","v":""},{"$f":"IF($A223=\"\",\"\",(VLOOKUP($R223,'Pollutant Loading Rates'!$A$5:$F$12,4,0)*$L223/43560)+IF($R223=\"Forest\",'Pollutant Loading Rates'!D$13*($V223-$L223)/43560,IF($R223=\"Agriculture\",'Pollutant Loading Rates'!D$14*($V223-$L223)/43560,IF($D223=\"RIDOT\",($V223-$L223)/43560*'Pollutant Loading Rates'!D$15,($V223-$L223)/43560*'Pollutant Loading Rates'!D$16))))","v":""},{"$f":"IF($A223=\"\",\"\",(VLOOKUP($R223,'Pollutant Loading Rates'!$A$5:$F$12,5,0)*$L223/43560)+IF($R223=\"Forest\",'Pollutant Loading Rates'!E$13*($V223-$L223)/43560,IF($R223=\"Agriculture\",'Pollutant Loading Rates'!E$14*($V223-$L223)/43560,IF($D223=\"RIDOT\",($V223-$L223)/43560*'Pollutant Loading Rates'!E$15,($V223-$L223)/43560*'Pollutant Loading Rates'!E$16))))","v":""},{"$f":"IF($A223=\"\",\"\",(VLOOKUP($R223,'Pollutant Loading Rates'!$A$5:$F$12,6,0)*$L223/43560)+IF($R223=\"Forest\",'Pollutant Loading Rates'!F$13*($V223-$L223)/43560,IF($R223=\"Agriculture\",'Pollutant Loading Rates'!F$14*($V223-$L223)/43560,IF($D223=\"RIDOT\",($V223-$L223)/43560*'Pollutant Loading Rates'!F$15,$V223-$L223)/43560*'Pollutant Loading Rates'!F$16)))","v":""}]
[null,null,null,null,null,null,null,null,null,null,null,null,null,null,null,null,null,null,null,null,null,null,null,{"$f":"IF($A224=\"\",\"\",(VLOOKUP($R224,'Pollutant Loading Rates'!$A$5:$F$12,3,0)*$L224/43560)+IF($R224=\"Forest\",'Pollutant Loading Rates'!C$13*($V224-$L224)/43560,IF($R224=\"Agriculture\",'Pollutant Loading Rates'!C$14*($V224-$L224)/43560,IF($D224=\"RIDOT\",($V224-$L224)/43560*'Pollutant Loading Rates'!C$15,($V224-$L224)/43560*'Pollutant Loading Rates'!C$16))))","v":""},{"$f":"IF($A224=\"\",\"\",(VLOOKUP($R224,'Pollutant Loading Rates'!$A$5:$F$12,4,0)*$L224/43560)+IF($R224=\"Forest\",'Pollutant Loading Rates'!D$13*($V224-$L224)/43560,IF($R224=\"Agriculture\",'Pollutant Loading Rates'!D$14*($V224-$L224)/43560,IF($D224=\"RIDOT\",($V224-$L224)/43560*'Pollutant Loading Rates'!D$15,($V224-$L224)/43560*'Pollutant Loading Rates'!D$16))))","v":""},{"$f":"IF($A224=\"\",\"\",(VLOOKUP($R224,'Pollutant Loading Rates'!$A$5:$F$12,5,0)*$L224/43560)+IF($R224=\"Forest\",'Pollutant Loading Rates'!E$13*($V224-$L224)/43560,IF($R224=\"Agriculture\",'Pollutant Loading Rates'!E$14*($V224-$L224)/43560,IF($D224=\"RIDOT\",($V224-$L224)/43560*'Pollutant Loading Rates'!E$15,($V224-$L224)/43560*'Pollutant Loading Rates'!E$16))))","v":""},{"$f":"IF($A224=\"\",\"\",(VLOOKUP($R224,'Pollutant Loading Rates'!$A$5:$F$12,6,0)*$L224/43560)+IF($R224=\"Forest\",'Pollutant Loading Rates'!F$13*($V224-$L224)/43560,IF($R224=\"Agriculture\",'Pollutant Loading Rates'!F$14*($V224-$L224)/43560,IF($D224=\"RIDOT\",($V224-$L224)/43560*'Pollutant Loading Rates'!F$15,$V224-$L224)/43560*'Pollutant Loading Rates'!F$16)))","v":""}]
[null,null,null,null,null,null,null,null,null,null,null,null,null,null,null,null,null,null,null,null,null,null,null,{"$f":"IF($A225=\"\",\"\",(VLOOKUP($R225,'Pollutant Loading Rates'!$A$5:$F$12,3,0)*$L225/43560)+IF($R225=\"Forest\",'Pollutant Loading Rates'!C$13*($V225-$L225)/43560,IF($R225=\"Agriculture\",'Pollutant Loading Rates'!C$14*($V225-$L225)/43560,IF($D225=\"RIDOT\",($V225-$L225)/43560*'Pollutant Loading Rates'!C$15,($V225-$L225)/43560*'Pollutant Loading Rates'!C$16))))","v":""},{"$f":"IF($A225=\"\",\"\",(VLOOKUP($R225,'Pollutant Loading Rates'!$A$5:$F$12,4,0)*$L225/43560)+IF($R225=\"Forest\",'Pollutant Loading Rates'!D$13*($V225-$L225)/43560,IF($R225=\"Agriculture\",'Pollutant Loading Rates'!D$14*($V225-$L225)/43560,IF($D225=\"RIDOT\",($V225-$L225)/43560*'Pollutant Loading Rates'!D$15,($V225-$L225)/43560*'Pollutant Loading Rates'!D$16))))","v":""},{"$f":"IF($A225=\"\",\"\",(VLOOKUP($R225,'Pollutant Loading Rates'!$A$5:$F$12,5,0)*$L225/43560)+IF($R225=\"Forest\",'Pollutant Loading Rates'!E$13*($V225-$L225)/43560,IF($R225=\"Agriculture\",'Pollutant Loading Rates'!E$14*($V225-$L225)/43560,IF($D225=\"RIDOT\",($V225-$L225)/43560*'Pollutant Loading Rates'!E$15,($V225-$L225)/43560*'Pollutant Loading Rates'!E$16))))","v":""},{"$f":"IF($A225=\"\",\"\",(VLOOKUP($R225,'Pollutant Loading Rates'!$A$5:$F$12,6,0)*$L225/43560)+IF($R225=\"Forest\",'Pollutant Loading Rates'!F$13*($V225-$L225)/43560,IF($R225=\"Agriculture\",'Pollutant Loading Rates'!F$14*($V225-$L225)/43560,IF($D225=\"RIDOT\",($V225-$L225)/43560*'Pollutant Loading Rates'!F$15,$V225-$L225)/43560*'Pollutant Loading Rates'!F$16)))","v":""}]
[null,null,null,null,null,null,null,null,null,null,null,null,null,null,null,null,null,null,null,null,null,null,null,{"$f":"IF($A226=\"\",\"\",(VLOOKUP($R226,'Pollutant Loading Rates'!$A$5:$F$12,3,0)*$L226/43560)+IF($R226=\"Forest\",'Pollutant Loading Rates'!C$13*($V226-$L226)/43560,IF($R226=\"Agriculture\",'Pollutant Loading Rates'!C$14*($V226-$L226)/43560,IF($D226=\"RIDOT\",($V226-$L226)/43560*'Pollutant Loading Rates'!C$15,($V226-$L226)/43560*'Pollutant Loading Rates'!C$16))))","v":""},{"$f":"IF($A226=\"\",\"\",(VLOOKUP($R226,'Pollutant Loading Rates'!$A$5:$F$12,4,0)*$L226/43560)+IF($R226=\"Forest\",'Pollutant Loading Rates'!D$13*($V226-$L226)/43560,IF($R226=\"Agriculture\",'Pollutant Loading Rates'!D$14*($V226-$L226)/43560,IF($D226=\"RIDOT\",($V226-$L226)/43560*'Pollutant Loading Rates'!D$15,($V226-$L226)/43560*'Pollutant Loading Rates'!D$16))))","v":""},{"$f":"IF($A226=\"\",\"\",(VLOOKUP($R226,'Pollutant Loading Rates'!$A$5:$F$12,5,0)*$L226/43560)+IF($R226=\"Forest\",'Pollutant Loading Rates'!E$13*($V226-$L226)/43560,IF($R226=\"Agriculture\",'Pollutant Loading Rates'!E$14*($V226-$L226)/43560,IF($D226=\"RIDOT\",($V226-$L226)/43560*'Pollutant Loading Rates'!E$15,($V226-$L226)/43560*'Pollutant Loading Rates'!E$16))))","v":""},{"$f":"IF($A226=\"\",\"\",(VLOOKUP($R226,'Pollutant Loading Rates'!$A$5:$F$12,6,0)*$L226/43560)+IF($R226=\"Forest\",'Pollutant Loading Rates'!F$13*($V226-$L226)/43560,IF($R226=\"Agriculture\",'Pollutant Loading Rates'!F$14*($V226-$L226)/43560,IF($D226=\"RIDOT\",($V226-$L226)/43560*'Pollutant Loading Rates'!F$15,$V226-$L226)/43560*'Pollutant Loading Rates'!F$16)))","v":""}]
[null,null,null,null,null,null,null,null,null,null,null,null,null,null,null,null,null,null,null,null,null,null,null,{"$f":"IF($A227=\"\",\"\",(VLOOKUP($R227,'Pollutant Loading Rates'!$A$5:$F$12,3,0)*$L227/43560)+IF($R227=\"Forest\",'Pollutant Loading Rates'!C$13*($V227-$L227)/43560,IF($R227=\"Agriculture\",'Pollutant Loading Rates'!C$14*($V227-$L227)/43560,IF($D227=\"RIDOT\",($V227-$L227)/43560*'Pollutant Loading Rates'!C$15,($V227-$L227)/43560*'Pollutant Loading Rates'!C$16))))","v":""},{"$f":"IF($A227=\"\",\"\",(VLOOKUP($R227,'Pollutant Loading Rates'!$A$5:$F$12,4,0)*$L227/43560)+IF($R227=\"Forest\",'Pollutant Loading Rates'!D$13*($V227-$L227)/43560,IF($R227=\"Agriculture\",'Pollutant Loading Rates'!D$14*($V227-$L227)/43560,IF($D227=\"RIDOT\",($V227-$L227)/43560*'Pollutant Loading Rates'!D$15,($V227-$L227)/43560*'Pollutant Loading Rates'!D$16))))","v":""},{"$f":"IF($A227=\"\",\"\",(VLOOKUP($R227,'Pollutant Loading Rates'!$A$5:$F$12,5,0)*$L227/43560)+IF($R227=\"Forest\",'Pollutant Loading Rates'!E$13*($V227-$L227)/43560,IF($R227=\"Agriculture\",'Pollutant Loading Rates'!E$14*($V227-$L227)/43560,IF($D227=\"RIDOT\",($V227-$L227)/43560*'Pollutant Loading Rates'!E$15,($V227-$L227)/43560*'Pollutant Loading Rates'!E$16))))","v":""},{"$f":"IF($A227=\"\",\"\",(VLOOKUP($R227,'Pollutant Loading Rates'!$A$5:$F$12,6,0)*$L227/43560)+IF($R227=\"Forest\",'Pollutant Loading Rates'!F$13*($V227-$L227)/43560,IF($R227=\"Agriculture\",'Pollutant Loading Rates'!F$14*($V227-$L227)/43560,IF($D227=\"RIDOT\",($V227-$L227)/43560*'Pollutant Loading Rates'!F$15,$V227-$L227)/43560*'Pollutant Loading Rates'!F$16)))","v":""}]
[null,null,null,null,null,null,null,null,null,null,null,null,null,null,null,null,null,null,null,null,null,null,null,{"$f":"IF($A228=\"\",\"\",(VLOOKUP($R228,'Pollutant Loading Rates'!$A$5:$F$12,3,0)*$L228/43560)+IF($R228=\"Forest\",'Pollutant Loading Rates'!C$13*($V228-$L228)/43560,IF($R228=\"Agriculture\",'Pollutant Loading Rates'!C$14*($V228-$L228)/43560,IF($D228=\"RIDOT\",($V228-$L228)/43560*'Pollutant Loading Rates'!C$15,($V228-$L228)/43560*'Pollutant Loading Rates'!C$16))))","v":""},{"$f":"IF($A228=\"\",\"\",(VLOOKUP($R228,'Pollutant Loading Rates'!$A$5:$F$12,4,0)*$L228/43560)+IF($R228=\"Forest\",'Pollutant Loading Rates'!D$13*($V228-$L228)/43560,IF($R228=\"Agriculture\",'Pollutant Loading Rates'!D$14*($V228-$L228)/43560,IF($D228=\"RIDOT\",($V228-$L228)/43560*'Pollutant Loading Rates'!D$15,($V228-$L228)/43560*'Pollutant Loading Rates'!D$16))))","v":""},{"$f":"IF($A228=\"\",\"\",(VLOOKUP($R228,'Pollutant Loading Rates'!$A$5:$F$12,5,0)*$L228/43560)+IF($R228=\"Forest\",'Pollutant Loading Rates'!E$13*($V228-$L228)/43560,IF($R228=\"Agriculture\",'Pollutant Loading Rates'!E$14*($V228-$L228)/43560,IF($D228=\"RIDOT\",($V228-$L228)/43560*'Pollutant Loading Rates'!E$15,($V228-$L228)/43560*'Pollutant Loading Rates'!E$16))))","v":""},{"$f":"IF($A228=\"\",\"\",(VLOOKUP($R228,'Pollutant Loading Rates'!$A$5:$F$12,6,0)*$L228/43560)+IF($R228=\"Forest\",'Pollutant Loading Rates'!F$13*($V228-$L228)/43560,IF($R228=\"Agriculture\",'Pollutant Loading Rates'!F$14*($V228-$L228)/43560,IF($D228=\"RIDOT\",($V228-$L228)/43560*'Pollutant Loading Rates'!F$15,$V228-$L228)/43560*'Pollutant Loading Rates'!F$16)))","v":""}]
[null,null,null,null,null,null,null,null,null,null,null,null,null,null,null,null,null,null,null,null,null,null,null,{"$f":"IF($A229=\"\",\"\",(VLOOKUP($R229,'Pollutant Loading Rates'!$A$5:$F$12,3,0)*$L229/43560)+IF($R229=\"Forest\",'Pollutant Loading Rates'!C$13*($V229-$L229)/43560,IF($R229=\"Agriculture\",'Pollutant Loading Rates'!C$14*($V229-$L229)/43560,IF($D229=\"RIDOT\",($V229-$L229)/43560*'Pollutant Loading Rates'!C$15,($V229-$L229)/43560*'Pollutant Loading Rates'!C$16))))","v":""},{"$f":"IF($A229=\"\",\"\",(VLOOKUP($R229,'Pollutant Loading Rates'!$A$5:$F$12,4,0)*$L229/43560)+IF($R229=\"Forest\",'Pollutant Loading Rates'!D$13*($V229-$L229)/43560,IF($R229=\"Agriculture\",'Pollutant Loading Rates'!D$14*($V229-$L229)/43560,IF($D229=\"RIDOT\",($V229-$L229)/43560*'Pollutant Loading Rates'!D$15,($V229-$L229)/43560*'Pollutant Loading Rates'!D$16))))","v":""},{"$f":"IF($A229=\"\",\"\",(VLOOKUP($R229,'Pollutant Loading Rates'!$A$5:$F$12,5,0)*$L229/43560)+IF($R229=\"Forest\",'Pollutant Loading Rates'!E$13*($V229-$L229)/43560,IF($R229=\"Agriculture\",'Pollutant Loading Rates'!E$14*($V229-$L229)/43560,IF($D229=\"RIDOT\",($V229-$L229)/43560*'Pollutant Loading Rates'!E$15,($V229-$L229)/43560*'Pollutant Loading Rates'!E$16))))","v":""},{"$f":"IF($A229=\"\",\"\",(VLOOKUP($R229,'Pollutant Loading Rates'!$A$5:$F$12,6,0)*$L229/43560)+IF($R229=\"Forest\",'Pollutant Loading Rates'!F$13*($V229-$L229)/43560,IF($R229=\"Agriculture\",'Pollutant Loading Rates'!F$14*($V229-$L229)/43560,IF($D229=\"RIDOT\",($V229-$L229)/43560*'Pollutant Loading Rates'!F$15,$V229-$L229)/43560*'Pollutant Loading Rates'!F$16)))","v":""}]
[null,null,null,null,null,null,null,null,null,null,null,null,null,null,null,null,null,null,null,null,null,null,null,{"$f":"IF($A230=\"\",\"\",(VLOOKUP($R230,'Pollutant Loading Rates'!$A$5:$F$12,3,0)*$L230/43560)+IF($R230=\"Forest\",'Pollutant Loading Rates'!C$13*($V230-$L230)/43560,IF($R230=\"Agriculture\",'Pollutant Loading Rates'!C$14*($V230-$L230)/43560,IF($D230=\"RIDOT\",($V230-$L230)/43560*'Pollutant Loading Rates'!C$15,($V230-$L230)/43560*'Pollutant Loading Rates'!C$16))))","v":""},{"$f":"IF($A230=\"\",\"\",(VLOOKUP($R230,'Pollutant Loading Rates'!$A$5:$F$12,4,0)*$L230/43560)+IF($R230=\"Forest\",'Pollutant Loading Rates'!D$13*($V230-$L230)/43560,IF($R230=\"Agriculture\",'Pollutant Loading Rates'!D$14*($V230-$L230)/43560,IF($D230=\"RIDOT\",($V230-$L230)/43560*'Pollutant Loading Rates'!D$15,($V230-$L230)/43560*'Pollutant Loading Rates'!D$16))))","v":""},{"$f":"IF($A230=\"\",\"\",(VLOOKUP($R230,'Pollutant Loading Rates'!$A$5:$F$12,5,0)*$L230/43560)+IF($R230=\"Forest\",'Pollutant Loading Rates'!E$13*($V230-$L230)/43560,IF($R230=\"Agriculture\",'Pollutant Loading Rates'!E$14*($V230-$L230)/43560,IF($D230=\"RIDOT\",($V230-$L230)/43560*'Pollutant Loading Rates'!E$15,($V230-$L230)/43560*'Pollutant Loading Rates'!E$16))))","v":""},{"$f":"IF($A230=\"\",\"\",(VLOOKUP($R230,'Pollutant Loading Rates'!$A$5:$F$12,6,0)*$L230/43560)+IF($R230=\"Forest\",'Pollutant Loading Rates'!F$13*($V230-$L230)/43560,IF($R230=\"Agriculture\",'Pollutant Loading Rates'!F$14*($V230-$L230)/43560,IF($D230=\"RIDOT\",($V230-$L230)/43560*'Pollutant Loading Rates'!F$15,$V230-$L230)/43560*'Pollutant Loading Rates'!F$16)))","v":""}]
[null,null,null,null,null,null,null,null,null,null,null,null,null,null,null,null,null,null,null,null,null,null,null,{"$f":"IF($A231=\"\",\"\",(VLOOKUP($R231,'Pollutant Loading Rates'!$A$5:$F$12,3,0)*$L231/43560)+IF($R231=\"Forest\",'Pollutant Loading Rates'!C$13*($V231-$L231)/43560,IF($R231=\"Agriculture\",'Pollutant Loading Rates'!C$14*($V231-$L231)/43560,IF($D231=\"RIDOT\",($V231-$L231)/43560*'Pollutant Loading Rates'!C$15,($V231-$L231)/43560*'Pollutant Loading Rates'!C$16))))","v":""},{"$f":"IF($A231=\"\",\"\",(VLOOKUP($R231,'Pollutant Loading Rates'!$A$5:$F$12,4,0)*$L231/43560)+IF($R231=\"Forest\",'Pollutant Loading Rates'!D$13*($V231-$L231)/43560,IF($R231=\"Agriculture\",'Pollutant Loading Rates'!D$14*($V231-$L231)/43560,IF($D231=\"RIDOT\",($V231-$L231)/43560*'Pollutant Loading Rates'!D$15,($V231-$L231)/43560*'Pollutant Loading Rates'!D$16))))","v":""},{"$f":"IF($A231=\"\",\"\",(VLOOKUP($R231,'Pollutant Loading Rates'!$A$5:$F$12,5,0)*$L231/43560)+IF($R231=\"Forest\",'Pollutant Loading Rates'!E$13*($V231-$L231)/43560,IF($R231=\"Agriculture\",'Pollutant Loading Rates'!E$14*($V231-$L231)/43560,IF($D231=\"RIDOT\",($V231-$L231)/43560*'Pollutant Loading Rates'!E$15,($V231-$L231)/43560*'Pollutant Loading Rates'!E$16))))","v":""},{"$f":"IF($A231=\"\",\"\",(VLOOKUP($R231,'Pollutant Loading Rates'!$A$5:$F$12,6,0)*$L231/43560)+IF($R231=\"Forest\",'Pollutant Loading Rates'!F$13*($V231-$L231)/43560,IF($R231=\"Agriculture\",'Pollutant Loading Rates'!F$14*($V231-$L231)/43560,IF($D231=\"RIDOT\",($V231-$L231)/43560*'Pollutant Loading Rates'!F$15,$V231-$L231)/43560*'Pollutant Loading Rates'!F$16)))","v":""}]
[null,null,null,null,null,null,null,null,null,null,null,null,null,null,null,null,null,null,null,null,null,null,null,{"$f":"IF($A232=\"\",\"\",(VLOOKUP($R232,'Pollutant Loading Rates'!$A$5:$F$12,3,0)*$L232/43560)+IF($R232=\"Forest\",'Pollutant Loading Rates'!C$13*($V232-$L232)/43560,IF($R232=\"Agriculture\",'Pollutant Loading Rates'!C$14*($V232-$L232)/43560,IF($D232=\"RIDOT\",($V232-$L232)/43560*'Pollutant Loading Rates'!C$15,($V232-$L232)/43560*'Pollutant Loading Rates'!C$16))))","v":""},{"$f":"IF($A232=\"\",\"\",(VLOOKUP($R232,'Pollutant Loading Rates'!$A$5:$F$12,4,0)*$L232/43560)+IF($R232=\"Forest\",'Pollutant Loading Rates'!D$13*($V232-$L232)/43560,IF($R232=\"Agriculture\",'Pollutant Loading Rates'!D$14*($V232-$L232)/43560,IF($D232=\"RIDOT\",($V232-$L232)/43560*'Pollutant Loading Rates'!D$15,($V232-$L232)/43560*'Pollutant Loading Rates'!D$16))))","v":""},{"$f":"IF($A232=\"\",\"\",(VLOOKUP($R232,'Pollutant Loading Rates'!$A$5:$F$12,5,0)*$L232/43560)+IF($R232=\"Forest\",'Pollutant Loading Rates'!E$13*($V232-$L232)/43560,IF($R232=\"Agriculture\",'Pollutant Loading Rates'!E$14*($V232-$L232)/43560,IF($D232=\"RIDOT\",($V232-$L232)/43560*'Pollutant Loading Rates'!E$15,($V232-$L232)/43560*'Pollutant Loading Rates'!E$16))))","v":""},{"$f":"IF($A232=\"\",\"\",(VLOOKUP($R232,'Pollutant Loading Rates'!$A$5:$F$12,6,0)*$L232/43560)+IF($R232=\"Forest\",'Pollutant Loading Rates'!F$13*($V232-$L232)/43560,IF($R232=\"Agriculture\",'Pollutant Loading Rates'!F$14*($V232-$L232)/43560,IF($D232=\"RIDOT\",($V232-$L232)/43560*'Pollutant Loading Rates'!F$15,$V232-$L232)/43560*'Pollutant Loading Rates'!F$16)))","v":""}]
[null,null,null,null,null,null,null,null,null,null,null,null,null,null,null,null,null,null,null,null,null,null,null,{"$f":"IF($A233=\"\",\"\",(VLOOKUP($R233,'Pollutant Loading Rates'!$A$5:$F$12,3,0)*$L233/43560)+IF($R233=\"Forest\",'Pollutant Loading Rates'!C$13*($V233-$L233)/43560,IF($R233=\"Agriculture\",'Pollutant Loading Rates'!C$14*($V233-$L233)/43560,IF($D233=\"RIDOT\",($V233-$L233)/43560*'Pollutant Loading Rates'!C$15,($V233-$L233)/43560*'Pollutant Loading Rates'!C$16))))","v":""},{"$f":"IF($A233=\"\",\"\",(VLOOKUP($R233,'Pollutant Loading Rates'!$A$5:$F$12,4,0)*$L233/43560)+IF($R233=\"Forest\",'Pollutant Loading Rates'!D$13*($V233-$L233)/43560,IF($R233=\"Agriculture\",'Pollutant Loading Rates'!D$14*($V233-$L233)/43560,IF($D233=\"RIDOT\",($V233-$L233)/43560*'Pollutant Loading Rates'!D$15,($V233-$L233)/43560*'Pollutant Loading Rates'!D$16))))","v":""},{"$f":"IF($A233=\"\",\"\",(VLOOKUP($R233,'Pollutant Loading Rates'!$A$5:$F$12,5,0)*$L233/43560)+IF($R233=\"Forest\",'Pollutant Loading Rates'!E$13*($V233-$L233)/43560,IF($R233=\"Agriculture\",'Pollutant Loading Rates'!E$14*($V233-$L233)/43560,IF($D233=\"RIDOT\",($V233-$L233)/43560*'Pollutant Loading Rates'!E$15,($V233-$L233)/43560*'Pollutant Loading Rates'!E$16))))","v":""},{"$f":"IF($A233=\"\",\"\",(VLOOKUP($R233,'Pollutant Loading Rates'!$A$5:$F$12,6,0)*$L233/43560)+IF($R233=\"Forest\",'Pollutant Loading Rates'!F$13*($V233-$L233)/43560,IF($R233=\"Agriculture\",'Pollutant Loading Rates'!F$14*($V233-$L233)/43560,IF($D233=\"RIDOT\",($V233-$L233)/43560*'Pollutant Loading Rates'!F$15,$V233-$L233)/43560*'Pollutant Loading Rates'!F$16)))","v":""}]
[null,null,null,null,null,null,null,null,null,null,null,null,null,null,null,null,null,null,null,null,null,null,null,{"$f":"IF($A234=\"\",\"\",(VLOOKUP($R234,'Pollutant Loading Rates'!$A$5:$F$12,3,0)*$L234/43560)+IF($R234=\"Forest\",'Pollutant Loading Rates'!C$13*($V234-$L234)/43560,IF($R234=\"Agriculture\",'Pollutant Loading Rates'!C$14*($V234-$L234)/43560,IF($D234=\"RIDOT\",($V234-$L234)/43560*'Pollutant Loading Rates'!C$15,($V234-$L234)/43560*'Pollutant Loading Rates'!C$16))))","v":""},{"$f":"IF($A234=\"\",\"\",(VLOOKUP($R234,'Pollutant Loading Rates'!$A$5:$F$12,4,0)*$L234/43560)+IF($R234=\"Forest\",'Pollutant Loading Rates'!D$13*($V234-$L234)/43560,IF($R234=\"Agriculture\",'Pollutant Loading Rates'!D$14*($V234-$L234)/43560,IF($D234=\"RIDOT\",($V234-$L234)/43560*'Pollutant Loading Rates'!D$15,($V234-$L234)/43560*'Pollutant Loading Rates'!D$16))))","v":""},{"$f":"IF($A234=\"\",\"\",(VLOOKUP($R234,'Pollutant Loading Rates'!$A$5:$F$12,5,0)*$L234/43560)+IF($R234=\"Forest\",'Pollutant Loading Rates'!E$13*($V234-$L234)/43560,IF($R234=\"Agriculture\",'Pollutant Loading Rates'!E$14*($V234-$L234)/43560,IF($D234=\"RIDOT\",($V234-$L234)/43560*'Pollutant Loading Rates'!E$15,($V234-$L234)/43560*'Pollutant Loading Rates'!E$16))))","v":""},{"$f":"IF($A234=\"\",\"\",(VLOOKUP($R234,'Pollutant Loading Rates'!$A$5:$F$12,6,0)*$L234/43560)+IF($R234=\"Forest\",'Pollutant Loading Rates'!F$13*($V234-$L234)/43560,IF($R234=\"Agriculture\",'Pollutant Loading Rates'!F$14*($V234-$L234)/43560,IF($D234=\"RIDOT\",($V234-$L234)/43560*'Pollutant Loading Rates'!F$15,$V234-$L234)/43560*'Pollutant Loading Rates'!F$16)))","v":""}]
[null,null,null,null,null,null,null,null,null,null,null,null,null,null,null,null,null,null,null,null,null,null,null,{"$f":"IF($A235=\"\",\"\",(VLOOKUP($R235,'Pollutant Loading Rates'!$A$5:$F$12,3,0)*$L235/43560)+IF($R235=\"Forest\",'Pollutant Loading Rates'!C$13*($V235-$L235)/43560,IF($R235=\"Agriculture\",'Pollutant Loading Rates'!C$14*($V235-$L235)/43560,IF($D235=\"RIDOT\",($V235-$L235)/43560*'Pollutant Loading Rates'!C$15,($V235-$L235)/43560*'Pollutant Loading Rates'!C$16))))","v":""},{"$f":"IF($A235=\"\",\"\",(VLOOKUP($R235,'Pollutant Loading Rates'!$A$5:$F$12,4,0)*$L235/43560)+IF($R235=\"Forest\",'Pollutant Loading Rates'!D$13*($V235-$L235)/43560,IF($R235=\"Agriculture\",'Pollutant Loading Rates'!D$14*($V235-$L235)/43560,IF($D235=\"RIDOT\",($V235-$L235)/43560*'Pollutant Loading Rates'!D$15,($V235-$L235)/43560*'Pollutant Loading Rates'!D$16))))","v":""},{"$f":"IF($A235=\"\",\"\",(VLOOKUP($R235,'Pollutant Loading Rates'!$A$5:$F$12,5,0)*$L235/43560)+IF($R235=\"Forest\",'Pollutant Loading Rates'!E$13*($V235-$L235)/43560,IF($R235=\"Agriculture\",'Pollutant Loading Rates'!E$14*($V235-$L235)/43560,IF($D235=\"RIDOT\",($V235-$L235)/43560*'Pollutant Loading Rates'!E$15,($V235-$L235)/43560*'Pollutant Loading Rates'!E$16))))","v":""},{"$f":"IF($A235=\"\",\"\",(VLOOKUP($R235,'Pollutant Loading Rates'!$A$5:$F$12,6,0)*$L235/43560)+IF($R235=\"Forest\",'Pollutant Loading Rates'!F$13*($V235-$L235)/43560,IF($R235=\"Agriculture\",'Pollutant Loading Rates'!F$14*($V235-$L235)/43560,IF($D235=\"RIDOT\",($V235-$L235)/43560*'Pollutant Loading Rates'!F$15,$V235-$L235)/43560*'Pollutant Loading Rates'!F$16)))","v":""}]
[null,null,null,null,null,null,null,null,null,null,null,null,null,null,null,null,null,null,null,null,null,null,null,{"$f":"IF($A236=\"\",\"\",(VLOOKUP($R236,'Pollutant Loading Rates'!$A$5:$F$12,3,0)*$L236/43560)+IF($R236=\"Forest\",'Pollutant Loading Rates'!C$13*($V236-$L236)/43560,IF($R236=\"Agriculture\",'Pollutant Loading Rates'!C$14*($V236-$L236)/43560,IF($D236=\"RIDOT\",($V236-$L236)/43560*'Pollutant Loading Rates'!C$15,($V236-$L236)/43560*'Pollutant Loading Rates'!C$16))))","v":""},{"$f":"IF($A236=\"\",\"\",(VLOOKUP($R236,'Pollutant Loading Rates'!$A$5:$F$12,4,0)*$L236/43560)+IF($R236=\"Forest\",'Pollutant Loading Rates'!D$13*($V236-$L236)/43560,IF($R236=\"Agriculture\",'Pollutant Loading Rates'!D$14*($V236-$L236)/43560,IF($D236=\"RIDOT\",($V236-$L236)/43560*'Pollutant Loading Rates'!D$15,($V236-$L236)/43560*'Pollutant Loading Rates'!D$16))))","v":""},{"$f":"IF($A236=\"\",\"\",(VLOOKUP($R236,'Pollutant Loading Rates'!$A$5:$F$12,5,0)*$L236/43560)+IF($R236=\"Forest\",'Pollutant Loading Rates'!E$13*($V236-$L236)/43560,IF($R236=\"Agriculture\",'Pollutant Loading Rates'!E$14*($V236-$L236)/43560,IF($D236=\"RIDOT\",($V236-$L236)/43560*'Pollutant Loading Rates'!E$15,($V236-$L236)/43560*'Pollutant Loading Rates'!E$16))))","v":""},{"$f":"IF($A236=\"\",\"\",(VLOOKUP($R236,'Pollutant Loading Rates'!$A$5:$F$12,6,0)*$L236/43560)+IF($R236=\"Forest\",'Pollutant Loading Rates'!F$13*($V236-$L236)/43560,IF($R236=\"Agriculture\",'Pollutant Loading Rates'!F$14*($V236-$L236)/43560,IF($D236=\"RIDOT\",($V236-$L236)/43560*'Pollutant Loading Rates'!F$15,$V236-$L236)/43560*'Pollutant Loading Rates'!F$16)))","v":""}]
[null,null,null,null,null,null,null,null,null,null,null,null,null,null,null,null,null,null,null,null,null,null,null,{"$f":"IF($A237=\"\",\"\",(VLOOKUP($R237,'Pollutant Loading Rates'!$A$5:$F$12,3,0)*$L237/43560)+IF($R237=\"Forest\",'Pollutant Loading Rates'!C$13*($V237-$L237)/43560,IF($R237=\"Agriculture\",'Pollutant Loading Rates'!C$14*($V237-$L237)/43560,IF($D237=\"RIDOT\",($V237-$L237)/43560*'Pollutant Loading Rates'!C$15,($V237-$L237)/43560*'Pollutant Loading Rates'!C$16))))","v":""},{"$f":"IF($A237=\"\",\"\",(VLOOKUP($R237,'Pollutant Loading Rates'!$A$5:$F$12,4,0)*$L237/43560)+IF($R237=\"Forest\",'Pollutant Loading Rates'!D$13*($V237-$L237)/43560,IF($R237=\"Agriculture\",'Pollutant Loading Rates'!D$14*($V237-$L237)/43560,IF($D237=\"RIDOT\",($V237-$L237)/43560*'Pollutant Loading Rates'!D$15,($V237-$L237)/43560*'Pollutant Loading Rates'!D$16))))","v":""},{"$f":"IF($A237=\"\",\"\",(VLOOKUP($R237,'Pollutant Loading Rates'!$A$5:$F$12,5,0)*$L237/43560)+IF($R237=\"Forest\",'Pollutant Loading Rates'!E$13*($V237-$L237)/43560,IF($R237=\"Agriculture\",'Pollutant Loading Rates'!E$14*($V237-$L237)/43560,IF($D237=\"RIDOT\",($V237-$L237)/43560*'Pollutant Loading Rates'!E$15,($V237-$L237)/43560*'Pollutant Loading Rates'!E$16))))","v":""},{"$f":"IF($A237=\"\",\"\",(VLOOKUP($R237,'Pollutant Loading Rates'!$A$5:$F$12,6,0)*$L237/43560)+IF($R237=\"Forest\",'Pollutant Loading Rates'!F$13*($V237-$L237)/43560,IF($R237=\"Agriculture\",'Pollutant Loading Rates'!F$14*($V237-$L237)/43560,IF($D237=\"RIDOT\",($V237-$L237)/43560*'Pollutant Loading Rates'!F$15,$V237-$L237)/43560*'Pollutant Loading Rates'!F$16)))","v":""}]
[null,null,null,null,null,null,null,null,null,null,null,null,null,null,null,null,null,null,null,null,null,null,null,{"$f":"IF($A238=\"\",\"\",(VLOOKUP($R238,'Pollutant Loading Rates'!$A$5:$F$12,3,0)*$L238/43560)+IF($R238=\"Forest\",'Pollutant Loading Rates'!C$13*($V238-$L238)/43560,IF($R238=\"Agriculture\",'Pollutant Loading Rates'!C$14*($V238-$L238)/43560,IF($D238=\"RIDOT\",($V238-$L238)/43560*'Pollutant Loading Rates'!C$15,($V238-$L238)/43560*'Pollutant Loading Rates'!C$16))))","v":""},{"$f":"IF($A238=\"\",\"\",(VLOOKUP($R238,'Pollutant Loading Rates'!$A$5:$F$12,4,0)*$L238/43560)+IF($R238=\"Forest\",'Pollutant Loading Rates'!D$13*($V238-$L238)/43560,IF($R238=\"Agriculture\",'Pollutant Loading Rates'!D$14*($V238-$L238)/43560,IF($D238=\"RIDOT\",($V238-$L238)/43560*'Pollutant Loading Rates'!D$15,($V238-$L238)/43560*'Pollutant Loading Rates'!D$16))))","v":""},{"$f":"IF($A238=\"\",\"\",(VLOOKUP($R238,'Pollutant Loading Rates'!$A$5:$F$12,5,0)*$L238/43560)+IF($R238=\"Forest\",'Pollutant Loading Rates'!E$13*($V238-$L238)/43560,IF($R238=\"Agriculture\",'Pollutant Loading Rates'!E$14*($V238-$L238)/43560,IF($D238=\"RIDOT\",($V238-$L238)/43560*'Pollutant Loading Rates'!E$15,($V238-$L238)/43560*'Pollutant Loading Rates'!E$16))))","v":""},{"$f":"IF($A238=\"\",\"\",(VLOOKUP($R238,'Pollutant Loading Rates'!$A$5:$F$12,6,0)*$L238/43560)+IF($R238=\"Forest\",'Pollutant Loading Rates'!F$13*($V238-$L238)/43560,IF($R238=\"Agriculture\",'Pollutant Loading Rates'!F$14*($V238-$L238)/43560,IF($D238=\"RIDOT\",($V238-$L238)/43560*'Pollutant Loading Rates'!F$15,$V238-$L238)/43560*'Pollutant Loading Rates'!F$16)))","v":""}]
[null,null,null,null,null,null,null,null,null,null,null,null,null,null,null,null,null,null,null,null,null,null,null,{"$f":"IF($A239=\"\",\"\",(VLOOKUP($R239,'Pollutant Loading Rates'!$A$5:$F$12,3,0)*$L239/43560)+IF($R239=\"Forest\",'Pollutant Loading Rates'!C$13*($V239-$L239)/43560,IF($R239=\"Agriculture\",'Pollutant Loading Rates'!C$14*($V239-$L239)/43560,IF($D239=\"RIDOT\",($V239-$L239)/43560*'Pollutant Loading Rates'!C$15,($V239-$L239)/43560*'Pollutant Loading Rates'!C$16))))","v":""},{"$f":"IF($A239=\"\",\"\",(VLOOKUP($R239,'Pollutant Loading Rates'!$A$5:$F$12,4,0)*$L239/43560)+IF($R239=\"Forest\",'Pollutant Loading Rates'!D$13*($V239-$L239)/43560,IF($R239=\"Agriculture\",'Pollutant Loading Rates'!D$14*($V239-$L239)/43560,IF($D239=\"RIDOT\",($V239-$L239)/43560*'Pollutant Loading Rates'!D$15,($V239-$L239)/43560*'Pollutant Loading Rates'!D$16))))","v":""},{"$f":"IF($A239=\"\",\"\",(VLOOKUP($R239,'Pollutant Loading Rates'!$A$5:$F$12,5,0)*$L239/43560)+IF($R239=\"Forest\",'Pollutant Loading Rates'!E$13*($V239-$L239)/43560,IF($R239=\"Agriculture\",'Pollutant Loading Rates'!E$14*($V239-$L239)/43560,IF($D239=\"RIDOT\",($V239-$L239)/43560*'Pollutant Loading Rates'!E$15,($V239-$L239)/43560*'Pollutant Loading Rates'!E$16))))","v":""},{"$f":"IF($A239=\"\",\"\",(VLOOKUP($R239,'Pollutant Loading Rates'!$A$5:$F$12,6,0)*$L239/43560)+IF($R239=\"Forest\",'Pollutant Loading Rates'!F$13*($V239-$L239)/43560,IF($R239=\"Agriculture\",'Pollutant Loading Rates'!F$14*($V239-$L239)/43560,IF($D239=\"RIDOT\",($V239-$L239)/43560*'Pollutant Loading Rates'!F$15,$V239-$L239)/43560*'Pollutant Loading Rates'!F$16)))","v":""}]
[null,null,null,null,null,null,null,null,null,null,null,null,null,null,null,null,null,null,null,null,null,null,null,{"$f":"IF($A240=\"\",\"\",(VLOOKUP($R240,'Pollutant Loading Rates'!$A$5:$F$12,3,0)*$L240/43560)+IF($R240=\"Forest\",'Pollutant Loading Rates'!C$13*($V240-$L240)/43560,IF($R240=\"Agriculture\",'Pollutant Loading Rates'!C$14*($V240-$L240)/43560,IF($D240=\"RIDOT\",($V240-$L240)/43560*'Pollutant Loading Rates'!C$15,($V240-$L240)/43560*'Pollutant Loading Rates'!C$16))))","v":""},{"$f":"IF($A240=\"\",\"\",(VLOOKUP($R240,'Pollutant Loading Rates'!$A$5:$F$12,4,0)*$L240/43560)+IF($R240=\"Forest\",'Pollutant Loading Rates'!D$13*($V240-$L240)/43560,IF($R240=\"Agriculture\",'Pollutant Loading Rates'!D$14*($V240-$L240)/43560,IF($D240=\"RIDOT\",($V240-$L240)/43560*'Pollutant Loading Rates'!D$15,($V240-$L240)/43560*'Pollutant Loading Rates'!D$16))))","v":""},{"$f":"IF($A240=\"\",\"\",(VLOOKUP($R240,'Pollutant Loading Rates'!$A$5:$F$12,5,0)*$L240/43560)+IF($R240=\"Forest\",'Pollutant Loading Rates'!E$13*($V240-$L240)/43560,IF($R240=\"Agriculture\",'Pollutant Loading Rates'!E$14*($V240-$L240)/43560,IF($D240=\"RIDOT\",($V240-$L240)/43560*'Pollutant Loading Rates'!E$15,($V240-$L240)/43560*'Pollutant Loading Rates'!E$16))))","v":""},{"$f":"IF($A240=\"\",\"\",(VLOOKUP($R240,'Pollutant Loading Rates'!$A$5:$F$12,6,0)*$L240/43560)+IF($R240=\"Forest\",'Pollutant Loading Rates'!F$13*($V240-$L240)/43560,IF($R240=\"Agriculture\",'Pollutant Loading Rates'!F$14*($V240-$L240)/43560,IF($D240=\"RIDOT\",($V240-$L240)/43560*'Pollutant Loading Rates'!F$15,$V240-$L240)/43560*'Pollutant Loading Rates'!F$16)))","v":""}]
[null,null,null,null,null,null,null,null,null,null,null,null,null,null,null,null,null,null,null,null,null,null,null,{"$f":"IF($A241=\"\",\"\",(VLOOKUP($R241,'Pollutant Loading Rates'!$A$5:$F$12,3,0)*$L241/43560)+IF($R241=\"Forest\",'Pollutant Loading Rates'!C$13*($V241-$L241)/43560,IF($R241=\"Agriculture\",'Pollutant Loading Rates'!C$14*($V241-$L241)/43560,IF($D241=\"RIDOT\",($V241-$L241)/43560*'Pollutant Loading Rates'!C$15,($V241-$L241)/43560*'Pollutant Loading Rates'!C$16))))","v":""},{"$f":"IF($A241=\"\",\"\",(VLOOKUP($R241,'Pollutant Loading Rates'!$A$5:$F$12,4,0)*$L241/43560)+IF($R241=\"Forest\",'Pollutant Loading Rates'!D$13*($V241-$L241)/43560,IF($R241=\"Agriculture\",'Pollutant Loading Rates'!D$14*($V241-$L241)/43560,IF($D241=\"RIDOT\",($V241-$L241)/43560*'Pollutant Loading Rates'!D$15,($V241-$L241)/43560*'Pollutant Loading Rates'!D$16))))","v":""},{"$f":"IF($A241=\"\",\"\",(VLOOKUP($R241,'Pollutant Loading Rates'!$A$5:$F$12,5,0)*$L241/43560)+IF($R241=\"Forest\",'Pollutant Loading Rates'!E$13*($V241-$L241)/43560,IF($R241=\"Agriculture\",'Pollutant Loading Rates'!E$14*($V241-$L241)/43560,IF($D241=\"RIDOT\",($V241-$L241)/43560*'Pollutant Loading Rates'!E$15,($V241-$L241)/43560*'Pollutant Loading Rates'!E$16))))","v":""},{"$f":"IF($A241=\"\",\"\",(VLOOKUP($R241,'Pollutant Loading Rates'!$A$5:$F$12,6,0)*$L241/43560)+IF($R241=\"Forest\",'Pollutant Loading Rates'!F$13*($V241-$L241)/43560,IF($R241=\"Agriculture\",'Pollutant Loading Rates'!F$14*($V241-$L241)/43560,IF($D241=\"RIDOT\",($V241-$L241)/43560*'Pollutant Loading Rates'!F$15,$V241-$L241)/43560*'Pollutant Loading Rates'!F$16)))","v":""}]
[null,null,null,null,null,null,null,null,null,null,null,null,null,null,null,null,null,null,null,null,null,null,null,{"$f":"IF($A242=\"\",\"\",(VLOOKUP($R242,'Pollutant Loading Rates'!$A$5:$F$12,3,0)*$L242/43560)+IF($R242=\"Forest\",'Pollutant Loading Rates'!C$13*($V242-$L242)/43560,IF($R242=\"Agriculture\",'Pollutant Loading Rates'!C$14*($V242-$L242)/43560,IF($D242=\"RIDOT\",($V242-$L242)/43560*'Pollutant Loading Rates'!C$15,($V242-$L242)/43560*'Pollutant Loading Rates'!C$16))))","v":""},{"$f":"IF($A242=\"\",\"\",(VLOOKUP($R242,'Pollutant Loading Rates'!$A$5:$F$12,4,0)*$L242/43560)+IF($R242=\"Forest\",'Pollutant Loading Rates'!D$13*($V242-$L242)/43560,IF($R242=\"Agriculture\",'Pollutant Loading Rates'!D$14*($V242-$L242)/43560,IF($D242=\"RIDOT\",($V242-$L242)/43560*'Pollutant Loading Rates'!D$15,($V242-$L242)/43560*'Pollutant Loading Rates'!D$16))))","v":""},{"$f":"IF($A242=\"\",\"\",(VLOOKUP($R242,'Pollutant Loading Rates'!$A$5:$F$12,5,0)*$L242/43560)+IF($R242=\"Forest\",'Pollutant Loading Rates'!E$13*($V242-$L242)/43560,IF($R242=\"Agriculture\",'Pollutant Loading Rates'!E$14*($V242-$L242)/43560,IF($D242=\"RIDOT\",($V242-$L242)/43560*'Pollutant Loading Rates'!E$15,($V242-$L242)/43560*'Pollutant Loading Rates'!E$16))))","v":""},{"$f":"IF($A242=\"\",\"\",(VLOOKUP($R242,'Pollutant Loading Rates'!$A$5:$F$12,6,0)*$L242/43560)+IF($R242=\"Forest\",'Pollutant Loading Rates'!F$13*($V242-$L242)/43560,IF($R242=\"Agriculture\",'Pollutant Loading Rates'!F$14*($V242-$L242)/43560,IF($D242=\"RIDOT\",($V242-$L242)/43560*'Pollutant Loading Rates'!F$15,$V242-$L242)/43560*'Pollutant Loading Rates'!F$16)))","v":""}]
[null,null,null,null,null,null,null,null,null,null,null,null,null,null,null,null,null,null,null,null,null,null,null,{"$f":"IF($A243=\"\",\"\",(VLOOKUP($R243,'Pollutant Loading Rates'!$A$5:$F$12,3,0)*$L243/43560)+IF($R243=\"Forest\",'Pollutant Loading Rates'!C$13*($V243-$L243)/43560,IF($R243=\"Agriculture\",'Pollutant Loading Rates'!C$14*($V243-$L243)/43560,IF($D243=\"RIDOT\",($V243-$L243)/43560*'Pollutant Loading Rates'!C$15,($V243-$L243)/43560*'Pollutant Loading Rates'!C$16))))","v":""},{"$f":"IF($A243=\"\",\"\",(VLOOKUP($R243,'Pollutant Loading Rates'!$A$5:$F$12,4,0)*$L243/43560)+IF($R243=\"Forest\",'Pollutant Loading Rates'!D$13*($V243-$L243)/43560,IF($R243=\"Agriculture\",'Pollutant Loading Rates'!D$14*($V243-$L243)/43560,IF($D243=\"RIDOT\",($V243-$L243)/43560*'Pollutant Loading Rates'!D$15,($V243-$L243)/43560*'Pollutant Loading Rates'!D$16))))","v":""},{"$f":"IF($A243=\"\",\"\",(VLOOKUP($R243,'Pollutant Loading Rates'!$A$5:$F$12,5,0)*$L243/43560)+IF($R243=\"Forest\",'Pollutant Loading Rates'!E$13*($V243-$L243)/43560,IF($R243=\"Agriculture\",'Pollutant Loading Rates'!E$14*($V243-$L243)/43560,IF($D243=\"RIDOT\",($V243-$L243)/43560*'Pollutant Loading Rates'!E$15,($V243-$L243)/43560*'Pollutant Loading Rates'!E$16))))","v":""},{"$f":"IF($A243=\"\",\"\",(VLOOKUP($R243,'Pollutant Loading Rates'!$A$5:$F$12,6,0)*$L243/43560)+IF($R243=\"Forest\",'Pollutant Loading Rates'!F$13*($V243-$L243)/43560,IF($R243=\"Agriculture\",'Pollutant Loading Rates'!F$14*($V243-$L243)/43560,IF($D243=\"RIDOT\",($V243-$L243)/43560*'Pollutant Loading Rates'!F$15,$V243-$L243)/43560*'Pollutant Loading Rates'!F$16)))","v":""}]
[null,null,null,null,null,null,null,null,null,null,null,null,null,null,null,null,null,null,null,null,null,null,null,{"$f":"IF($A244=\"\",\"\",(VLOOKUP($R244,'Pollutant Loading Rates'!$A$5:$F$12,3,0)*$L244/43560)+IF($R244=\"Forest\",'Pollutant Loading Rates'!C$13*($V244-$L244)/43560,IF($R244=\"Agriculture\",'Pollutant Loading Rates'!C$14*($V244-$L244)/43560,IF($D244=\"RIDOT\",($V244-$L244)/43560*'Pollutant Loading Rates'!C$15,($V244-$L244)/43560*'Pollutant Loading Rates'!C$16))))","v":""},{"$f":"IF($A244=\"\",\"\",(VLOOKUP($R244,'Pollutant Loading Rates'!$A$5:$F$12,4,0)*$L244/43560)+IF($R244=\"Forest\",'Pollutant Loading Rates'!D$13*($V244-$L244)/43560,IF($R244=\"Agriculture\",'Pollutant Loading Rates'!D$14*($V244-$L244)/43560,IF($D244=\"RIDOT\",($V244-$L244)/43560*'Pollutant Loading Rates'!D$15,($V244-$L244)/43560*'Pollutant Loading Rates'!D$16))))","v":""},{"$f":"IF($A244=\"\",\"\",(VLOOKUP($R244,'Pollutant Loading Rates'!$A$5:$F$12,5,0)*$L244/43560)+IF($R244=\"Forest\",'Pollutant Loading Rates'!E$13*($V244-$L244)/43560,IF($R244=\"Agriculture\",'Pollutant Loading Rates'!E$14*($V244-$L244)/43560,IF($D244=\"RIDOT\",($V244-$L244)/43560*'Pollutant Loading Rates'!E$15,($V244-$L244)/43560*'Pollutant Loading Rates'!E$16))))","v":""},{"$f":"IF($A244=\"\",\"\",(VLOOKUP($R244,'Pollutant Loading Rates'!$A$5:$F$12,6,0)*$L244/43560)+IF($R244=\"Forest\",'Pollutant Loading Rates'!F$13*($V244-$L244)/43560,IF($R244=\"Agriculture\",'Pollutant Loading Rates'!F$14*($V244-$L244)/43560,IF($D244=\"RIDOT\",($V244-$L244)/43560*'Pollutant Loading Rates'!F$15,$V244-$L244)/43560*'Pollutant Loading Rates'!F$16)))","v":""}]
[null,null,null,null,null,null,null,null,null,null,null,null,null,null,null,null,null,null,null,null,null,null,null,{"$f":"IF($A245=\"\",\"\",(VLOOKUP($R245,'Pollutant Loading Rates'!$A$5:$F$12,3,0)*$L245/43560)+IF($R245=\"Forest\",'Pollutant Loading Rates'!C$13*($V245-$L245)/43560,IF($R245=\"Agriculture\",'Pollutant Loading Rates'!C$14*($V245-$L245)/43560,IF($D245=\"RIDOT\",($V245-$L245)/43560*'Pollutant Loading Rates'!C$15,($V245-$L245)/43560*'Pollutant Loading Rates'!C$16))))","v":""},{"$f":"IF($A245=\"\",\"\",(VLOOKUP($R245,'Pollutant Loading Rates'!$A$5:$F$12,4,0)*$L245/43560)+IF($R245=\"Forest\",'Pollutant Loading Rates'!D$13*($V245-$L245)/43560,IF($R245=\"Agriculture\",'Pollutant Loading Rates'!D$14*($V245-$L245)/43560,IF($D245=\"RIDOT\",($V245-$L245)/43560*'Pollutant Loading Rates'!D$15,($V245-$L245)/43560*'Pollutant Loading Rates'!D$16))))","v":""},{"$f":"IF($A245=\"\",\"\",(VLOOKUP($R245,'Pollutant Loading Rates'!$A$5:$F$12,5,0)*$L245/43560)+IF($R245=\"Forest\",'Pollutant Loading Rates'!E$13*($V245-$L245)/43560,IF($R245=\"Agriculture\",'Pollutant Loading Rates'!E$14*($V245-$L245)/43560,IF($D245=\"RIDOT\",($V245-$L245)/43560*'Pollutant Loading Rates'!E$15,($V245-$L245)/43560*'Pollutant Loading Rates'!E$16))))","v":""},{"$f":"IF($A245=\"\",\"\",(VLOOKUP($R245,'Pollutant Loading Rates'!$A$5:$F$12,6,0)*$L245/43560)+IF($R245=\"Forest\",'Pollutant Loading Rates'!F$13*($V245-$L245)/43560,IF($R245=\"Agriculture\",'Pollutant Loading Rates'!F$14*($V245-$L245)/43560,IF($D245=\"RIDOT\",($V245-$L245)/43560*'Pollutant Loading Rates'!F$15,$V245-$L245)/43560*'Pollutant Loading Rates'!F$16)))","v":""}]
[null,null,null,null,null,null,null,null,null,null,null,null,null,null,null,null,null,null,null,null,null,null,null,{"$f":"IF($A246=\"\",\"\",(VLOOKUP($R246,'Pollutant Loading Rates'!$A$5:$F$12,3,0)*$L246/43560)+IF($R246=\"Forest\",'Pollutant Loading Rates'!C$13*($V246-$L246)/43560,IF($R246=\"Agriculture\",'Pollutant Loading Rates'!C$14*($V246-$L246)/43560,IF($D246=\"RIDOT\",($V246-$L246)/43560*'Pollutant Loading Rates'!C$15,($V246-$L246)/43560*'Pollutant Loading Rates'!C$16))))","v":""},{"$f":"IF($A246=\"\",\"\",(VLOOKUP($R246,'Pollutant Loading Rates'!$A$5:$F$12,4,0)*$L246/43560)+IF($R246=\"Forest\",'Pollutant Loading Rates'!D$13*($V246-$L246)/43560,IF($R246=\"Agriculture\",'Pollutant Loading Rates'!D$14*($V246-$L246)/43560,IF($D246=\"RIDOT\",($V246-$L246)/43560*'Pollutant Loading Rates'!D$15,($V246-$L246)/43560*'Pollutant Loading Rates'!D$16))))","v":""},{"$f":"IF($A246=\"\",\"\",(VLOOKUP($R246,'Pollutant Loading Rates'!$A$5:$F$12,5,0)*$L246/43560)+IF($R246=\"Forest\",'Pollutant Loading Rates'!E$13*($V246-$L246)/43560,IF($R246=\"Agriculture\",'Pollutant Loading Rates'!E$14*($V246-$L246)/43560,IF($D246=\"RIDOT\",($V246-$L246)/43560*'Pollutant Loading Rates'!E$15,($V246-$L246)/43560*'Pollutant Loading Rates'!E$16))))","v":""},{"$f":"IF($A246=\"\",\"\",(VLOOKUP($R246,'Pollutant Loading Rates'!$A$5:$F$12,6,0)*$L246/43560)+IF($R246=\"Forest\",'Pollutant Loading Rates'!F$13*($V246-$L246)/43560,IF($R246=\"Agriculture\",'Pollutant Loading Rates'!F$14*($V246-$L246)/43560,IF($D246=\"RIDOT\",($V246-$L246)/43560*'Pollutant Loading Rates'!F$15,$V246-$L246)/43560*'Pollutant Loading Rates'!F$16)))","v":""}]
[null,null,null,null,null,null,null,null,null,null,null,null,null,null,null,null,null,null,null,null,null,null,null,{"$f":"IF($A247=\"\",\"\",(VLOOKUP($R247,'Pollutant Loading Rates'!$A$5:$F$12,3,0)*$L247/43560)+IF($R247=\"Forest\",'Pollutant Loading Rates'!C$13*($V247-$L247)/43560,IF($R247=\"Agriculture\",'Pollutant Loading Rates'!C$14*($V247-$L247)/43560,IF($D247=\"RIDOT\",($V247-$L247)/43560*'Pollutant Loading Rates'!C$15,($V247-$L247)/43560*'Pollutant Loading Rates'!C$16))))","v":""},{"$f":"IF($A247=\"\",\"\",(VLOOKUP($R247,'Pollutant Loading Rates'!$A$5:$F$12,4,0)*$L247/43560)+IF($R247=\"Forest\",'Pollutant Loading Rates'!D$13*($V247-$L247)/43560,IF($R247=\"Agriculture\",'Pollutant Loading Rates'!D$14*($V247-$L247)/43560,IF($D247=\"RIDOT\",($V247-$L247)/43560*'Pollutant Loading Rates'!D$15,($V247-$L247)/43560*'Pollutant Loading Rates'!D$16))))","v":""},{"$f":"IF($A247=\"\",\"\",(VLOOKUP($R247,'Pollutant Loading Rates'!$A$5:$F$12,5,0)*$L247/43560)+IF($R247=\"Forest\",'Pollutant Loading Rates'!E$13*($V247-$L247)/43560,IF($R247=\"Agriculture\",'Pollutant Loading Rates'!E$14*($V247-$L247)/43560,IF($D247=\"RIDOT\",($V247-$L247)/43560*'Pollutant Loading Rates'!E$15,($V247-$L247)/43560*'Pollutant Loading Rates'!E$16))))","v":""},{"$f":"IF($A247=\"\",\"\",(VLOOKUP($R247,'Pollutant Loading Rates'!$A$5:$F$12,6,0)*$L247/43560)+IF($R247=\"Forest\",'Pollutant Loading Rates'!F$13*($V247-$L247)/43560,IF($R247=\"Agriculture\",'Pollutant Loading Rates'!F$14*($V247-$L247)/43560,IF($D247=\"RIDOT\",($V247-$L247)/43560*'Pollutant Loading Rates'!F$15,$V247-$L247)/43560*'Pollutant Loading Rates'!F$16)))","v":""}]
[null,null,null,null,null,null,null,null,null,null,null,null,null,null,null,null,null,null,null,null,null,null,null,{"$f":"IF($A248=\"\",\"\",(VLOOKUP($R248,'Pollutant Loading Rates'!$A$5:$F$12,3,0)*$L248/43560)+IF($R248=\"Forest\",'Pollutant Loading Rates'!C$13*($V248-$L248)/43560,IF($R248=\"Agriculture\",'Pollutant Loading Rates'!C$14*($V248-$L248)/43560,IF($D248=\"RIDOT\",($V248-$L248)/43560*'Pollutant Loading Rates'!C$15,($V248-$L248)/43560*'Pollutant Loading Rates'!C$16))))","v":""},{"$f":"IF($A248=\"\",\"\",(VLOOKUP($R248,'Pollutant Loading Rates'!$A$5:$F$12,4,0)*$L248/43560)+IF($R248=\"Forest\",'Pollutant Loading Rates'!D$13*($V248-$L248)/43560,IF($R248=\"Agriculture\",'Pollutant Loading Rates'!D$14*($V248-$L248)/43560,IF($D248=\"RIDOT\",($V248-$L248)/43560*'Pollutant Loading Rates'!D$15,($V248-$L248)/43560*'Pollutant Loading Rates'!D$16))))","v":""},{"$f":"IF($A248=\"\",\"\",(VLOOKUP($R248,'Pollutant Loading Rates'!$A$5:$F$12,5,0)*$L248/43560)+IF($R248=\"Forest\",'Pollutant Loading Rates'!E$13*($V248-$L248)/43560,IF($R248=\"Agriculture\",'Pollutant Loading Rates'!E$14*($V248-$L248)/43560,IF($D248=\"RIDOT\",($V248-$L248)/43560*'Pollutant Loading Rates'!E$15,($V248-$L248)/43560*'Pollutant Loading Rates'!E$16))))","v":""},{"$f":"IF($A248=\"\",\"\",(VLOOKUP($R248,'Pollutant Loading Rates'!$A$5:$F$12,6,0)*$L248/43560)+IF($R248=\"Forest\",'Pollutant Loading Rates'!F$13*($V248-$L248)/43560,IF($R248=\"Agriculture\",'Pollutant Loading Rates'!F$14*($V248-$L248)/43560,IF($D248=\"RIDOT\",($V248-$L248)/43560*'Pollutant Loading Rates'!F$15,$V248-$L248)/43560*'Pollutant Loading Rates'!F$16)))","v":""}]
[null,null,null,null,null,null,null,null,null,null,null,null,null,null,null,null,null,null,null,null,null,null,null,{"$f":"IF($A249=\"\",\"\",(VLOOKUP($R249,'Pollutant Loading Rates'!$A$5:$F$12,3,0)*$L249/43560)+IF($R249=\"Forest\",'Pollutant Loading Rates'!C$13*($V249-$L249)/43560,IF($R249=\"Agriculture\",'Pollutant Loading Rates'!C$14*($V249-$L249)/43560,IF($D249=\"RIDOT\",($V249-$L249)/43560*'Pollutant Loading Rates'!C$15,($V249-$L249)/43560*'Pollutant Loading Rates'!C$16))))","v":""},{"$f":"IF($A249=\"\",\"\",(VLOOKUP($R249,'Pollutant Loading Rates'!$A$5:$F$12,4,0)*$L249/43560)+IF($R249=\"Forest\",'Pollutant Loading Rates'!D$13*($V249-$L249)/43560,IF($R249=\"Agriculture\",'Pollutant Loading Rates'!D$14*($V249-$L249)/43560,IF($D249=\"RIDOT\",($V249-$L249)/43560*'Pollutant Loading Rates'!D$15,($V249-$L249)/43560*'Pollutant Loading Rates'!D$16))))","v":""},{"$f":"IF($A249=\"\",\"\",(VLOOKUP($R249,'Pollutant Loading Rates'!$A$5:$F$12,5,0)*$L249/43560)+IF($R249=\"Forest\",'Pollutant Loading Rates'!E$13*($V249-$L249)/43560,IF($R249=\"Agriculture\",'Pollutant Loading Rates'!E$14*($V249-$L249)/43560,IF($D249=\"RIDOT\",($V249-$L249)/43560*'Pollutant Loading Rates'!E$15,($V249-$L249)/43560*'Pollutant Loading Rates'!E$16))))","v":""},{"$f":"IF($A249=\"\",\"\",(VLOOKUP($R249,'Pollutant Loading Rates'!$A$5:$F$12,6,0)*$L249/43560)+IF($R249=\"Forest\",'Pollutant Loading Rates'!F$13*($V249-$L249)/43560,IF($R249=\"Agriculture\",'Pollutant Loading Rates'!F$14*($V249-$L249)/43560,IF($D249=\"RIDOT\",($V249-$L249)/43560*'Pollutant Loading Rates'!F$15,$V249-$L249)/43560*'Pollutant Loading Rates'!F$16)))","v":""}]
[null,null,null,null,null,null,null,null,null,null,null,null,null,null,null,null,null,null,null,null,null,null,null,{"$f":"IF($A250=\"\",\"\",(VLOOKUP($R250,'Pollutant Loading Rates'!$A$5:$F$12,3,0)*$L250/43560)+IF($R250=\"Forest\",'Pollutant Loading Rates'!C$13*($V250-$L250)/43560,IF($R250=\"Agriculture\",'Pollutant Loading Rates'!C$14*($V250-$L250)/43560,IF($D250=\"RIDOT\",($V250-$L250)/43560*'Pollutant Loading Rates'!C$15,($V250-$L250)/43560*'Pollutant Loading Rates'!C$16))))","v":""},{"$f":"IF($A250=\"\",\"\",(VLOOKUP($R250,'Pollutant Loading Rates'!$A$5:$F$12,4,0)*$L250/43560)+IF($R250=\"Forest\",'Pollutant Loading Rates'!D$13*($V250-$L250)/43560,IF($R250=\"Agriculture\",'Pollutant Loading Rates'!D$14*($V250-$L250)/43560,IF($D250=\"RIDOT\",($V250-$L250)/43560*'Pollutant Loading Rates'!D$15,($V250-$L250)/43560*'Pollutant Loading Rates'!D$16))))","v":""},{"$f":"IF($A250=\"\",\"\",(VLOOKUP($R250,'Pollutant Loading Rates'!$A$5:$F$12,5,0)*$L250/43560)+IF($R250=\"Forest\",'Pollutant Loading Rates'!E$13*($V250-$L250)/43560,IF($R250=\"Agriculture\",'Pollutant Loading Rates'!E$14*($V250-$L250)/43560,IF($D250=\"RIDOT\",($V250-$L250)/43560*'Pollutant Loading Rates'!E$15,($V250-$L250)/43560*'Pollutant Loading Rates'!E$16))))","v":""},{"$f":"IF($A250=\"\",\"\",(VLOOKUP($R250,'Pollutant Loading Rates'!$A$5:$F$12,6,0)*$L250/43560)+IF($R250=\"Forest\",'Pollutant Loading Rates'!F$13*($V250-$L250)/43560,IF($R250=\"Agriculture\",'Pollutant Loading Rates'!F$14*($V250-$L250)/43560,IF($D250=\"RIDOT\",($V250-$L250)/43560*'Pollutant Loading Rates'!F$15,$V250-$L250)/43560*'Pollutant Loading Rates'!F$16)))","v":""}]
[null,null,null,null,null,null,null,null,null,null,null,null,null,null,null,null,null,null,null,null,null,null,null,{"$f":"IF($A251=\"\",\"\",(VLOOKUP($R251,'Pollutant Loading Rates'!$A$5:$F$12,3,0)*$L251/43560)+IF($R251=\"Forest\",'Pollutant Loading Rates'!C$13*($V251-$L251)/43560,IF($R251=\"Agriculture\",'Pollutant Loading Rates'!C$14*($V251-$L251)/43560,IF($D251=\"RIDOT\",($V251-$L251)/43560*'Pollutant Loading Rates'!C$15,($V251-$L251)/43560*'Pollutant Loading Rates'!C$16))))","v":""},{"$f":"IF($A251=\"\",\"\",(VLOOKUP($R251,'Pollutant Loading Rates'!$A$5:$F$12,4,0)*$L251/43560)+IF($R251=\"Forest\",'Pollutant Loading Rates'!D$13*($V251-$L251)/43560,IF($R251=\"Agriculture\",'Pollutant Loading Rates'!D$14*($V251-$L251)/43560,IF($D251=\"RIDOT\",($V251-$L251)/43560*'Pollutant Loading Rates'!D$15,($V251-$L251)/43560*'Pollutant Loading Rates'!D$16))))","v":""},{"$f":"IF($A251=\"\",\"\",(VLOOKUP($R251,'Pollutant Loading Rates'!$A$5:$F$12,5,0)*$L251/43560)+IF($R251=\"Forest\",'Pollutant Loading Rates'!E$13*($V251-$L251)/43560,IF($R251=\"Agriculture\",'Pollutant Loading Rates'!E$14*($V251-$L251)/43560,IF($D251=\"RIDOT\",($V251-$L251)/43560*'Pollutant Loading Rates'!E$15,($V251-$L251)/43560*'Pollutant Loading Rates'!E$16))))","v":""},{"$f":"IF($A251=\"\",\"\",(VLOOKUP($R251,'Pollutant Loading Rates'!$A$5:$F$12,6,0)*$L251/43560)+IF($R251=\"Forest\",'Pollutant Loading Rates'!F$13*($V251-$L251)/43560,IF($R251=\"Agriculture\",'Pollutant Loading Rates'!F$14*($V251-$L251)/43560,IF($D251=\"RIDOT\",($V251-$L251)/43560*'Pollutant Loading Rates'!F$15,$V251-$L251)/43560*'Pollutant Loading Rates'!F$16)))","v":""}]
[null,null,null,null,null,null,null,null,null,null,null,null,null,null,null,null,null,null,null,null,null,null,null,{"$f":"IF($A252=\"\",\"\",(VLOOKUP($R252,'Pollutant Loading Rates'!$A$5:$F$12,3,0)*$L252/43560)+IF($R252=\"Forest\",'Pollutant Loading Rates'!C$13*($V252-$L252)/43560,IF($R252=\"Agriculture\",'Pollutant Loading Rates'!C$14*($V252-$L252)/43560,IF($D252=\"RIDOT\",($V252-$L252)/43560*'Pollutant Loading Rates'!C$15,($V252-$L252)/43560*'Pollutant Loading Rates'!C$16))))","v":""},{"$f":"IF($A252=\"\",\"\",(VLOOKUP($R252,'Pollutant Loading Rates'!$A$5:$F$12,4,0)*$L252/43560)+IF($R252=\"Forest\",'Pollutant Loading Rates'!D$13*($V252-$L252)/43560,IF($R252=\"Agriculture\",'Pollutant Loading Rates'!D$14*($V252-$L252)/43560,IF($D252=\"RIDOT\",($V252-$L252)/43560*'Pollutant Loading Rates'!D$15,($V252-$L252)/43560*'Pollutant Loading Rates'!D$16))))","v":""},{"$f":"IF($A252=\"\",\"\",(VLOOKUP($R252,'Pollutant Loading Rates'!$A$5:$F$12,5,0)*$L252/43560)+IF($R252=\"Forest\",'Pollutant Loading Rates'!E$13*($V252-$L252)/43560,IF($R252=\"Agriculture\",'Pollutant Loading Rates'!E$14*($V252-$L252)/43560,IF($D252=\"RIDOT\",($V252-$L252)/43560*'Pollutant Loading Rates'!E$15,($V252-$L252)/43560*'Pollutant Loading Rates'!E$16))))","v":""},{"$f":"IF($A252=\"\",\"\",(VLOOKUP($R252,'Pollutant Loading Rates'!$A$5:$F$12,6,0)*$L252/43560)+IF($R252=\"Forest\",'Pollutant Loading Rates'!F$13*($V252-$L252)/43560,IF($R252=\"Agriculture\",'Pollutant Loading Rates'!F$14*($V252-$L252)/43560,IF($D252=\"RIDOT\",($V252-$L252)/43560*'Pollutant Loading Rates'!F$15,$V252-$L252)/43560*'Pollutant Loading Rates'!F$16)))","v":""}]
[null,null,null,null,null,null,null,null,null,null,null,null,null,null,null,null,null,null,null,null,null,null,null,{"$f":"IF($A253=\"\",\"\",(VLOOKUP($R253,'Pollutant Loading Rates'!$A$5:$F$12,3,0)*$L253/43560)+IF($R253=\"Forest\",'Pollutant Loading Rates'!C$13*($V253-$L253)/43560,IF($R253=\"Agriculture\",'Pollutant Loading Rates'!C$14*($V253-$L253)/43560,IF($D253=\"RIDOT\",($V253-$L253)/43560*'Pollutant Loading Rates'!C$15,($V253-$L253)/43560*'Pollutant Loading Rates'!C$16))))","v":""},{"$f":"IF($A253=\"\",\"\",(VLOOKUP($R253,'Pollutant Loading Rates'!$A$5:$F$12,4,0)*$L253/43560)+IF($R253=\"Forest\",'Pollutant Loading Rates'!D$13*($V253-$L253)/43560,IF($R253=\"Agriculture\",'Pollutant Loading Rates'!D$14*($V253-$L253)/43560,IF($D253=\"RIDOT\",($V253-$L253)/43560*'Pollutant Loading Rates'!D$15,($V253-$L253)/43560*'Pollutant Loading Rates'!D$16))))","v":""},{"$f":"IF($A253=\"\",\"\",(VLOOKUP($R253,'Pollutant Loading Rates'!$A$5:$F$12,5,0)*$L253/43560)+IF($R253=\"Forest\",'Pollutant Loading Rates'!E$13*($V253-$L253)/43560,IF($R253=\"Agriculture\",'Pollutant Loading Rates'!E$14*($V253-$L253)/43560,IF($D253=\"RIDOT\",($V253-$L253)/43560*'Pollutant Loading Rates'!E$15,($V253-$L253)/43560*'Pollutant Loading Rates'!E$16))))","v":""},{"$f":"IF($A253=\"\",\"\",(VLOOKUP($R253,'Pollutant Loading Rates'!$A$5:$F$12,6,0)*$L253/43560)+IF($R253=\"Forest\",'Pollutant Loading Rates'!F$13*($V253-$L253)/43560,IF($R253=\"Agriculture\",'Pollutant Loading Rates'!F$14*($V253-$L253)/43560,IF($D253=\"RIDOT\",($V253-$L253)/43560*'Pollutant Loading Rates'!F$15,$V253-$L253)/43560*'Pollutant Loading Rates'!F$16)))","v":""}]
[null,null,null,null,null,null,null,null,null,null,null,null,null,null,null,null,null,null,null,null,null,null,null,{"$f":"IF($A254=\"\",\"\",(VLOOKUP($R254,'Pollutant Loading Rates'!$A$5:$F$12,3,0)*$L254/43560)+IF($R254=\"Forest\",'Pollutant Loading Rates'!C$13*($V254-$L254)/43560,IF($R254=\"Agriculture\",'Pollutant Loading Rates'!C$14*($V254-$L254)/43560,IF($D254=\"RIDOT\",($V254-$L254)/43560*'Pollutant Loading Rates'!C$15,($V254-$L254)/43560*'Pollutant Loading Rates'!C$16))))","v":""},{"$f":"IF($A254=\"\",\"\",(VLOOKUP($R254,'Pollutant Loading Rates'!$A$5:$F$12,4,0)*$L254/43560)+IF($R254=\"Forest\",'Pollutant Loading Rates'!D$13*($V254-$L254)/43560,IF($R254=\"Agriculture\",'Pollutant Loading Rates'!D$14*($V254-$L254)/43560,IF($D254=\"RIDOT\",($V254-$L254)/43560*'Pollutant Loading Rates'!D$15,($V254-$L254)/43560*'Pollutant Loading Rates'!D$16))))","v":""},{"$f":"IF($A254=\"\",\"\",(VLOOKUP($R254,'Pollutant Loading Rates'!$A$5:$F$12,5,0)*$L254/43560)+IF($R254=\"Forest\",'Pollutant Loading Rates'!E$13*($V254-$L254)/43560,IF($R254=\"Agriculture\",'Pollutant Loading Rates'!E$14*($V254-$L254)/43560,IF($D254=\"RIDOT\",($V254-$L254)/43560*'Pollutant Loading Rates'!E$15,($V254-$L254)/43560*'Pollutant Loading Rates'!E$16))))","v":""},{"$f":"IF($A254=\"\",\"\",(VLOOKUP($R254,'Pollutant Loading Rates'!$A$5:$F$12,6,0)*$L254/43560)+IF($R254=\"Forest\",'Pollutant Loading Rates'!F$13*($V254-$L254)/43560,IF($R254=\"Agriculture\",'Pollutant Loading Rates'!F$14*($V254-$L254)/43560,IF($D254=\"RIDOT\",($V254-$L254)/43560*'Pollutant Loading Rates'!F$15,$V254-$L254)/43560*'Pollutant Loading Rates'!F$16)))","v":""}]
[null,null,null,null,null,null,null,null,null,null,null,null,null,null,null,null,null,null,null,null,null,null,null,{"$f":"IF($A255=\"\",\"\",(VLOOKUP($R255,'Pollutant Loading Rates'!$A$5:$F$12,3,0)*$L255/43560)+IF($R255=\"Forest\",'Pollutant Loading Rates'!C$13*($V255-$L255)/43560,IF($R255=\"Agriculture\",'Pollutant Loading Rates'!C$14*($V255-$L255)/43560,IF($D255=\"RIDOT\",($V255-$L255)/43560*'Pollutant Loading Rates'!C$15,($V255-$L255)/43560*'Pollutant Loading Rates'!C$16))))","v":""},{"$f":"IF($A255=\"\",\"\",(VLOOKUP($R255,'Pollutant Loading Rates'!$A$5:$F$12,4,0)*$L255/43560)+IF($R255=\"Forest\",'Pollutant Loading Rates'!D$13*($V255-$L255)/43560,IF($R255=\"Agriculture\",'Pollutant Loading Rates'!D$14*($V255-$L255)/43560,IF($D255=\"RIDOT\",($V255-$L255)/43560*'Pollutant Loading Rates'!D$15,($V255-$L255)/43560*'Pollutant Loading Rates'!D$16))))","v":""},{"$f":"IF($A255=\"\",\"\",(VLOOKUP($R255,'Pollutant Loading Rates'!$A$5:$F$12,5,0)*$L255/43560)+IF($R255=\"Forest\",'Pollutant Loading Rates'!E$13*($V255-$L255)/43560,IF($R255=\"Agriculture\",'Pollutant Loading Rates'!E$14*($V255-$L255)/43560,IF($D255=\"RIDOT\",($V255-$L255)/43560*'Pollutant Loading Rates'!E$15,($V255-$L255)/43560*'Pollutant Loading Rates'!E$16))))","v":""},{"$f":"IF($A255=\"\",\"\",(VLOOKUP($R255,'Pollutant Loading Rates'!$A$5:$F$12,6,0)*$L255/43560)+IF($R255=\"Forest\",'Pollutant Loading Rates'!F$13*($V255-$L255)/43560,IF($R255=\"Agriculture\",'Pollutant Loading Rates'!F$14*($V255-$L255)/43560,IF($D255=\"RIDOT\",($V255-$L255)/43560*'Pollutant Loading Rates'!F$15,$V255-$L255)/43560*'Pollutant Loading Rates'!F$16)))","v":""}]
[null,null,null,null,null,null,null,null,null,null,null,null,null,null,null,null,null,null,null,null,null,null,null,{"$f":"IF($A256=\"\",\"\",(VLOOKUP($R256,'Pollutant Loading Rates'!$A$5:$F$12,3,0)*$L256/43560)+IF($R256=\"Forest\",'Pollutant Loading Rates'!C$13*($V256-$L256)/43560,IF($R256=\"Agriculture\",'Pollutant Loading Rates'!C$14*($V256-$L256)/43560,IF($D256=\"RIDOT\",($V256-$L256)/43560*'Pollutant Loading Rates'!C$15,($V256-$L256)/43560*'Pollutant Loading Rates'!C$16))))","v":""},{"$f":"IF($A256=\"\",\"\",(VLOOKUP($R256,'Pollutant Loading Rates'!$A$5:$F$12,4,0)*$L256/43560)+IF($R256=\"Forest\",'Pollutant Loading Rates'!D$13*($V256-$L256)/43560,IF($R256=\"Agriculture\",'Pollutant Loading Rates'!D$14*($V256-$L256)/43560,IF($D256=\"RIDOT\",($V256-$L256)/43560*'Pollutant Loading Rates'!D$15,($V256-$L256)/43560*'Pollutant Loading Rates'!D$16))))","v":""},{"$f":"IF($A256=\"\",\"\",(VLOOKUP($R256,'Pollutant Loading Rates'!$A$5:$F$12,5,0)*$L256/43560)+IF($R256=\"Forest\",'Pollutant Loading Rates'!E$13*($V256-$L256)/43560,IF($R256=\"Agriculture\",'Pollutant Loading Rates'!E$14*($V256-$L256)/43560,IF($D256=\"RIDOT\",($V256-$L256)/43560*'Pollutant Loading Rates'!E$15,($V256-$L256)/43560*'Pollutant Loading Rates'!E$16))))","v":""},{"$f":"IF($A256=\"\",\"\",(VLOOKUP($R256,'Pollutant Loading Rates'!$A$5:$F$12,6,0)*$L256/43560)+IF($R256=\"Forest\",'Pollutant Loading Rates'!F$13*($V256-$L256)/43560,IF($R256=\"Agriculture\",'Pollutant Loading Rates'!F$14*($V256-$L256)/43560,IF($D256=\"RIDOT\",($V256-$L256)/43560*'Pollutant Loading Rates'!F$15,$V256-$L256)/43560*'Pollutant Loading Rates'!F$16)))","v":""}]
[null,null,null,null,null,null,null,null,null,null,null,null,null,null,null,null,null,null,null,null,null,null,null,{"$f":"IF($A257=\"\",\"\",(VLOOKUP($R257,'Pollutant Loading Rates'!$A$5:$F$12,3,0)*$L257/43560)+IF($R257=\"Forest\",'Pollutant Loading Rates'!C$13*($V257-$L257)/43560,IF($R257=\"Agriculture\",'Pollutant Loading Rates'!C$14*($V257-$L257)/43560,IF($D257=\"RIDOT\",($V257-$L257)/43560*'Pollutant Loading Rates'!C$15,($V257-$L257)/43560*'Pollutant Loading Rates'!C$16))))","v":""},{"$f":"IF($A257=\"\",\"\",(VLOOKUP($R257,'Pollutant Loading Rates'!$A$5:$F$12,4,0)*$L257/43560)+IF($R257=\"Forest\",'Pollutant Loading Rates'!D$13*($V257-$L257)/43560,IF($R257=\"Agriculture\",'Pollutant Loading Rates'!D$14*($V257-$L257)/43560,IF($D257=\"RIDOT\",($V257-$L257)/43560*'Pollutant Loading Rates'!D$15,($V257-$L257)/43560*'Pollutant Loading Rates'!D$16))))","v":""},{"$f":"IF($A257=\"\",\"\",(VLOOKUP($R257,'Pollutant Loading Rates'!$A$5:$F$12,5,0)*$L257/43560)+IF($R257=\"Forest\",'Pollutant Loading Rates'!E$13*($V257-$L257)/43560,IF($R257=\"Agriculture\",'Pollutant Loading Rates'!E$14*($V257-$L257)/43560,IF($D257=\"RIDOT\",($V257-$L257)/43560*'Pollutant Loading Rates'!E$15,($V257-$L257)/43560*'Pollutant Loading Rates'!E$16))))","v":""},{"$f":"IF($A257=\"\",\"\",(VLOOKUP($R257,'Pollutant Loading Rates'!$A$5:$F$12,6,0)*$L257/43560)+IF($R257=\"Forest\",'Pollutant Loading Rates'!F$13*($V257-$L257)/43560,IF($R257=\"Agriculture\",'Pollutant Loading Rates'!F$14*($V257-$L257)/43560,IF($D257=\"RIDOT\",($V257-$L257)/43560*'Pollutant Loading Rates'!F$15,$V257-$L257)/43560*'Pollutant Loading Rates'!F$16)))","v":""}]
[null,null,null,null,null,null,null,null,null,null,null,null,null,null,null,null,null,null,null,null,null,null,null,{"$f":"IF($A258=\"\",\"\",(VLOOKUP($R258,'Pollutant Loading Rates'!$A$5:$F$12,3,0)*$L258/43560)+IF($R258=\"Forest\",'Pollutant Loading Rates'!C$13*($V258-$L258)/43560,IF($R258=\"Agriculture\",'Pollutant Loading Rates'!C$14*($V258-$L258)/43560,IF($D258=\"RIDOT\",($V258-$L258)/43560*'Pollutant Loading Rates'!C$15,($V258-$L258)/43560*'Pollutant Loading Rates'!C$16))))","v":""},{"$f":"IF($A258=\"\",\"\",(VLOOKUP($R258,'Pollutant Loading Rates'!$A$5:$F$12,4,0)*$L258/43560)+IF($R258=\"Forest\",'Pollutant Loading Rates'!D$13*($V258-$L258)/43560,IF($R258=\"Agriculture\",'Pollutant Loading Rates'!D$14*($V258-$L258)/43560,IF($D258=\"RIDOT\",($V258-$L258)/43560*'Pollutant Loading Rates'!D$15,($V258-$L258)/43560*'Pollutant Loading Rates'!D$16))))","v":""},{"$f":"IF($A258=\"\",\"\",(VLOOKUP($R258,'Pollutant Loading Rates'!$A$5:$F$12,5,0)*$L258/43560)+IF($R258=\"Forest\",'Pollutant Loading Rates'!E$13*($V258-$L258)/43560,IF($R258=\"Agriculture\",'Pollutant Loading Rates'!E$14*($V258-$L258)/43560,IF($D258=\"RIDOT\",($V258-$L258)/43560*'Pollutant Loading Rates'!E$15,($V258-$L258)/43560*'Pollutant Loading Rates'!E$16))))","v":""},{"$f":"IF($A258=\"\",\"\",(VLOOKUP($R258,'Pollutant Loading Rates'!$A$5:$F$12,6,0)*$L258/43560)+IF($R258=\"Forest\",'Pollutant Loading Rates'!F$13*($V258-$L258)/43560,IF($R258=\"Agriculture\",'Pollutant Loading Rates'!F$14*($V258-$L258)/43560,IF($D258=\"RIDOT\",($V258-$L258)/43560*'Pollutant Loading Rates'!F$15,$V258-$L258)/43560*'Pollutant Loading Rates'!F$16)))","v":""}]
[null,null,null,null,null,null,null,null,null,null,null,null,null,null,null,null,null,null,null,null,null,null,null,{"$f":"IF($A259=\"\",\"\",(VLOOKUP($R259,'Pollutant Loading Rates'!$A$5:$F$12,3,0)*$L259/43560)+IF($R259=\"Forest\",'Pollutant Loading Rates'!C$13*($V259-$L259)/43560,IF($R259=\"Agriculture\",'Pollutant Loading Rates'!C$14*($V259-$L259)/43560,IF($D259=\"RIDOT\",($V259-$L259)/43560*'Pollutant Loading Rates'!C$15,($V259-$L259)/43560*'Pollutant Loading Rates'!C$16))))","v":""},{"$f":"IF($A259=\"\",\"\",(VLOOKUP($R259,'Pollutant Loading Rates'!$A$5:$F$12,4,0)*$L259/43560)+IF($R259=\"Forest\",'Pollutant Loading Rates'!D$13*($V259-$L259)/43560,IF($R259=\"Agriculture\",'Pollutant Loading Rates'!D$14*($V259-$L259)/43560,IF($D259=\"RIDOT\",($V259-$L259)/43560*'Pollutant Loading Rates'!D$15,($V259-$L259)/43560*'Pollutant Loading Rates'!D$16))))","v":""},{"$f":"IF($A259=\"\",\"\",(VLOOKUP($R259,'Pollutant Loading Rates'!$A$5:$F$12,5,0)*$L259/43560)+IF($R259=\"Forest\",'Pollutant Loading Rates'!E$13*($V259-$L259)/43560,IF($R259=\"Agriculture\",'Pollutant Loading Rates'!E$14*($V259-$L259)/43560,IF($D259=\"RIDOT\",($V259-$L259)/43560*'Pollutant Loading Rates'!E$15,($V259-$L259)/43560*'Pollutant Loading Rates'!E$16))))","v":""},{"$f":"IF($A259=\"\",\"\",(VLOOKUP($R259,'Pollutant Loading Rates'!$A$5:$F$12,6,0)*$L259/43560)+IF($R259=\"Forest\",'Pollutant Loading Rates'!F$13*($V259-$L259)/43560,IF($R259=\"Agriculture\",'Pollutant Loading Rates'!F$14*($V259-$L259)/43560,IF($D259=\"RIDOT\",($V259-$L259)/43560*'Pollutant Loading Rates'!F$15,$V259-$L259)/43560*'Pollutant Loading Rates'!F$16)))","v":""}]
[null,null,null,null,null,null,null,null,null,null,null,null,null,null,null,null,null,null,null,null,null,null,null,{"$f":"IF($A260=\"\",\"\",(VLOOKUP($R260,'Pollutant Loading Rates'!$A$5:$F$12,3,0)*$L260/43560)+IF($R260=\"Forest\",'Pollutant Loading Rates'!C$13*($V260-$L260)/43560,IF($R260=\"Agriculture\",'Pollutant Loading Rates'!C$14*($V260-$L260)/43560,IF($D260=\"RIDOT\",($V260-$L260)/43560*'Pollutant Loading Rates'!C$15,($V260-$L260)/43560*'Pollutant Loading Rates'!C$16))))","v":""},{"$f":"IF($A260=\"\",\"\",(VLOOKUP($R260,'Pollutant Loading Rates'!$A$5:$F$12,4,0)*$L260/43560)+IF($R260=\"Forest\",'Pollutant Loading Rates'!D$13*($V260-$L260)/43560,IF($R260=\"Agriculture\",'Pollutant Loading Rates'!D$14*($V260-$L260)/43560,IF($D260=\"RIDOT\",($V260-$L260)/43560*'Pollutant Loading Rates'!D$15,($V260-$L260)/43560*'Pollutant Loading Rates'!D$16))))","v":""},{"$f":"IF($A260=\"\",\"\",(VLOOKUP($R260,'Pollutant Loading Rates'!$A$5:$F$12,5,0)*$L260/43560)+IF($R260=\"Forest\",'Pollutant Loading Rates'!E$13*($V260-$L260)/43560,IF($R260=\"Agriculture\",'Pollutant Loading Rates'!E$14*($V260-$L260)/43560,IF($D260=\"RIDOT\",($V260-$L260)/43560*'Pollutant Loading Rates'!E$15,($V260-$L260)/43560*'Pollutant Loading Rates'!E$16))))","v":""},{"$f":"IF($A260=\"\",\"\",(VLOOKUP($R260,'Pollutant Loading Rates'!$A$5:$F$12,6,0)*$L260/43560)+IF($R260=\"Forest\",'Pollutant Loading Rates'!F$13*($V260-$L260)/43560,IF($R260=\"Agriculture\",'Pollutant Loading Rates'!F$14*($V260-$L260)/43560,IF($D260=\"RIDOT\",($V260-$L260)/43560*'Pollutant Loading Rates'!F$15,$V260-$L260)/43560*'Pollutant Loading Rates'!F$16)))","v":""}]
[null,null,null,null,null,null,null,null,null,null,null,null,null,null,null,null,null,null,null,null,null,null,null,{"$f":"IF($A261=\"\",\"\",(VLOOKUP($R261,'Pollutant Loading Rates'!$A$5:$F$12,3,0)*$L261/43560)+IF($R261=\"Forest\",'Pollutant Loading Rates'!C$13*($V261-$L261)/43560,IF($R261=\"Agriculture\",'Pollutant Loading Rates'!C$14*($V261-$L261)/43560,IF($D261=\"RIDOT\",($V261-$L261)/43560*'Pollutant Loading Rates'!C$15,($V261-$L261)/43560*'Pollutant Loading Rates'!C$16))))","v":""},{"$f":"IF($A261=\"\",\"\",(VLOOKUP($R261,'Pollutant Loading Rates'!$A$5:$F$12,4,0)*$L261/43560)+IF($R261=\"Forest\",'Pollutant Loading Rates'!D$13*($V261-$L261)/43560,IF($R261=\"Agriculture\",'Pollutant Loading Rates'!D$14*($V261-$L261)/43560,IF($D261=\"RIDOT\",($V261-$L261)/43560*'Pollutant Loading Rates'!D$15,($V261-$L261)/43560*'Pollutant Loading Rates'!D$16))))","v":""},{"$f":"IF($A261=\"\",\"\",(VLOOKUP($R261,'Pollutant Loading Rates'!$A$5:$F$12,5,0)*$L261/43560)+IF($R261=\"Forest\",'Pollutant Loading Rates'!E$13*($V261-$L261)/43560,IF($R261=\"Agriculture\",'Pollutant Loading Rates'!E$14*($V261-$L261)/43560,IF($D261=\"RIDOT\",($V261-$L261)/43560*'Pollutant Loading Rates'!E$15,($V261-$L261)/43560*'Pollutant Loading Rates'!E$16))))","v":""},{"$f":"IF($A261=\"\",\"\",(VLOOKUP($R261,'Pollutant Loading Rates'!$A$5:$F$12,6,0)*$L261/43560)+IF($R261=\"Forest\",'Pollutant Loading Rates'!F$13*($V261-$L261)/43560,IF($R261=\"Agriculture\",'Pollutant Loading Rates'!F$14*($V261-$L261)/43560,IF($D261=\"RIDOT\",($V261-$L261)/43560*'Pollutant Loading Rates'!F$15,$V261-$L261)/43560*'Pollutant Loading Rates'!F$16)))","v":""}]
[null,null,null,null,null,null,null,null,null,null,null,null,null,null,null,null,null,null,null,null,null,null,null,{"$f":"IF($A262=\"\",\"\",(VLOOKUP($R262,'Pollutant Loading Rates'!$A$5:$F$12,3,0)*$L262/43560)+IF($R262=\"Forest\",'Pollutant Loading Rates'!C$13*($V262-$L262)/43560,IF($R262=\"Agriculture\",'Pollutant Loading Rates'!C$14*($V262-$L262)/43560,IF($D262=\"RIDOT\",($V262-$L262)/43560*'Pollutant Loading Rates'!C$15,($V262-$L262)/43560*'Pollutant Loading Rates'!C$16))))","v":""},{"$f":"IF($A262=\"\",\"\",(VLOOKUP($R262,'Pollutant Loading Rates'!$A$5:$F$12,4,0)*$L262/43560)+IF($R262=\"Forest\",'Pollutant Loading Rates'!D$13*($V262-$L262)/43560,IF($R262=\"Agriculture\",'Pollutant Loading Rates'!D$14*($V262-$L262)/43560,IF($D262=\"RIDOT\",($V262-$L262)/43560*'Pollutant Loading Rates'!D$15,($V262-$L262)/43560*'Pollutant Loading Rates'!D$16))))","v":""},{"$f":"IF($A262=\"\",\"\",(VLOOKUP($R262,'Pollutant Loading Rates'!$A$5:$F$12,5,0)*$L262/43560)+IF($R262=\"Forest\",'Pollutant Loading Rates'!E$13*($V262-$L262)/43560,IF($R262=\"Agriculture\",'Pollutant Loading Rates'!E$14*($V262-$L262)/43560,IF($D262=\"RIDOT\",($V262-$L262)/43560*'Pollutant Loading Rates'!E$15,($V262-$L262)/43560*'Pollutant Loading Rates'!E$16))))","v":""},{"$f":"IF($A262=\"\",\"\",(VLOOKUP($R262,'Pollutant Loading Rates'!$A$5:$F$12,6,0)*$L262/43560)+IF($R262=\"Forest\",'Pollutant Loading Rates'!F$13*($V262-$L262)/43560,IF($R262=\"Agriculture\",'Pollutant Loading Rates'!F$14*($V262-$L262)/43560,IF($D262=\"RIDOT\",($V262-$L262)/43560*'Pollutant Loading Rates'!F$15,$V262-$L262)/43560*'Pollutant Loading Rates'!F$16)))","v":""}]
[null,null,null,null,null,null,null,null,null,null,null,null,null,null,null,null,null,null,null,null,null,null,null,{"$f":"IF($A263=\"\",\"\",(VLOOKUP($R263,'Pollutant Loading Rates'!$A$5:$F$12,3,0)*$L263/43560)+IF($R263=\"Forest\",'Pollutant Loading Rates'!C$13*($V263-$L263)/43560,IF($R263=\"Agriculture\",'Pollutant Loading Rates'!C$14*($V263-$L263)/43560,IF($D263=\"RIDOT\",($V263-$L263)/43560*'Pollutant Loading Rates'!C$15,($V263-$L263)/43560*'Pollutant Loading Rates'!C$16))))","v":""},{"$f":"IF($A263=\"\",\"\",(VLOOKUP($R263,'Pollutant Loading Rates'!$A$5:$F$12,4,0)*$L263/43560)+IF($R263=\"Forest\",'Pollutant Loading Rates'!D$13*($V263-$L263)/43560,IF($R263=\"Agriculture\",'Pollutant Loading Rates'!D$14*($V263-$L263)/43560,IF($D263=\"RIDOT\",($V263-$L263)/43560*'Pollutant Loading Rates'!D$15,($V263-$L263)/43560*'Pollutant Loading Rates'!D$16))))","v":""},{"$f":"IF($A263=\"\",\"\",(VLOOKUP($R263,'Pollutant Loading Rates'!$A$5:$F$12,5,0)*$L263/43560)+IF($R263=\"Forest\",'Pollutant Loading Rates'!E$13*($V263-$L263)/43560,IF($R263=\"Agriculture\",'Pollutant Loading Rates'!E$14*($V263-$L263)/43560,IF($D263=\"RIDOT\",($V263-$L263)/43560*'Pollutant Loading Rates'!E$15,($V263-$L263)/43560*'Pollutant Loading Rates'!E$16))))","v":""},{"$f":"IF($A263=\"\",\"\",(VLOOKUP($R263,'Pollutant Loading Rates'!$A$5:$F$12,6,0)*$L263/43560)+IF($R263=\"Forest\",'Pollutant Loading Rates'!F$13*($V263-$L263)/43560,IF($R263=\"Agriculture\",'Pollutant Loading Rates'!F$14*($V263-$L263)/43560,IF($D263=\"RIDOT\",($V263-$L263)/43560*'Pollutant Loading Rates'!F$15,$V263-$L263)/43560*'Pollutant Loading Rates'!F$16)))","v":""}]
[null,null,null,null,null,null,null,null,null,null,null,null,null,null,null,null,null,null,null,null,null,null,null,{"$f":"IF($A264=\"\",\"\",(VLOOKUP($R264,'Pollutant Loading Rates'!$A$5:$F$12,3,0)*$L264/43560)+IF($R264=\"Forest\",'Pollutant Loading Rates'!C$13*($V264-$L264)/43560,IF($R264=\"Agriculture\",'Pollutant Loading Rates'!C$14*($V264-$L264)/43560,IF($D264=\"RIDOT\",($V264-$L264)/43560*'Pollutant Loading Rates'!C$15,($V264-$L264)/43560*'Pollutant Loading Rates'!C$16))))","v":""},{"$f":"IF($A264=\"\",\"\",(VLOOKUP($R264,'Pollutant Loading Rates'!$A$5:$F$12,4,0)*$L264/43560)+IF($R264=\"Forest\",'Pollutant Loading Rates'!D$13*($V264-$L264)/43560,IF($R264=\"Agriculture\",'Pollutant Loading Rates'!D$14*($V264-$L264)/43560,IF($D264=\"RIDOT\",($V264-$L264)/43560*'Pollutant Loading Rates'!D$15,($V264-$L264)/43560*'Pollutant Loading Rates'!D$16))))","v":""},{"$f":"IF($A264=\"\",\"\",(VLOOKUP($R264,'Pollutant Loading Rates'!$A$5:$F$12,5,0)*$L264/43560)+IF($R264=\"Forest\",'Pollutant Loading Rates'!E$13*($V264-$L264)/43560,IF($R264=\"Agriculture\",'Pollutant Loading Rates'!E$14*($V264-$L264)/43560,IF($D264=\"RIDOT\",($V264-$L264)/43560*'Pollutant Loading Rates'!E$15,($V264-$L264)/43560*'Pollutant Loading Rates'!E$16))))","v":""},{"$f":"IF($A264=\"\",\"\",(VLOOKUP($R264,'Pollutant Loading Rates'!$A$5:$F$12,6,0)*$L264/43560)+IF($R264=\"Forest\",'Pollutant Loading Rates'!F$13*($V264-$L264)/43560,IF($R264=\"Agriculture\",'Pollutant Loading Rates'!F$14*($V264-$L264)/43560,IF($D264=\"RIDOT\",($V264-$L264)/43560*'Pollutant Loading Rates'!F$15,$V264-$L264)/43560*'Pollutant Loading Rates'!F$16)))","v":""}]
[null,null,null,null,null,null,null,null,null,null,null,null,null,null,null,null,null,null,null,null,null,null,null,{"$f":"IF($A265=\"\",\"\",(VLOOKUP($R265,'Pollutant Loading Rates'!$A$5:$F$12,3,0)*$L265/43560)+IF($R265=\"Forest\",'Pollutant Loading Rates'!C$13*($V265-$L265)/43560,IF($R265=\"Agriculture\",'Pollutant Loading Rates'!C$14*($V265-$L265)/43560,IF($D265=\"RIDOT\",($V265-$L265)/43560*'Pollutant Loading Rates'!C$15,($V265-$L265)/43560*'Pollutant Loading Rates'!C$16))))","v":""},{"$f":"IF($A265=\"\",\"\",(VLOOKUP($R265,'Pollutant Loading Rates'!$A$5:$F$12,4,0)*$L265/43560)+IF($R265=\"Forest\",'Pollutant Loading Rates'!D$13*($V265-$L265)/43560,IF($R265=\"Agriculture\",'Pollutant Loading Rates'!D$14*($V265-$L265)/43560,IF($D265=\"RIDOT\",($V265-$L265)/43560*'Pollutant Loading Rates'!D$15,($V265-$L265)/43560*'Pollutant Loading Rates'!D$16))))","v":""},{"$f":"IF($A265=\"\",\"\",(VLOOKUP($R265,'Pollutant Loading Rates'!$A$5:$F$12,5,0)*$L265/43560)+IF($R265=\"Forest\",'Pollutant Loading Rates'!E$13*($V265-$L265)/43560,IF($R265=\"Agriculture\",'Pollutant Loading Rates'!E$14*($V265-$L265)/43560,IF($D265=\"RIDOT\",($V265-$L265)/43560*'Pollutant Loading Rates'!E$15,($V265-$L265)/43560*'Pollutant Loading Rates'!E$16))))","v":""},{"$f":"IF($A265=\"\",\"\",(VLOOKUP($R265,'Pollutant Loading Rates'!$A$5:$F$12,6,0)*$L265/43560)+IF($R265=\"Forest\",'Pollutant Loading Rates'!F$13*($V265-$L265)/43560,IF($R265=\"Agriculture\",'Pollutant Loading Rates'!F$14*($V265-$L265)/43560,IF($D265=\"RIDOT\",($V265-$L265)/43560*'Pollutant Loading Rates'!F$15,$V265-$L265)/43560*'Pollutant Loading Rates'!F$16)))","v":""}]
[null,null,null,null,null,null,null,null,null,null,null,null,null,null,null,null,null,null,null,null,null,null,null,{"$f":"IF($A266=\"\",\"\",(VLOOKUP($R266,'Pollutant Loading Rates'!$A$5:$F$12,3,0)*$L266/43560)+IF($R266=\"Forest\",'Pollutant Loading Rates'!C$13*($V266-$L266)/43560,IF($R266=\"Agriculture\",'Pollutant Loading Rates'!C$14*($V266-$L266)/43560,IF($D266=\"RIDOT\",($V266-$L266)/43560*'Pollutant Loading Rates'!C$15,($V266-$L266)/43560*'Pollutant Loading Rates'!C$16))))","v":""},{"$f":"IF($A266=\"\",\"\",(VLOOKUP($R266,'Pollutant Loading Rates'!$A$5:$F$12,4,0)*$L266/43560)+IF($R266=\"Forest\",'Pollutant Loading Rates'!D$13*($V266-$L266)/43560,IF($R266=\"Agriculture\",'Pollutant Loading Rates'!D$14*($V266-$L266)/43560,IF($D266=\"RIDOT\",($V266-$L266)/43560*'Pollutant Loading Rates'!D$15,($V266-$L266)/43560*'Pollutant Loading Rates'!D$16))))","v":""},{"$f":"IF($A266=\"\",\"\",(VLOOKUP($R266,'Pollutant Loading Rates'!$A$5:$F$12,5,0)*$L266/43560)+IF($R266=\"Forest\",'Pollutant Loading Rates'!E$13*($V266-$L266)/43560,IF($R266=\"Agriculture\",'Pollutant Loading Rates'!E$14*($V266-$L266)/43560,IF($D266=\"RIDOT\",($V266-$L266)/43560*'Pollutant Loading Rates'!E$15,($V266-$L266)/43560*'Pollutant Loading Rates'!E$16))))","v":""},{"$f":"IF($A266=\"\",\"\",(VLOOKUP($R266,'Pollutant Loading Rates'!$A$5:$F$12,6,0)*$L266/43560)+IF($R266=\"Forest\",'Pollutant Loading Rates'!F$13*($V266-$L266)/43560,IF($R266=\"Agriculture\",'Pollutant Loading Rates'!F$14*($V266-$L266)/43560,IF($D266=\"RIDOT\",($V266-$L266)/43560*'Pollutant Loading Rates'!F$15,$V266-$L266)/43560*'Pollutant Loading Rates'!F$16)))","v":""}]
[null,null,null,null,null,null,null,null,null,null,null,null,null,null,null,null,null,null,null,null,null,null,null,{"$f":"IF($A267=\"\",\"\",(VLOOKUP($R267,'Pollutant Loading Rates'!$A$5:$F$12,3,0)*$L267/43560)+IF($R267=\"Forest\",'Pollutant Loading Rates'!C$13*($V267-$L267)/43560,IF($R267=\"Agriculture\",'Pollutant Loading Rates'!C$14*($V267-$L267)/43560,IF($D267=\"RIDOT\",($V267-$L267)/43560*'Pollutant Loading Rates'!C$15,($V267-$L267)/43560*'Pollutant Loading Rates'!C$16))))","v":""},{"$f":"IF($A267=\"\",\"\",(VLOOKUP($R267,'Pollutant Loading Rates'!$A$5:$F$12,4,0)*$L267/43560)+IF($R267=\"Forest\",'Pollutant Loading Rates'!D$13*($V267-$L267)/43560,IF($R267=\"Agriculture\",'Pollutant Loading Rates'!D$14*($V267-$L267)/43560,IF($D267=\"RIDOT\",($V267-$L267)/43560*'Pollutant Loading Rates'!D$15,($V267-$L267)/43560*'Pollutant Loading Rates'!D$16))))","v":""},{"$f":"IF($A267=\"\",\"\",(VLOOKUP($R267,'Pollutant Loading Rates'!$A$5:$F$12,5,0)*$L267/43560)+IF($R267=\"Forest\",'Pollutant Loading Rates'!E$13*($V267-$L267)/43560,IF($R267=\"Agriculture\",'Pollutant Loading Rates'!E$14*($V267-$L267)/43560,IF($D267=\"RIDOT\",($V267-$L267)/43560*'Pollutant Loading Rates'!E$15,($V267-$L267)/43560*'Pollutant Loading Rates'!E$16))))","v":""},{"$f":"IF($A267=\"\",\"\",(VLOOKUP($R267,'Pollutant Loading Rates'!$A$5:$F$12,6,0)*$L267/43560)+IF($R267=\"Forest\",'Pollutant Loading Rates'!F$13*($V267-$L267)/43560,IF($R267=\"Agriculture\",'Pollutant Loading Rates'!F$14*($V267-$L267)/43560,IF($D267=\"RIDOT\",($V267-$L267)/43560*'Pollutant Loading Rates'!F$15,$V267-$L267)/43560*'Pollutant Loading Rates'!F$16)))","v":""}]
[null,null,null,null,null,null,null,null,null,null,null,null,null,null,null,null,null,null,null,null,null,null,null,{"$f":"IF($A268=\"\",\"\",(VLOOKUP($R268,'Pollutant Loading Rates'!$A$5:$F$12,3,0)*$L268/43560)+IF($R268=\"Forest\",'Pollutant Loading Rates'!C$13*($V268-$L268)/43560,IF($R268=\"Agriculture\",'Pollutant Loading Rates'!C$14*($V268-$L268)/43560,IF($D268=\"RIDOT\",($V268-$L268)/43560*'Pollutant Loading Rates'!C$15,($V268-$L268)/43560*'Pollutant Loading Rates'!C$16))))","v":""},{"$f":"IF($A268=\"\",\"\",(VLOOKUP($R268,'Pollutant Loading Rates'!$A$5:$F$12,4,0)*$L268/43560)+IF($R268=\"Forest\",'Pollutant Loading Rates'!D$13*($V268-$L268)/43560,IF($R268=\"Agriculture\",'Pollutant Loading Rates'!D$14*($V268-$L268)/43560,IF($D268=\"RIDOT\",($V268-$L268)/43560*'Pollutant Loading Rates'!D$15,($V268-$L268)/43560*'Pollutant Loading Rates'!D$16))))","v":""},{"$f":"IF($A268=\"\",\"\",(VLOOKUP($R268,'Pollutant Loading Rates'!$A$5:$F$12,5,0)*$L268/43560)+IF($R268=\"Forest\",'Pollutant Loading Rates'!E$13*($V268-$L268)/43560,IF($R268=\"Agriculture\",'Pollutant Loading Rates'!E$14*($V268-$L268)/43560,IF($D268=\"RIDOT\",($V268-$L268)/43560*'Pollutant Loading Rates'!E$15,($V268-$L268)/43560*'Pollutant Loading Rates'!E$16))))","v":""},{"$f":"IF($A268=\"\",\"\",(VLOOKUP($R268,'Pollutant Loading Rates'!$A$5:$F$12,6,0)*$L268/43560)+IF($R268=\"Forest\",'Pollutant Loading Rates'!F$13*($V268-$L268)/43560,IF($R268=\"Agriculture\",'Pollutant Loading Rates'!F$14*($V268-$L268)/43560,IF($D268=\"RIDOT\",($V268-$L268)/43560*'Pollutant Loading Rates'!F$15,$V268-$L268)/43560*'Pollutant Loading Rates'!F$16)))","v":""}]
[null,null,null,null,null,null,null,null,null,null,null,null,null,null,null,null,null,null,null,null,null,null,null,{"$f":"IF($A269=\"\",\"\",(VLOOKUP($R269,'Pollutant Loading Rates'!$A$5:$F$12,3,0)*$L269/43560)+IF($R269=\"Forest\",'Pollutant Loading Rates'!C$13*($V269-$L269)/43560,IF($R269=\"Agriculture\",'Pollutant Loading Rates'!C$14*($V269-$L269)/43560,IF($D269=\"RIDOT\",($V269-$L269)/43560*'Pollutant Loading Rates'!C$15,($V269-$L269)/43560*'Pollutant Loading Rates'!C$16))))","v":""},{"$f":"IF($A269=\"\",\"\",(VLOOKUP($R269,'Pollutant Loading Rates'!$A$5:$F$12,4,0)*$L269/43560)+IF($R269=\"Forest\",'Pollutant Loading Rates'!D$13*($V269-$L269)/43560,IF($R269=\"Agriculture\",'Pollutant Loading Rates'!D$14*($V269-$L269)/43560,IF($D269=\"RIDOT\",($V269-$L269)/43560*'Pollutant Loading Rates'!D$15,($V269-$L269)/43560*'Pollutant Loading Rates'!D$16))))","v":""},{"$f":"IF($A269=\"\",\"\",(VLOOKUP($R269,'Pollutant Loading Rates'!$A$5:$F$12,5,0)*$L269/43560)+IF($R269=\"Forest\",'Pollutant Loading Rates'!E$13*($V269-$L269)/43560,IF($R269=\"Agriculture\",'Pollutant Loading Rates'!E$14*($V269-$L269)/43560,IF($D269=\"RIDOT\",($V269-$L269)/43560*'Pollutant Loading Rates'!E$15,($V269-$L269)/43560*'Pollutant Loading Rates'!E$16))))","v":""},{"$f":"IF($A269=\"\",\"\",(VLOOKUP($R269,'Pollutant Loading Rates'!$A$5:$F$12,6,0)*$L269/43560)+IF($R269=\"Forest\",'Pollutant Loading Rates'!F$13*($V269-$L269)/43560,IF($R269=\"Agriculture\",'Pollutant Loading Rates'!F$14*($V269-$L269)/43560,IF($D269=\"RIDOT\",($V269-$L269)/43560*'Pollutant Loading Rates'!F$15,$V269-$L269)/43560*'Pollutant Loading Rates'!F$16)))","v":""}]
[null,null,null,null,null,null,null,null,null,null,null,null,null,null,null,null,null,null,null,null,null,null,null,{"$f":"IF($A270=\"\",\"\",(VLOOKUP($R270,'Pollutant Loading Rates'!$A$5:$F$12,3,0)*$L270/43560)+IF($R270=\"Forest\",'Pollutant Loading Rates'!C$13*($V270-$L270)/43560,IF($R270=\"Agriculture\",'Pollutant Loading Rates'!C$14*($V270-$L270)/43560,IF($D270=\"RIDOT\",($V270-$L270)/43560*'Pollutant Loading Rates'!C$15,($V270-$L270)/43560*'Pollutant Loading Rates'!C$16))))","v":""},{"$f":"IF($A270=\"\",\"\",(VLOOKUP($R270,'Pollutant Loading Rates'!$A$5:$F$12,4,0)*$L270/43560)+IF($R270=\"Forest\",'Pollutant Loading Rates'!D$13*($V270-$L270)/43560,IF($R270=\"Agriculture\",'Pollutant Loading Rates'!D$14*($V270-$L270)/43560,IF($D270=\"RIDOT\",($V270-$L270)/43560*'Pollutant Loading Rates'!D$15,($V270-$L270)/43560*'Pollutant Loading Rates'!D$16))))","v":""},{"$f":"IF($A270=\"\",\"\",(VLOOKUP($R270,'Pollutant Loading Rates'!$A$5:$F$12,5,0)*$L270/43560)+IF($R270=\"Forest\",'Pollutant Loading Rates'!E$13*($V270-$L270)/43560,IF($R270=\"Agriculture\",'Pollutant Loading Rates'!E$14*($V270-$L270)/43560,IF($D270=\"RIDOT\",($V270-$L270)/43560*'Pollutant Loading Rates'!E$15,($V270-$L270)/43560*'Pollutant Loading Rates'!E$16))))","v":""},{"$f":"IF($A270=\"\",\"\",(VLOOKUP($R270,'Pollutant Loading Rates'!$A$5:$F$12,6,0)*$L270/43560)+IF($R270=\"Forest\",'Pollutant Loading Rates'!F$13*($V270-$L270)/43560,IF($R270=\"Agriculture\",'Pollutant Loading Rates'!F$14*($V270-$L270)/43560,IF($D270=\"RIDOT\",($V270-$L270)/43560*'Pollutant Loading Rates'!F$15,$V270-$L270)/43560*'Pollutant Loading Rates'!F$16)))","v":""}]
[null,null,null,null,null,null,null,null,null,null,null,null,null,null,null,null,null,null,null,null,null,null,null,{"$f":"IF($A271=\"\",\"\",(VLOOKUP($R271,'Pollutant Loading Rates'!$A$5:$F$12,3,0)*$L271/43560)+IF($R271=\"Forest\",'Pollutant Loading Rates'!C$13*($V271-$L271)/43560,IF($R271=\"Agriculture\",'Pollutant Loading Rates'!C$14*($V271-$L271)/43560,IF($D271=\"RIDOT\",($V271-$L271)/43560*'Pollutant Loading Rates'!C$15,($V271-$L271)/43560*'Pollutant Loading Rates'!C$16))))","v":""},{"$f":"IF($A271=\"\",\"\",(VLOOKUP($R271,'Pollutant Loading Rates'!$A$5:$F$12,4,0)*$L271/43560)+IF($R271=\"Forest\",'Pollutant Loading Rates'!D$13*($V271-$L271)/43560,IF($R271=\"Agriculture\",'Pollutant Loading Rates'!D$14*($V271-$L271)/43560,IF($D271=\"RIDOT\",($V271-$L271)/43560*'Pollutant Loading Rates'!D$15,($V271-$L271)/43560*'Pollutant Loading Rates'!D$16))))","v":""},{"$f":"IF($A271=\"\",\"\",(VLOOKUP($R271,'Pollutant Loading Rates'!$A$5:$F$12,5,0)*$L271/43560)+IF($R271=\"Forest\",'Pollutant Loading Rates'!E$13*($V271-$L271)/43560,IF($R271=\"Agriculture\",'Pollutant Loading Rates'!E$14*($V271-$L271)/43560,IF($D271=\"RIDOT\",($V271-$L271)/43560*'Pollutant Loading Rates'!E$15,($V271-$L271)/43560*'Pollutant Loading Rates'!E$16))))","v":""},{"$f":"IF($A271=\"\",\"\",(VLOOKUP($R271,'Pollutant Loading Rates'!$A$5:$F$12,6,0)*$L271/43560)+IF($R271=\"Forest\",'Pollutant Loading Rates'!F$13*($V271-$L271)/43560,IF($R271=\"Agriculture\",'Pollutant Loading Rates'!F$14*($V271-$L271)/43560,IF($D271=\"RIDOT\",($V271-$L271)/43560*'Pollutant Loading Rates'!F$15,$V271-$L271)/43560*'Pollutant Loading Rates'!F$16)))","v":""}]
[null,null,null,null,null,null,null,null,null,null,null,null,null,null,null,null,null,null,null,null,null,null,null,{"$f":"IF($A272=\"\",\"\",(VLOOKUP($R272,'Pollutant Loading Rates'!$A$5:$F$12,3,0)*$L272/43560)+IF($R272=\"Forest\",'Pollutant Loading Rates'!C$13*($V272-$L272)/43560,IF($R272=\"Agriculture\",'Pollutant Loading Rates'!C$14*($V272-$L272)/43560,IF($D272=\"RIDOT\",($V272-$L272)/43560*'Pollutant Loading Rates'!C$15,($V272-$L272)/43560*'Pollutant Loading Rates'!C$16))))","v":""},{"$f":"IF($A272=\"\",\"\",(VLOOKUP($R272,'Pollutant Loading Rates'!$A$5:$F$12,4,0)*$L272/43560)+IF($R272=\"Forest\",'Pollutant Loading Rates'!D$13*($V272-$L272)/43560,IF($R272=\"Agriculture\",'Pollutant Loading Rates'!D$14*($V272-$L272)/43560,IF($D272=\"RIDOT\",($V272-$L272)/43560*'Pollutant Loading Rates'!D$15,($V272-$L272)/43560*'Pollutant Loading Rates'!D$16))))","v":""},{"$f":"IF($A272=\"\",\"\",(VLOOKUP($R272,'Pollutant Loading Rates'!$A$5:$F$12,5,0)*$L272/43560)+IF($R272=\"Forest\",'Pollutant Loading Rates'!E$13*($V272-$L272)/43560,IF($R272=\"Agriculture\",'Pollutant Loading Rates'!E$14*($V272-$L272)/43560,IF($D272=\"RIDOT\",($V272-$L272)/43560*'Pollutant Loading Rates'!E$15,($V272-$L272)/43560*'Pollutant Loading Rates'!E$16))))","v":""},{"$f":"IF($A272=\"\",\"\",(VLOOKUP($R272,'Pollutant Loading Rates'!$A$5:$F$12,6,0)*$L272/43560)+IF($R272=\"Forest\",'Pollutant Loading Rates'!F$13*($V272-$L272)/43560,IF($R272=\"Agriculture\",'Pollutant Loading Rates'!F$14*($V272-$L272)/43560,IF($D272=\"RIDOT\",($V272-$L272)/43560*'Pollutant Loading Rates'!F$15,$V272-$L272)/43560*'Pollutant Loading Rates'!F$16)))","v":""}]
[null,null,null,null,null,null,null,null,null,null,null,null,null,null,null,null,null,null,null,null,null,null,null,{"$f":"IF($A273=\"\",\"\",(VLOOKUP($R273,'Pollutant Loading Rates'!$A$5:$F$12,3,0)*$L273/43560)+IF($R273=\"Forest\",'Pollutant Loading Rates'!C$13*($V273-$L273)/43560,IF($R273=\"Agriculture\",'Pollutant Loading Rates'!C$14*($V273-$L273)/43560,IF($D273=\"RIDOT\",($V273-$L273)/43560*'Pollutant Loading Rates'!C$15,($V273-$L273)/43560*'Pollutant Loading Rates'!C$16))))","v":""},{"$f":"IF($A273=\"\",\"\",(VLOOKUP($R273,'Pollutant Loading Rates'!$A$5:$F$12,4,0)*$L273/43560)+IF($R273=\"Forest\",'Pollutant Loading Rates'!D$13*($V273-$L273)/43560,IF($R273=\"Agriculture\",'Pollutant Loading Rates'!D$14*($V273-$L273)/43560,IF($D273=\"RIDOT\",($V273-$L273)/43560*'Pollutant Loading Rates'!D$15,($V273-$L273)/43560*'Pollutant Loading Rates'!D$16))))","v":""},{"$f":"IF($A273=\"\",\"\",(VLOOKUP($R273,'Pollutant Loading Rates'!$A$5:$F$12,5,0)*$L273/43560)+IF($R273=\"Forest\",'Pollutant Loading Rates'!E$13*($V273-$L273)/43560,IF($R273=\"Agriculture\",'Pollutant Loading Rates'!E$14*($V273-$L273)/43560,IF($D273=\"RIDOT\",($V273-$L273)/43560*'Pollutant Loading Rates'!E$15,($V273-$L273)/43560*'Pollutant Loading Rates'!E$16))))","v":""},{"$f":"IF($A273=\"\",\"\",(VLOOKUP($R273,'Pollutant Loading Rates'!$A$5:$F$12,6,0)*$L273/43560)+IF($R273=\"Forest\",'Pollutant Loading Rates'!F$13*($V273-$L273)/43560,IF($R273=\"Agriculture\",'Pollutant Loading Rates'!F$14*($V273-$L273)/43560,IF($D273=\"RIDOT\",($V273-$L273)/43560*'Pollutant Loading Rates'!F$15,$V273-$L273)/43560*'Pollutant Loading Rates'!F$16)))","v":""}]
[null,null,null,null,null,null,null,null,null,null,null,null,null,null,null,null,null,null,null,null,null,null,null,{"$f":"IF($A274=\"\",\"\",(VLOOKUP($R274,'Pollutant Loading Rates'!$A$5:$F$12,3,0)*$L274/43560)+IF($R274=\"Forest\",'Pollutant Loading Rates'!C$13*($V274-$L274)/43560,IF($R274=\"Agriculture\",'Pollutant Loading Rates'!C$14*($V274-$L274)/43560,IF($D274=\"RIDOT\",($V274-$L274)/43560*'Pollutant Loading Rates'!C$15,($V274-$L274)/43560*'Pollutant Loading Rates'!C$16))))","v":""},{"$f":"IF($A274=\"\",\"\",(VLOOKUP($R274,'Pollutant Loading Rates'!$A$5:$F$12,4,0)*$L274/43560)+IF($R274=\"Forest\",'Pollutant Loading Rates'!D$13*($V274-$L274)/43560,IF($R274=\"Agriculture\",'Pollutant Loading Rates'!D$14*($V274-$L274)/43560,IF($D274=\"RIDOT\",($V274-$L274)/43560*'Pollutant Loading Rates'!D$15,($V274-$L274)/43560*'Pollutant Loading Rates'!D$16))))","v":""},{"$f":"IF($A274=\"\",\"\",(VLOOKUP($R274,'Pollutant Loading Rates'!$A$5:$F$12,5,0)*$L274/43560)+IF($R274=\"Forest\",'Pollutant Loading Rates'!E$13*($V274-$L274)/43560,IF($R274=\"Agriculture\",'Pollutant Loading Rates'!E$14*($V274-$L274)/43560,IF($D274=\"RIDOT\",($V274-$L274)/43560*'Pollutant Loading Rates'!E$15,($V274-$L274)/43560*'Pollutant Loading Rates'!E$16))))","v":""},{"$f":"IF($A274=\"\",\"\",(VLOOKUP($R274,'Pollutant Loading Rates'!$A$5:$F$12,6,0)*$L274/43560)+IF($R274=\"Forest\",'Pollutant Loading Rates'!F$13*($V274-$L274)/43560,IF($R274=\"Agriculture\",'Pollutant Loading Rates'!F$14*($V274-$L274)/43560,IF($D274=\"RIDOT\",($V274-$L274)/43560*'Pollutant Loading Rates'!F$15,$V274-$L274)/43560*'Pollutant Loading Rates'!F$16)))","v":""}]
[null,null,null,null,null,null,null,null,null,null,null,null,null,null,null,null,null,null,null,null,null,null,null,{"$f":"IF($A275=\"\",\"\",(VLOOKUP($R275,'Pollutant Loading Rates'!$A$5:$F$12,3,0)*$L275/43560)+IF($R275=\"Forest\",'Pollutant Loading Rates'!C$13*($V275-$L275)/43560,IF($R275=\"Agriculture\",'Pollutant Loading Rates'!C$14*($V275-$L275)/43560,IF($D275=\"RIDOT\",($V275-$L275)/43560*'Pollutant Loading Rates'!C$15,($V275-$L275)/43560*'Pollutant Loading Rates'!C$16))))","v":""},{"$f":"IF($A275=\"\",\"\",(VLOOKUP($R275,'Pollutant Loading Rates'!$A$5:$F$12,4,0)*$L275/43560)+IF($R275=\"Forest\",'Pollutant Loading Rates'!D$13*($V275-$L275)/43560,IF($R275=\"Agriculture\",'Pollutant Loading Rates'!D$14*($V275-$L275)/43560,IF($D275=\"RIDOT\",($V275-$L275)/43560*'Pollutant Loading Rates'!D$15,($V275-$L275)/43560*'Pollutant Loading Rates'!D$16))))","v":""},{"$f":"IF($A275=\"\",\"\",(VLOOKUP($R275,'Pollutant Loading Rates'!$A$5:$F$12,5,0)*$L275/43560)+IF($R275=\"Forest\",'Pollutant Loading Rates'!E$13*($V275-$L275)/43560,IF($R275=\"Agriculture\",'Pollutant Loading Rates'!E$14*($V275-$L275)/43560,IF($D275=\"RIDOT\",($V275-$L275)/43560*'Pollutant Loading Rates'!E$15,($V275-$L275)/43560*'Pollutant Loading Rates'!E$16))))","v":""},{"$f":"IF($A275=\"\",\"\",(VLOOKUP($R275,'Pollutant Loading Rates'!$A$5:$F$12,6,0)*$L275/43560)+IF($R275=\"Forest\",'Pollutant Loading Rates'!F$13*($V275-$L275)/43560,IF($R275=\"Agriculture\",'Pollutant Loading Rates'!F$14*($V275-$L275)/43560,IF($D275=\"RIDOT\",($V275-$L275)/43560*'Pollutant Loading Rates'!F$15,$V275-$L275)/43560*'Pollutant Loading Rates'!F$16)))","v":""}]
[null,null,null,null,null,null,null,null,null,null,null,null,null,null,null,null,null,null,null,null,null,null,null,{"$f":"IF($A276=\"\",\"\",(VLOOKUP($R276,'Pollutant Loading Rates'!$A$5:$F$12,3,0)*$L276/43560)+IF($R276=\"Forest\",'Pollutant Loading Rates'!C$13*($V276-$L276)/43560,IF($R276=\"Agriculture\",'Pollutant Loading Rates'!C$14*($V276-$L276)/43560,IF($D276=\"RIDOT\",($V276-$L276)/43560*'Pollutant Loading Rates'!C$15,($V276-$L276)/43560*'Pollutant Loading Rates'!C$16))))","v":""},{"$f":"IF($A276=\"\",\"\",(VLOOKUP($R276,'Pollutant Loading Rates'!$A$5:$F$12,4,0)*$L276/43560)+IF($R276=\"Forest\",'Pollutant Loading Rates'!D$13*($V276-$L276)/43560,IF($R276=\"Agriculture\",'Pollutant Loading Rates'!D$14*($V276-$L276)/43560,IF($D276=\"RIDOT\",($V276-$L276)/43560*'Pollutant Loading Rates'!D$15,($V276-$L276)/43560*'Pollutant Loading Rates'!D$16))))","v":""},{"$f":"IF($A276=\"\",\"\",(VLOOKUP($R276,'Pollutant Loading Rates'!$A$5:$F$12,5,0)*$L276/43560)+IF($R276=\"Forest\",'Pollutant Loading Rates'!E$13*($V276-$L276)/43560,IF($R276=\"Agriculture\",'Pollutant Loading Rates'!E$14*($V276-$L276)/43560,IF($D276=\"RIDOT\",($V276-$L276)/43560*'Pollutant Loading Rates'!E$15,($V276-$L276)/43560*'Pollutant Loading Rates'!E$16))))","v":""},{"$f":"IF($A276=\"\",\"\",(VLOOKUP($R276,'Pollutant Loading Rates'!$A$5:$F$12,6,0)*$L276/43560)+IF($R276=\"Forest\",'Pollutant Loading Rates'!F$13*($V276-$L276)/43560,IF($R276=\"Agriculture\",'Pollutant Loading Rates'!F$14*($V276-$L276)/43560,IF($D276=\"RIDOT\",($V276-$L276)/43560*'Pollutant Loading Rates'!F$15,$V276-$L276)/43560*'Pollutant Loading Rates'!F$16)))","v":""}]
[null,null,null,null,null,null,null,null,null,null,null,null,null,null,null,null,null,null,null,null,null,null,null,{"$f":"IF($A277=\"\",\"\",(VLOOKUP($R277,'Pollutant Loading Rates'!$A$5:$F$12,3,0)*$L277/43560)+IF($R277=\"Forest\",'Pollutant Loading Rates'!C$13*($V277-$L277)/43560,IF($R277=\"Agriculture\",'Pollutant Loading Rates'!C$14*($V277-$L277)/43560,IF($D277=\"RIDOT\",($V277-$L277)/43560*'Pollutant Loading Rates'!C$15,($V277-$L277)/43560*'Pollutant Loading Rates'!C$16))))","v":""},{"$f":"IF($A277=\"\",\"\",(VLOOKUP($R277,'Pollutant Loading Rates'!$A$5:$F$12,4,0)*$L277/43560)+IF($R277=\"Forest\",'Pollutant Loading Rates'!D$13*($V277-$L277)/43560,IF($R277=\"Agriculture\",'Pollutant Loading Rates'!D$14*($V277-$L277)/43560,IF($D277=\"RIDOT\",($V277-$L277)/43560*'Pollutant Loading Rates'!D$15,($V277-$L277)/43560*'Pollutant Loading Rates'!D$16))))","v":""},{"$f":"IF($A277=\"\",\"\",(VLOOKUP($R277,'Pollutant Loading Rates'!$A$5:$F$12,5,0)*$L277/43560)+IF($R277=\"Forest\",'Pollutant Loading Rates'!E$13*($V277-$L277)/43560,IF($R277=\"Agriculture\",'Pollutant Loading Rates'!E$14*($V277-$L277)/43560,IF($D277=\"RIDOT\",($V277-$L277)/43560*'Pollutant Loading Rates'!E$15,($V277-$L277)/43560*'Pollutant Loading Rates'!E$16))))","v":""},{"$f":"IF($A277=\"\",\"\",(VLOOKUP($R277,'Pollutant Loading Rates'!$A$5:$F$12,6,0)*$L277/43560)+IF($R277=\"Forest\",'Pollutant Loading Rates'!F$13*($V277-$L277)/43560,IF($R277=\"Agriculture\",'Pollutant Loading Rates'!F$14*($V277-$L277)/43560,IF($D277=\"RIDOT\",($V277-$L277)/43560*'Pollutant Loading Rates'!F$15,$V277-$L277)/43560*'Pollutant Loading Rates'!F$16)))","v":""}]
[null,null,null,null,null,null,null,null,null,null,null,null,null,null,null,null,null,null,null,null,null,null,null,{"$f":"IF($A278=\"\",\"\",(VLOOKUP($R278,'Pollutant Loading Rates'!$A$5:$F$12,3,0)*$L278/43560)+IF($R278=\"Forest\",'Pollutant Loading Rates'!C$13*($V278-$L278)/43560,IF($R278=\"Agriculture\",'Pollutant Loading Rates'!C$14*($V278-$L278)/43560,IF($D278=\"RIDOT\",($V278-$L278)/43560*'Pollutant Loading Rates'!C$15,($V278-$L278)/43560*'Pollutant Loading Rates'!C$16))))","v":""},{"$f":"IF($A278=\"\",\"\",(VLOOKUP($R278,'Pollutant Loading Rates'!$A$5:$F$12,4,0)*$L278/43560)+IF($R278=\"Forest\",'Pollutant Loading Rates'!D$13*($V278-$L278)/43560,IF($R278=\"Agriculture\",'Pollutant Loading Rates'!D$14*($V278-$L278)/43560,IF($D278=\"RIDOT\",($V278-$L278)/43560*'Pollutant Loading Rates'!D$15,($V278-$L278)/43560*'Pollutant Loading Rates'!D$16))))","v":""},{"$f":"IF($A278=\"\",\"\",(VLOOKUP($R278,'Pollutant Loading Rates'!$A$5:$F$12,5,0)*$L278/43560)+IF($R278=\"Forest\",'Pollutant Loading Rates'!E$13*($V278-$L278)/43560,IF($R278=\"Agriculture\",'Pollutant Loading Rates'!E$14*($V278-$L278)/43560,IF($D278=\"RIDOT\",($V278-$L278)/43560*'Pollutant Loading Rates'!E$15,($V278-$L278)/43560*'Pollutant Loading Rates'!E$16))))","v":""},{"$f":"IF($A278=\"\",\"\",(VLOOKUP($R278,'Pollutant Loading Rates'!$A$5:$F$12,6,0)*$L278/43560)+IF($R278=\"Forest\",'Pollutant Loading Rates'!F$13*($V278-$L278)/43560,IF($R278=\"Agriculture\",'Pollutant Loading Rates'!F$14*($V278-$L278)/43560,IF($D278=\"RIDOT\",($V278-$L278)/43560*'Pollutant Loading Rates'!F$15,$V278-$L278)/43560*'Pollutant Loading Rates'!F$16)))","v":""}]
[null,null,null,null,null,null,null,null,null,null,null,null,null,null,null,null,null,null,null,null,null,null,null,{"$f":"IF($A279=\"\",\"\",(VLOOKUP($R279,'Pollutant Loading Rates'!$A$5:$F$12,3,0)*$L279/43560)+IF($R279=\"Forest\",'Pollutant Loading Rates'!C$13*($V279-$L279)/43560,IF($R279=\"Agriculture\",'Pollutant Loading Rates'!C$14*($V279-$L279)/43560,IF($D279=\"RIDOT\",($V279-$L279)/43560*'Pollutant Loading Rates'!C$15,($V279-$L279)/43560*'Pollutant Loading Rates'!C$16))))","v":""},{"$f":"IF($A279=\"\",\"\",(VLOOKUP($R279,'Pollutant Loading Rates'!$A$5:$F$12,4,0)*$L279/43560)+IF($R279=\"Forest\",'Pollutant Loading Rates'!D$13*($V279-$L279)/43560,IF($R279=\"Agriculture\",'Pollutant Loading Rates'!D$14*($V279-$L279)/43560,IF($D279=\"RIDOT\",($V279-$L279)/43560*'Pollutant Loading Rates'!D$15,($V279-$L279)/43560*'Pollutant Loading Rates'!D$16))))","v":""},{"$f":"IF($A279=\"\",\"\",(VLOOKUP($R279,'Pollutant Loading Rates'!$A$5:$F$12,5,0)*$L279/43560)+IF($R279=\"Forest\",'Pollutant Loading Rates'!E$13*($V279-$L279)/43560,IF($R279=\"Agriculture\",'Pollutant Loading Rates'!E$14*($V279-$L279)/43560,IF($D279=\"RIDOT\",($V279-$L279)/43560*'Pollutant Loading Rates'!E$15,($V279-$L279)/43560*'Pollutant Loading Rates'!E$16))))","v":""},{"$f":"IF($A279=\"\",\"\",(VLOOKUP($R279,'Pollutant Loading Rates'!$A$5:$F$12,6,0)*$L279/43560)+IF($R279=\"Forest\",'Pollutant Loading Rates'!F$13*($V279-$L279)/43560,IF($R279=\"Agriculture\",'Pollutant Loading Rates'!F$14*($V279-$L279)/43560,IF($D279=\"RIDOT\",($V279-$L279)/43560*'Pollutant Loading Rates'!F$15,$V279-$L279)/43560*'Pollutant Loading Rates'!F$16)))","v":""}]
[null,null,null,null,null,null,null,null,null,null,null,null,null,null,null,null,null,null,null,null,null,null,null,{"$f":"IF($A280=\"\",\"\",(VLOOKUP($R280,'Pollutant Loading Rates'!$A$5:$F$12,3,0)*$L280/43560)+IF($R280=\"Forest\",'Pollutant Loading Rates'!C$13*($V280-$L280)/43560,IF($R280=\"Agriculture\",'Pollutant Loading Rates'!C$14*($V280-$L280)/43560,IF($D280=\"RIDOT\",($V280-$L280)/43560*'Pollutant Loading Rates'!C$15,($V280-$L280)/43560*'Pollutant Loading Rates'!C$16))))","v":""},{"$f":"IF($A280=\"\",\"\",(VLOOKUP($R280,'Pollutant Loading Rates'!$A$5:$F$12,4,0)*$L280/43560)+IF($R280=\"Forest\",'Pollutant Loading Rates'!D$13*($V280-$L280)/43560,IF($R280=\"Agriculture\",'Pollutant Loading Rates'!D$14*($V280-$L280)/43560,IF($D280=\"RIDOT\",($V280-$L280)/43560*'Pollutant Loading Rates'!D$15,($V280-$L280)/43560*'Pollutant Loading Rates'!D$16))))","v":""},{"$f":"IF($A280=\"\",\"\",(VLOOKUP($R280,'Pollutant Loading Rates'!$A$5:$F$12,5,0)*$L280/43560)+IF($R280=\"Forest\",'Pollutant Loading Rates'!E$13*($V280-$L280)/43560,IF($R280=\"Agriculture\",'Pollutant Loading Rates'!E$14*($V280-$L280)/43560,IF($D280=\"RIDOT\",($V280-$L280)/43560*'Pollutant Loading Rates'!E$15,($V280-$L280)/43560*'Pollutant Loading Rates'!E$16))))","v":""},{"$f":"IF($A280=\"\",\"\",(VLOOKUP($R280,'Pollutant Loading Rates'!$A$5:$F$12,6,0)*$L280/43560)+IF($R280=\"Forest\",'Pollutant Loading Rates'!F$13*($V280-$L280)/43560,IF($R280=\"Agriculture\",'Pollutant Loading Rates'!F$14*($V280-$L280)/43560,IF($D280=\"RIDOT\",($V280-$L280)/43560*'Pollutant Loading Rates'!F$15,$V280-$L280)/43560*'Pollutant Loading Rates'!F$16)))","v":""}]
[null,null,null,null,null,null,null,null,null,null,null,null,null,null,null,null,null,null,null,null,null,null,null,{"$f":"IF($A281=\"\",\"\",(VLOOKUP($R281,'Pollutant Loading Rates'!$A$5:$F$12,3,0)*$L281/43560)+IF($R281=\"Forest\",'Pollutant Loading Rates'!C$13*($V281-$L281)/43560,IF($R281=\"Agriculture\",'Pollutant Loading Rates'!C$14*($V281-$L281)/43560,IF($D281=\"RIDOT\",($V281-$L281)/43560*'Pollutant Loading Rates'!C$15,($V281-$L281)/43560*'Pollutant Loading Rates'!C$16))))","v":""},{"$f":"IF($A281=\"\",\"\",(VLOOKUP($R281,'Pollutant Loading Rates'!$A$5:$F$12,4,0)*$L281/43560)+IF($R281=\"Forest\",'Pollutant Loading Rates'!D$13*($V281-$L281)/43560,IF($R281=\"Agriculture\",'Pollutant Loading Rates'!D$14*($V281-$L281)/43560,IF($D281=\"RIDOT\",($V281-$L281)/43560*'Pollutant Loading Rates'!D$15,($V281-$L281)/43560*'Pollutant Loading Rates'!D$16))))","v":""},{"$f":"IF($A281=\"\",\"\",(VLOOKUP($R281,'Pollutant Loading Rates'!$A$5:$F$12,5,0)*$L281/43560)+IF($R281=\"Forest\",'Pollutant Loading Rates'!E$13*($V281-$L281)/43560,IF($R281=\"Agriculture\",'Pollutant Loading Rates'!E$14*($V281-$L281)/43560,IF($D281=\"RIDOT\",($V281-$L281)/43560*'Pollutant Loading Rates'!E$15,($V281-$L281)/43560*'Pollutant Loading Rates'!E$16))))","v":""},{"$f":"IF($A281=\"\",\"\",(VLOOKUP($R281,'Pollutant Loading Rates'!$A$5:$F$12,6,0)*$L281/43560)+IF($R281=\"Forest\",'Pollutant Loading Rates'!F$13*($V281-$L281)/43560,IF($R281=\"Agriculture\",'Pollutant Loading Rates'!F$14*($V281-$L281)/43560,IF($D281=\"RIDOT\",($V281-$L281)/43560*'Pollutant Loading Rates'!F$15,$V281-$L281)/43560*'Pollutant Loading Rates'!F$16)))","v":""}]
[null,null,null,null,null,null,null,null,null,null,null,null,null,null,null,null,null,null,null,null,null,null,null,{"$f":"IF($A282=\"\",\"\",(VLOOKUP($R282,'Pollutant Loading Rates'!$A$5:$F$12,3,0)*$L282/43560)+IF($R282=\"Forest\",'Pollutant Loading Rates'!C$13*($V282-$L282)/43560,IF($R282=\"Agriculture\",'Pollutant Loading Rates'!C$14*($V282-$L282)/43560,IF($D282=\"RIDOT\",($V282-$L282)/43560*'Pollutant Loading Rates'!C$15,($V282-$L282)/43560*'Pollutant Loading Rates'!C$16))))","v":""},{"$f":"IF($A282=\"\",\"\",(VLOOKUP($R282,'Pollutant Loading Rates'!$A$5:$F$12,4,0)*$L282/43560)+IF($R282=\"Forest\",'Pollutant Loading Rates'!D$13*($V282-$L282)/43560,IF($R282=\"Agriculture\",'Pollutant Loading Rates'!D$14*($V282-$L282)/43560,IF($D282=\"RIDOT\",($V282-$L282)/43560*'Pollutant Loading Rates'!D$15,($V282-$L282)/43560*'Pollutant Loading Rates'!D$16))))","v":""},{"$f":"IF($A282=\"\",\"\",(VLOOKUP($R282,'Pollutant Loading Rates'!$A$5:$F$12,5,0)*$L282/43560)+IF($R282=\"Forest\",'Pollutant Loading Rates'!E$13*($V282-$L282)/43560,IF($R282=\"Agriculture\",'Pollutant Loading Rates'!E$14*($V282-$L282)/43560,IF($D282=\"RIDOT\",($V282-$L282)/43560*'Pollutant Loading Rates'!E$15,($V282-$L282)/43560*'Pollutant Loading Rates'!E$16))))","v":""},{"$f":"IF($A282=\"\",\"\",(VLOOKUP($R282,'Pollutant Loading Rates'!$A$5:$F$12,6,0)*$L282/43560)+IF($R282=\"Forest\",'Pollutant Loading Rates'!F$13*($V282-$L282)/43560,IF($R282=\"Agriculture\",'Pollutant Loading Rates'!F$14*($V282-$L282)/43560,IF($D282=\"RIDOT\",($V282-$L282)/43560*'Pollutant Loading Rates'!F$15,$V282-$L282)/43560*'Pollutant Loading Rates'!F$16)))","v":""}]
[null,null,null,null,null,null,null,null,null,null,null,null,null,null,null,null,null,null,null,null,null,null,null,{"$f":"IF($A283=\"\",\"\",(VLOOKUP($R283,'Pollutant Loading Rates'!$A$5:$F$12,3,0)*$L283/43560)+IF($R283=\"Forest\",'Pollutant Loading Rates'!C$13*($V283-$L283)/43560,IF($R283=\"Agriculture\",'Pollutant Loading Rates'!C$14*($V283-$L283)/43560,IF($D283=\"RIDOT\",($V283-$L283)/43560*'Pollutant Loading Rates'!C$15,($V283-$L283)/43560*'Pollutant Loading Rates'!C$16))))","v":""},{"$f":"IF($A283=\"\",\"\",(VLOOKUP($R283,'Pollutant Loading Rates'!$A$5:$F$12,4,0)*$L283/43560)+IF($R283=\"Forest\",'Pollutant Loading Rates'!D$13*($V283-$L283)/43560,IF($R283=\"Agriculture\",'Pollutant Loading Rates'!D$14*($V283-$L283)/43560,IF($D283=\"RIDOT\",($V283-$L283)/43560*'Pollutant Loading Rates'!D$15,($V283-$L283)/43560*'Pollutant Loading Rates'!D$16))))","v":""},{"$f":"IF($A283=\"\",\"\",(VLOOKUP($R283,'Pollutant Loading Rates'!$A$5:$F$12,5,0)*$L283/43560)+IF($R283=\"Forest\",'Pollutant Loading Rates'!E$13*($V283-$L283)/43560,IF($R283=\"Agriculture\",'Pollutant Loading Rates'!E$14*($V283-$L283)/43560,IF($D283=\"RIDOT\",($V283-$L283)/43560*'Pollutant Loading Rates'!E$15,($V283-$L283)/43560*'Pollutant Loading Rates'!E$16))))","v":""},{"$f":"IF($A283=\"\",\"\",(VLOOKUP($R283,'Pollutant Loading Rates'!$A$5:$F$12,6,0)*$L283/43560)+IF($R283=\"Forest\",'Pollutant Loading Rates'!F$13*($V283-$L283)/43560,IF($R283=\"Agriculture\",'Pollutant Loading Rates'!F$14*($V283-$L283)/43560,IF($D283=\"RIDOT\",($V283-$L283)/43560*'Pollutant Loading Rates'!F$15,$V283-$L283)/43560*'Pollutant Loading Rates'!F$16)))","v":""}]
[null,null,null,null,null,null,null,null,null,null,null,null,null,null,null,null,null,null,null,null,null,null,null,{"$f":"IF($A284=\"\",\"\",(VLOOKUP($R284,'Pollutant Loading Rates'!$A$5:$F$12,3,0)*$L284/43560)+IF($R284=\"Forest\",'Pollutant Loading Rates'!C$13*($V284-$L284)/43560,IF($R284=\"Agriculture\",'Pollutant Loading Rates'!C$14*($V284-$L284)/43560,IF($D284=\"RIDOT\",($V284-$L284)/43560*'Pollutant Loading Rates'!C$15,($V284-$L284)/43560*'Pollutant Loading Rates'!C$16))))","v":""},{"$f":"IF($A284=\"\",\"\",(VLOOKUP($R284,'Pollutant Loading Rates'!$A$5:$F$12,4,0)*$L284/43560)+IF($R284=\"Forest\",'Pollutant Loading Rates'!D$13*($V284-$L284)/43560,IF($R284=\"Agriculture\",'Pollutant Loading Rates'!D$14*($V284-$L284)/43560,IF($D284=\"RIDOT\",($V284-$L284)/43560*'Pollutant Loading Rates'!D$15,($V284-$L284)/43560*'Pollutant Loading Rates'!D$16))))","v":""},{"$f":"IF($A284=\"\",\"\",(VLOOKUP($R284,'Pollutant Loading Rates'!$A$5:$F$12,5,0)*$L284/43560)+IF($R284=\"Forest\",'Pollutant Loading Rates'!E$13*($V284-$L284)/43560,IF($R284=\"Agriculture\",'Pollutant Loading Rates'!E$14*($V284-$L284)/43560,IF($D284=\"RIDOT\",($V284-$L284)/43560*'Pollutant Loading Rates'!E$15,($V284-$L284)/43560*'Pollutant Loading Rates'!E$16))))","v":""},{"$f":"IF($A284=\"\",\"\",(VLOOKUP($R284,'Pollutant Loading Rates'!$A$5:$F$12,6,0)*$L284/43560)+IF($R284=\"Forest\",'Pollutant Loading Rates'!F$13*($V284-$L284)/43560,IF($R284=\"Agriculture\",'Pollutant Loading Rates'!F$14*($V284-$L284)/43560,IF($D284=\"RIDOT\",($V284-$L284)/43560*'Pollutant Loading Rates'!F$15,$V284-$L284)/43560*'Pollutant Loading Rates'!F$16)))","v":""}]
[null,null,null,null,null,null,null,null,null,null,null,null,null,null,null,null,null,null,null,null,null,null,null,{"$f":"IF($A285=\"\",\"\",(VLOOKUP($R285,'Pollutant Loading Rates'!$A$5:$F$12,3,0)*$L285/43560)+IF($R285=\"Forest\",'Pollutant Loading Rates'!C$13*($V285-$L285)/43560,IF($R285=\"Agriculture\",'Pollutant Loading Rates'!C$14*($V285-$L285)/43560,IF($D285=\"RIDOT\",($V285-$L285)/43560*'Pollutant Loading Rates'!C$15,($V285-$L285)/43560*'Pollutant Loading Rates'!C$16))))","v":""},{"$f":"IF($A285=\"\",\"\",(VLOOKUP($R285,'Pollutant Loading Rates'!$A$5:$F$12,4,0)*$L285/43560)+IF($R285=\"Forest\",'Pollutant Loading Rates'!D$13*($V285-$L285)/43560,IF($R285=\"Agriculture\",'Pollutant Loading Rates'!D$14*($V285-$L285)/43560,IF($D285=\"RIDOT\",($V285-$L285)/43560*'Pollutant Loading Rates'!D$15,($V285-$L285)/43560*'Pollutant Loading Rates'!D$16))))","v":""},{"$f":"IF($A285=\"\",\"\",(VLOOKUP($R285,'Pollutant Loading Rates'!$A$5:$F$12,5,0)*$L285/43560)+IF($R285=\"Forest\",'Pollutant Loading Rates'!E$13*($V285-$L285)/43560,IF($R285=\"Agriculture\",'Pollutant Loading Rates'!E$14*($V285-$L285)/43560,IF($D285=\"RIDOT\",($V285-$L285)/43560*'Pollutant Loading Rates'!E$15,($V285-$L285)/43560*'Pollutant Loading Rates'!E$16))))","v":""},{"$f":"IF($A285=\"\",\"\",(VLOOKUP($R285,'Pollutant Loading Rates'!$A$5:$F$12,6,0)*$L285/43560)+IF($R285=\"Forest\",'Pollutant Loading Rates'!F$13*($V285-$L285)/43560,IF($R285=\"Agriculture\",'Pollutant Loading Rates'!F$14*($V285-$L285)/43560,IF($D285=\"RIDOT\",($V285-$L285)/43560*'Pollutant Loading Rates'!F$15,$V285-$L285)/43560*'Pollutant Loading Rates'!F$16)))","v":""}]
[null,null,null,null,null,null,null,null,null,null,null,null,null,null,null,null,null,null,null,null,null,null,null,{"$f":"IF($A286=\"\",\"\",(VLOOKUP($R286,'Pollutant Loading Rates'!$A$5:$F$12,3,0)*$L286/43560)+IF($R286=\"Forest\",'Pollutant Loading Rates'!C$13*($V286-$L286)/43560,IF($R286=\"Agriculture\",'Pollutant Loading Rates'!C$14*($V286-$L286)/43560,IF($D286=\"RIDOT\",($V286-$L286)/43560*'Pollutant Loading Rates'!C$15,($V286-$L286)/43560*'Pollutant Loading Rates'!C$16))))","v":""},{"$f":"IF($A286=\"\",\"\",(VLOOKUP($R286,'Pollutant Loading Rates'!$A$5:$F$12,4,0)*$L286/43560)+IF($R286=\"Forest\",'Pollutant Loading Rates'!D$13*($V286-$L286)/43560,IF($R286=\"Agriculture\",'Pollutant Loading Rates'!D$14*($V286-$L286)/43560,IF($D286=\"RIDOT\",($V286-$L286)/43560*'Pollutant Loading Rates'!D$15,($V286-$L286)/43560*'Pollutant Loading Rates'!D$16))))","v":""},{"$f":"IF($A286=\"\",\"\",(VLOOKUP($R286,'Pollutant Loading Rates'!$A$5:$F$12,5,0)*$L286/43560)+IF($R286=\"Forest\",'Pollutant Loading Rates'!E$13*($V286-$L286)/43560,IF($R286=\"Agriculture\",'Pollutant Loading Rates'!E$14*($V286-$L286)/43560,IF($D286=\"RIDOT\",($V286-$L286)/43560*'Pollutant Loading Rates'!E$15,($V286-$L286)/43560*'Pollutant Loading Rates'!E$16))))","v":""},{"$f":"IF($A286=\"\",\"\",(VLOOKUP($R286,'Pollutant Loading Rates'!$A$5:$F$12,6,0)*$L286/43560)+IF($R286=\"Forest\",'Pollutant Loading Rates'!F$13*($V286-$L286)/43560,IF($R286=\"Agriculture\",'Pollutant Loading Rates'!F$14*($V286-$L286)/43560,IF($D286=\"RIDOT\",($V286-$L286)/43560*'Pollutant Loading Rates'!F$15,$V286-$L286)/43560*'Pollutant Loading Rates'!F$16)))","v":""}]
[null,null,null,null,null,null,null,null,null,null,null,null,null,null,null,null,null,null,null,null,null,null,null,{"$f":"IF($A287=\"\",\"\",(VLOOKUP($R287,'Pollutant Loading Rates'!$A$5:$F$12,3,0)*$L287/43560)+IF($R287=\"Forest\",'Pollutant Loading Rates'!C$13*($V287-$L287)/43560,IF($R287=\"Agriculture\",'Pollutant Loading Rates'!C$14*($V287-$L287)/43560,IF($D287=\"RIDOT\",($V287-$L287)/43560*'Pollutant Loading Rates'!C$15,($V287-$L287)/43560*'Pollutant Loading Rates'!C$16))))","v":""},{"$f":"IF($A287=\"\",\"\",(VLOOKUP($R287,'Pollutant Loading Rates'!$A$5:$F$12,4,0)*$L287/43560)+IF($R287=\"Forest\",'Pollutant Loading Rates'!D$13*($V287-$L287)/43560,IF($R287=\"Agriculture\",'Pollutant Loading Rates'!D$14*($V287-$L287)/43560,IF($D287=\"RIDOT\",($V287-$L287)/43560*'Pollutant Loading Rates'!D$15,($V287-$L287)/43560*'Pollutant Loading Rates'!D$16))))","v":""},{"$f":"IF($A287=\"\",\"\",(VLOOKUP($R287,'Pollutant Loading Rates'!$A$5:$F$12,5,0)*$L287/43560)+IF($R287=\"Forest\",'Pollutant Loading Rates'!E$13*($V287-$L287)/43560,IF($R287=\"Agriculture\",'Pollutant Loading Rates'!E$14*($V287-$L287)/43560,IF($D287=\"RIDOT\",($V287-$L287)/43560*'Pollutant Loading Rates'!E$15,($V287-$L287)/43560*'Pollutant Loading Rates'!E$16))))","v":""},{"$f":"IF($A287=\"\",\"\",(VLOOKUP($R287,'Pollutant Loading Rates'!$A$5:$F$12,6,0)*$L287/43560)+IF($R287=\"Forest\",'Pollutant Loading Rates'!F$13*($V287-$L287)/43560,IF($R287=\"Agriculture\",'Pollutant Loading Rates'!F$14*($V287-$L287)/43560,IF($D287=\"RIDOT\",($V287-$L287)/43560*'Pollutant Loading Rates'!F$15,$V287-$L287)/43560*'Pollutant Loading Rates'!F$16)))","v":""}]
[null,null,null,null,null,null,null,null,null,null,null,null,null,null,null,null,null,null,null,null,null,null,null,{"$f":"IF($A288=\"\",\"\",(VLOOKUP($R288,'Pollutant Loading Rates'!$A$5:$F$12,3,0)*$L288/43560)+IF($R288=\"Forest\",'Pollutant Loading Rates'!C$13*($V288-$L288)/43560,IF($R288=\"Agriculture\",'Pollutant Loading Rates'!C$14*($V288-$L288)/43560,IF($D288=\"RIDOT\",($V288-$L288)/43560*'Pollutant Loading Rates'!C$15,($V288-$L288)/43560*'Pollutant Loading Rates'!C$16))))","v":""},{"$f":"IF($A288=\"\",\"\",(VLOOKUP($R288,'Pollutant Loading Rates'!$A$5:$F$12,4,0)*$L288/43560)+IF($R288=\"Forest\",'Pollutant Loading Rates'!D$13*($V288-$L288)/43560,IF($R288=\"Agriculture\",'Pollutant Loading Rates'!D$14*($V288-$L288)/43560,IF($D288=\"RIDOT\",($V288-$L288)/43560*'Pollutant Loading Rates'!D$15,($V288-$L288)/43560*'Pollutant Loading Rates'!D$16))))","v":""},{"$f":"IF($A288=\"\",\"\",(VLOOKUP($R288,'Pollutant Loading Rates'!$A$5:$F$12,5,0)*$L288/43560)+IF($R288=\"Forest\",'Pollutant Loading Rates'!E$13*($V288-$L288)/43560,IF($R288=\"Agriculture\",'Pollutant Loading Rates'!E$14*($V288-$L288)/43560,IF($D288=\"RIDOT\",($V288-$L288)/43560*'Pollutant Loading Rates'!E$15,($V288-$L288)/43560*'Pollutant Loading Rates'!E$16))))","v":""},{"$f":"IF($A288=\"\",\"\",(VLOOKUP($R288,'Pollutant Loading Rates'!$A$5:$F$12,6,0)*$L288/43560)+IF($R288=\"Forest\",'Pollutant Loading Rates'!F$13*($V288-$L288)/43560,IF($R288=\"Agriculture\",'Pollutant Loading Rates'!F$14*($V288-$L288)/43560,IF($D288=\"RIDOT\",($V288-$L288)/43560*'Pollutant Loading Rates'!F$15,$V288-$L288)/43560*'Pollutant Loading Rates'!F$16)))","v":""}]
[null,null,null,null,null,null,null,null,null,null,null,null,null,null,null,null,null,null,null,null,null,null,null,{"$f":"IF($A289=\"\",\"\",(VLOOKUP($R289,'Pollutant Loading Rates'!$A$5:$F$12,3,0)*$L289/43560)+IF($R289=\"Forest\",'Pollutant Loading Rates'!C$13*($V289-$L289)/43560,IF($R289=\"Agriculture\",'Pollutant Loading Rates'!C$14*($V289-$L289)/43560,IF($D289=\"RIDOT\",($V289-$L289)/43560*'Pollutant Loading Rates'!C$15,($V289-$L289)/43560*'Pollutant Loading Rates'!C$16))))","v":""},{"$f":"IF($A289=\"\",\"\",(VLOOKUP($R289,'Pollutant Loading Rates'!$A$5:$F$12,4,0)*$L289/43560)+IF($R289=\"Forest\",'Pollutant Loading Rates'!D$13*($V289-$L289)/43560,IF($R289=\"Agriculture\",'Pollutant Loading Rates'!D$14*($V289-$L289)/43560,IF($D289=\"RIDOT\",($V289-$L289)/43560*'Pollutant Loading Rates'!D$15,($V289-$L289)/43560*'Pollutant Loading Rates'!D$16))))","v":""},{"$f":"IF($A289=\"\",\"\",(VLOOKUP($R289,'Pollutant Loading Rates'!$A$5:$F$12,5,0)*$L289/43560)+IF($R289=\"Forest\",'Pollutant Loading Rates'!E$13*($V289-$L289)/43560,IF($R289=\"Agriculture\",'Pollutant Loading Rates'!E$14*($V289-$L289)/43560,IF($D289=\"RIDOT\",($V289-$L289)/43560*'Pollutant Loading Rates'!E$15,($V289-$L289)/43560*'Pollutant Loading Rates'!E$16))))","v":""},{"$f":"IF($A289=\"\",\"\",(VLOOKUP($R289,'Pollutant Loading Rates'!$A$5:$F$12,6,0)*$L289/43560)+IF($R289=\"Forest\",'Pollutant Loading Rates'!F$13*($V289-$L289)/43560,IF($R289=\"Agriculture\",'Pollutant Loading Rates'!F$14*($V289-$L289)/43560,IF($D289=\"RIDOT\",($V289-$L289)/43560*'Pollutant Loading Rates'!F$15,$V289-$L289)/43560*'Pollutant Loading Rates'!F$16)))","v":""}]
[null,null,null,null,null,null,null,null,null,null,null,null,null,null,null,null,null,null,null,null,null,null,null,{"$f":"IF($A290=\"\",\"\",(VLOOKUP($R290,'Pollutant Loading Rates'!$A$5:$F$12,3,0)*$L290/43560)+IF($R290=\"Forest\",'Pollutant Loading Rates'!C$13*($V290-$L290)/43560,IF($R290=\"Agriculture\",'Pollutant Loading Rates'!C$14*($V290-$L290)/43560,IF($D290=\"RIDOT\",($V290-$L290)/43560*'Pollutant Loading Rates'!C$15,($V290-$L290)/43560*'Pollutant Loading Rates'!C$16))))","v":""},{"$f":"IF($A290=\"\",\"\",(VLOOKUP($R290,'Pollutant Loading Rates'!$A$5:$F$12,4,0)*$L290/43560)+IF($R290=\"Forest\",'Pollutant Loading Rates'!D$13*($V290-$L290)/43560,IF($R290=\"Agriculture\",'Pollutant Loading Rates'!D$14*($V290-$L290)/43560,IF($D290=\"RIDOT\",($V290-$L290)/43560*'Pollutant Loading Rates'!D$15,($V290-$L290)/43560*'Pollutant Loading Rates'!D$16))))","v":""},{"$f":"IF($A290=\"\",\"\",(VLOOKUP($R290,'Pollutant Loading Rates'!$A$5:$F$12,5,0)*$L290/43560)+IF($R290=\"Forest\",'Pollutant Loading Rates'!E$13*($V290-$L290)/43560,IF($R290=\"Agriculture\",'Pollutant Loading Rates'!E$14*($V290-$L290)/43560,IF($D290=\"RIDOT\",($V290-$L290)/43560*'Pollutant Loading Rates'!E$15,($V290-$L290)/43560*'Pollutant Loading Rates'!E$16))))","v":""},{"$f":"IF($A290=\"\",\"\",(VLOOKUP($R290,'Pollutant Loading Rates'!$A$5:$F$12,6,0)*$L290/43560)+IF($R290=\"Forest\",'Pollutant Loading Rates'!F$13*($V290-$L290)/43560,IF($R290=\"Agriculture\",'Pollutant Loading Rates'!F$14*($V290-$L290)/43560,IF($D290=\"RIDOT\",($V290-$L290)/43560*'Pollutant Loading Rates'!F$15,$V290-$L290)/43560*'Pollutant Loading Rates'!F$16)))","v":""}]
[null,null,null,null,null,null,null,null,null,null,null,null,null,null,null,null,null,null,null,null,null,null,null,{"$f":"IF($A291=\"\",\"\",(VLOOKUP($R291,'Pollutant Loading Rates'!$A$5:$F$12,3,0)*$L291/43560)+IF($R291=\"Forest\",'Pollutant Loading Rates'!C$13*($V291-$L291)/43560,IF($R291=\"Agriculture\",'Pollutant Loading Rates'!C$14*($V291-$L291)/43560,IF($D291=\"RIDOT\",($V291-$L291)/43560*'Pollutant Loading Rates'!C$15,($V291-$L291)/43560*'Pollutant Loading Rates'!C$16))))","v":""},{"$f":"IF($A291=\"\",\"\",(VLOOKUP($R291,'Pollutant Loading Rates'!$A$5:$F$12,4,0)*$L291/43560)+IF($R291=\"Forest\",'Pollutant Loading Rates'!D$13*($V291-$L291)/43560,IF($R291=\"Agriculture\",'Pollutant Loading Rates'!D$14*($V291-$L291)/43560,IF($D291=\"RIDOT\",($V291-$L291)/43560*'Pollutant Loading Rates'!D$15,($V291-$L291)/43560*'Pollutant Loading Rates'!D$16))))","v":""},{"$f":"IF($A291=\"\",\"\",(VLOOKUP($R291,'Pollutant Loading Rates'!$A$5:$F$12,5,0)*$L291/43560)+IF($R291=\"Forest\",'Pollutant Loading Rates'!E$13*($V291-$L291)/43560,IF($R291=\"Agriculture\",'Pollutant Loading Rates'!E$14*($V291-$L291)/43560,IF($D291=\"RIDOT\",($V291-$L291)/43560*'Pollutant Loading Rates'!E$15,($V291-$L291)/43560*'Pollutant Loading Rates'!E$16))))","v":""},{"$f":"IF($A291=\"\",\"\",(VLOOKUP($R291,'Pollutant Loading Rates'!$A$5:$F$12,6,0)*$L291/43560)+IF($R291=\"Forest\",'Pollutant Loading Rates'!F$13*($V291-$L291)/43560,IF($R291=\"Agriculture\",'Pollutant Loading Rates'!F$14*($V291-$L291)/43560,IF($D291=\"RIDOT\",($V291-$L291)/43560*'Pollutant Loading Rates'!F$15,$V291-$L291)/43560*'Pollutant Loading Rates'!F$16)))","v":""}]
[null,null,null,null,null,null,null,null,null,null,null,null,null,null,null,null,null,null,null,null,null,null,null,{"$f":"IF($A292=\"\",\"\",(VLOOKUP($R292,'Pollutant Loading Rates'!$A$5:$F$12,3,0)*$L292/43560)+IF($R292=\"Forest\",'Pollutant Loading Rates'!C$13*($V292-$L292)/43560,IF($R292=\"Agriculture\",'Pollutant Loading Rates'!C$14*($V292-$L292)/43560,IF($D292=\"RIDOT\",($V292-$L292)/43560*'Pollutant Loading Rates'!C$15,($V292-$L292)/43560*'Pollutant Loading Rates'!C$16))))","v":""},{"$f":"IF($A292=\"\",\"\",(VLOOKUP($R292,'Pollutant Loading Rates'!$A$5:$F$12,4,0)*$L292/43560)+IF($R292=\"Forest\",'Pollutant Loading Rates'!D$13*($V292-$L292)/43560,IF($R292=\"Agriculture\",'Pollutant Loading Rates'!D$14*($V292-$L292)/43560,IF($D292=\"RIDOT\",($V292-$L292)/43560*'Pollutant Loading Rates'!D$15,($V292-$L292)/43560*'Pollutant Loading Rates'!D$16))))","v":""},{"$f":"IF($A292=\"\",\"\",(VLOOKUP($R292,'Pollutant Loading Rates'!$A$5:$F$12,5,0)*$L292/43560)+IF($R292=\"Forest\",'Pollutant Loading Rates'!E$13*($V292-$L292)/43560,IF($R292=\"Agriculture\",'Pollutant Loading Rates'!E$14*($V292-$L292)/43560,IF($D292=\"RIDOT\",($V292-$L292)/43560*'Pollutant Loading Rates'!E$15,($V292-$L292)/43560*'Pollutant Loading Rates'!E$16))))","v":""},{"$f":"IF($A292=\"\",\"\",(VLOOKUP($R292,'Pollutant Loading Rates'!$A$5:$F$12,6,0)*$L292/43560)+IF($R292=\"Forest\",'Pollutant Loading Rates'!F$13*($V292-$L292)/43560,IF($R292=\"Agriculture\",'Pollutant Loading Rates'!F$14*($V292-$L292)/43560,IF($D292=\"RIDOT\",($V292-$L292)/43560*'Pollutant Loading Rates'!F$15,$V292-$L292)/43560*'Pollutant Loading Rates'!F$16)))","v":""}]
[null,null,null,null,null,null,null,null,null,null,null,null,null,null,null,null,null,null,null,null,null,null,null,{"$f":"IF($A293=\"\",\"\",(VLOOKUP($R293,'Pollutant Loading Rates'!$A$5:$F$12,3,0)*$L293/43560)+IF($R293=\"Forest\",'Pollutant Loading Rates'!C$13*($V293-$L293)/43560,IF($R293=\"Agriculture\",'Pollutant Loading Rates'!C$14*($V293-$L293)/43560,IF($D293=\"RIDOT\",($V293-$L293)/43560*'Pollutant Loading Rates'!C$15,($V293-$L293)/43560*'Pollutant Loading Rates'!C$16))))","v":""},{"$f":"IF($A293=\"\",\"\",(VLOOKUP($R293,'Pollutant Loading Rates'!$A$5:$F$12,4,0)*$L293/43560)+IF($R293=\"Forest\",'Pollutant Loading Rates'!D$13*($V293-$L293)/43560,IF($R293=\"Agriculture\",'Pollutant Loading Rates'!D$14*($V293-$L293)/43560,IF($D293=\"RIDOT\",($V293-$L293)/43560*'Pollutant Loading Rates'!D$15,($V293-$L293)/43560*'Pollutant Loading Rates'!D$16))))","v":""},{"$f":"IF($A293=\"\",\"\",(VLOOKUP($R293,'Pollutant Loading Rates'!$A$5:$F$12,5,0)*$L293/43560)+IF($R293=\"Forest\",'Pollutant Loading Rates'!E$13*($V293-$L293)/43560,IF($R293=\"Agriculture\",'Pollutant Loading Rates'!E$14*($V293-$L293)/43560,IF($D293=\"RIDOT\",($V293-$L293)/43560*'Pollutant Loading Rates'!E$15,($V293-$L293)/43560*'Pollutant Loading Rates'!E$16))))","v":""},{"$f":"IF($A293=\"\",\"\",(VLOOKUP($R293,'Pollutant Loading Rates'!$A$5:$F$12,6,0)*$L293/43560)+IF($R293=\"Forest\",'Pollutant Loading Rates'!F$13*($V293-$L293)/43560,IF($R293=\"Agriculture\",'Pollutant Loading Rates'!F$14*($V293-$L293)/43560,IF($D293=\"RIDOT\",($V293-$L293)/43560*'Pollutant Loading Rates'!F$15,$V293-$L293)/43560*'Pollutant Loading Rates'!F$16)))","v":""}]
[null,null,null,null,null,null,null,null,null,null,null,null,null,null,null,null,null,null,null,null,null,null,null,{"$f":"IF($A294=\"\",\"\",(VLOOKUP($R294,'Pollutant Loading Rates'!$A$5:$F$12,3,0)*$L294/43560)+IF($R294=\"Forest\",'Pollutant Loading Rates'!C$13*($V294-$L294)/43560,IF($R294=\"Agriculture\",'Pollutant Loading Rates'!C$14*($V294-$L294)/43560,IF($D294=\"RIDOT\",($V294-$L294)/43560*'Pollutant Loading Rates'!C$15,($V294-$L294)/43560*'Pollutant Loading Rates'!C$16))))","v":""},{"$f":"IF($A294=\"\",\"\",(VLOOKUP($R294,'Pollutant Loading Rates'!$A$5:$F$12,4,0)*$L294/43560)+IF($R294=\"Forest\",'Pollutant Loading Rates'!D$13*($V294-$L294)/43560,IF($R294=\"Agriculture\",'Pollutant Loading Rates'!D$14*($V294-$L294)/43560,IF($D294=\"RIDOT\",($V294-$L294)/43560*'Pollutant Loading Rates'!D$15,($V294-$L294)/43560*'Pollutant Loading Rates'!D$16))))","v":""},{"$f":"IF($A294=\"\",\"\",(VLOOKUP($R294,'Pollutant Loading Rates'!$A$5:$F$12,5,0)*$L294/43560)+IF($R294=\"Forest\",'Pollutant Loading Rates'!E$13*($V294-$L294)/43560,IF($R294=\"Agriculture\",'Pollutant Loading Rates'!E$14*($V294-$L294)/43560,IF($D294=\"RIDOT\",($V294-$L294)/43560*'Pollutant Loading Rates'!E$15,($V294-$L294)/43560*'Pollutant Loading Rates'!E$16))))","v":""},{"$f":"IF($A294=\"\",\"\",(VLOOKUP($R294,'Pollutant Loading Rates'!$A$5:$F$12,6,0)*$L294/43560)+IF($R294=\"Forest\",'Pollutant Loading Rates'!F$13*($V294-$L294)/43560,IF($R294=\"Agriculture\",'Pollutant Loading Rates'!F$14*($V294-$L294)/43560,IF($D294=\"RIDOT\",($V294-$L294)/43560*'Pollutant Loading Rates'!F$15,$V294-$L294)/43560*'Pollutant Loading Rates'!F$16)))","v":""}]
[null,null,null,null,null,null,null,null,null,null,null,null,null,null,null,null,null,null,null,null,null,null,null,{"$f":"IF($A295=\"\",\"\",(VLOOKUP($R295,'Pollutant Loading Rates'!$A$5:$F$12,3,0)*$L295/43560)+IF($R295=\"Forest\",'Pollutant Loading Rates'!C$13*($V295-$L295)/43560,IF($R295=\"Agriculture\",'Pollutant Loading Rates'!C$14*($V295-$L295)/43560,IF($D295=\"RIDOT\",($V295-$L295)/43560*'Pollutant Loading Rates'!C$15,($V295-$L295)/43560*'Pollutant Loading Rates'!C$16))))","v":""},{"$f":"IF($A295=\"\",\"\",(VLOOKUP($R295,'Pollutant Loading Rates'!$A$5:$F$12,4,0)*$L295/43560)+IF($R295=\"Forest\",'Pollutant Loading Rates'!D$13*($V295-$L295)/43560,IF($R295=\"Agriculture\",'Pollutant Loading Rates'!D$14*($V295-$L295)/43560,IF($D295=\"RIDOT\",($V295-$L295)/43560*'Pollutant Loading Rates'!D$15,($V295-$L295)/43560*'Pollutant Loading Rates'!D$16))))","v":""},{"$f":"IF($A295=\"\",\"\",(VLOOKUP($R295,'Pollutant Loading Rates'!$A$5:$F$12,5,0)*$L295/43560)+IF($R295=\"Forest\",'Pollutant Loading Rates'!E$13*($V295-$L295)/43560,IF($R295=\"Agriculture\",'Pollutant Loading Rates'!E$14*($V295-$L295)/43560,IF($D295=\"RIDOT\",($V295-$L295)/43560*'Pollutant Loading Rates'!E$15,($V295-$L295)/43560*'Pollutant Loading Rates'!E$16))))","v":""},{"$f":"IF($A295=\"\",\"\",(VLOOKUP($R295,'Pollutant Loading Rates'!$A$5:$F$12,6,0)*$L295/43560)+IF($R295=\"Forest\",'Pollutant Loading Rates'!F$13*($V295-$L295)/43560,IF($R295=\"Agriculture\",'Pollutant Loading Rates'!F$14*($V295-$L295)/43560,IF($D295=\"RIDOT\",($V295-$L295)/43560*'Pollutant Loading Rates'!F$15,$V295-$L295)/43560*'Pollutant Loading Rates'!F$16)))","v":""}]
[null,null,null,null,null,null,null,null,null,null,null,null,null,null,null,null,null,null,null,null,null,null,null,{"$f":"IF($A296=\"\",\"\",(VLOOKUP($R296,'Pollutant Loading Rates'!$A$5:$F$12,3,0)*$L296/43560)+IF($R296=\"Forest\",'Pollutant Loading Rates'!C$13*($V296-$L296)/43560,IF($R296=\"Agriculture\",'Pollutant Loading Rates'!C$14*($V296-$L296)/43560,IF($D296=\"RIDOT\",($V296-$L296)/43560*'Pollutant Loading Rates'!C$15,($V296-$L296)/43560*'Pollutant Loading Rates'!C$16))))","v":""},{"$f":"IF($A296=\"\",\"\",(VLOOKUP($R296,'Pollutant Loading Rates'!$A$5:$F$12,4,0)*$L296/43560)+IF($R296=\"Forest\",'Pollutant Loading Rates'!D$13*($V296-$L296)/43560,IF($R296=\"Agriculture\",'Pollutant Loading Rates'!D$14*($V296-$L296)/43560,IF($D296=\"RIDOT\",($V296-$L296)/43560*'Pollutant Loading Rates'!D$15,($V296-$L296)/43560*'Pollutant Loading Rates'!D$16))))","v":""},{"$f":"IF($A296=\"\",\"\",(VLOOKUP($R296,'Pollutant Loading Rates'!$A$5:$F$12,5,0)*$L296/43560)+IF($R296=\"Forest\",'Pollutant Loading Rates'!E$13*($V296-$L296)/43560,IF($R296=\"Agriculture\",'Pollutant Loading Rates'!E$14*($V296-$L296)/43560,IF($D296=\"RIDOT\",($V296-$L296)/43560*'Pollutant Loading Rates'!E$15,($V296-$L296)/43560*'Pollutant Loading Rates'!E$16))))","v":""},{"$f":"IF($A296=\"\",\"\",(VLOOKUP($R296,'Pollutant Loading Rates'!$A$5:$F$12,6,0)*$L296/43560)+IF($R296=\"Forest\",'Pollutant Loading Rates'!F$13*($V296-$L296)/43560,IF($R296=\"Agriculture\",'Pollutant Loading Rates'!F$14*($V296-$L296)/43560,IF($D296=\"RIDOT\",($V296-$L296)/43560*'Pollutant Loading Rates'!F$15,$V296-$L296)/43560*'Pollutant Loading Rates'!F$16)))","v":""}]
[null,null,null,null,null,null,null,null,null,null,null,null,null,null,null,null,null,null,null,null,null,null,null,{"$f":"IF($A297=\"\",\"\",(VLOOKUP($R297,'Pollutant Loading Rates'!$A$5:$F$12,3,0)*$L297/43560)+IF($R297=\"Forest\",'Pollutant Loading Rates'!C$13*($V297-$L297)/43560,IF($R297=\"Agriculture\",'Pollutant Loading Rates'!C$14*($V297-$L297)/43560,IF($D297=\"RIDOT\",($V297-$L297)/43560*'Pollutant Loading Rates'!C$15,($V297-$L297)/43560*'Pollutant Loading Rates'!C$16))))","v":""},{"$f":"IF($A297=\"\",\"\",(VLOOKUP($R297,'Pollutant Loading Rates'!$A$5:$F$12,4,0)*$L297/43560)+IF($R297=\"Forest\",'Pollutant Loading Rates'!D$13*($V297-$L297)/43560,IF($R297=\"Agriculture\",'Pollutant Loading Rates'!D$14*($V297-$L297)/43560,IF($D297=\"RIDOT\",($V297-$L297)/43560*'Pollutant Loading Rates'!D$15,($V297-$L297)/43560*'Pollutant Loading Rates'!D$16))))","v":""},{"$f":"IF($A297=\"\",\"\",(VLOOKUP($R297,'Pollutant Loading Rates'!$A$5:$F$12,5,0)*$L297/43560)+IF($R297=\"Forest\",'Pollutant Loading Rates'!E$13*($V297-$L297)/43560,IF($R297=\"Agriculture\",'Pollutant Loading Rates'!E$14*($V297-$L297)/43560,IF($D297=\"RIDOT\",($V297-$L297)/43560*'Pollutant Loading Rates'!E$15,($V297-$L297)/43560*'Pollutant Loading Rates'!E$16))))","v":""},{"$f":"IF($A297=\"\",\"\",(VLOOKUP($R297,'Pollutant Loading Rates'!$A$5:$F$12,6,0)*$L297/43560)+IF($R297=\"Forest\",'Pollutant Loading Rates'!F$13*($V297-$L297)/43560,IF($R297=\"Agriculture\",'Pollutant Loading Rates'!F$14*($V297-$L297)/43560,IF($D297=\"RIDOT\",($V297-$L297)/43560*'Pollutant Loading Rates'!F$15,$V297-$L297)/43560*'Pollutant Loading Rates'!F$16)))","v":""}]
[null,null,null,null,null,null,null,null,null,null,null,null,null,null,null,null,null,null,null,null,null,null,null,{"$f":"IF($A298=\"\",\"\",(VLOOKUP($R298,'Pollutant Loading Rates'!$A$5:$F$12,3,0)*$L298/43560)+IF($R298=\"Forest\",'Pollutant Loading Rates'!C$13*($V298-$L298)/43560,IF($R298=\"Agriculture\",'Pollutant Loading Rates'!C$14*($V298-$L298)/43560,IF($D298=\"RIDOT\",($V298-$L298)/43560*'Pollutant Loading Rates'!C$15,($V298-$L298)/43560*'Pollutant Loading Rates'!C$16))))","v":""},{"$f":"IF($A298=\"\",\"\",(VLOOKUP($R298,'Pollutant Loading Rates'!$A$5:$F$12,4,0)*$L298/43560)+IF($R298=\"Forest\",'Pollutant Loading Rates'!D$13*($V298-$L298)/43560,IF($R298=\"Agriculture\",'Pollutant Loading Rates'!D$14*($V298-$L298)/43560,IF($D298=\"RIDOT\",($V298-$L298)/43560*'Pollutant Loading Rates'!D$15,($V298-$L298)/43560*'Pollutant Loading Rates'!D$16))))","v":""},{"$f":"IF($A298=\"\",\"\",(VLOOKUP($R298,'Pollutant Loading Rates'!$A$5:$F$12,5,0)*$L298/43560)+IF($R298=\"Forest\",'Pollutant Loading Rates'!E$13*($V298-$L298)/43560,IF($R298=\"Agriculture\",'Pollutant Loading Rates'!E$14*($V298-$L298)/43560,IF($D298=\"RIDOT\",($V298-$L298)/43560*'Pollutant Loading Rates'!E$15,($V298-$L298)/43560*'Pollutant Loading Rates'!E$16))))","v":""},{"$f":"IF($A298=\"\",\"\",(VLOOKUP($R298,'Pollutant Loading Rates'!$A$5:$F$12,6,0)*$L298/43560)+IF($R298=\"Forest\",'Pollutant Loading Rates'!F$13*($V298-$L298)/43560,IF($R298=\"Agriculture\",'Pollutant Loading Rates'!F$14*($V298-$L298)/43560,IF($D298=\"RIDOT\",($V298-$L298)/43560*'Pollutant Loading Rates'!F$15,$V298-$L298)/43560*'Pollutant Loading Rates'!F$16)))","v":""}]
[null,null,null,null,null,null,null,null,null,null,null,null,null,null,null,null,null,null,null,null,null,null,null,{"$f":"IF($A299=\"\",\"\",(VLOOKUP($R299,'Pollutant Loading Rates'!$A$5:$F$12,3,0)*$L299/43560)+IF($R299=\"Forest\",'Pollutant Loading Rates'!C$13*($V299-$L299)/43560,IF($R299=\"Agriculture\",'Pollutant Loading Rates'!C$14*($V299-$L299)/43560,IF($D299=\"RIDOT\",($V299-$L299)/43560*'Pollutant Loading Rates'!C$15,($V299-$L299)/43560*'Pollutant Loading Rates'!C$16))))","v":""},{"$f":"IF($A299=\"\",\"\",(VLOOKUP($R299,'Pollutant Loading Rates'!$A$5:$F$12,4,0)*$L299/43560)+IF($R299=\"Forest\",'Pollutant Loading Rates'!D$13*($V299-$L299)/43560,IF($R299=\"Agriculture\",'Pollutant Loading Rates'!D$14*($V299-$L299)/43560,IF($D299=\"RIDOT\",($V299-$L299)/43560*'Pollutant Loading Rates'!D$15,($V299-$L299)/43560*'Pollutant Loading Rates'!D$16))))","v":""},{"$f":"IF($A299=\"\",\"\",(VLOOKUP($R299,'Pollutant Loading Rates'!$A$5:$F$12,5,0)*$L299/43560)+IF($R299=\"Forest\",'Pollutant Loading Rates'!E$13*($V299-$L299)/43560,IF($R299=\"Agriculture\",'Pollutant Loading Rates'!E$14*($V299-$L299)/43560,IF($D299=\"RIDOT\",($V299-$L299)/43560*'Pollutant Loading Rates'!E$15,($V299-$L299)/43560*'Pollutant Loading Rates'!E$16))))","v":""},{"$f":"IF($A299=\"\",\"\",(VLOOKUP($R299,'Pollutant Loading Rates'!$A$5:$F$12,6,0)*$L299/43560)+IF($R299=\"Forest\",'Pollutant Loading Rates'!F$13*($V299-$L299)/43560,IF($R299=\"Agriculture\",'Pollutant Loading Rates'!F$14*($V299-$L299)/43560,IF($D299=\"RIDOT\",($V299-$L299)/43560*'Pollutant Loading Rates'!F$15,$V299-$L299)/43560*'Pollutant Loading Rates'!F$16)))","v":""}]
[null,null,null,null,null,null,null,null,null,null,null,null,null,null,null,null,null,null,null,null,null,null,null,{"$f":"IF($A300=\"\",\"\",(VLOOKUP($R300,'Pollutant Loading Rates'!$A$5:$F$12,3,0)*$L300/43560)+IF($R300=\"Forest\",'Pollutant Loading Rates'!C$13*($V300-$L300)/43560,IF($R300=\"Agriculture\",'Pollutant Loading Rates'!C$14*($V300-$L300)/43560,IF($D300=\"RIDOT\",($V300-$L300)/43560*'Pollutant Loading Rates'!C$15,($V300-$L300)/43560*'Pollutant Loading Rates'!C$16))))","v":""},{"$f":"IF($A300=\"\",\"\",(VLOOKUP($R300,'Pollutant Loading Rates'!$A$5:$F$12,4,0)*$L300/43560)+IF($R300=\"Forest\",'Pollutant Loading Rates'!D$13*($V300-$L300)/43560,IF($R300=\"Agriculture\",'Pollutant Loading Rates'!D$14*($V300-$L300)/43560,IF($D300=\"RIDOT\",($V300-$L300)/43560*'Pollutant Loading Rates'!D$15,($V300-$L300)/43560*'Pollutant Loading Rates'!D$16))))","v":""},{"$f":"IF($A300=\"\",\"\",(VLOOKUP($R300,'Pollutant Loading Rates'!$A$5:$F$12,5,0)*$L300/43560)+IF($R300=\"Forest\",'Pollutant Loading Rates'!E$13*($V300-$L300)/43560,IF($R300=\"Agriculture\",'Pollutant Loading Rates'!E$14*($V300-$L300)/43560,IF($D300=\"RIDOT\",($V300-$L300)/43560*'Pollutant Loading Rates'!E$15,($V300-$L300)/43560*'Pollutant Loading Rates'!E$16))))","v":""},{"$f":"IF($A300=\"\",\"\",(VLOOKUP($R300,'Pollutant Loading Rates'!$A$5:$F$12,6,0)*$L300/43560)+IF($R300=\"Forest\",'Pollutant Loading Rates'!F$13*($V300-$L300)/43560,IF($R300=\"Agriculture\",'Pollutant Loading Rates'!F$14*($V300-$L300)/43560,IF($D300=\"RIDOT\",($V300-$L300)/43560*'Pollutant Loading Rates'!F$15,$V300-$L300)/43560*'Pollutant Loading Rates'!F$16)))","v":""}]

{"sheet":"STU","index":3,"n_rows":4,"n_cols":19,"rows_kept":4,"cut":false,"hidden":false,"merged":[]}
["Instructions: Paste in data from GIS layer STU into this sheet for all STUs."]
["Note to user: If any inputs are changed or updated in the tool, the same updates must be made in GIS prior to final deliverable to RIDOT."]
[]
["STU Name","Structure ID","Waterbody ID","Outfall ID","Current STU Status*","STU Category*","Current STU Type*","Unit Type","Location","TIP Project ID","Contract Number","Installed Year","Consultant","STU Owner*","Partnership*","Partnership Type*","SCP Treatment Eligibility*","SCP Priority*","Notes"]

{"sheet":"RIDOT STU History (inputs)","index":4,"n_rows":4,"n_cols":11,"rows_kept":4,"cut":false,"hidden":false,"merged":[[0,0,0,24],[1,0,1,24]]}
["Instructions: Paste in data from GIS related table RIDOT STU History into this sheet for all STUs.  \nNote: Only the first 11 fields of RIDOT STU History are included on this tab (input fields).  The remaining fields in RIDOT STU History that record outputs of the SCP calculator are populated on a separate tab. "]
["Note to user: If any inputs are changed or updated in the tool, the same updates must be made in GIS prior to final deliverable to RIDOT."]
[]
["STU Name","Legacy ID","Structure ID","TIP ID","Waterbody ID","STU Progress*","Progress Date","Consultant","STU Type*","STU Soil Type*","STU Storage Volume (cuft)"]

{"sheet":"Reduction Targets","index":5,"n_rows":24,"n_cols":23,"rows_kept":24,"cut":false,"hidden":false,"merged":[[4,0,4,4]]}
["This sheet calculates RIDOT pollutant reduction targets using the TMDL Method and RIDOT impervious cover reduction targets using the IC Method."]
[]
["Subwatershed ID:","Total Subwatershed Area (ac)","Total Subwatershed IC Area (ac)","Total RIDOT Discharging Area (ac)1","Total RIDOT Discharging IC Area (ac)"]
[null,null,null,{"$f":"(SUMIFS(Catchment!V5:V300,Catchment!D5:D300,\"RIDOT\",Catchment!I5:I300,\"Potential\")+SUMIFS(Catchment!V5:V300,Catchment!D5:D300,\"RIDOT\",Catchment!I5:I300,\"TIP - Potential\")+SUMIFS(Catchment!V5:V300,Catchment!D5:D300,\"RIDOT\",Catchment!I5:I300,\"Existing\")+SUMIFS(Catchment!V5:V300,Catchment!D5:D300,\"RIDOT\",Catchment!I5:I300,\"TIP - Existing\")+SUMIFS(Catchment!V5:V300,Catchment!D5:D300,\"RIDOT\",Catchment!I5:I300,\"Limited_ROW\")+SUMIFS(Catchment!V5:V300,Catchment!D5:D300,\"RIDOT\",Catchment!I5:I300,\"TIP - LimitedROW\")+SUMIFS(Catchment!V5:V300,Catchment!D5:D300,\"RIDOT\",Catchment!I5:I300,\"TIP - Not Feasible\")+SUMIFS(Catchment!V5:V300,Catchment!D5:D300,\"RIDOT\",Catchment!I5:I300,\"Not Feasible\")+SUMIFS(Catchment!V5:V300,Catchment!D5:D300,\"RIDOT\",Catchment!I5:I300,\"TIP\"))/43560","v":0},{"$f":"(SUMIFS(Catchment!L5:L300,Catchment!D5:D300,\"RIDOT\",Catchment!I5:I300,\"Potential\")+SUMIFS(Catchment!L5:L300,Catchment!D5:D300,\"RIDOT\",Catchment!I5:I300,\"TIP - Potential\")+SUMIFS(Catchment!L5:L300,Catchment!D5:D300,\"RIDOT\",Catchment!I5:I300,\"Existing\")+SUMIFS(Catchment!L5:L300,Catchment!D5:D300,\"RIDOT\",Catchment!I5:I300,\"TIP - Existing\")+SUMIFS(Catchment!L5:L300,Catchment!D5:D300,\"RIDOT\",Catchment!I5:I300,\"Limited_ROW\")+SUMIFS(Catchment!L5:L300,Catchment!D5:D300,\"RIDOT\",Catchment!I5:I300,\"TIP - LimitedROW\")+SUMIFS(Catchment!L5:L300,Catchment!D5:D300,\"RIDOT\",Catchment!I5:I300,\"TIP - Not Feasible\")+SUMIFS(Catchment!L5:L300,Catchment!D5:D300,\"RIDOT\",Catchment!I5:I300,\"Not Feasible\")+SUMIFS(Catchment!L5:L300,Catchment!D5:D300,\"RIDOT\",Catchment!I5:I300,\"TIP\"))/43560","v":0}]
["1 RIDOT contributing total area to waterbody is equal to total RIDOT area minus non-discharge areas (does not include non-discharge areas) and areas discharging to a CSO.",null,null,null,null,null,null,null,null,null,null,null,null,null,null,null,null,null,null,null,null,null," "]
[]
["IC Standard"]
["Total Subwatershed IC Area (%)","Subwatershed Target IC (10%) (ac)","Subwatershed IC Reduction Target (%):","RIDOT IC Reduction Target (ac)"]
[{"$f":"IF(C4=\"\",\"\",ROUND((C4/B4)*100,0)&\"%\")","v":""},{"$f":"IF(B4=\"\",\"\",B4*0.1)","v":""},{"$f":"IF(C4=\"\",\"\",IF((A9-0.1)*100/A9>0,ROUND((A9-0.1)*100/A9,0),0))","v":""},{"$f":"IF(C9=\"\",\"\",ROUND(E4*C9/100,1))","v":""}]
[]
["TMDL Method",null,null,null,null,null,null,null,null,null,null,null,null,null,null,null,null,null,null,null,null,null," "]
["Pollutant of Concern2","Required TMDL Pollutant Reduction Target (%)3","Current RIDOT Load \n(lb/yr)","RIDOT Pollutant Reduction Target (lb/yr)","Equivalent IC Reduction Target\n (ac)","Pollutant of Concern2",null,null,null,null,null,null,null,null,null,null,null,null,null,null," "]
["Aluminum",null,{"$f":"IF(B13=\"\",\"\",$E$4*'Pollutant Loading Rates'!$F$9)","v":""},{"$f":"IF(B13=\"\",\"\",ROUND(C13*B13/100,2))","v":""},{"$f":"IF(D13=\"\",\"\",D13/'Pollutant Loading Rates'!$F$9)","v":""},"Aluminum",null,null,null,null,null,null,null,null,null,null,null,null,null,null," "]
["Cadmium",null,{"$f":"IF(B14=\"\",\"\",$E$4*'Pollutant Loading Rates'!$F$9)","v":""},{"$f":"IF(B14=\"\",\"\",ROUND(C14*B14/100,2))","v":""},{"$f":"IF(D14=\"\",\"\",D14/'Pollutant Loading Rates'!$F$9)","v":""},"Cadmium",null,null,null,null,null,null,null,null,null,null,null,null,null,null," "]
["Copper",null,{"$f":"IF(B15=\"\",\"\",$E$4*'Pollutant Loading Rates'!$F$9)","v":""},{"$f":"IF(B15=\"\",\"\",ROUND(C15*B15/100,2))","v":""},{"$f":"IF(D15=\"\",\"\",D15/'Pollutant Loading Rates'!$F$9)","v":""},"Copper",null,null,null,null,null,null,null,null,null,null,null,null,null,null," "]
["Lead",null,{"$f":"IF(B16=\"\",\"\",$E$4*'Pollutant Loading Rates'!$F$9)","v":""},{"$f":"IF(B16=\"\",\"\",ROUND(C16*B16/100,2))","v":""},{"$f":"IF(D16=\"\",\"\",D16/'Pollutant Loading Rates'!$F$9)","v":""},"Lead"]
["Zinc",null,{"$f":"IF(B17=\"\",\"\",$E$4*'Pollutant Loading Rates'!$F$9)","v":""},{"$f":"IF(B17=\"\",\"\",ROUND(C17*B17/100,2))","v":""},{"$f":"IF(D17=\"\",\"\",D17/'Pollutant Loading Rates'!$F$9)","v":""},"Zinc"]
["Phosphorus",null,{"$f":"IF(B18=\"\",\"\",'Pollutant Loading Rates'!$C$9*E4)","v":""},{"$f":"IF(B18=\"\",\"\",ROUND(C18*B18/100,2))","v":""},{"$f":"IF(D18=\"\",\"\",D18/'Pollutant Loading Rates'!$C$9)","v":""},"Phosphorus"]
["Nitrogen",null,{"$f":"IF(B19=\"\",\"\",$E$4*'Pollutant Loading Rates'!$E$9)","v":""},{"$f":"IF(B19=\"\",\"\",ROUND(C19*B19/100,2))","v":""},{"$f":"IF(D19=\"\",\"\",D19/'Pollutant Loading Rates'!$E$9)","v":""},"Nitrogen"]
["2 Zinc used as a surrogate for all metals per consent decree. "]
["3 Pollutant load reduction (%) per TMDL."]
[]
["Most Stringent Method","Most Stringent Target"]
[{"$f":"IF(D9=\"\",\"\",IF(MAX(E13:E19,D9)=D9,\"IC Standard\",\"TMDL Method: \" &VLOOKUP(MAX(E13:E19),E13:F19,2)))","v":""},{"$f":"IF(D9=\"\",\"\",IF(A24=\"IC Standard\",D9 & \" ac\",IF(A24=\"TMDL Method: Phosphorus\",D18 & \" lb/yr\",IF(A24=\"TMDL Method: Nitrogen\",D19 & \" lb/yr\",MAX(D13:D17) & \" lb/yr\"))))","v":""}]

{"sheet":"STU Storage Volume","index":6,"n_rows":300,"n_cols":13,"rows_kept":300,"cut":false,"hidden":false,"merged":[[4,3,4,6],[4,7,4,11],[4,0,4,2],[1,0,1,12],[2,0,2,12],[4,12,5,12]]}
["This sheet provides supporting documentation of STU Storage Volume assumptions and calculations.  Note: A storage volume is not required to calculate treatment credit for \"TIP\" or \"Limited ROW\" STUs."]
["Instructions:  Fill in yellow cells to provide inputs used to determine an individual STU's storage volume for SCP planning purposes (see STU Definitions tab for storage volume definitions by STU Type). Record additional notes as needed. "]
["Note to user: The STU Storage Volume calculated in this sheet must match the STU Storage volume recorded in GIS.  This calculator should not be submitted unless all cells in Column M are green. \n                            If any inputs are changed or updated in the tool which affect the Storage Volume calculation, the same updates must be made in GIS prior to final deliverable to RIDOT."]
[]
["Fields from GIS",null,null,"Ponding (Surface) Volume",null,null,null,"Void (Subsurface) Volume",null,null,null,null,"Total Storage Volume (ft3)"]
["STU_ID","STU Type","Storage Volume (ft3)","Length (ft)","Width (ft)","Depth (ft)","Notes","Length (ft)","Width (ft)","Depth (ft)","Void Space","Notes"]
["SCP-ABC-123","Bioretention Swale",{"$f":"ROUND(3249.6,0)","v":3250},500,5,0.5,"length and width of swale estimated from GIS",500,5,2,0.4,"soil filter media void space = 40%",{"$f":"IF(A7=\"\",\"\",ROUND((D7*E7*F7)+(H7*J7*K7*I7),0))","v":3250}]
["SCP-ABC-456","Infiltration Basin",{"$f":"ROUND(3999.9,0)","v":4000},50,40,2,"Surface area equal to polygon area from Potential_STU layer.",0,0,0,0,"Void volume is not relevant for this STU.",4000]
[null,{"$f":"IF(A9=\"\",\"\",VLOOKUP(A9,STU!$A$5:$S$150,7,0))","v":""},{"$f":"IF(A9=\"\",\"\",VLOOKUP(A9,'RIDOT STU History (inputs)'!$A$5:$K$93,11,0))","v":""},null,null,null,null,null,null,null,null,null,{"$f":"IF(A9=\"\",\"\",ROUND((D9*E9*F9)+(H9*J9*K9*I9),0))","v":""}]
[null,{"$f":"IF(A10=\"\",\"\",VLOOKUP(A10,STU!$A$5:$S$150,7,0))","v":""},{"$f":"IF(A10=\"\",\"\",VLOOKUP(A10,'RIDOT STU History (inputs)'!$A$5:$K$93,11,0))","v":""},null,null,null,null,null,null,null,null,null,{"$f":"IF(A10=\"\",\"\",ROUND((D10*E10*F10)+(H10*J10*K10*I10),0))","v":""}]
[null,{"$f":"IF(A11=\"\",\"\",VLOOKUP(A11,STU!$A$5:$S$150,7,0))","v":""},{"$f":"IF(A11=\"\",\"\",VLOOKUP(A11,'RIDOT STU History (inputs)'!$A$5:$K$93,11,0))","v":""},null,null,null,null,null,null,null,null,null,{"$f":"IF(A11=\"\",\"\",ROUND((D11*E11*F11)+(H11*J11*K11*I11),0))","v":""}]
[null,{"$f":"IF(A12=\"\",\"\",VLOOKUP(A12,STU!$A$5:$S$150,7,0))","v":""},{"$f":"IF(A12=\"\",\"\",VLOOKUP(A12,'RIDOT STU History (inputs)'!$A$5:$K$93,11,0))","v":""},null,null,null,null,null,null,null,null,null,{"$f":"IF(A12=\"\",\"\",ROUND((D12*E12*F12)+(H12*J12*K12*I12),0))","v":""}]
[null,{"$f":"IF(A13=\"\",\"\",VLOOKUP(A13,STU!$A$5:$S$150,7,0))","v":""},{"$f":"IF(A13=\"\",\"\",VLOOKUP(A13,'RIDOT STU History (inputs)'!$A$5:$K$93,11,0))","v":""},null,null,null,null,null,null,null,null,null,""]
[null,{"$f":"IF(A14=\"\",\"\",VLOOKUP(A14,STU!$A$5:$S$150,7,0))","v":""},{"$f":"IF(A14=\"\",\"\",VLOOKUP(A14,'RIDOT STU History (inputs)'!$A$5:$K$93,11,0))","v":""},null,null,null,null,null,null,null,null,null,""]
[null,{"$f":"IF(A15=\"\",\"\",VLOOKUP(A15,STU!$A$5:$S$150,7,0))","v":""},{"$f":"IF(A15=\"\",\"\",VLOOKUP(A15,'RIDOT STU History (inputs)'!$A$5:$K$93,11,0))","v":""},null,null,null,null,null,null,null,null,null,""]
[null,{"$f":"IF(A16=\"\",\"\",VLOOKUP(A16,STU!$A$5:$S$150,7,0))","v":""},{"$f":"IF(A16=\"\",\"\",VLOOKUP(A16,'RIDOT STU History (inputs)'!$A$5:$K$93,11,0))","v":""},null,null,null,null,null,null,null,null,null,""]
[null,{"$f":"IF(A17=\"\",\"\",VLOOKUP(A17,STU!$A$5:$S$150,7,0))","v":""},{"$f":"IF(A17=\"\",\"\",VLOOKUP(A17,'RIDOT STU History (inputs)'!$A$5:$K$93,11,0))","v":""},null,null,null,null,null,null,null,null,null,""]
[null,{"$f":"IF(A18=\"\",\"\",VLOOKUP(A18,STU!$A$5:$S$150,7,0))","v":""},{"$f":"IF(A18=\"\",\"\",VLOOKUP(A18,'RIDOT STU History (inputs)'!$A$5:$K$93,11,0))","v":""},null,null,null,null,null,null,null,null,null,""]
[null,{"$f":"IF(A19=\"\",\"\",VLOOKUP(A19,STU!$A$5:$S$150,7,0))","v":""},{"$f":"IF(A19=\"\",\"\",VLOOKUP(A19,'RIDOT STU History (inputs)'!$A$5:$K$93,11,0))","v":""},null,null,null,null,null,null,null,null,null,""]
[null,{"$f":"IF(A20=\"\",\"\",VLOOKUP(A20,STU!$A$5:$S$150,7,0))","v":""},{"$f":"IF(A20=\"\",\"\",VLOOKUP(A20,'RIDOT STU History (inputs)'!$A$5:$K$93,11,0))","v":""},null,null,null,null,null,null,null,null,null,""]
[null,{"$f":"IF(A21=\"\",\"\",VLOOKUP(A21,STU!$A$5:$S$150,7,0))","v":""},{"$f":"IF(A21=\"\",\"\",VLOOKUP(A21,'RIDOT STU History (inputs)'!$A$5:$K$93,11,0))","v":""},null,null,null,null,null,null,null,null,null,""]
[null,{"$f":"IF(A22=\"\",\"\",VLOOKUP(A22,STU!$A$5:$S$150,7,0))","v":""},{"$f":"IF(A22=\"\",\"\",VLOOKUP(A22,'RIDOT STU History (inputs)'!$A$5:$K$93,11,0))","v":""},null,null,null,null,null,null,null,null,null,""]
[null,{"$f":"IF(A23=\"\",\"\",VLOOKUP(A23,STU!$A$5:$S$150,7,0))","v":""},{"$f":"IF(A23=\"\",\"\",VLOOKUP(A23,'RIDOT STU History (inputs)'!$A$5:$K$93,11,0))","v":""},null,null,null,null,null,null,null,null,null,""]
[null,{"$f":"IF(A24=\"\",\"\",VLOOKUP(A24,STU!$A$5:$S$150,7,0))","v":""},{"$f":"IF(A24=\"\",\"\",VLOOKUP(A24,'RIDOT STU History (inputs)'!$A$5:$K$93,11,0))","v":""},null,null,null,null,null,null,null,null,null,""]
[null,{"$f":"IF(A25=\"\",\"\",VLOOKUP(A25,STU!$A$5:$S$150,7,0))","v":""},{"$f":"IF(A25=\"\",\"\",VLOOKUP(A25,'RIDOT STU History (inputs)'!$A$5:$K$93,11,0))","v":""},null,null,null,null,null,null,null,null,null,""]
[null,{"$f":"IF(A26=\"\",\"\",VLOOKUP(A26,STU!$A$5:$S$150,7,0))","v":""},{"$f":"IF(A26=\"\",\"\",VLOOKUP(A26,'RIDOT STU History (inputs)'!$A$5:$K$93,11,0))","v":""},null,null,null,null,null,null,null,null,null,""]
[null,{"$f":"IF(A27=\"\",\"\",VLOOKUP(A27,STU!$A$5:$S$150,7,0))","v":""},{"$f":"IF(A27=\"\",\"\",VLOOKUP(A27,'RIDOT STU History (inputs)'!$A$5:$K$93,11,0))","v":""},null,null,null,null,null,null,null,null,null,""]
[null,{"$f":"IF(A28=\"\",\"\",VLOOKUP(A28,STU!$A$5:$S$150,7,0))","v":""},{"$f":"IF(A28=\"\",\"\",VLOOKUP(A28,'RIDOT STU History (inputs)'!$A$5:$K$93,11,0))","v":""},null,null,null,null,null,null,null,null,null,""]
[null,{"$f":"IF(A29=\"\",\"\",VLOOKUP(A29,STU!$A$5:$S$150,7,0))","v":""},{"$f":"IF(A29=\"\",\"\",VLOOKUP(A29,'RIDOT STU History (inputs)'!$A$5:$K$93,11,0))","v":""},null,null,null,null,null,null,null,null,null,""]
[null,{"$f":"IF(A30=\"\",\"\",VLOOKUP(A30,STU!$A$5:$S$150,7,0))","v":""},{"$f":"IF(A30=\"\",\"\",VLOOKUP(A30,'RIDOT STU History (inputs)'!$A$5:$K$93,11,0))","v":""},null,null,null,null,null,null,null,null,null,""]
[null,{"$f":"IF(A31=\"\",\"\",VLOOKUP(A31,STU!$A$5:$S$150,7,0))","v":""},{"$f":"IF(A31=\"\",\"\",VLOOKUP(A31,'RIDOT STU History (inputs)'!$A$5:$K$93,11,0))","v":""},null,null,null,null,null,null,null,null,null,""]
[null,{"$f":"IF(A32=\"\",\"\",VLOOKUP(A32,STU!$A$5:$S$150,7,0))","v":""},{"$f":"IF(A32=\"\",\"\",VLOOKUP(A32,'RIDOT STU History (inputs)'!$A$5:$K$93,11,0))","v":""},null,null,null,null,null,null,null,null,null,""]
[null,{"$f":"IF(A33=\"\",\"\",VLOOKUP(A33,STU!$A$5:$S$150,7,0))","v":""},{"$f":"IF(A33=\"\",\"\",VLOOKUP(A33,'RIDOT STU History (inputs)'!$A$5:$K$93,11,0))","v":""},null,null,null,null,null,null,null,null,null,""]
[null,{"$f":"IF(A34=\"\",\"\",VLOOKUP(A34,STU!$A$5:$S$150,7,0))","v":""},{"$f":"IF(A34=\"\",\"\",VLOOKUP(A34,'RIDOT STU History (inputs)'!$A$5:$K$93,11,0))","v":""},null,null,null,null,null,null,null,null,null,""]
[null,{"$f":"IF(A35=\"\",\"\",VLOOKUP(A35,STU!$A$5:$S$150,7,0))","v":""},{"$f":"IF(A35=\"\",\"\",VLOOKUP(A35,'RIDOT STU History (inputs)'!$A$5:$K$93,11,0))","v":""},null,null,null,null,null,null,null,null,null,""]
[null,{"$f":"IF(A36=\"\",\"\",VLOOKUP(A36,STU!$A$5:$S$150,7,0))","v":""},{"$f":"IF(A36=\"\",\"\",VLOOKUP(A36,'RIDOT STU History (inputs)'!$A$5:$K$93,11,0))","v":""},null,null,null,null,null,null,null,null,null,""]
[null,{"$f":"IF(A37=\"\",\"\",VLOOKUP(A37,STU!$A$5:$S$150,7,0))","v":""},{"$f":"IF(A37=\"\",\"\",VLOOKUP(A37,'RIDOT STU History (inputs)'!$A$5:$K$93,11,0))","v":""},null,null,null,null,null,null,null,null,null,""]
[null,{"$f":"IF(A38=\"\",\"\",VLOOKUP(A38,STU!$A$5:$S$150,7,0))","v":""},{"$f":"IF(A38=\"\",\"\",VLOOKUP(A38,'RIDOT STU History (inputs)'!$A$5:$K$93,11,0))","v":""},null,null,null,null,null,null,null,null,null,""]
[null,{"$f":"IF(A39=\"\",\"\",VLOOKUP(A39,STU!$A$5:$S$150,7,0))","v":""},{"$f":"IF(A39=\"\",\"\",VLOOKUP(A39,'RIDOT STU History (inputs)'!$A$5:$K$93,11,0))","v":""},null,null,null,null,null,null,null,null,null,""]
[null,{"$f":"IF(A40=\"\",\"\",VLOOKUP(A40,STU!$A$5:$S$150,7,0))","v":""},{"$f":"IF(A40=\"\",\"\",VLOOKUP(A40,'RIDOT STU History (inputs)'!$A$5:$K$93,11,0))","v":""},null,null,null,null,null,null,null,null,null,""]
[null,{"$f":"IF(A41=\"\",\"\",VLOOKUP(A41,STU!$A$5:$S$150,7,0))","v":""},{"$f":"IF(A41=\"\",\"\",VLOOKUP(A41,'RIDOT STU History (inputs)'!$A$5:$K$93,11,0))","v":""},null,null,null,null,null,null,null,null,null,""]
[null,{"$f":"IF(A42=\"\",\"\",VLOOKUP(A42,STU!$A$5:$S$150,7,0))","v":""},{"$f":"IF(A42=\"\",\"\",VLOOKUP(A42,'RIDOT STU History (inputs)'!$A$5:$K$93,11,0))","v":""},null,null,null,null,null,null,null,null,null,""]
[null,{"$f":"IF(A43=\"\",\"\",VLOOKUP(A43,STU!$A$5:$S$150,7,0))","v":""},{"$f":"IF(A43=\"\",\"\",VLOOKUP(A43,'RIDOT STU History (inputs)'!$A$5:$K$93,11,0))","v":""},null,null,null,null,null,null,null,null,null,""]
[null,{"$f":"IF(A44=\"\",\"\",VLOOKUP(A44,STU!$A$5:$S$150,7,0))","v":""},{"$f":"IF(A44=\"\",\"\",VLOOKUP(A44,'RIDOT STU History (inputs)'!$A$5:$K$93,11,0))","v":""},null,null,null,null,null,null,null,null,null,""]
[null,{"$f":"IF(A45=\"\",\"\",VLOOKUP(A45,STU!$A$5:$S$150,7,0))","v":""},{"$f":"IF(A45=\"\",\"\",VLOOKUP(A45,'RIDOT STU History (inputs)'!$A$5:$K$93,11,0))","v":""},null,null,null,null,null,null,null,null,null,""]
[null,{"$f":"IF(A46=\"\",\"\",VLOOKUP(A46,STU!$A$5:$S$150,7,0))","v":""},{"$f":"IF(A46=\"\",\"\",VLOOKUP(A46,'RIDOT STU History (inputs)'!$A$5:$K$93,11,0))","v":""},null,null,null,null,null,null,null,null,null,""]
[null,{"$f":"IF(A47=\"\",\"\",VLOOKUP(A47,STU!$A$5:$S$150,7,0))","v":""},{"$f":"IF(A47=\"\",\"\",VLOOKUP(A47,'RIDOT STU History (inputs)'!$A$5:$K$93,11,0))","v":""},null,null,null,null,null,null,null,null,null,""]
[null,{"$f":"IF(A48=\"\",\"\",VLOOKUP(A48,STU!$A$5:$S$150,7,0))","v":""},{"$f":"IF(A48=\"\",\"\",VLOOKUP(A48,'RIDOT STU History (inputs)'!$A$5:$K$93,11,0))","v":""},null,null,null,null,null,null,null,null,null,""]
[null,{"$f":"IF(A49=\"\",\"\",VLOOKUP(A49,STU!$A$5:$S$150,7,0))","v":""},{"$f":"IF(A49=\"\",\"\",VLOOKUP(A49,'RIDOT STU History (inputs)'!$A$5:$K$93,11,0))","v":""},null,null,null,null,null,null,null,null,null,""]
[null,{"$f":"IF(A50=\"\",\"\",VLOOKUP(A50,STU!$A$5:$S$150,7,0))","v":""},{"$f":"IF(A50=\"\",\"\",VLOOKUP(A50,'RIDOT STU History (inputs)'!$A$5:$K$93,11,0))","v":""},null,null,null,null,null,null,null,null,null,""]
[null,{"$f":"IF(A51=\"\",\"\",VLOOKUP(A51,STU!$A$5:$S$150,7,0))","v":""},{"$f":"IF(A51=\"\",\"\",VLOOKUP(A51,'RIDOT STU History (inputs)'!$A$5:$K$93,11,0))","v":""},null,null,null,null,null,null,null,null,null,""]
[null,{"$f":"IF(A52=\"\",\"\",VLOOKUP(A52,STU!$A$5:$S$150,7,0))","v":""},{"$f":"IF(A52=\"\",\"\",VLOOKUP(A52,'RIDOT STU History (inputs)'!$A$5:$K$93,11,0))","v":""},null,null,null,null,null,null,null,null,null,""]
[null,{"$f":"IF(A53=\"\",\"\",VLOOKUP(A53,STU!$A$5:$S$150,7,0))","v":""},{"$f":"IF(A53=\"\",\"\",VLOOKUP(A53,'RIDOT STU History (inputs)'!$A$5:$K$93,11,0))","v":""},null,null,null,null,null,null,null,null,null,""]
[null,{"$f":"IF(A54=\"\",\"\",VLOOKUP(A54,STU!$A$5:$S$150,7,0))","v":""},{"$f":"IF(A54=\"\",\"\",VLOOKUP(A54,'RIDOT STU History (inputs)'!$A$5:$K$93,11,0))","v":""},null,null,null,null,null,null,null,null,null,""]
[null,{"$f":"IF(A55=\"\",\"\",VLOOKUP(A55,STU!$A$5:$S$150,7,0))","v":""},{"$f":"IF(A55=\"\",\"\",VLOOKUP(A55,'RIDOT STU History (inputs)'!$A$5:$K$93,11,0))","v":""},null,null,null,null,null,null,null,null,null,""]
[null,{"$f":"IF(A56=\"\",\"\",VLOOKUP(A56,STU!$A$5:$S$150,7,0))","v":""},{"$f":"IF(A56=\"\",\"\",VLOOKUP(A56,'RIDOT STU History (inputs)'!$A$5:$K$93,11,0))","v":""},null,null,null,null,null,null,null,null,null,""]
[null,{"$f":"IF(A57=\"\",\"\",VLOOKUP(A57,STU!$A$5:$S$150,7,0))","v":""},{"$f":"IF(A57=\"\",\"\",VLOOKUP(A57,'RIDOT STU History (inputs)'!$A$5:$K$93,11,0))","v":""},null,null,null,null,null,null,null,null,null,""]
[null,{"$f":"IF(A58=\"\",\"\",VLOOKUP(A58,STU!$A$5:$S$150,7,0))","v":""},{"$f":"IF(A58=\"\",\"\",VLOOKUP(A58,'RIDOT STU History (inputs)'!$A$5:$K$93,11,0))","v":""},null,null,null,null,null,null,null,null,null,""]
[null,{"$f":"IF(A59=\"\",\"\",VLOOKUP(A59,STU!$A$5:$S$150,7,0))","v":""},{"$f":"IF(A59=\"\",\"\",VLOOKUP(A59,'RIDOT STU History (inputs)'!$A$5:$K$93,11,0))","v":""},null,null,null,null,null,null,null,null,null,""]
[null,{"$f":"IF(A60=\"\",\"\",VLOOKUP(A60,STU!$A$5:$S$150,7,0))","v":""},{"$f":"IF(A60=\"\",\"\",VLOOKUP(A60,'RIDOT STU History (inputs)'!$A$5:$K$93,11,0))","v":""},null,null,null,null,null,null,null,null,null,""]
[null,{"$f":"IF(A61=\"\",\"\",VLOOKUP(A61,STU!$A$5:$S$150,7,0))","v":""},{"$f":"IF(A61=\"\",\"\",VLOOKUP(A61,'RIDOT STU History (inputs)'!$A$5:$K$93,11,0))","v":""},null,null,null,null,null,null,null,null,null,""]
[null,{"$f":"IF(A62=\"\",\"\",VLOOKUP(A62,STU!$A$5:$S$150,7,0))","v":""},{"$f":"IF(A62=\"\",\"\",VLOOKUP(A62,'RIDOT STU History (inputs)'!$A$5:$K$93,11,0))","v":""},null,null,null,null,null,null,null,null,null,""]
[null,{"$f":"IF(A63=\"\",\"\",VLOOKUP(A63,STU!$A$5:$S$150,7,0))","v":""},{"$f":"IF(A63=\"\",\"\",VLOOKUP(A63,'RIDOT STU History (inputs)'!$A$5:$K$93,11,0))","v":""},null,null,null,null,null,null,null,null,null,""]
[null,{"$f":"IF(A64=\"\",\"\",VLOOKUP(A64,STU!$A$5:$S$150,7,0))","v":""},{"$f":"IF(A64=\"\",\"\",VLOOKUP(A64,'RIDOT STU History (inputs)'!$A$5:$K$93,11,0))","v":""},null,null,null,null,null,null,null,null,null,""]
[null,{"$f":"IF(A65=\"\",\"\",VLOOKUP(A65,STU!$A$5:$S$150,7,0))","v":""},{"$f":"IF(A65=\"\",\"\",VLOOKUP(A65,'RIDOT STU History (inputs)'!$A$5:$K$93,11,0))","v":""},null,null,null,null,null,null,null,null,null,""]
[null,{"$f":"IF(A66=\"\",\"\",VLOOKUP(A66,STU!$A$5:$S$150,7,0))","v":""},{"$f":"IF(A66=\"\",\"\",VLOOKUP(A66,'RIDOT STU History (inputs)'!$A$5:$K$93,11,0))","v":""},null,null,null,null,null,null,null,null,null,""]
[null,{"$f":"IF(A67=\"\",\"\",VLOOKUP(A67,STU!$A$5:$S$150,7,0))","v":""},{"$f":"IF(A67=\"\",\"\",VLOOKUP(A67,'RIDOT STU History (inputs)'!$A$5:$K$93,11,0))","v":""},null,null,null,null,null,null,null,null,null,""]
[null,{"$f":"IF(A68=\"\",\"\",VLOOKUP(A68,STU!$A$5:$S$150,7,0))","v":""},{"$f":"IF(A68=\"\",\"\",VLOOKUP(A68,'RIDOT STU History (inputs)'!$A$5:$K$93,11,0))","v":""},null,null,null,null,null,null,null,null,null,""]
[null,{"$f":"IF(A69=\"\",\"\",VLOOKUP(A69,STU!$A$5:$S$150,7,0))","v":""},{"$f":"IF(A69=\"\",\"\",VLOOKUP(A69,'RIDOT STU History (inputs)'!$A$5:$K$93,11,0))","v":""},null,null,null,null,null,null,null,null,null,""]
[null,{"$f":"IF(A70=\"\",\"\",VLOOKUP(A70,STU!$A$5:$S$150,7,0))","v":""},{"$f":"IF(A70=\"\",\"\",VLOOKUP(A70,'RIDOT STU History (inputs)'!$A$5:$K$93,11,0))","v":""},null,null,null,null,null,null,null,null,null,""]
[null,{"$f":"IF(A71=\"\",\"\",VLOOKUP(A71,STU!$A$5:$S$150,7,0))","v":""},{"$f":"IF(A71=\"\",\"\",VLOOKUP(A71,'RIDOT STU History (inputs)'!$A$5:$K$93,11,0))","v":""},null,null,null,null,null,null,null,null,null,""]
[null,{"$f":"IF(A72=\"\",\"\",VLOOKUP(A72,STU!$A$5:$S$150,7,0))","v":""},{"$f":"IF(A72=\"\",\"\",VLOOKUP(A72,'RIDOT STU History (inputs)'!$A$5:$K$93,11,0))","v":""},null,null,null,null,null,null,null,null,null,""]
[null,{"$f":"IF(A73=\"\",\"\",VLOOKUP(A73,STU!$A$5:$S$150,7,0))","v":""},{"$f":"IF(A73=\"\",\"\",VLOOKUP(A73,'RIDOT STU History (inputs)'!$A$5:$K$93,11,0))","v":""},null,null,null,null,null,null,null,null,null,""]
[null,{"$f":"IF(A74=\"\",\"\",VLOOKUP(A74,STU!$A$5:$S$150,7,0))","v":""},{"$f":"IF(A74=\"\",\"\",VLOOKUP(A74,'RIDOT STU History (inputs)'!$A$5:$K$93,11,0))","v":""},null,null,null,null,null,null,null,null,null,""]
[null,{"$f":"IF(A75=\"\",\"\",VLOOKUP(A75,STU!$A$5:$S$150,7,0))","v":""},{"$f":"IF(A75=\"\",\"\",VLOOKUP(A75,'RIDOT STU History (inputs)'!$A$5:$K$93,11,0))","v":""},null,null,null,null,null,null,null,null,null,""]
[null,{"$f":"IF(A76=\"\",\"\",VLOOKUP(A76,STU!$A$5:$S$150,7,0))","v":""},{"$f":"IF(A76=\"\",\"\",VLOOKUP(A76,'RIDOT STU History (inputs)'!$A$5:$K$93,11,0))","v":""},null,null,null,null,null,null,null,null,null,{"$f":"IF(A76=\"\",\"\",ROUND((D76*E76*F76)+(H76*J76*K76*I76),0))","v":""}]
[null,{"$f":"IF(A77=\"\",\"\",VLOOKUP(A77,STU!$A$5:$S$150,7,0))","v":""},{"$f":"IF(A77=\"\",\"\",VLOOKUP(A77,'RIDOT STU History (inputs)'!$A$5:$K$93,11,0))","v":""},null,null,null,null,null,null,null,null,null,""]
[null,{"$f":"IF(A78=\"\",\"\",VLOOKUP(A78,STU!$A$5:$S$150,7,0))","v":""},{"$f":"IF(A78=\"\",\"\",VLOOKUP(A78,'RIDOT STU History (inputs)'!$A$5:$K$93,11,0))","v":""},null,null,null,null,null,null,null,null,null,""]
[null,{"$f":"IF(A79=\"\",\"\",VLOOKUP(A79,STU!$A$5:$S$150,7,0))","v":""},{"$f":"IF(A79=\"\",\"\",VLOOKUP(A79,'RIDOT STU History (inputs)'!$A$5:$K$93,11,0))","v":""},null,null,null,null,null,null,null,null,null,""]
[null,{"$f":"IF(A80=\"\",\"\",VLOOKUP(A80,STU!$A$5:$S$150,7,0))","v":""},{"$f":"IF(A80=\"\",\"\",VLOOKUP(A80,'RIDOT STU History (inputs)'!$A$5:$K$93,11,0))","v":""},null,null,null,null,null,null,null,null,null,""]
[null,{"$f":"IF(A81=\"\",\"\",VLOOKUP(A81,STU!$A$5:$S$150,7,0))","v":""},{"$f":"IF(A81=\"\",\"\",VLOOKUP(A81,'RIDOT STU History (inputs)'!$A$5:$K$93,11,0))","v":""},null,null,null,null,null,null,null,null,null,""]
[null,{"$f":"IF(A82=\"\",\"\",VLOOKUP(A82,STU!$A$5:$S$150,7,0))","v":""},{"$f":"IF(A82=\"\",\"\",VLOOKUP(A82,'RIDOT STU History (inputs)'!$A$5:$K$93,11,0))","v":""},null,null,null,null,null,null,null,null,null,""]
[null,{"$f":"IF(A83=\"\",\"\",VLOOKUP(A83,STU!$A$5:$S$150,7,0))","v":""},{"$f":"IF(A83=\"\",\"\",VLOOKUP(A83,'RIDOT STU History (inputs)'!$A$5:$K$93,11,0))","v":""},null,null,null,null,null,null,null,null,null,""]
[null,{"$f":"IF(A84=\"\",\"\",VLOOKUP(A84,STU!$A$5:$S$150,7,0))","v":""},{"$f":"IF(A84=\"\",\"\",VLOOKUP(A84,'RIDOT STU History (inputs)'!$A$5:$K$93,11,0))","v":""},null,null,null,null,null,null,null,null,null,""]
[null,{"$f":"IF(A85=\"\",\"\",VLOOKUP(A85,STU!$A$5:$S$150,7,0))","v":""},{"$f":"IF(A85=\"\",\"\",VLOOKUP(A85,'RIDOT STU History (inputs)'!$A$5:$K$93,11,0))","v":""},null,null,null,null,null,null,null,null,null,""]
[null,{"$f":"IF(A86=\"\",\"\",VLOOKUP(A86,STU!$A$5:$S$150,7,0))","v":""},{"$f":"IF(A86=\"\",\"\",VLOOKUP(A86,'RIDOT STU History (inputs)'!$A$5:$K$93,11,0))","v":""},null,null,null,null,null,null,null,null,null,""]
[null,{"$f":"IF(A87=\"\",\"\",VLOOKUP(A87,STU!$A$5:$S$150,7,0))","v":""},{"$f":"IF(A87=\"\",\"\",VLOOKUP(A87,'RIDOT STU History (inputs)'!$A$5:$K$93,11,0))","v":""},null,null,null,null,null,null,null,null,null,""]
[null,{"$f":"IF(A88=\"\",\"\",VLOOKUP(A88,STU!$A$5:$S$150,7,0))","v":""},{"$f":"IF(A88=\"\",\"\",VLOOKUP(A88,'RIDOT STU History (inputs)'!$A$5:$K$93,11,0))","v":""},null,null,null,null,null,null,null,null,null,""]
[null,{"$f":"IF(A89=\"\",\"\",VLOOKUP(A89,STU!$A$5:$S$150,7,0))","v":""},{"$f":"IF(A89=\"\",\"\",VLOOKUP(A89,'RIDOT STU History (inputs)'!$A$5:$K$93,11,0))","v":""},null,null,null,null,null,null,null,null,null,""]
[null,{"$f":"IF(A90=\"\",\"\",VLOOKUP(A90,STU!$A$5:$S$150,7,0))","v":""},{"$f":"IF(A90=\"\",\"\",VLOOKUP(A90,'RIDOT STU History (inputs)'!$A$5:$K$93,11,0))","v":""},null,null,null,null,null,null,null,null,null,""]
[null,{"$f":"IF(A91=\"\",\"\",VLOOKUP(A91,STU!$A$5:$S$150,7,0))","v":""},{"$f":"IF(A91=\"\",\"\",VLOOKUP(A91,'RIDOT STU History (inputs)'!$A$5:$K$93,11,0))","v":""},null,null,null,null,null,null,null,null,null,""]
[null,{"$f":"IF(A92=\"\",\"\",VLOOKUP(A92,STU!$A$5:$S$150,7,0))","v":""},{"$f":"IF(A92=\"\",\"\",VLOOKUP(A92,'RIDOT STU History (inputs)'!$A$5:$K$93,11,0))","v":""},null,null,null,null,null,null,null,null,null,""]
[null,{"$f":"IF(A93=\"\",\"\",VLOOKUP(A93,STU!$A$5:$S$150,7,0))","v":""},{"$f":"IF(A93=\"\",\"\",VLOOKUP(A93,'RIDOT STU History (inputs)'!$A$5:$K$93,11,0))","v":""},null,null,null,null,null,null,null,null,null,""]
[null,{"$f":"IF(A94=\"\",\"\",VLOOKUP(A94,STU!$A$5:$S$150,7,0))","v":""},{"$f":"IF(A94=\"\",\"\",VLOOKUP(A94,'RIDOT STU History (inputs)'!$A$5:$K$93,11,0))","v":""},null,null,null,null,null,null,null,null,null,""]
[null,{"$f":"IF(A95=\"\",\"\",VLOOKUP(A95,STU!$A$5:$S$150,7,0))","v":""},{"$f":"IF(A95=\"\",\"\",VLOOKUP(A95,'RIDOT STU History (inputs)'!$A$5:$K$93,11,0))","v":""},null,null,null,null,null,null,null,null,null,""]
[null,{"$f":"IF(A96=\"\",\"\",VLOOKUP(A96,STU!$A$5:$S$150,7,0))","v":""},{"$f":"IF(A96=\"\",\"\",VLOOKUP(A96,'RIDOT STU History (inputs)'!$A$5:$K$93,11,0))","v":""},null,null,null,null,null,null,null,null,null,""]
[null,{"$f":"IF(A97=\"\",\"\",VLOOKUP(A97,STU!$A$5:$S$150,7,0))","v":""},{"$f":"IF(A97=\"\",\"\",VLOOKUP(A97,'RIDOT STU History (inputs)'!$A$5:$K$93,11,0))","v":""},null,null,null,null,null,null,null,null,null,""]
[null,{"$f":"IF(A98=\"\",\"\",VLOOKUP(A98,STU!$A$5:$S$150,7,0))","v":""},{"$f":"IF(A98=\"\",\"\",VLOOKUP(A98,'RIDOT STU History (inputs)'!$A$5:$K$93,11,0))","v":""},null,null,null,null,null,null,null,null,null,""]
[null,{"$f":"IF(A99=\"\",\"\",VLOOKUP(A99,STU!$A$5:$S$150,7,0))","v":""},{"$f":"IF(A99=\"\",\"\",VLOOKUP(A99,'RIDOT STU History (inputs)'!$A$5:$K$93,11,0))","v":""},null,null,null,null,null,null,null,null,null,""]
[null,{"$f":"IF(A100=\"\",\"\",VLOOKUP(A100,STU!$A$5:$S$150,7,0))","v":""},{"$f":"IF(A100=\"\",\"\",VLOOKUP(A100,'RIDOT STU History (inputs)'!$A$5:$K$93,11,0))","v":""},null,null,null,null,null,null,null,null,null,""]
[null,{"$f":"IF(A101=\"\",\"\",VLOOKUP(A101,STU!$A$5:$S$150,7,0))","v":""},{"$f":"IF(A101=\"\",\"\",VLOOKUP(A101,'RIDOT STU History (inputs)'!$A$5:$K$93,11,0))","v":""},null,null,null,null,null,null,null,null,null,""]
[null,{"$f":"IF(A102=\"\",\"\",VLOOKUP(A102,STU!$A$5:$S$150,7,0))","v":""},{"$f":"IF(A102=\"\",\"\",VLOOKUP(A102,'RIDOT STU History (inputs)'!$A$5:$K$93,11,0))","v":""},null,null,null,null,null,null,null,null,null,""]
[null,{"$f":"IF(A103=\"\",\"\",VLOOKUP(A103,STU!$A$5:$S$150,7,0))","v":""},{"$f":"IF(A103=\"\",\"\",VLOOKUP(A103,'RIDOT STU History (inputs)'!$A$5:$K$93,11,0))","v":""},null,null,null,null,null,null,null,null,null,""]
[null,{"$f":"IF(A104=\"\",\"\",VLOOKUP(A104,STU!$A$5:$S$150,7,0))","v":""},{"$f":"IF(A104=\"\",\"\",VLOOKUP(A104,'RIDOT STU History (inputs)'!$A$5:$K$93,11,0))","v":""},null,null,null,null,null,null,null,null,null,""]
[null,{"$f":"IF(A105=\"\",\"\",VLOOKUP(A105,STU!$A$5:$S$150,7,0))","v":""},{"$f":"IF(A105=\"\",\"\",VLOOKUP(A105,'RIDOT STU History (inputs)'!$A$5:$K$93,11,0))","v":""},null,null,null,null,null,null,null,null,null,""]
[null,{"$f":"IF(A106=\"\",\"\",VLOOKUP(A106,STU!$A$5:$S$150,7,0))","v":""},{"$f":"IF(A106=\"\",\"\",VLOOKUP(A106,'RIDOT STU History (inputs)'!$A$5:$K$93,11,0))","v":""},null,null,null,null,null,null,null,null,null,""]
[null,{"$f":"IF(A107=\"\",\"\",VLOOKUP(A107,STU!$A$5:$S$150,7,0))","v":""},{"$f":"IF(A107=\"\",\"\",VLOOKUP(A107,'RIDOT STU History (inputs)'!$A$5:$K$93,11,0))","v":""},null,null,null,null,null,null,null,null,null,""]
[null,{"$f":"IF(A108=\"\",\"\",VLOOKUP(A108,STU!$A$5:$S$150,7,0))","v":""},{"$f":"IF(A108=\"\",\"\",VLOOKUP(A108,'RIDOT STU History (inputs)'!$A$5:$K$93,11,0))","v":""},null,null,null,null,null,null,null,null,null,""]
[null,{"$f":"IF(A109=\"\",\"\",VLOOKUP(A109,STU!$A$5:$S$150,7,0))","v":""},{"$f":"IF(A109=\"\",\"\",VLOOKUP(A109,'RIDOT STU History (inputs)'!$A$5:$K$93,11,0))","v":""},null,null,null,null,null,null,null,null,null,""]
[null,{"$f":"IF(A110=\"\",\"\",VLOOKUP(A110,STU!$A$5:$S$150,7,0))","v":""},{"$f":"IF(A110=\"\",\"\",VLOOKUP(A110,'RIDOT STU History (inputs)'!$A$5:$K$93,11,0))","v":""},null,null,null,null,null,null,null,null,null,""]
[null,{"$f":"IF(A111=\"\",\"\",VLOOKUP(A111,STU!$A$5:$S$150,7,0))","v":""},{"$f":"IF(A111=\"\",\"\",VLOOKUP(A111,'RIDOT STU History (inputs)'!$A$5:$K$93,11,0))","v":""},null,null,null,null,null,null,null,null,null,""]
[null,{"$f":"IF(A112=\"\",\"\",VLOOKUP(A112,STU!$A$5:$S$150,7,0))","v":""},{"$f":"IF(A112=\"\",\"\",VLOOKUP(A112,'RIDOT STU History (inputs)'!$A$5:$K$93,11,0))","v":""},null,null,null,null,null,null,null,null,null,""]
[null,{"$f":"IF(A113=\"\",\"\",VLOOKUP(A113,STU!$A$5:$S$150,7,0))","v":""},{"$f":"IF(A113=\"\",\"\",VLOOKUP(A113,'RIDOT STU History (inputs)'!$A$5:$K$93,11,0))","v":""},null,null,null,null,null,null,null,null,null,""]
[null,{"$f":"IF(A114=\"\",\"\",VLOOKUP(A114,STU!$A$5:$S$150,7,0))","v":""},{"$f":"IF(A114=\"\",\"\",VLOOKUP(A114,'RIDOT STU History (inputs)'!$A$5:$K$93,11,0))","v":""},null,null,null,null,null,null,null,null,null,""]
[null,{"$f":"IF(A115=\"\",\"\",VLOOKUP(A115,STU!$A$5:$S$150,7,0))","v":""},{"$f":"IF(A115=\"\",\"\",VLOOKUP(A115,'RIDOT STU History (inputs)'!$A$5:$K$93,11,0))","v":""},null,null,null,null,null,null,null,null,null,""]
[null,{"$f":"IF(A116=\"\",\"\",VLOOKUP(A116,STU!$A$5:$S$150,7,0))","v":""},{"$f":"IF(A116=\"\",\"\",VLOOKUP(A116,'RIDOT STU History (inputs)'!$A$5:$K$93,11,0))","v":""},null,null,null,null,null,null,null,null,null,""]
[null,{"$f":"IF(A117=\"\",\"\",VLOOKUP(A117,STU!$A$5:$S$150,7,0))","v":""},{"$f":"IF(A117=\"\",\"\",VLOOKUP(A117,'RIDOT STU History (inputs)'!$A$5:$K$93,11,0))","v":""},null,null,null,null,null,null,null,null,null,""]
[null,{"$f":"IF(A118=\"\",\"\",VLOOKUP(A118,STU!$A$5:$S$150,7,0))","v":""},{"$f":"IF(A118=\"\",\"\",VLOOKUP(A118,'RIDOT STU History (inputs)'!$A$5:$K$93,11,0))","v":""},null,null,null,null,null,null,null,null,null,""]
[null,{"$f":"IF(A119=\"\",\"\",VLOOKUP(A119,STU!$A$5:$S$150,7,0))","v":""},{"$f":"IF(A119=\"\",\"\",VLOOKUP(A119,'RIDOT STU History (inputs)'!$A$5:$K$93,11,0))","v":""},null,null,null,null,null,null,null,null,null,""]
[null,{"$f":"IF(A120=\"\",\"\",VLOOKUP(A120,STU!$A$5:$S$150,7,0))","v":""},{"$f":"IF(A120=\"\",\"\",VLOOKUP(A120,'RIDOT STU History (inputs)'!$A$5:$K$93,11,0))","v":""},null,null,null,null,null,null,null,null,null,""]
[null,{"$f":"IF(A121=\"\",\"\",VLOOKUP(A121,STU!$A$5:$S$150,7,0))","v":""},{"$f":"IF(A121=\"\",\"\",VLOOKUP(A121,'RIDOT STU History (inputs)'!$A$5:$K$93,11,0))","v":""},null,null,null,null,null,null,null,null,null,""]
[null,{"$f":"IF(A122=\"\",\"\",VLOOKUP(A122,STU!$A$5:$S$150,7,0))","v":""},{"$f":"IF(A122=\"\",\"\",VLOOKUP(A122,'RIDOT STU History (inputs)'!$A$5:$K$93,11,0))","v":""},null,null,null,null,null,null,null,null,null,""]
[null,{"$f":"IF(A123=\"\",\"\",VLOOKUP(A123,STU!$A$5:$S$150,7,0))","v":""},{"$f":"IF(A123=\"\",\"\",VLOOKUP(A123,'RIDOT STU History (inputs)'!$A$5:$K$93,11,0))","v":""},null,null,null,null,null,null,null,null,null,""]
[null,{"$f":"IF(A124=\"\",\"\",VLOOKUP(A124,STU!$A$5:$S$150,7,0))","v":""},{"$f":"IF(A124=\"\",\"\",VLOOKUP(A124,'RIDOT STU History (inputs)'!$A$5:$K$93,11,0))","v":""},null,null,null,null,null,null,null,null,null,""]
[null,{"$f":"IF(A125=\"\",\"\",VLOOKUP(A125,STU!$A$5:$S$150,7,0))","v":""},{"$f":"IF(A125=\"\",\"\",VLOOKUP(A125,'RIDOT STU History (inputs)'!$A$5:$K$93,11,0))","v":""},null,null,null,null,null,null,null,null,null,""]
[null,{"$f":"IF(A126=\"\",\"\",VLOOKUP(A126,STU!$A$5:$S$150,7,0))","v":""},{"$f":"IF(A126=\"\",\"\",VLOOKUP(A126,'RIDOT STU History (inputs)'!$A$5:$K$93,11,0))","v":""},null,null,null,null,null,null,null,null,null,""]
[null,{"$f":"IF(A127=\"\",\"\",VLOOKUP(A127,STU!$A$5:$S$150,7,0))","v":""},{"$f":"IF(A127=\"\",\"\",VLOOKUP(A127,'RIDOT STU History (inputs)'!$A$5:$K$93,11,0))","v":""},null,null,null,null,null,null,null,null,null,""]
[null,{"$f":"IF(A128=\"\",\"\",VLOOKUP(A128,STU!$A$5:$S$150,7,0))","v":""},{"$f":"IF(A128=\"\",\"\",VLOOKUP(A128,'RIDOT STU History (inputs)'!$A$5:$K$93,11,0))","v":""},null,null,null,null,null,null,null,null,null,""]
[null,{"$f":"IF(A129=\"\",\"\",VLOOKUP(A129,STU!$A$5:$S$150,7,0))","v":""},{"$f":"IF(A129=\"\",\"\",VLOOKUP(A129,'RIDOT STU History (inputs)'!$A$5:$K$93,11,0))","v":""},null,null,null,null,null,null,null,null,null,""]
[null,{"$f":"IF(A130=\"\",\"\",VLOOKUP(A130,STU!$A$5:$S$150,7,0))","v":""},{"$f":"IF(A130=\"\",\"\",VLOOKUP(A130,'RIDOT STU History (inputs)'!$A$5:$K$93,11,0))","v":""},null,null,null,null,null,null,null,null,null,""]
[null,{"$f":"IF(A131=\"\",\"\",VLOOKUP(A131,STU!$A$5:$S$150,7,0))","v":""},{"$f":"IF(A131=\"\",\"\",VLOOKUP(A131,'RIDOT STU History (inputs)'!$A$5:$K$93,11,0))","v":""},null,null,null,null,null,null,null,null,null,""]
[null,{"$f":"IF(A132=\"\",\"\",VLOOKUP(A132,STU!$A$5:$S$150,7,0))","v":""},{"$f":"IF(A132=\"\",\"\",VLOOKUP(A132,'RIDOT STU History (inputs)'!$A$5:$K$93,11,0))","v":""},null,null,null,null,null,null,null,null,null,""]
[null,{"$f":"IF(A133=\"\",\"\",VLOOKUP(A133,STU!$A$5:$S$150,7,0))","v":""},{"$f":"IF(A133=\"\",\"\",VLOOKUP(A133,'RIDOT STU History (inputs)'!$A$5:$K$93,11,0))","v":""},null,null,null,null,null,null,null,null,null,""]
[null,{"$f":"IF(A134=\"\",\"\",VLOOKUP(A134,STU!$A$5:$S$150,7,0))","v":""},{"$f":"IF(A134=\"\",\"\",VLOOKUP(A134,'RIDOT STU History (inputs)'!$A$5:$K$93,11,0))","v":""},null,null,null,null,null,null,null,null,null,""]
[null,{"$f":"IF(A135=\"\",\"\",VLOOKUP(A135,STU!$A$5:$S$150,7,0))","v":""},{"$f":"IF(A135=\"\",\"\",VLOOKUP(A135,'RIDOT STU History (inputs)'!$A$5:$K$93,11,0))","v":""},null,null,null,null,null,null,null,null,null,""]
[null,{"$f":"IF(A136=\"\",\"\",VLOOKUP(A136,STU!$A$5:$S$150,7,0))","v":""},{"$f":"IF(A136=\"\",\"\",VLOOKUP(A136,'RIDOT STU History (inputs)'!$A$5:$K$93,11,0))","v":""},null,null,null,null,null,null,null,null,null,""]
[null,{"$f":"IF(A137=\"\",\"\",VLOOKUP(A137,STU!$A$5:$S$150,7,0))","v":""},{"$f":"IF(A137=\"\",\"\",VLOOKUP(A137,'RIDOT STU History (inputs)'!$A$5:$K$93,11,0))","v":""},null,null,null,null,null,null,null,null,null,""]
[null,{"$f":"IF(A138=\"\",\"\",VLOOKUP(A138,STU!$A$5:$S$150,7,0))","v":""},{"$f":"IF(A138=\"\",\"\",VLOOKUP(A138,'RIDOT STU History (inputs)'!$A$5:$K$93,11,0))","v":""},null,null,null,null,null,null,null,null,null,""]
[null,{"$f":"IF(A139=\"\",\"\",VLOOKUP(A139,STU!$A$5:$S$150,7,0))","v":""},{"$f":"IF(A139=\"\",\"\",VLOOKUP(A139,'RIDOT STU History (inputs)'!$A$5:$K$93,11,0))","v":""},null,null,null,null,null,null,null,null,null,""]
[null,{"$f":"IF(A140=\"\",\"\",VLOOKUP(A140,STU!$A$5:$S$150,7,0))","v":""},{"$f":"IF(A140=\"\",\"\",VLOOKUP(A140,'RIDOT STU History (inputs)'!$A$5:$K$93,11,0))","v":""},null,null,null,null,null,null,null,null,null,{"$f":"IF(A140=\"\",\"\",ROUND((D140*E140*F140)+(H140*J140*K140*I140),0))","v":""}]
[null,{"$f":"IF(A141=\"\",\"\",VLOOKUP(A141,STU!$A$5:$S$150,7,0))","v":""},{"$f":"IF(A141=\"\",\"\",VLOOKUP(A141,'RIDOT STU History (inputs)'!$A$5:$K$93,11,0))","v":""},null,null,null,null,null,null,null,null,null,""]
[null,{"$f":"IF(A142=\"\",\"\",VLOOKUP(A142,STU!$A$5:$S$150,7,0))","v":""},{"$f":"IF(A142=\"\",\"\",VLOOKUP(A142,'RIDOT STU History (inputs)'!$A$5:$K$93,11,0))","v":""},null,null,null,null,null,null,null,null,null,""]
[null,{"$f":"IF(A143=\"\",\"\",VLOOKUP(A143,STU!$A$5:$S$150,7,0))","v":""},{"$f":"IF(A143=\"\",\"\",VLOOKUP(A143,'RIDOT STU History (inputs)'!$A$5:$K$93,11,0))","v":""},null,null,null,null,null,null,null,null,null,""]
[null,{"$f":"IF(A144=\"\",\"\",VLOOKUP(A144,STU!$A$5:$S$150,7,0))","v":""},{"$f":"IF(A144=\"\",\"\",VLOOKUP(A144,'RIDOT STU History (inputs)'!$A$5:$K$93,11,0))","v":""},null,null,null,null,null,null,null,null,null,""]
[null,{"$f":"IF(A145=\"\",\"\",VLOOKUP(A145,STU!$A$5:$S$150,7,0))","v":""},{"$f":"IF(A145=\"\",\"\",VLOOKUP(A145,'RIDOT STU History (inputs)'!$A$5:$K$93,11,0))","v":""},null,null,null,null,null,null,null,null,null,""]
[null,{"$f":"IF(A146=\"\",\"\",VLOOKUP(A146,STU!$A$5:$S$150,7,0))","v":""},{"$f":"IF(A146=\"\",\"\",VLOOKUP(A146,'RIDOT STU History (inputs)'!$A$5:$K$93,11,0))","v":""},null,null,null,null,null,null,null,null,null,""]
[null,{"$f":"IF(A147=\"\",\"\",VLOOKUP(A147,STU!$A$5:$S$150,7,0))","v":""},{"$f":"IF(A147=\"\",\"\",VLOOKUP(A147,'RIDOT STU History (inputs)'!$A$5:$K$93,11,0))","v":""},null,null,null,null,null,null,null,null,null,""]
[null,{"$f":"IF(A148=\"\",\"\",VLOOKUP(A148,STU!$A$5:$S$150,7,0))","v":""},{"$f":"IF(A148=\"\",\"\",VLOOKUP(A148,'RIDOT STU History (inputs)'!$A$5:$K$93,11,0))","v":""},null,null,null,null,null,null,null,null,null,""]
[null,{"$f":"IF(A149=\"\",\"\",VLOOKUP(A149,STU!$A$5:$S$150,7,0))","v":""},{"$f":"IF(A149=\"\",\"\",VLOOKUP(A149,'RIDOT STU History (inputs)'!$A$5:$K$93,11,0))","v":""},null,null,null,null,null,null,null,null,null,""]
[null,{"$f":"IF(A150=\"\",\"\",VLOOKUP(A150,STU!$A$5:$S$150,7,0))","v":""},{"$f":"IF(A150=\"\",\"\",VLOOKUP(A150,'RIDOT STU History (inputs)'!$A$5:$K$93,11,0))","v":""},null,null,null,null,null,null,null,null,null,""]
[null,{"$f":"IF(A151=\"\",\"\",VLOOKUP(A151,STU!$A$5:$S$150,7,0))","v":""},{"$f":"IF(A151=\"\",\"\",VLOOKUP(A151,'RIDOT STU History (inputs)'!$A$5:$K$93,11,0))","v":""},null,null,null,null,null,null,null,null,null,""]
[null,{"$f":"IF(A152=\"\",\"\",VLOOKUP(A152,STU!$A$5:$S$150,7,0))","v":""},{"$f":"IF(A152=\"\",\"\",VLOOKUP(A152,'RIDOT STU History (inputs)'!$A$5:$K$93,11,0))","v":""},null,null,null,null,null,null,null,null,null,""]
[null,{"$f":"IF(A153=\"\",\"\",VLOOKUP(A153,STU!$A$5:$S$150,7,0))","v":""},{"$f":"IF(A153=\"\",\"\",VLOOKUP(A153,'RIDOT STU History (inputs)'!$A$5:$K$93,11,0))","v":""},null,null,null,null,null,null,null,null,null,""]
[null,{"$f":"IF(A154=\"\",\"\",VLOOKUP(A154,STU!$A$5:$S$150,7,0))","v":""},{"$f":"IF(A154=\"\",\"\",VLOOKUP(A154,'RIDOT STU History (inputs)'!$A$5:$K$93,11,0))","v":""},null,null,null,null,null,null,null,null,null,""]
[null,{"$f":"IF(A155=\"\",\"\",VLOOKUP(A155,STU!$A$5:$S$150,7,0))","v":""},{"$f":"IF(A155=\"\",\"\",VLOOKUP(A155,'RIDOT STU History (inputs)'!$A$5:$K$93,11,0))","v":""},null,null,null,null,null,null,null,null,null,""]
[null,{"$f":"IF(A156=\"\",\"\",VLOOKUP(A156,STU!$A$5:$S$150,7,0))","v":""},{"$f":"IF(A156=\"\",\"\",VLOOKUP(A156,'RIDOT STU History (inputs)'!$A$5:$K$93,11,0))","v":""},null,null,null,null,null,null,null,null,null,""]
[null,{"$f":"IF(A157=\"\",\"\",VLOOKUP(A157,STU!$A$5:$S$150,7,0))","v":""},{"$f":"IF(A157=\"\",\"\",VLOOKUP(A157,'RIDOT STU History (inputs)'!$A$5:$K$93,11,0))","v":""},null,null,null,null,null,null,null,null,null,""]
[null,{"$f":"IF(A158=\"\",\"\",VLOOKUP(A158,STU!$A$5:$S$150,7,0))","v":""},{"$f":"IF(A158=\"\",\"\",VLOOKUP(A158,'RIDOT STU History (inputs)'!$A$5:$K$93,11,0))","v":""},null,null,null,null,null,null,null,null,null,""]
[null,{"$f":"IF(A159=\"\",\"\",VLOOKUP(A159,STU!$A$5:$S$150,7,0))","v":""},{"$f":"IF(A159=\"\",\"\",VLOOKUP(A159,'RIDOT STU History (inputs)'!$A$5:$K$93,11,0))","v":""},null,null,null,null,null,null,null,null,null,""]
[null,{"$f":"IF(A160=\"\",\"\",VLOOKUP(A160,STU!$A$5:$S$150,7,0))","v":""},{"$f":"IF(A160=\"\",\"\",VLOOKUP(A160,'RIDOT STU History (inputs)'!$A$5:$K$93,11,0))","v":""},null,null,null,null,null,null,null,null,null,""]
[null,{"$f":"IF(A161=\"\",\"\",VLOOKUP(A161,STU!$A$5:$S$150,7,0))","v":""},{"$f":"IF(A161=\"\",\"\",VLOOKUP(A161,'RIDOT STU History (inputs)'!$A$5:$K$93,11,0))","v":""},null,null,null,null,null,null,null,null,null,""]
[null,{"$f":"IF(A162=\"\",\"\",VLOOKUP(A162,STU!$A$5:$S$150,7,0))","v":""},{"$f":"IF(A162=\"\",\"\",VLOOKUP(A162,'RIDOT STU History (inputs)'!$A$5:$K$93,11,0))","v":""},null,null,null,null,null,null,null,null,null,""]
[null,{"$f":"IF(A163=\"\",\"\",VLOOKUP(A163,STU!$A$5:$S$150,7,0))","v":""},{"$f":"IF(A163=\"\",\"\",VLOOKUP(A163,'RIDOT STU History (inputs)'!$A$5:$K$93,11,0))","v":""},null,null,null,null,null,null,null,null,null,""]
[null,{"$f":"IF(A164=\"\",\"\",VLOOKUP(A164,STU!$A$5:$S$150,7,0))","v":""},{"$f":"IF(A164=\"\",\"\",VLOOKUP(A164,'RIDOT STU History (inputs)'!$A$5:$K$93,11,0))","v":""},null,null,null,null,null,null,null,null,null,""]
[null,{"$f":"IF(A165=\"\",\"\",VLOOKUP(A165,STU!$A$5:$S$150,7,0))","v":""},{"$f":"IF(A165=\"\",\"\",VLOOKUP(A165,'RIDOT STU History (inputs)'!$A$5:$K$93,11,0))","v":""},null,null,null,null,null,null,null,null,null,""]
[null,{"$f":"IF(A166=\"\",\"\",VLOOKUP(A166,STU!$A$5:$S$150,7,0))","v":""},{"$f":"IF(A166=\"\",\"\",VLOOKUP(A166,'RIDOT STU History (inputs)'!$A$5:$K$93,11,0))","v":""},null,null,null,null,null,null,null,null,null,""]
[null,{"$f":"IF(A167=\"\",\"\",VLOOKUP(A167,STU!$A$5:$S$150,7,0))","v":""},{"$f":"IF(A167=\"\",\"\",VLOOKUP(A167,'RIDOT STU History (inputs)'!$A$5:$K$93,11,0))","v":""},null,null,null,null,null,null,null,null,null,""]
[null,{"$f":"IF(A168=\"\",\"\",VLOOKUP(A168,STU!$A$5:$S$150,7,0))","v":""},{"$f":"IF(A168=\"\",\"\",VLOOKUP(A168,'RIDOT STU History (inputs)'!$A$5:$K$93,11,0))","v":""},null,null,null,null,null,null,null,null,null,""]
[null,{"$f":"IF(A169=\"\",\"\",VLOOKUP(A169,STU!$A$5:$S$150,7,0))","v":""},{"$f":"IF(A169=\"\",\"\",VLOOKUP(A169,'RIDOT STU History (inputs)'!$A$5:$K$93,11,0))","v":""},null,null,null,null,null,null,null,null,null,""]
[null,{"$f":"IF(A170=\"\",\"\",VLOOKUP(A170,STU!$A$5:$S$150,7,0))","v":""},{"$f":"IF(A170=\"\",\"\",VLOOKUP(A170,'RIDOT STU History (inputs)'!$A$5:$K$93,11,0))","v":""},null,null,null,null,null,null,null,null,null,""]
[null,{"$f":"IF(A171=\"\",\"\",VLOOKUP(A171,STU!$A$5:$S$150,7,0))","v":""},{"$f":"IF(A171=\"\",\"\",VLOOKUP(A171,'RIDOT STU History (inputs)'!$A$5:$K$93,11,0))","v":""},null,null,null,null,null,null,null,null,null,""]
[null,{"$f":"IF(A172=\"\",\"\",VLOOKUP(A172,STU!$A$5:$S$150,7,0))","v":""},{"$f":"IF(A172=\"\",\"\",VLOOKUP(A172,'RIDOT STU History (inputs)'!$A$5:$K$93,11,0))","v":""},null,null,null,null,null,null,null,null,null,""]
[null,{"$f":"IF(A173=\"\",\"\",VLOOKUP(A173,STU!$A$5:$S$150,7,0))","v":""},{"$f":"IF(A173=\"\",\"\",VLOOKUP(A173,'RIDOT STU History (inputs)'!$A$5:$K$93,11,0))","v":""},null,null,null,null,null,null,null,null,null,""]
[null,{"$f":"IF(A174=\"\",\"\",VLOOKUP(A174,STU!$A$5:$S$150,7,0))","v":""},{"$f":"IF(A174=\"\",\"\",VLOOKUP(A174,'RIDOT STU History (inputs)'!$A$5:$K$93,11,0))","v":""},null,null,null,null,null,null,null,null,null,""]
[null,{"$f":"IF(A175=\"\",\"\",VLOOKUP(A175,STU!$A$5:$S$150,7,0))","v":""},{"$f":"IF(A175=\"\",\"\",VLOOKUP(A175,'RIDOT STU History (inputs)'!$A$5:$K$93,11,0))","v":""},null,null,null,null,null,null,null,null,null,""]
[null,{"$f":"IF(A176=\"\",\"\",VLOOKUP(A176,STU!$A$5:$S$150,7,0))","v":""},{"$f":"IF(A176=\"\",\"\",VLOOKUP(A176,'RIDOT STU History (inputs)'!$A$5:$K$93,11,0))","v":""},null,null,null,null,null,null,null,null,null,""]
[null,{"$f":"IF(A177=\"\",\"\",VLOOKUP(A177,STU!$A$5:$S$150,7,0))","v":""},{"$f":"IF(A177=\"\",\"\",VLOOKUP(A177,'RIDOT STU History (inputs)'!$A$5:$K$93,11,0))","v":""},null,null,null,null,null,null,null,null,null,""]
[null,{"$f":"IF(A178=\"\",\"\",VLOOKUP(A178,STU!$A$5:$S$150,7,0))","v":""},{"$f":"IF(A178=\"\",\"\",VLOOKUP(A178,'RIDOT STU History (inputs)'!$A$5:$K$93,11,0))","v":""},null,null,null,null,null,null,null,null,null,""]
[null,{"$f":"IF(A179=\"\",\"\",VLOOKUP(A179,STU!$A$5:$S$150,7,0))","v":""},{"$f":"IF(A179=\"\",\"\",VLOOKUP(A179,'RIDOT STU History (inputs)'!$A$5:$K$93,11,0))","v":""},null,null,null,null,null,null,null,null,null,""]
[null,{"$f":"IF(A180=\"\",\"\",VLOOKUP(A180,STU!$A$5:$S$150,7,0))","v":""},{"$f":"IF(A180=\"\",\"\",VLOOKUP(A180,'RIDOT STU History (inputs)'!$A$5:$K$93,11,0))","v":""},null,null,null,null,null,null,null,null,null,""]
[null,{"$f":"IF(A181=\"\",\"\",VLOOKUP(A181,STU!$A$5:$S$150,7,0))","v":""},{"$f":"IF(A181=\"\",\"\",VLOOKUP(A181,'RIDOT STU History (inputs)'!$A$5:$K$93,11,0))","v":""},null,null,null,null,null,null,null,null,null,""]
[null,{"$f":"IF(A182=\"\",\"\",VLOOKUP(A182,STU!$A$5:$S$150,7,0))","v":""},{"$f":"IF(A182=\"\",\"\",VLOOKUP(A182,'RIDOT STU History (inputs)'!$A$5:$K$93,11,0))","v":""},null,null,null,null,null,null,null,null,null,""]
[null,{"$f":"IF(A183=\"\",\"\",VLOOKUP(A183,STU!$A$5:$S$150,7,0))","v":""},{"$f":"IF(A183=\"\",\"\",VLOOKUP(A183,'RIDOT STU History (inputs)'!$A$5:$K$93,11,0))","v":""},null,null,null,null,null,null,null,null,null,""]
[null,{"$f":"IF(A184=\"\",\"\",VLOOKUP(A184,STU!$A$5:$S$150,7,0))","v":""},{"$f":"IF(A184=\"\",\"\",VLOOKUP(A184,'RIDOT STU History (inputs)'!$A$5:$K$93,11,0))","v":""},null,null,null,null,null,null,null,null,null,""]
[null,{"$f":"IF(A185=\"\",\"\",VLOOKUP(A185,STU!$A$5:$S$150,7,0))","v":""},{"$f":"IF(A185=\"\",\"\",VLOOKUP(A185,'RIDOT STU History (inputs)'!$A$5:$K$93,11,0))","v":""},null,null,null,null,null,null,null,null,null,""]
[null,{"$f":"IF(A186=\"\",\"\",VLOOKUP(A186,STU!$A$5:$S$150,7,0))","v":""},{"$f":"IF(A186=\"\",\"\",VLOOKUP(A186,'RIDOT STU History (inputs)'!$A$5:$K$93,11,0))","v":""},null,null,null,null,null,null,null,null,null,""]
[null,{"$f":"IF(A187=\"\",\"\",VLOOKUP(A187,STU!$A$5:$S$150,7,0))","v":""},{"$f":"IF(A187=\"\",\"\",VLOOKUP(A187,'RIDOT STU History (inputs)'!$A$5:$K$93,11,0))","v":""},null,null,null,null,null,null,null,null,null,""]
[null,{"$f":"IF(A188=\"\",\"\",VLOOKUP(A188,STU!$A$5:$S$150,7,0))","v":""},{"$f":"IF(A188=\"\",\"\",VLOOKUP(A188,'RIDOT STU History (inputs)'!$A$5:$K$93,11,0))","v":""},null,null,null,null,null,null,null,null,null,""]
[null,{"$f":"IF(A189=\"\",\"\",VLOOKUP(A189,STU!$A$5:$S$150,7,0))","v":""},{"$f":"IF(A189=\"\",\"\",VLOOKUP(A189,'RIDOT STU History (inputs)'!$A$5:$K$93,11,0))","v":""},null,null,null,null,null,null,null,null,null,""]
[null,{"$f":"IF(A190=\"\",\"\",VLOOKUP(A190,STU!$A$5:$S$150,7,0))","v":""},{"$f":"IF(A190=\"\",\"\",VLOOKUP(A190,'RIDOT STU History (inputs)'!$A$5:$K$93,11,0))","v":""},null,null,null,null,null,null,null,null,null,""]
[null,{"$f":"IF(A191=\"\",\"\",VLOOKUP(A191,STU!$A$5:$S$150,7,0))","v":""},{"$f":"IF(A191=\"\",\"\",VLOOKUP(A191,'RIDOT STU History (inputs)'!$A$5:$K$93,11,0))","v":""},null,null,null,null,null,null,null,null,null,""]
[null,{"$f":"IF(A192=\"\",\"\",VLOOKUP(A192,STU!$A$5:$S$150,7,0))","v":""},{"$f":"IF(A192=\"\",\"\",VLOOKUP(A192,'RIDOT STU History (inputs)'!$A$5:$K$93,11,0))","v":""},null,null,null,null,null,null,null,null,null,""]
[null,{"$f":"IF(A193=\"\",\"\",VLOOKUP(A193,STU!$A$5:$S$150,7,0))","v":""},{"$f":"IF(A193=\"\",\"\",VLOOKUP(A193,'RIDOT STU History (inputs)'!$A$5:$K$93,11,0))","v":""},null,null,null,null,null,null,null,null,null,""]
[null,{"$f":"IF(A194=\"\",\"\",VLOOKUP(A194,STU!$A$5:$S$150,7,0))","v":""},{"$f":"IF(A194=\"\",\"\",VLOOKUP(A194,'RIDOT STU History (inputs)'!$A$5:$K$93,11,0))","v":""},null,null,null,null,null,null,null,null,null,""]
[null,{"$f":"IF(A195=\"\",\"\",VLOOKUP(A195,STU!$A$5:$S$150,7,0))","v":""},{"$f":"IF(A195=\"\",\"\",VLOOKUP(A195,'RIDOT STU History (inputs)'!$A$5:$K$93,11,0))","v":""},null,null,null,null,null,null,null,null,null,""]
[null,{"$f":"IF(A196=\"\",\"\",VLOOKUP(A196,STU!$A$5:$S$150,7,0))","v":""},{"$f":"IF(A196=\"\",\"\",VLOOKUP(A196,'RIDOT STU History (inputs)'!$A$5:$K$93,11,0))","v":""},null,null,null,null,null,null,null,null,null,""]
[null,{"$f":"IF(A197=\"\",\"\",VLOOKUP(A197,STU!$A$5:$S$150,7,0))","v":""},{"$f":"IF(A197=\"\",\"\",VLOOKUP(A197,'RIDOT STU History (inputs)'!$A$5:$K$93,11,0))","v":""},null,null,null,null,null,null,null,null,null,""]
[null,{"$f":"IF(A198=\"\",\"\",VLOOKUP(A198,STU!$A$5:$S$150,7,0))","v":""},{"$f":"IF(A198=\"\",\"\",VLOOKUP(A198,'RIDOT STU History (inputs)'!$A$5:$K$93,11,0))","v":""},null,null,null,null,null,null,null,null,null,""]
[null,{"$f":"IF(A199=\"\",\"\",VLOOKUP(A199,STU!$A$5:$S$150,7,0))","v":""},{"$f":"IF(A199=\"\",\"\",VLOOKUP(A199,'RIDOT STU History (inputs)'!$A$5:$K$93,11,0))","v":""},null,null,null,null,null,null,null,null,null,""]
[null,{"$f":"IF(A200=\"\",\"\",VLOOKUP(A200,STU!$A$5:$S$150,7,0))","v":""},{"$f":"IF(A200=\"\",\"\",VLOOKUP(A200,'RIDOT STU History (inputs)'!$A$5:$K$93,11,0))","v":""},null,null,null,null,null,null,null,null,null,""]
[null,{"$f":"IF(A201=\"\",\"\",VLOOKUP(A201,STU!$A$5:$S$150,7,0))","v":""},{"$f":"IF(A201=\"\",\"\",VLOOKUP(A201,'RIDOT STU History (inputs)'!$A$5:$K$93,11,0))","v":""},null,null,null,null,null,null,null,null,null,""]
[null,{"$f":"IF(A202=\"\",\"\",VLOOKUP(A202,STU!$A$5:$S$150,7,0))","v":""},{"$f":"IF(A202=\"\",\"\",VLOOKUP(A202,'RIDOT STU History (inputs)'!$A$5:$K$93,11,0))","v":""},null,null,null,null,null,null,null,null,null,""]
[null,{"$f":"IF(A203=\"\",\"\",VLOOKUP(A203,STU!$A$5:$S$150,7,0))","v":""},{"$f":"IF(A203=\"\",\"\",VLOOKUP(A203,'RIDOT STU History (inputs)'!$A$5:$K$93,11,0))","v":""},null,null,null,null,null,null,null,null,null,""]
[null,{"$f":"IF(A204=\"\",\"\",VLOOKUP(A204,STU!$A$5:$S$150,7,0))","v":""},{"$f":"IF(A204=\"\",\"\",VLOOKUP(A204,'RIDOT STU History (inputs)'!$A$5:$K$93,11,0))","v":""},null,null,null,null,null,null,null,null,null,{"$f":"IF(A204=\"\",\"\",ROUND((D204*E204*F204)+(H204*J204*K204*I204),0))","v":""}]
[null,{"$f":"IF(A205=\"\",\"\",VLOOKUP(A205,STU!$A$5:$S$150,7,0))","v":""},{"$f":"IF(A205=\"\",\"\",VLOOKUP(A205,'RIDOT STU History (inputs)'!$A$5:$K$93,11,0))","v":""},null,null,null,null,null,null,null,null,null,""]
[null,{"$f":"IF(A206=\"\",\"\",VLOOKUP(A206,STU!$A$5:$S$150,7,0))","v":""},{"$f":"IF(A206=\"\",\"\",VLOOKUP(A206,'RIDOT STU History (inputs)'!$A$5:$K$93,11,0))","v":""},null,null,null,null,null,null,null,null,null,""]
[null,{"$f":"IF(A207=\"\",\"\",VLOOKUP(A207,STU!$A$5:$S$150,7,0))","v":""},{"$f":"IF(A207=\"\",\"\",VLOOKUP(A207,'RIDOT STU History (inputs)'!$A$5:$K$93,11,0))","v":""},null,null,null,null,null,null,null,null,null,""]
[null,{"$f":"IF(A208=\"\",\"\",VLOOKUP(A208,STU!$A$5:$S$150,7,0))","v":""},{"$f":"IF(A208=\"\",\"\",VLOOKUP(A208,'RIDOT STU History (inputs)'!$A$5:$K$93,11,0))","v":""},null,null,null,null,null,null,null,null,null,""]
[null,{"$f":"IF(A209=\"\",\"\",VLOOKUP(A209,STU!$A$5:$S$150,7,0))","v":""},{"$f":"IF(A209=\"\",\"\",VLOOKUP(A209,'RIDOT STU History (inputs)'!$A$5:$K$93,11,0))","v":""},null,null,null,null,null,null,null,null,null,""]
[null,{"$f":"IF(A210=\"\",\"\",VLOOKUP(A210,STU!$A$5:$S$150,7,0))","v":""},{"$f":"IF(A210=\"\",\"\",VLOOKUP(A210,'RIDOT STU History (inputs)'!$A$5:$K$93,11,0))","v":""},null,null,null,null,null,null,null,null,null,""]
[null,{"$f":"IF(A211=\"\",\"\",VLOOKUP(A211,STU!$A$5:$S$150,7,0))","v":""},{"$f":"IF(A211=\"\",\"\",VLOOKUP(A211,'RIDOT STU History (inputs)'!$A$5:$K$93,11,0))","v":""},null,null,null,null,null,null,null,null,null,""]
[null,{"$f":"IF(A212=\"\",\"\",VLOOKUP(A212,STU!$A$5:$S$150,7,0))","v":""},{"$f":"IF(A212=\"\",\"\",VLOOKUP(A212,'RIDOT STU History (inputs)'!$A$5:$K$93,11,0))","v":""},null,null,null,null,null,null,null,null,null,""]
[null,{"$f":"IF(A213=\"\",\"\",VLOOKUP(A213,STU!$A$5:$S$150,7,0))","v":""},{"$f":"IF(A213=\"\",\"\",VLOOKUP(A213,'RIDOT STU History (inputs)'!$A$5:$K$93,11,0))","v":""},null,null,null,null,null,null,null,null,null,""]
[null,{"$f":"IF(A214=\"\",\"\",VLOOKUP(A214,STU!$A$5:$S$150,7,0))","v":""},{"$f":"IF(A214=\"\",\"\",VLOOKUP(A214,'RIDOT STU History (inputs)'!$A$5:$K$93,11,0))","v":""},null,null,null,null,null,null,null,null,null,""]
[null,{"$f":"IF(A215=\"\",\"\",VLOOKUP(A215,STU!$A$5:$S$150,7,0))","v":""},{"$f":"IF(A215=\"\",\"\",VLOOKUP(A215,'RIDOT STU History (inputs)'!$A$5:$K$93,11,0))","v":""},null,null,null,null,null,null,null,null,null,""]
[null,{"$f":"IF(A216=\"\",\"\",VLOOKUP(A216,STU!$A$5:$S$150,7,0))","v":""},{"$f":"IF(A216=\"\",\"\",VLOOKUP(A216,'RIDOT STU History (inputs)'!$A$5:$K$93,11,0))","v":""},null,null,null,null,null,null,null,null,null,""]
[null,{"$f":"IF(A217=\"\",\"\",VLOOKUP(A217,STU!$A$5:$S$150,7,0))","v":""},{"$f":"IF(A217=\"\",\"\",VLOOKUP(A217,'RIDOT STU History (inputs)'!$A$5:$K$93,11,0))","v":""},null,null,null,null,null,null,null,null,null,""]
[null,{"$f":"IF(A218=\"\",\"\",VLOOKUP(A218,STU!$A$5:$S$150,7,0))","v":""},{"$f":"IF(A218=\"\",\"\",VLOOKUP(A218,'RIDOT STU History (inputs)'!$A$5:$K$93,11,0))","v":""},null,null,null,null,null,null,null,null,null,""]
[null,{"$f":"IF(A219=\"\",\"\",VLOOKUP(A219,STU!$A$5:$S$150,7,0))","v":""},{"$f":"IF(A219=\"\",\"\",VLOOKUP(A219,'RIDOT STU History (inputs)'!$A$5:$K$93,11,0))","v":""},null,null,null,null,null,null,null,null,null,""]
[null,{"$f":"IF(A220=\"\",\"\",VLOOKUP(A220,STU!$A$5:$S$150,7,0))","v":""},{"$f":"IF(A220=\"\",\"\",VLOOKUP(A220,'RIDOT STU History (inputs)'!$A$5:$K$93,11,0))","v":""},null,null,null,null,null,null,null,null,null,""]
[null,{"$f":"IF(A221=\"\",\"\",VLOOKUP(A221,STU!$A$5:$S$150,7,0))","v":""},{"$f":"IF(A221=\"\",\"\",VLOOKUP(A221,'RIDOT STU History (inputs)'!$A$5:$K$93,11,0))","v":""},null,null,null,null,null,null,null,null,null,""]
[null,{"$f":"IF(A222=\"\",\"\",VLOOKUP(A222,STU!$A$5:$S$150,7,0))","v":""},{"$f":"IF(A222=\"\",\"\",VLOOKUP(A222,'RIDOT STU History (inputs)'!$A$5:$K$93,11,0))","v":""},null,null,null,null,null,null,null,null,null,""]
[null,{"$f":"IF(A223=\"\",\"\",VLOOKUP(A223,STU!$A$5:$S$150,7,0))","v":""},{"$f":"IF(A223=\"\",\"\",VLOOKUP(A223,'RIDOT STU History (inputs)'!$A$5:$K$93,11,0))","v":""},null,null,null,null,null,null,null,null,null,""]
[null,{"$f":"IF(A224=\"\",\"\",VLOOKUP(A224,STU!$A$5:$S$150,7,0))","v":""},{"$f":"IF(A224=\"\",\"\",VLOOKUP(A224,'RIDOT STU History (inputs)'!$A$5:$K$93,11,0))","v":""},null,null,null,null,null,null,null,null,null,""]
[null,{"$f":"IF(A225=\"\",\"\",VLOOKUP(A225,STU!$A$5:$S$150,7,0))","v":""},{"$f":"IF(A225=\"\",\"\",VLOOKUP(A225,'RIDOT STU History (inputs)'!$A$5:$K$93,11,0))","v":""},null,null,null,null,null,null,null,null,null,""]
[null,{"$f":"IF(A226=\"\",\"\",VLOOKUP(A226,STU!$A$5:$S$150,7,0))","v":""},{"$f":"IF(A226=\"\",\"\",VLOOKUP(A226,'RIDOT STU History (inputs)'!$A$5:$K$93,11,0))","v":""},null,null,null,null,null,null,null,null,null,""]
[null,{"$f":"IF(A227=\"\",\"\",VLOOKUP(A227,STU!$A$5:$S$150,7,0))","v":""},{"$f":"IF(A227=\"\",\"\",VLOOKUP(A227,'RIDOT STU History (inputs)'!$A$5:$K$93,11,0))","v":""},null,null,null,null,null,null,null,null,null,""]
[null,{"$f":"IF(A228=\"\",\"\",VLOOKUP(A228,STU!$A$5:$S$150,7,0))","v":""},{"$f":"IF(A228=\"\",\"\",VLOOKUP(A228,'RIDOT STU History (inputs)'!$A$5:$K$93,11,0))","v":""},null,null,null,null,null,null,null,null,null,""]
[null,{"$f":"IF(A229=\"\",\"\",VLOOKUP(A229,STU!$A$5:$S$150,7,0))","v":""},{"$f":"IF(A229=\"\",\"\",VLOOKUP(A229,'RIDOT STU History (inputs)'!$A$5:$K$93,11,0))","v":""},null,null,null,null,null,null,null,null,null,""]
[null,{"$f":"IF(A230=\"\",\"\",VLOOKUP(A230,STU!$A$5:$S$150,7,0))","v":""},{"$f":"IF(A230=\"\",\"\",VLOOKUP(A230,'RIDOT STU History (inputs)'!$A$5:$K$93,11,0))","v":""},null,null,null,null,null,null,null,null,null,""]
[null,{"$f":"IF(A231=\"\",\"\",VLOOKUP(A231,STU!$A$5:$S$150,7,0))","v":""},{"$f":"IF(A231=\"\",\"\",VLOOKUP(A231,'RIDOT STU History (inputs)'!$A$5:$K$93,11,0))","v":""},null,null,null,null,null,null,null,null,null,""]
[null,{"$f":"IF(A232=\"\",\"\",VLOOKUP(A232,STU!$A$5:$S$150,7,0))","v":""},{"$f":"IF(A232=\"\",\"\",VLOOKUP(A232,'RIDOT STU History (inputs)'!$A$5:$K$93,11,0))","v":""},null,null,null,null,null,null,null,null,null,""]
[null,{"$f":"IF(A233=\"\",\"\",VLOOKUP(A233,STU!$A$5:$S$150,7,0))","v":""},{"$f":"IF(A233=\"\",\"\",VLOOKUP(A233,'RIDOT STU History (inputs)'!$A$5:$K$93,11,0))","v":""},null,null,null,null,null,null,null,null,null,""]
[null,{"$f":"IF(A234=\"\",\"\",VLOOKUP(A234,STU!$A$5:$S$150,7,0))","v":""},{"$f":"IF(A234=\"\",\"\",VLOOKUP(A234,'RIDOT STU History (inputs)'!$A$5:$K$93,11,0))","v":""},null,null,null,null,null,null,null,null,null,""]
[null,{"$f":"IF(A235=\"\",\"\",VLOOKUP(A235,STU!$A$5:$S$150,7,0))","v":""},{"$f":"IF(A235=\"\",\"\",VLOOKUP(A235,'RIDOT STU History (inputs)'!$A$5:$K$93,11,0))","v":""},null,null,null,null,null,null,null,null,null,""]
[null,{"$f":"IF(A236=\"\",\"\",VLOOKUP(A236,STU!$A$5:$S$150,7,0))","v":""},{"$f":"IF(A236=\"\",\"\",VLOOKUP(A236,'RIDOT STU History (inputs)'!$A$5:$K$93,11,0))","v":""},null,null,null,null,null,null,null,null,null,""]
[null,{"$f":"IF(A237=\"\",\"\",VLOOKUP(A237,STU!$A$5:$S$150,7,0))","v":""},{"$f":"IF(A237=\"\",\"\",VLOOKUP(A237,'RIDOT STU History (inputs)'!$A$5:$K$93,11,0))","v":""},null,null,null,null,null,null,null,null,null,""]
[null,{"$f":"IF(A238=\"\",\"\",VLOOKUP(A238,STU!$A$5:$S$150,7,0))","v":""},{"$f":"IF(A238=\"\",\"\",VLOOKUP(A238,'RIDOT STU History (inputs)'!$A$5:$K$93,11,0))","v":""},null,null,null,null,null,null,null,null,null,""]
[null,{"$f":"IF(A239=\"\",\"\",VLOOKUP(A239,STU!$A$5:$S$150,7,0))","v":""},{"$f":"IF(A239=\"\",\"\",VLOOKUP(A239,'RIDOT STU History (inputs)'!$A$5:$K$93,11,0))","v":""},null,null,null,null,null,null,null,null,null,""]
[null,{"$f":"IF(A240=\"\",\"\",VLOOKUP(A240,STU!$A$5:$S$150,7,0))","v":""},{"$f":"IF(A240=\"\",\"\",VLOOKUP(A240,'RIDOT STU History (inputs)'!$A$5:$K$93,11,0))","v":""},null,null,null,null,null,null,null,null,null,""]
[null,{"$f":"IF(A241=\"\",\"\",VLOOKUP(A241,STU!$A$5:$S$150,7,0))","v":""},{"$f":"IF(A241=\"\",\"\",VLOOKUP(A241,'RIDOT STU History (inputs)'!$A$5:$K$93,11,0))","v":""},null,null,null,null,null,null,null,null,null,""]
[null,{"$f":"IF(A242=\"\",\"\",VLOOKUP(A242,STU!$A$5:$S$150,7,0))","v":""},{"$f":"IF(A242=\"\",\"\",VLOOKUP(A242,'RIDOT STU History (inputs)'!$A$5:$K$93,11,0))","v":""},null,null,null,null,null,null,null,null,null,""]
[null,{"$f":"IF(A243=\"\",\"\",VLOOKUP(A243,STU!$A$5:$S$150,7,0))","v":""},{"$f":"IF(A243=\"\",\"\",VLOOKUP(A243,'RIDOT STU History (inputs)'!$A$5:$K$93,11,0))","v":""},null,null,null,null,null,null,null,null,null,""]
[null,{"$f":"IF(A244=\"\",\"\",VLOOKUP(A244,STU!$A$5:$S$150,7,0))","v":""},{"$f":"IF(A244=\"\",\"\",VLOOKUP(A244,'RIDOT STU History (inputs)'!$A$5:$K$93,11,0))","v":""},null,null,null,null,null,null,null,null,null,""]
[null,{"$f":"IF(A245=\"\",\"\",VLOOKUP(A245,STU!$A$5:$S$150,7,0))","v":""},{"$f":"IF(A245=\"\",\"\",VLOOKUP(A245,'RIDOT STU History (inputs)'!$A$5:$K$93,11,0))","v":""},null,null,null,null,null,null,null,null,null,""]
[null,{"$f":"IF(A246=\"\",\"\",VLOOKUP(A246,STU!$A$5:$S$150,7,0))","v":""},{"$f":"IF(A246=\"\",\"\",VLOOKUP(A246,'RIDOT STU History (inputs)'!$A$5:$K$93,11,0))","v":""},null,null,null,null,null,null,null,null,null,""]
[null,{"$f":"IF(A247=\"\",\"\",VLOOKUP(A247,STU!$A$5:$S$150,7,0))","v":""},{"$f":"IF(A247=\"\",\"\",VLOOKUP(A247,'RIDOT STU History (inputs)'!$A$5:$K$93,11,0))","v":""},null,null,null,null,null,null,null,null,null,""]
[null,{"$f":"IF(A248=\"\",\"\",VLOOKUP(A248,STU!$A$5:$S$150,7,0))","v":""},{"$f":"IF(A248=\"\",\"\",VLOOKUP(A248,'RIDOT STU History (inputs)'!$A$5:$K$93,11,0))","v":""},null,null,null,null,null,null,null,null,null,""]
[null,{"$f":"IF(A249=\"\",\"\",VLOOKUP(A249,STU!$A$5:$S$150,7,0))","v":""},{"$f":"IF(A249=\"\",\"\",VLOOKUP(A249,'RIDOT STU History (inputs)'!$A$5:$K$93,11,0))","v":""},null,null,null,null,null,null,null,null,null,""]
[null,{"$f":"IF(A250=\"\",\"\",VLOOKUP(A250,STU!$A$5:$S$150,7,0))","v":""},{"$f":"IF(A250=\"\",\"\",VLOOKUP(A250,'RIDOT STU History (inputs)'!$A$5:$K$93,11,0))","v":""},null,null,null,null,null,null,null,null,null,""]
[null,{"$f":"IF(A251=\"\",\"\",VLOOKUP(A251,STU!$A$5:$S$150,7,0))","v":""},{"$f":"IF(A251=\"\",\"\",VLOOKUP(A251,'RIDOT STU History (inputs)'!$A$5:$K$93,11,0))","v":""},null,null,null,null,null,null,null,null,null,""]
[null,{"$f":"IF(A252=\"\",\"\",VLOOKUP(A252,STU!$A$5:$S$150,7,0))","v":""},{"$f":"IF(A252=\"\",\"\",VLOOKUP(A252,'RIDOT STU History (inputs)'!$A$5:$K$93,11,0))","v":""},null,null,null,null,null,null,null,null,null,""]
[null,{"$f":"IF(A253=\"\",\"\",VLOOKUP(A253,STU!$A$5:$S$150,7,0))","v":""},{"$f":"IF(A253=\"\",\"\",VLOOKUP(A253,'RIDOT STU History (inputs)'!$A$5:$K$93,11,0))","v":""},null,null,null,null,null,null,null,null,null,""]
[null,{"$f":"IF(A254=\"\",\"\",VLOOKUP(A254,STU!$A$5:$S$150,7,0))","v":""},{"$f":"IF(A254=\"\",\"\",VLOOKUP(A254,'RIDOT STU History (inputs)'!$A$5:$K$93,11,0))","v":""},null,null,null,null,null,null,null,null,null,""]
[null,{"$f":"IF(A255=\"\",\"\",VLOOKUP(A255,STU!$A$5:$S$150,7,0))","v":""},{"$f":"IF(A255=\"\",\"\",VLOOKUP(A255,'RIDOT STU History (inputs)'!$A$5:$K$93,11,0))","v":""},null,null,null,null,null,null,null,null,null,""]
[null,{"$f":"IF(A256=\"\",\"\",VLOOKUP(A256,STU!$A$5:$S$150,7,0))","v":""},{"$f":"IF(A256=\"\",\"\",VLOOKUP(A256,'RIDOT STU History (inputs)'!$A$5:$K$93,11,0))","v":""},null,null,null,null,null,null,null,null,null,""]
[null,{"$f":"IF(A257=\"\",\"\",VLOOKUP(A257,STU!$A$5:$S$150,7,0))","v":""},{"$f":"IF(A257=\"\",\"\",VLOOKUP(A257,'RIDOT STU History (inputs)'!$A$5:$K$93,11,0))","v":""},null,null,null,null,null,null,null,null,null,""]
[null,{"$f":"IF(A258=\"\",\"\",VLOOKUP(A258,STU!$A$5:$S$150,7,0))","v":""},{"$f":"IF(A258=\"\",\"\",VLOOKUP(A258,'RIDOT STU History (inputs)'!$A$5:$K$93,11,0))","v":""},null,null,null,null,null,null,null,null,null,""]
[null,{"$f":"IF(A259=\"\",\"\",VLOOKUP(A259,STU!$A$5:$S$150,7,0))","v":""},{"$f":"IF(A259=\"\",\"\",VLOOKUP(A259,'RIDOT STU History (inputs)'!$A$5:$K$93,11,0))","v":""},null,null,null,null,null,null,null,null,null,""]
[null,{"$f":"IF(A260=\"\",\"\",VLOOKUP(A260,STU!$A$5:$S$150,7,0))","v":""},{"$f":"IF(A260=\"\",\"\",VLOOKUP(A260,'RIDOT STU History (inputs)'!$A$5:$K$93,11,0))","v":""},null,null,null,null,null,null,null,null,null,""]
[null,{"$f":"IF(A261=\"\",\"\",VLOOKUP(A261,STU!$A$5:$S$150,7,0))","v":""},{"$f":"IF(A261=\"\",\"\",VLOOKUP(A261,'RIDOT STU History (inputs)'!$A$5:$K$93,11,0))","v":""},null,null,null,null,null,null,null,null,null,""]
[null,{"$f":"IF(A262=\"\",\"\",VLOOKUP(A262,STU!$A$5:$S$150,7,0))","v":""},{"$f":"IF(A262=\"\",\"\",VLOOKUP(A262,'RIDOT STU History (inputs)'!$A$5:$K$93,11,0))","v":""},null,null,null,null,null,null,null,null,null,""]
[null,{"$f":"IF(A263=\"\",\"\",VLOOKUP(A263,STU!$A$5:$S$150,7,0))","v":""},{"$f":"IF(A263=\"\",\"\",VLOOKUP(A263,'RIDOT STU History (inputs)'!$A$5:$K$93,11,0))","v":""},null,null,null,null,null,null,null,null,null,""]
[null,{"$f":"IF(A264=\"\",\"\",VLOOKUP(A264,STU!$A$5:$S$150,7,0))","v":""},{"$f":"IF(A264=\"\",\"\",VLOOKUP(A264,'RIDOT STU History (inputs)'!$A$5:$K$93,11,0))","v":""},null,null,null,null,null,null,null,null,null,""]
[null,{"$f":"IF(A265=\"\",\"\",VLOOKUP(A265,STU!$A$5:$S$150,7,0))","v":""},{"$f":"IF(A265=\"\",\"\",VLOOKUP(A265,'RIDOT STU History (inputs)'!$A$5:$K$93,11,0))","v":""},null,null,null,null,null,null,null,null,null,""]
[null,{"$f":"IF(A266=\"\",\"\",VLOOKUP(A266,STU!$A$5:$S$150,7,0))","v":""},{"$f":"IF(A266=\"\",\"\",VLOOKUP(A266,'RIDOT STU History (inputs)'!$A$5:$K$93,11,0))","v":""},null,null,null,null,null,null,null,null,null,""]
[null,{"$f":"IF(A267=\"\",\"\",VLOOKUP(A267,STU!$A$5:$S$150,7,0))","v":""},{"$f":"IF(A267=\"\",\"\",VLOOKUP(A267,'RIDOT STU History (inputs)'!$A$5:$K$93,11,0))","v":""},null,null,null,null,null,null,null,null,null,""]
[null,{"$f":"IF(A268=\"\",\"\",VLOOKUP(A268,STU!$A$5:$S$150,7,0))","v":""},{"$f":"IF(A268=\"\",\"\",VLOOKUP(A268,'RIDOT STU History (inputs)'!$A$5:$K$93,11,0))","v":""},null,null,null,null,null,null,null,null,null,{"$f":"IF(A268=\"\",\"\",ROUND((D268*E268*F268)+(H268*J268*K268*I268),0))","v":""}]
[null,{"$f":"IF(A269=\"\",\"\",VLOOKUP(A269,STU!$A$5:$S$150,7,0))","v":""},{"$f":"IF(A269=\"\",\"\",VLOOKUP(A269,'RIDOT STU History (inputs)'!$A$5:$K$93,11,0))","v":""},null,null,null,null,null,null,null,null,null,""]
[null,{"$f":"IF(A270=\"\",\"\",VLOOKUP(A270,STU!$A$5:$S$150,7,0))","v":""},{"$f":"IF(A270=\"\",\"\",VLOOKUP(A270,'RIDOT STU History (inputs)'!$A$5:$K$93,11,0))","v":""},null,null,null,null,null,null,null,null,null,""]
[null,{"$f":"IF(A271=\"\",\"\",VLOOKUP(A271,STU!$A$5:$S$150,7,0))","v":""},{"$f":"IF(A271=\"\",\"\",VLOOKUP(A271,'RIDOT STU History (inputs)'!$A$5:$K$93,11,0))","v":""},null,null,null,null,null,null,null,null,null,""]
[null,{"$f":"IF(A272=\"\",\"\",VLOOKUP(A272,STU!$A$5:$S$150,7,0))","v":""},{"$f":"IF(A272=\"\",\"\",VLOOKUP(A272,'RIDOT STU History (inputs)'!$A$5:$K$93,11,0))","v":""},null,null,null,null,null,null,null,null,null,""]
[null,{"$f":"IF(A273=\"\",\"\",VLOOKUP(A273,STU!$A$5:$S$150,7,0))","v":""},{"$f":"IF(A273=\"\",\"\",VLOOKUP(A273,'RIDOT STU History (inputs)'!$A$5:$K$93,11,0))","v":""},null,null,null,null,null,null,null,null,null,""]
[null,{"$f":"IF(A274=\"\",\"\",VLOOKUP(A274,STU!$A$5:$S$150,7,0))","v":""},{"$f":"IF(A274=\"\",\"\",VLOOKUP(A274,'RIDOT STU History (inputs)'!$A$5:$K$93,11,0))","v":""},null,null,null,null,null,null,null,null,null,""]
[null,{"$f":"IF(A275=\"\",\"\",VLOOKUP(A275,STU!$A$5:$S$150,7,0))","v":""},{"$f":"IF(A275=\"\",\"\",VLOOKUP(A275,'RIDOT STU History (inputs)'!$A$5:$K$93,11,0))","v":""},null,null,null,null,null,null,null,null,null,""]
[null,{"$f":"IF(A276=\"\",\"\",VLOOKUP(A276,STU!$A$5:$S$150,7,0))","v":""},{"$f":"IF(A276=\"\",\"\",VLOOKUP(A276,'RIDOT STU History (inputs)'!$A$5:$K$93,11,0))","v":""},null,null,null,null,null,null,null,null,null,""]
[null,{"$f":"IF(A277=\"\",\"\",VLOOKUP(A277,STU!$A$5:$S$150,7,0))","v":""},{"$f":"IF(A277=\"\",\"\",VLOOKUP(A277,'RIDOT STU History (inputs)'!$A$5:$K$93,11,0))","v":""},null,null,null,null,null,null,null,null,null,""]
[null,{"$f":"IF(A278=\"\",\"\",VLOOKUP(A278,STU!$A$5:$S$150,7,0))","v":""},{"$f":"IF(A278=\"\",\"\",VLOOKUP(A278,'RIDOT STU History (inputs)'!$A$5:$K$93,11,0))","v":""},null,null,null,null,null,null,null,null,null,""]
[null,{"$f":"IF(A279=\"\",\"\",VLOOKUP(A279,STU!$A$5:$S$150,7,0))","v":""},{"$f":"IF(A279=\"\",\"\",VLOOKUP(A279,'RIDOT STU History (inputs)'!$A$5:$K$93,11,0))","v":""},null,null,null,null,null,null,null,null,null,""]
[null,{"$f":"IF(A280=\"\",\"\",VLOOKUP(A280,STU!$A$5:$S$150,7,0))","v":""},{"$f":"IF(A280=\"\",\"\",VLOOKUP(A280,'RIDOT STU History (inputs)'!$A$5:$K$93,11,0))","v":""},null,null,null,null,null,null,null,null,null,""]
[null,{"$f":"IF(A281=\"\",\"\",VLOOKUP(A281,STU!$A$5:$S$150,7,0))","v":""},{"$f":"IF(A281=\"\",\"\",VLOOKUP(A281,'RIDOT STU History (inputs)'!$A$5:$K$93,11,0))","v":""},null,null,null,null,null,null,null,null,null,""]
[null,{"$f":"IF(A282=\"\",\"\",VLOOKUP(A282,STU!$A$5:$S$150,7,0))","v":""},{"$f":"IF(A282=\"\",\"\",VLOOKUP(A282,'RIDOT STU History (inputs)'!$A$5:$K$93,11,0))","v":""},null,null,null,null,null,null,null,null,null,""]
[null,{"$f":"IF(A283=\"\",\"\",VLOOKUP(A283,STU!$A$5:$S$150,7,0))","v":""},{"$f":"IF(A283=\"\",\"\",VLOOKUP(A283,'RIDOT STU History (inputs)'!$A$5:$K$93,11,0))","v":""},null,null,null,null,null,null,null,null,null,""]
[null,{"$f":"IF(A284=\"\",\"\",VLOOKUP(A284,STU!$A$5:$S$150,7,0))","v":""},{"$f":"IF(A284=\"\",\"\",VLOOKUP(A284,'RIDOT STU History (inputs)'!$A$5:$K$93,11,0))","v":""},null,null,null,null,null,null,null,null,null,""]
[null,{"$f":"IF(A285=\"\",\"\",VLOOKUP(A285,STU!$A$5:$S$150,7,0))","v":""},{"$f":"IF(A285=\"\",\"\",VLOOKUP(A285,'RIDOT STU History (inputs)'!$A$5:$K$93,11,0))","v":""},null,null,null,null,null,null,null,null,null,""]
[null,{"$f":"IF(A286=\"\",\"\",VLOOKUP(A286,STU!$A$5:$S$150,7,0))","v":""},{"$f":"IF(A286=\"\",\"\",VLOOKUP(A286,'RIDOT STU History (inputs)'!$A$5:$K$93,11,0))","v":""},null,null,null,null,null,null,null,null,null,""]
[null,{"$f":"IF(A287=\"\",\"\",VLOOKUP(A287,STU!$A$5:$S$150,7,0))","v":""},{"$f":"IF(A287=\"\",\"\",VLOOKUP(A287,'RIDOT STU History (inputs)'!$A$5:$K$93,11,0))","v":""},null,null,null,null,null,null,null,null,null,""]
[null,{"$f":"IF(A288=\"\",\"\",VLOOKUP(A288,STU!$A$5:$S$150,7,0))","v":""},{"$f":"IF(A288=\"\",\"\",VLOOKUP(A288,'RIDOT STU History (inputs)'!$A$5:$K$93,11,0))","v":""},null,null,null,null,null,null,null,null,null,""]
[null,{"$f":"IF(A289=\"\",\"\",VLOOKUP(A289,STU!$A$5:$S$150,7,0))","v":""},{"$f":"IF(A289=\"\",\"\",VLOOKUP(A289,'RIDOT STU History (inputs)'!$A$5:$K$93,11,0))","v":""},null,null,null,null,null,null,null,null,null,""]
[null,{"$f":"IF(A290=\"\",\"\",VLOOKUP(A290,STU!$A$5:$S$150,7,0))","v":""},{"$f":"IF(A290=\"\",\"\",VLOOKUP(A290,'RIDOT STU History (inputs)'!$A$5:$K$93,11,0))","v":""},null,null,null,null,null,null,null,null,null,""]
[null,{"$f":"IF(A291=\"\",\"\",VLOOKUP(A291,STU!$A$5:$S$150,7,0))","v":""},{"$f":"IF(A291=\"\",\"\",VLOOKUP(A291,'RIDOT STU History (inputs)'!$A$5:$K$93,11,0))","v":""},null,null,null,null,null,null,null,null,null,""]
[null,{"$f":"IF(A292=\"\",\"\",VLOOKUP(A292,STU!$A$5:$S$150,7,0))","v":""},{"$f":"IF(A292=\"\",\"\",VLOOKUP(A292,'RIDOT STU History (inputs)'!$A$5:$K$93,11,0))","v":""},null,null,null,null,null,null,null,null,null,""]
[null,{"$f":"IF(A293=\"\",\"\",VLOOKUP(A293,STU!$A$5:$S$150,7,0))","v":""},{"$f":"IF(A293=\"\",\"\",ROUND(IFERROR(VLOOKUP(A293,STU!$A$5:$S$150,6,0),VLOOKUP(A293,#REF!,6,0)),0))","v":""},null,null,null,null,null,null,null,null,null,""]
[null,{"$f":"IF(A294=\"\",\"\",VLOOKUP(A294,STU!$A$5:$S$150,7,0))","v":""},{"$f":"IF(A294=\"\",\"\",ROUND(IFERROR(VLOOKUP(A294,STU!$A$5:$S$150,6,0),VLOOKUP(A294,#REF!,6,0)),0))","v":""},null,null,null,null,null,null,null,null,null,""]
[null,{"$f":"IF(A295=\"\",\"\",VLOOKUP(A295,STU!$A$5:$S$150,7,0))","v":""},{"$f":"IF(A295=\"\",\"\",ROUND(IFERROR(VLOOKUP(A295,STU!$A$5:$S$150,6,0),VLOOKUP(A295,#REF!,6,0)),0))","v":""},null,null,null,null,null,null,null,null,null,""]
[null,{"$f":"IF(A296=\"\",\"\",VLOOKUP(A296,STU!$A$5:$S$150,7,0))","v":""},{"$f":"IF(A296=\"\",\"\",ROUND(IFERROR(VLOOKUP(A296,STU!$A$5:$S$150,6,0),VLOOKUP(A296,#REF!,6,0)),0))","v":""},null,null,null,null,null,null,null,null,null,""]
[null,{"$f":"IF(A297=\"\",\"\",VLOOKUP(A297,STU!$A$5:$S$150,7,0))","v":""},{"$f":"IF(A297=\"\",\"\",ROUND(IFERROR(VLOOKUP(A297,STU!$A$5:$S$150,6,0),VLOOKUP(A297,#REF!,6,0)),0))","v":""},null,null,null,null,null,null,null,null,null,""]
[null,{"$f":"IF(A298=\"\",\"\",VLOOKUP(A298,STU!$A$5:$S$150,7,0))","v":""},{"$f":"IF(A298=\"\",\"\",ROUND(IFERROR(VLOOKUP(A298,STU!$A$5:$S$150,6,0),VLOOKUP(A298,#REF!,6,0)),0))","v":""},null,null,null,null,null,null,null,null,null,""]
[null,{"$f":"IF(A299=\"\",\"\",VLOOKUP(A299,STU!$A$5:$S$150,7,0))","v":""},{"$f":"IF(A299=\"\",\"\",ROUND(IFERROR(VLOOKUP(A299,STU!$A$5:$S$150,6,0),VLOOKUP(A299,#REF!,6,0)),0))","v":""},null,null,null,null,null,null,null,null,null,""]
[null,{"$f":"IF(A300=\"\",\"\",VLOOKUP(A300,STU!$A$5:$S$150,7,0))","v":""},{"$f":"IF(A300=\"\",\"\",ROUND(IFERROR(VLOOKUP(A300,STU!$A$5:$S$150,6,0),VLOOKUP(A300,#REF!,6,0)),0))","v":""},null,null,null,null,null,null,null,null,null,""]

{"sheet":"Structural Water Quality Calcs","index":7,"n_rows":149,"n_cols":31,"rows_kept":149,"cut":false,"hidden":false,"merged":[[0,0,0,23],[6,10,6,30]]}
["This sheet performs water quality calculations for structural STU treatment credits.  \nAdditional structural STUs with different methodologies for calculating treatment credit can be found on separate tabs (see coversheet to turn these tabs on)."]
["Porous Pavement (underdrained)"]
["Floodplain Reconnection"]
["Urban Tree Canopy"]
["Agriculture Buffers"]
["Pervious Land Enhancement"]
["Proprietary Technologies",null,null,null,null,null,null,null,null,null,"Water Quality Results"]
["STU Name","STU Type*","Total Catchment Area (sq. ft.)","Impervious Catchment Area (Sq. Ft.)","STU Storage Volume (ft³)","STU Treatment Depth (in.)","STU Soil Type*","Pervious Catchment Area (sq. ft.)","Catchment % Impervious","Results Lookup Row","P Load (lb/yr)","P Removal Credit (%)","P Reduction (lb/yr)","TSS Load (lb/yr)","TSS Removal Credit (%)","TSS Reduction (lb/yr)","Nitrogen Load (lb/yr)","Nitrogen Removal Credit (%)","Nitrogen Reduction (lb/yr)","Zinc Load (lb/yr)","Zinc Removal Credit (%)","Zinc Reduction (lb/yr)","Impervious Catchment Area (Acres)","TSS Reduction Factor","Phosphorus Reduction Factor","Runoff Factor","Flow Factor","Pervious Cover Factor","Effective IC Reduction (acres)","Runoff Reduction %","Runoff Reduction (ac-ft)"]
[null,{"$f":"IF(A9=\"\",\"\",VLOOKUP(A9,STU!$A$5:$G$300,7,0))","v":""},{"$f":"IF(A9=\"\",\"\",SUMIF(Catchment!$K$5:$K$300,A9,Catchment!$V$5:$V$300))","v":""},{"$f":"IF(A9=\"\",\"\",SUMIF(Catchment!$K$5:$K$300,A9,Catchment!$L$5:$L$300))","v":""},{"$f":"IF(A9=\"\",\"\",VLOOKUP(A9,'RIDOT STU History (inputs)'!$A$5:$K$300,11,0))","v":""},{"$f":"IF(A9=\"\",\"\",IF(B9=\"Limited ROW\",0.25,E9/D9*12))","v":""},{"$f":"IF(A9=\"\",\"\",VLOOKUP(A9,'RIDOT STU History (inputs)'!$A$5:$K$79,10,0))","v":""},{"$f":"IF(A9=\"\",\"\",C9-D9)","v":""},{"$f":"IF(A9=\"\",\"\",D9/C9)","v":""},{"$f":"IF(ISBLANK(B9),\"\",IF(ISBLANK(G9),\"\",RowFunc(B9,G9)))","v":0},{"$f":"IF(A9=\"\",\"\",SUMIF(Catchment!$K$5:$K$300,A9,Catchment!$X$5:$X$300))","v":""},{"$f":"IFERROR(IF(I9>=0.5,INTERPRNG_h($F9,'STU Treatment Values'!$B$5:$K$27,0,1,$J9),INTERPRNG_h($F9,'STU Treatment Values'!$B$29:$K$51,0,1,$J9)),\"\")","v":""},{"$f":"IF(B9=\"Limited ROW\",L9*K9*0.1,IFERROR(L9*K9,\"\"))","v":""},{"$f":"IF(A9=\"\",\"\",SUMIF(Catchment!$K$5:$K$300,A9,Catchment!$Y$5:$Y$300))","v":""},{"$f":"IFERROR(IF(I9>=0.5,INTERPRNG_h($F9,'STU Treatment Values'!$N$5:$W$27,0,1,$J9),INTERPRNG_h($F9,'STU Treatment Values'!$N$29:$W$51,0,1,$J9)),\"\")","v":""},{"$f":"IF(B9=\"Limited ROW\",O9*N9*0.1,IFERROR(N9*O9,\"\"))","v":""},{"$f":"IF(A9=\"\",\"\",SUMIF(Catchment!$K$5:$K$300,A9,Catchment!$Z$5:$Z$300))","v":""},{"$f":"IFERROR(IF(I9>=0.5,INTERPRNG_h($F9,'STU Treatment Values'!$Z$5:$AI$27,0,1,$J9),INTERPRNG_h($F9,'STU Treatment Values'!$Z$29:$AI$51,0,1,$J9)),\"\")","v":""},{"$f":"IF(B9=\"Limited ROW\",R9*Q9*0.1,IFERROR(Q9*R9,\"\"))","v":""},{"$f":"IF(A9=\"\",\"\",SUMIF(Catchment!$K$5:$K$300,A9,Catchment!$AA$5:$AA$300))","v":""},{"$f":"IFERROR(IF(I9>=0.5,INTERPRNG_h($F9,'STU Treatment Values'!$AL$5:$AU$27,0,1,$J9),INTERPRNG_h($F9,'STU Treatment Values'!$AL$29:$AU$51,0,1,$J9)),\"\")","v":""},{"$f":"IF(B9=\"Limited ROW\",U9*T9*0.1,IFERROR(U9*T9,\"\"))","v":""},{"$f":"IF(A9=\"\",\"\",D9/43560)","v":""},{"$f":"IFERROR(IF(O9/0.9>1,1,O9/0.9),\"\")","v":""},{"$f":"IFERROR(IF(L9/0.9>1,1,L9/0.9),\"\")","v":""},{"$f":"IFERROR(INTERPRNG_h($F9,'STU Treatment Values'!$B$79:$K$101,0,1,$J9),\"\")","v":""},{"$f":"IFERROR(INTERPRNG_h($F9,'STU Treatment Values'!$B$54:$K$76,0,1,$J9),\"\")","v":""},{"$f":"IFERROR((X9+Y9+Z9+AA9)/4,\"\")","v":""},{"$f":"IF(B9=\"Limited ROW\",W9*AB9*0.1,IFERROR(AB9*W9,\"\"))","v":""},{"$f":"IFERROR(INTERPRNG_h($F9,'STU Treatment Values'!$B$104:$K$126,0,1,$J9),\"\")","v":""},{"$f":"IF(B9=\"Limited ROW\",AD9*(D9*0.1/43560*3.559+H9*0.1/43560*0.239),IFERROR(AD9*(D9/43560*3.559+H9/43560*0.239),\"\"))","v":""}]
[null,{"$f":"IF(A10=\"\",\"\",VLOOKUP(A10,STU!$A$5:$G$300,7,0))","v":""},{"$f":"IF(A10=\"\",\"\",SUMIF(Catchment!$K$5:$K$300,A10,Catchment!$V$5:$V$300))","v":""},{"$f":"IF(A10=\"\",\"\",SUMIF(Catchment!$K$5:$K$300,A10,Catchment!$L$5:$L$300))","v":""},{"$f":"IF(A10=\"\",\"\",VLOOKUP(A10,'RIDOT STU History (inputs)'!$A$5:$K$300,11,0))","v":""},{"$f":"IF(A10=\"\",\"\",IF(B10=\"Limited ROW\",0.25,E10/D10*12))","v":""},{"$f":"IF(A10=\"\",\"\",VLOOKUP(A10,'RIDOT STU History (inputs)'!$A$5:$K$79,10,0))","v":""},{"$f":"IF(A10=\"\",\"\",C10-D10)","v":""},{"$f":"IF(A10=\"\",\"\",D10/C10)","v":""},{"$f":"IF(ISBLANK(B10),\"\",IF(ISBLANK(G10),\"\",RowFunc(B10,G10)))","v":0},{"$f":"IF(A10=\"\",\"\",SUMIF(Catchment!$K$5:$K$300,A10,Catchment!$X$5:$X$300))","v":""},{"$f":"IFERROR(IF(I10>=0.5,INTERPRNG_h($F10,'STU Treatment Values'!$B$5:$K$27,0,1,$J10),INTERPRNG_h($F10,'STU Treatment Values'!$B$29:$K$51,0,1,$J10)),\"\")","v":""},{"$f":"IF(B10=\"Limited ROW\",L10*K10*0.1,IFERROR(L10*K10,\"\"))","v":""},{"$f":"IF(A10=\"\",\"\",SUMIF(Catchment!$K$5:$K$300,A10,Catchment!$Y$5:$Y$300))","v":""},{"$f":"IFERROR(IF(I10>=0.5,INTERPRNG_h($F10,'STU Treatment Values'!$N$5:$W$27,0,1,$J10),INTERPRNG_h($F10,'STU Treatment Values'!$N$29:$W$51,0,1,$J10)),\"\")","v":""},{"$f":"IF(B10=\"Limited ROW\",O10*N10*0.1,IFERROR(N10*O10,\"\"))","v":""},{"$f":"IF(A10=\"\",\"\",SUMIF(Catchment!$K$5:$K$300,A10,Catchment!$Z$5:$Z$300))","v":""},{"$f":"IFERROR(IF(I10>=0.5,INTERPRNG_h($F10,'STU Treatment Values'!$Z$5:$AI$27,0,1,$J10),INTERPRNG_h($F10,'STU Treatment Values'!$Z$29:$AI$51,0,1,$J10)),\"\")","v":""},{"$f":"IF(B10=\"Limited ROW\",R10*Q10*0.1,IFERROR(Q10*R10,\"\"))","v":""},{"$f":"IF(A10=\"\",\"\",SUMIF(Catchment!$K$5:$K$300,A10,Catchment!$AA$5:$AA$300))","v":""},{"$f":"IFERROR(IF(I10>=0.5,INTERPRNG_h($F10,'STU Treatment Values'!$AL$5:$AU$27,0,1,$J10),INTERPRNG_h($F10,'STU Treatment Values'!$AL$29:$AU$51,0,1,$J10)),\"\")","v":""},{"$f":"IF(B10=\"Limited ROW\",U10*T10*0.1,IFERROR(U10*T10,\"\"))","v":""},{"$f":"IF(A10=\"\",\"\",D10/43560)","v":""},{"$f":"IFERROR(IF(O10/0.9>1,1,O10/0.9),\"\")","v":""},{"$f":"IFERROR(IF(L10/0.9>1,1,L10/0.9),\"\")","v":""},{"$f":"IFERROR(INTERPRNG_h($F10,'STU Treatment Values'!$B$79:$K$101,0,1,$J10),\"\")","v":""},{"$f":"IFERROR(INTERPRNG_h($F10,'STU Treatment Values'!$B$54:$K$76,0,1,$J10),\"\")","v":""},{"$f":"IFERROR((X10+Y10+Z10+AA10)/4,\"\")","v":""},{"$f":"IF(B10=\"Limited ROW\",W10*AB10*0.1,IFERROR(AB10*W10,\"\"))","v":""},{"$f":"IFERROR(INTERPRNG_h($F10,'STU Treatment Values'!$B$104:$K$126,0,1,$J10),\"\")","v":""},{"$f":"IF(B10=\"Limited ROW\",AD10*(D10*0.1/43560*3.559+H10*0.1/43560*0.239),IFERROR(AD10*(D10/43560*3.559+H10/43560*0.239),\"\"))","v":""}]
[null,{"$f":"IF(A11=\"\",\"\",VLOOKUP(A11,STU!$A$5:$G$300,7,0))","v":""},{"$f":"IF(A11=\"\",\"\",SUMIF(Catchment!$K$5:$K$300,A11,Catchment!$V$5:$V$300))","v":""},{"$f":"IF(A11=\"\",\"\",SUMIF(Catchment!$K$5:$K$300,A11,Catchment!$L$5:$L$300))","v":""},{"$f":"IF(A11=\"\",\"\",VLOOKUP(A11,'RIDOT STU History (inputs)'!$A$5:$K$300,11,0))","v":""},"",{"$f":"IF(A11=\"\",\"\",VLOOKUP(A11,'RIDOT STU History (inputs)'!$A$5:$K$79,10,0))","v":""},"","",{"$f":"IF(ISBLANK(B11),\"\",IF(ISBLANK(G11),\"\",RowFunc(B11,G11)))","v":0},{"$f":"IF(A11=\"\",\"\",SUMIF(Catchment!$K$5:$K$300,A11,Catchment!$X$5:$X$300))","v":""},{"$f":"IFERROR(IF(I11>=0.5,INTERPRNG_h($F11,'STU Treatment Values'!$B$5:$K$27,0,1,$J11),INTERPRNG_h($F11,'STU Treatment Values'!$B$29:$K$51,0,1,$J11)),\"\")","v":""},"",{"$f":"IF(A11=\"\",\"\",SUMIF(Catchment!$K$5:$K$300,A11,Catchment!$Y$5:$Y$300))","v":""},{"$f":"IFERROR(IF(I11>=0.5,INTERPRNG_h($F11,'STU Treatment Values'!$N$5:$W$27,0,1,$J11),INTERPRNG_h($F11,'STU Treatment Values'!$N$29:$W$51,0,1,$J11)),\"\")","v":""},"",{"$f":"IF(A11=\"\",\"\",SUMIF(Catchment!$K$5:$K$300,A11,Catchment!$Z$5:$Z$300))","v":""},{"$f":"IFERROR(IF(I11>=0.5,INTERPRNG_h($F11,'STU Treatment Values'!$Z$5:$AI$27,0,1,$J11),INTERPRNG_h($F11,'STU Treatment Values'!$Z$29:$AI$51,0,1,$J11)),\"\")","v":""},"",{"$f":"IF(A11=\"\",\"\",SUMIF(Catchment!$K$5:$K$300,A11,Catchment!$AA$5:$AA$300))","v":""},{"$f":"IFERROR(IF(I11>=0.5,INTERPRNG_h($F11,'STU Treatment Values'!$AL$5:$AU$27,0,1,$J11),INTERPRNG_h($F11,'STU Treatment Values'!$AL$29:$AU$51,0,1,$J11)),\"\")","v":""},"","","","",{"$f":"IFERROR(INTERPRNG_h($F11,'STU Treatment Values'!$B$79:$K$101,0,1,$J11),\"\")","v":""},{"$f":"IFERROR(INTERPRNG_h($F11,'STU Treatment Values'!$B$54:$K$76,0,1,$J11),\"\")","v":""},{"$f":"IFERROR((X11+Y11+Z11+AA11)/4,\"\")","v":""},{"$f":"IF(B11=\"Limited ROW\",W11*AB11*0.1,IFERROR(AB11*W11,\"\"))","v":""},{"$f":"IFERROR(INTERPRNG_h($F11,'STU Treatment Values'!$B$104:$K$126,0,1,$J11),\"\")","v":""},""]
[null,{"$f":"IF(A12=\"\",\"\",VLOOKUP(A12,STU!$A$5:$G$300,7,0))","v":""},{"$f":"IF(A12=\"\",\"\",SUMIF(Catchment!$K$5:$K$300,A12,Catchment!$V$5:$V$300))","v":""},{"$f":"IF(A12=\"\",\"\",SUMIF(Catchment!$K$5:$K$300,A12,Catchment!$L$5:$L$300))","v":""},{"$f":"IF(A12=\"\",\"\",VLOOKUP(A12,'RIDOT STU History (inputs)'!$A$5:$K$300,11,0))","v":""},"",{"$f":"IF(A12=\"\",\"\",VLOOKUP(A12,'RIDOT STU History (inputs)'!$A$5:$K$79,10,0))","v":""},"","",{"$f":"IF(ISBLANK(B12),\"\",IF(ISBLANK(G12),\"\",RowFunc(B12,G12)))","v":0},{"$f":"IF(A12=\"\",\"\",SUMIF(Catchment!$K$5:$K$300,A12,Catchment!$X$5:$X$300))","v":""},{"$f":"IFERROR(IF(I12>=0.5,INTERPRNG_h($F12,'STU Treatment Values'!$B$5:$K$27,0,1,$J12),INTERPRNG_h($F12,'STU Treatment Values'!$B$29:$K$51,0,1,$J12)),\"\")","v":""},"",{"$f":"IF(A12=\"\",\"\",SUMIF(Catchment!$K$5:$K$300,A12,Catchment!$Y$5:$Y$300))","v":""},{"$f":"IFERROR(IF(I12>=0.5,INTERPRNG_h($F12,'STU Treatment Values'!$N$5:$W$27,0,1,$J12),INTERPRNG_h($F12,'STU Treatment Values'!$N$29:$W$51,0,1,$J12)),\"\")","v":""},"",{"$f":"IF(A12=\"\",\"\",SUMIF(Catchment!$K$5:$K$300,A12,Catchment!$Z$5:$Z$300))","v":""},{"$f":"IFERROR(IF(I12>=0.5,INTERPRNG_h($F12,'STU Treatment Values'!$Z$5:$AI$27,0,1,$J12),INTERPRNG_h($F12,'STU Treatment Values'!$Z$29:$AI$51,0,1,$J12)),\"\")","v":""},"",{"$f":"IF(A12=\"\",\"\",SUMIF(Catchment!$K$5:$K$300,A12,Catchment!$AA$5:$AA$300))","v":""},{"$f":"IFERROR(IF(I12>=0.5,INTERPRNG_h($F12,'STU Treatment Values'!$AL$5:$AU$27,0,1,$J12),INTERPRNG_h($F12,'STU Treatment Values'!$AL$29:$AU$51,0,1,$J12)),\"\")","v":""},"","","","",{"$f":"IFERROR(INTERPRNG_h($F12,'STU Treatment Values'!$B$79:$K$101,0,1,$J12),\"\")","v":""},{"$f":"IFERROR(INTERPRNG_h($F12,'STU Treatment Values'!$B$54:$K$76,0,1,$J12),\"\")","v":""},"",{"$f":"IF(B12=\"Limited ROW\",W12*AB12*0.1,IFERROR(AB12*W12,\"\"))","v":""},{"$f":"IFERROR(INTERPRNG_h($F12,'STU Treatment Values'!$B$104:$K$126,0,1,$J12),\"\")","v":""},""]
[null,{"$f":"IF(A13=\"\",\"\",VLOOKUP(A13,STU!$A$5:$G$300,7,0))","v":""},{"$f":"IF(A13=\"\",\"\",SUMIF(Catchment!$K$5:$K$300,A13,Catchment!$V$5:$V$300))","v":""},{"$f":"IF(A13=\"\",\"\",SUMIF(Catchment!$K$5:$K$300,A13,Catchment!$L$5:$L$300))","v":""},{"$f":"IF(A13=\"\",\"\",VLOOKUP(A13,'RIDOT STU History (inputs)'!$A$5:$K$300,11,0))","v":""},"",{"$f":"IF(A13=\"\",\"\",VLOOKUP(A13,'RIDOT STU History (inputs)'!$A$5:$K$79,10,0))","v":""},"","",{"$f":"IF(ISBLANK(B13),\"\",IF(ISBLANK(G13),\"\",RowFunc(B13,G13)))","v":0},{"$f":"IF(A13=\"\",\"\",SUMIF(Catchment!$K$5:$K$300,A13,Catchment!$X$5:$X$300))","v":""},{"$f":"IFERROR(IF(I13>=0.5,INTERPRNG_h($F13,'STU Treatment Values'!$B$5:$K$27,0,1,$J13),INTERPRNG_h($F13,'STU Treatment Values'!$B$29:$K$51,0,1,$J13)),\"\")","v":""},"",{"$f":"IF(A13=\"\",\"\",SUMIF(Catchment!$K$5:$K$300,A13,Catchment!$Y$5:$Y$300))","v":""},{"$f":"IFERROR(IF(I13>=0.5,INTERPRNG_h($F13,'STU Treatment Values'!$N$5:$W$27,0,1,$J13),INTERPRNG_h($F13,'STU Treatment Values'!$N$29:$W$51,0,1,$J13)),\"\")","v":""},"",{"$f":"IF(A13=\"\",\"\",SUMIF(Catchment!$K$5:$K$300,A13,Catchment!$Z$5:$Z$300))","v":""},{"$f":"IFERROR(IF(I13>=0.5,INTERPRNG_h($F13,'STU Treatment Values'!$Z$5:$AI$27,0,1,$J13),INTERPRNG_h($F13,'STU Treatment Values'!$Z$29:$AI$51,0,1,$J13)),\"\")","v":""},"",{"$f":"IF(A13=\"\",\"\",SUMIF(Catchment!$K$5:$K$300,A13,Catchment!$AA$5:$AA$300))","v":""},{"$f":"IFERROR(IF(I13>=0.5,INTERPRNG_h($F13,'STU Treatment Values'!$AL$5:$AU$27,0,1,$J13),INTERPRNG_h($F13,'STU Treatment Values'!$AL$29:$AU$51,0,1,$J13)),\"\")","v":""},"","","","",{"$f":"IFERROR(INTERPRNG_h($F13,'STU Treatment Values'!$B$79:$K$101,0,1,$J13),\"\")","v":""},{"$f":"IFERROR(INTERPRNG_h($F13,'STU Treatment Values'!$B$54:$K$76,0,1,$J13),\"\")","v":""},"","",{"$f":"IFERROR(INTERPRNG_h($F13,'STU Treatment Values'!$B$104:$K$126,0,1,$J13),\"\")","v":""},""]
[null,{"$f":"IF(A14=\"\",\"\",VLOOKUP(A14,STU!$A$5:$G$300,7,0))","v":""},{"$f":"IF(A14=\"\",\"\",SUMIF(Catchment!$K$5:$K$300,A14,Catchment!$V$5:$V$300))","v":""},{"$f":"IF(A14=\"\",\"\",SUMIF(Catchment!$K$5:$K$300,A14,Catchment!$L$5:$L$300))","v":""},{"$f":"IF(A14=\"\",\"\",VLOOKUP(A14,'RIDOT STU History (inputs)'!$A$5:$K$300,11,0))","v":""},"",{"$f":"IF(A14=\"\",\"\",VLOOKUP(A14,'RIDOT STU History (inputs)'!$A$5:$K$79,10,0))","v":""},"","",{"$f":"IF(ISBLANK(B14),\"\",IF(ISBLANK(G14),\"\",RowFunc(B14,G14)))","v":0},{"$f":"IF(A14=\"\",\"\",SUMIF(Catchment!$K$5:$K$300,A14,Catchment!$X$5:$X$300))","v":""},{"$f":"IFERROR(IF(I14>=0.5,INTERPRNG_h($F14,'STU Treatment Values'!$B$5:$K$27,0,1,$J14),INTERPRNG_h($F14,'STU Treatment Values'!$B$29:$K$51,0,1,$J14)),\"\")","v":""},"",{"$f":"IF(A14=\"\",\"\",SUMIF(Catchment!$K$5:$K$300,A14,Catchment!$Y$5:$Y$300))","v":""},{"$f":"IFERROR(IF(I14>=0.5,INTERPRNG_h($F14,'STU Treatment Values'!$N$5:$W$27,0,1,$J14),INTERPRNG_h($F14,'STU Treatment Values'!$N$29:$W$51,0,1,$J14)),\"\")","v":""},"",{"$f":"IF(A14=\"\",\"\",SUMIF(Catchment!$K$5:$K$300,A14,Catchment!$Z$5:$Z$300))","v":""},{"$f":"IFERROR(IF(I14>=0.5,INTERPRNG_h($F14,'STU Treatment Values'!$Z$5:$AI$27,0,1,$J14),INTERPRNG_h($F14,'STU Treatment Values'!$Z$29:$AI$51,0,1,$J14)),\"\")","v":""},"",{"$f":"IF(A14=\"\",\"\",SUMIF(Catchment!$K$5:$K$300,A14,Catchment!$AA$5:$AA$300))","v":""},{"$f":"IFERROR(IF(I14>=0.5,INTERPRNG_h($F14,'STU Treatment Values'!$AL$5:$AU$27,0,1,$J14),INTERPRNG_h($F14,'STU Treatment Values'!$AL$29:$AU$51,0,1,$J14)),\"\")","v":""},"","","","",{"$f":"IFERROR(INTERPRNG_h($F14,'STU Treatment Values'!$B$79:$K$101,0,1,$J14),\"\")","v":""},{"$f":"IFERROR(INTERPRNG_h($F14,'STU Treatment Values'!$B$54:$K$76,0,1,$J14),\"\")","v":""},"","",{"$f":"IFERROR(INTERPRNG_h($F14,'STU Treatment Values'!$B$104:$K$126,0,1,$J14),\"\")","v":""},""]
[null,{"$f":"IF(A15=\"\",\"\",VLOOKUP(A15,STU!$A$5:$G$300,7,0))","v":""},{"$f":"IF(A15=\"\",\"\",SUMIF(Catchment!$K$5:$K$300,A15,Catchment!$V$5:$V$300))","v":""},{"$f":"IF(A15=\"\",\"\",SUMIF(Catchment!$K$5:$K$300,A15,Catchment!$L$5:$L$300))","v":""},{"$f":"IF(A15=\"\",\"\",VLOOKUP(A15,'RIDOT STU History (inputs)'!$A$5:$K$300,11,0))","v":""},"",{"$f":"IF(A15=\"\",\"\",VLOOKUP(A15,'RIDOT STU History (inputs)'!$A$5:$K$79,10,0))","v":""},"","",{"$f":"IF(ISBLANK(B15),\"\",IF(ISBLANK(G15),\"\",RowFunc(B15,G15)))","v":0},{"$f":"IF(A15=\"\",\"\",SUMIF(Catchment!$K$5:$K$300,A15,Catchment!$X$5:$X$300))","v":""},{"$f":"IFERROR(IF(I15>=0.5,INTERPRNG_h($F15,'STU Treatment Values'!$B$5:$K$27,0,1,$J15),INTERPRNG_h($F15,'STU Treatment Values'!$B$29:$K$51,0,1,$J15)),\"\")","v":""},"",{"$f":"IF(A15=\"\",\"\",SUMIF(Catchment!$K$5:$K$300,A15,Catchment!$Y$5:$Y$300))","v":""},{"$f":"IFERROR(IF(I15>=0.5,INTERPRNG_h($F15,'STU Treatment Values'!$N$5:$W$27,0,1,$J15),INTERPRNG_h($F15,'STU Treatment Values'!$N$29:$W$51,0,1,$J15)),\"\")","v":""},"",{"$f":"IF(A15=\"\",\"\",SUMIF(Catchment!$K$5:$K$300,A15,Catchment!$Z$5:$Z$300))","v":""},{"$f":"IFERROR(IF(I15>=0.5,INTERPRNG_h($F15,'STU Treatment Values'!$Z$5:$AI$27,0,1,$J15),INTERPRNG_h($F15,'STU Treatment Values'!$Z$29:$AI$51,0,1,$J15)),\"\")","v":""},"",{"$f":"IF(A15=\"\",\"\",SUMIF(Catchment!$K$5:$K$300,A15,Catchment!$AA$5:$AA$300))","v":""},{"$f":"IFERROR(IF(I15>=0.5,INTERPRNG_h($F15,'STU Treatment Values'!$AL$5:$AU$27,0,1,$J15),INTERPRNG_h($F15,'STU Treatment Values'!$AL$29:$AU$51,0,1,$J15)),\"\")","v":""},"","","","",{"$f":"IFERROR(INTERPRNG_h($F15,'STU Treatment Values'!$B$79:$K$101,0,1,$J15),\"\")","v":""},{"$f":"IFERROR(INTERPRNG_h($F15,'STU Treatment Values'!$B$54:$K$76,0,1,$J15),\"\")","v":""},"","",{"$f":"IFERROR(INTERPRNG_h($F15,'STU Treatment Values'!$B$104:$K$126,0,1,$J15),\"\")","v":""},""]
[null,{"$f":"IF(A16=\"\",\"\",VLOOKUP(A16,STU!$A$5:$G$300,7,0))","v":""},{"$f":"IF(A16=\"\",\"\",SUMIF(Catchment!$K$5:$K$300,A16,Catchment!$V$5:$V$300))","v":""},{"$f":"IF(A16=\"\",\"\",SUMIF(Catchment!$K$5:$K$300,A16,Catchment!$L$5:$L$300))","v":""},{"$f":"IF(A16=\"\",\"\",VLOOKUP(A16,'RIDOT STU History (inputs)'!$A$5:$K$300,11,0))","v":""},"",{"$f":"IF(A16=\"\",\"\",VLOOKUP(A16,'RIDOT STU History (inputs)'!$A$5:$K$79,10,0))","v":""},"","",{"$f":"IF(ISBLANK(B16),\"\",IF(ISBLANK(G16),\"\",RowFunc(B16,G16)))","v":0},{"$f":"IF(A16=\"\",\"\",SUMIF(Catchment!$K$5:$K$300,A16,Catchment!$X$5:$X$300))","v":""},{"$f":"IFERROR(IF(I16>=0.5,INTERPRNG_h($F16,'STU Treatment Values'!$B$5:$K$27,0,1,$J16),INTERPRNG_h($F16,'STU Treatment Values'!$B$29:$K$51,0,1,$J16)),\"\")","v":""},"",{"$f":"IF(A16=\"\",\"\",SUMIF(Catchment!$K$5:$K$300,A16,Catchment!$Y$5:$Y$300))","v":""},{"$f":"IFERROR(IF(I16>=0.5,INTERPRNG_h($F16,'STU Treatment Values'!$N$5:$W$27,0,1,$J16),INTERPRNG_h($F16,'STU Treatment Values'!$N$29:$W$51,0,1,$J16)),\"\")","v":""},"",{"$f":"IF(A16=\"\",\"\",SUMIF(Catchment!$K$5:$K$300,A16,Catchment!$Z$5:$Z$300))","v":""},{"$f":"IFERROR(IF(I16>=0.5,INTERPRNG_h($F16,'STU Treatment Values'!$Z$5:$AI$27,0,1,$J16),INTERPRNG_h($F16,'STU Treatment Values'!$Z$29:$AI$51,0,1,$J16)),\"\")","v":""},"",{"$f":"IF(A16=\"\",\"\",SUMIF(Catchment!$K$5:$K$300,A16,Catchment!$AA$5:$AA$300))","v":""},{"$f":"IFERROR(IF(I16>=0.5,INTERPRNG_h($F16,'STU Treatment Values'!$AL$5:$AU$27,0,1,$J16),INTERPRNG_h($F16,'STU Treatment Values'!$AL$29:$AU$51,0,1,$J16)),\"\")","v":""},"","","","",{"$f":"IFERROR(INTERPRNG_h($F16,'STU Treatment Values'!$B$79:$K$101,0,1,$J16),\"\")","v":""},{"$f":"IFERROR(INTERPRNG_h($F16,'STU Treatment Values'!$B$54:$K$76,0,1,$J16),\"\")","v":""},"","",{"$f":"IFERROR(INTERPRNG_h($F16,'STU Treatment Values'!$B$104:$K$126,0,1,$J16),\"\")","v":""},""]
[null,{"$f":"IF(A17=\"\",\"\",VLOOKUP(A17,STU!$A$5:$G$300,7,0))","v":""},{"$f":"IF(A17=\"\",\"\",SUMIF(Catchment!$K$5:$K$300,A17,Catchment!$V$5:$V$300))","v":""},{"$f":"IF(A17=\"\",\"\",SUMIF(Catchment!$K$5:$K$300,A17,Catchment!$L$5:$L$300))","v":""},{"$f":"IF(A17=\"\",\"\",VLOOKUP(A17,'RIDOT STU History (inputs)'!$A$5:$K$300,11,0))","v":""},"",{"$f":"IF(A17=\"\",\"\",VLOOKUP(A17,'RIDOT STU History (inputs)'!$A$5:$K$79,10,0))","v":""},"","",{"$f":"IF(ISBLANK(B17),\"\",IF(ISBLANK(G17),\"\",RowFunc(B17,G17)))","v":0},{"$f":"IF(A17=\"\",\"\",SUMIF(Catchment!$K$5:$K$300,A17,Catchment!$X$5:$X$300))","v":""},{"$f":"IFERROR(IF(I17>=0.5,INTERPRNG_h($F17,'STU Treatment Values'!$B$5:$K$27,0,1,$J17),INTERPRNG_h($F17,'STU Treatment Values'!$B$29:$K$51,0,1,$J17)),\"\")","v":""},"",{"$f":"IF(A17=\"\",\"\",SUMIF(Catchment!$K$5:$K$300,A17,Catchment!$Y$5:$Y$300))","v":""},{"$f":"IFERROR(IF(I17>=0.5,INTERPRNG_h($F17,'STU Treatment Values'!$N$5:$W$27,0,1,$J17),INTERPRNG_h($F17,'STU Treatment Values'!$N$29:$W$51,0,1,$J17)),\"\")","v":""},"",{"$f":"IF(A17=\"\",\"\",SUMIF(Catchment!$K$5:$K$300,A17,Catchment!$Z$5:$Z$300))","v":""},{"$f":"IFERROR(IF(I17>=0.5,INTERPRNG_h($F17,'STU Treatment Values'!$Z$5:$AI$27,0,1,$J17),INTERPRNG_h($F17,'STU Treatment Values'!$Z$29:$AI$51,0,1,$J17)),\"\")","v":""},"",{"$f":"IF(A17=\"\",\"\",SUMIF(Catchment!$K$5:$K$300,A17,Catchment!$AA$5:$AA$300))","v":""},{"$f":"IFERROR(IF(I17>=0.5,INTERPRNG_h($F17,'STU Treatment Values'!$AL$5:$AU$27,0,1,$J17),INTERPRNG_h($F17,'STU Treatment Values'!$AL$29:$AU$51,0,1,$J17)),\"\")","v":""},"","","","",{"$f":"IFERROR(INTERPRNG_h($F17,'STU Treatment Values'!$B$79:$K$101,0,1,$J17),\"\")","v":""},{"$f":"IFERROR(INTERPRNG_h($F17,'STU Treatment Values'!$B$54:$K$76,0,1,$J17),\"\")","v":""},"","",{"$f":"IFERROR(INTERPRNG_h($F17,'STU Treatment Values'!$B$104:$K$126,0,1,$J17),\"\")","v":""},""]
[null,{"$f":"IF(A18=\"\",\"\",VLOOKUP(A18,STU!$A$5:$G$300,7,0))","v":""},{"$f":"IF(A18=\"\",\"\",SUMIF(Catchment!$K$5:$K$300,A18,Catchment!$V$5:$V$300))","v":""},{"$f":"IF(A18=\"\",\"\",SUMIF(Catchment!$K$5:$K$300,A18,Catchment!$L$5:$L$300))","v":""},{"$f":"IF(A18=\"\",\"\",VLOOKUP(A18,'RIDOT STU History (inputs)'!$A$5:$K$300,11,0))","v":""},"",{"$f":"IF(A18=\"\",\"\",VLOOKUP(A18,'RIDOT STU History (inputs)'!$A$5:$K$79,10,0))","v":""},"","",{"$f":"IF(ISBLANK(B18),\"\",IF(ISBLANK(G18),\"\",RowFunc(B18,G18)))","v":0},{"$f":"IF(A18=\"\",\"\",SUMIF(Catchment!$K$5:$K$300,A18,Catchment!$X$5:$X$300))","v":""},{"$f":"IFERROR(IF(I18>=0.5,INTERPRNG_h($F18,'STU Treatment Values'!$B$5:$K$27,0,1,$J18),INTERPRNG_h($F18,'STU Treatment Values'!$B$29:$K$51,0,1,$J18)),\"\")","v":""},"",{"$f":"IF(A18=\"\",\"\",SUMIF(Catchment!$K$5:$K$300,A18,Catchment!$Y$5:$Y$300))","v":""},{"$f":"IFERROR(IF(I18>=0.5,INTERPRNG_h($F18,'STU Treatment Values'!$N$5:$W$27,0,1,$J18),INTERPRNG_h($F18,'STU Treatment Values'!$N$29:$W$51,0,1,$J18)),\"\")","v":""},"",{"$f":"IF(A18=\"\",\"\",SUMIF(Catchment!$K$5:$K$300,A18,Catchment!$Z$5:$Z$300))","v":""},{"$f":"IFERROR(IF(I18>=0.5,INTERPRNG_h($F18,'STU Treatment Values'!$Z$5:$AI$27,0,1,$J18),INTERPRNG_h($F18,'STU Treatment Values'!$Z$29:$AI$51,0,1,$J18)),\"\")","v":""},"",{"$f":"IF(A18=\"\",\"\",SUMIF(Catchment!$K$5:$K$300,A18,Catchment!$AA$5:$AA$300))","v":""},{"$f":"IFERROR(IF(I18>=0.5,INTERPRNG_h($F18,'STU Treatment Values'!$AL$5:$AU$27,0,1,$J18),INTERPRNG_h($F18,'STU Treatment Values'!$AL$29:$AU$51,0,1,$J18)),\"\")","v":""},"","","","",{"$f":"IFERROR(INTERPRNG_h($F18,'STU Treatment Values'!$B$79:$K$101,0,1,$J18),\"\")","v":""},{"$f":"IFERROR(INTERPRNG_h($F18,'STU Treatment Values'!$B$54:$K$76,0,1,$J18),\"\")","v":""},"","",{"$f":"IFERROR(INTERPRNG_h($F18,'STU Treatment Values'!$B$104:$K$126,0,1,$J18),\"\")","v":""},""]
[null,{"$f":"IF(A19=\"\",\"\",VLOOKUP(A19,STU!$A$5:$G$300,7,0))","v":""},{"$f":"IF(A19=\"\",\"\",SUMIF(Catchment!$K$5:$K$300,A19,Catchment!$V$5:$V$300))","v":""},{"$f":"IF(A19=\"\",\"\",SUMIF(Catchment!$K$5:$K$300,A19,Catchment!$L$5:$L$300))","v":""},{"$f":"IF(A19=\"\",\"\",VLOOKUP(A19,'RIDOT STU History (inputs)'!$A$5:$K$300,11,0))","v":""},"",{"$f":"IF(A19=\"\",\"\",VLOOKUP(A19,'RIDOT STU History (inputs)'!$A$5:$K$79,10,0))","v":""},"","",{"$f":"IF(ISBLANK(B19),\"\",IF(ISBLANK(G19),\"\",RowFunc(B19,G19)))","v":0},{"$f":"IF(A19=\"\",\"\",SUMIF(Catchment!$K$5:$K$300,A19,Catchment!$X$5:$X$300))","v":""},{"$f":"IFERROR(IF(I19>=0.5,INTERPRNG_h($F19,'STU Treatment Values'!$B$5:$K$27,0,1,$J19),INTERPRNG_h($F19,'STU Treatment Values'!$B$29:$K$51,0,1,$J19)),\"\")","v":""},"",{"$f":"IF(A19=\"\",\"\",SUMIF(Catchment!$K$5:$K$300,A19,Catchment!$Y$5:$Y$300))","v":""},{"$f":"IFERROR(IF(I19>=0.5,INTERPRNG_h($F19,'STU Treatment Values'!$N$5:$W$27,0,1,$J19),INTERPRNG_h($F19,'STU Treatment Values'!$N$29:$W$51,0,1,$J19)),\"\")","v":""},"",{"$f":"IF(A19=\"\",\"\",SUMIF(Catchment!$K$5:$K$300,A19,Catchment!$Z$5:$Z$300))","v":""},{"$f":"IFERROR(IF(I19>=0.5,INTERPRNG_h($F19,'STU Treatment Values'!$Z$5:$AI$27,0,1,$J19),INTERPRNG_h($F19,'STU Treatment Values'!$Z$29:$AI$51,0,1,$J19)),\"\")","v":""},"",{"$f":"IF(A19=\"\",\"\",SUMIF(Catchment!$K$5:$K$300,A19,Catchment!$AA$5:$AA$300))","v":""},{"$f":"IFERROR(IF(I19>=0.5,INTERPRNG_h($F19,'STU Treatment Values'!$AL$5:$AU$27,0,1,$J19),INTERPRNG_h($F19,'STU Treatment Values'!$AL$29:$AU$51,0,1,$J19)),\"\")","v":""},"","","","",{"$f":"IFERROR(INTERPRNG_h($F19,'STU Treatment Values'!$B$79:$K$101,0,1,$J19),\"\")","v":""},{"$f":"IFERROR(INTERPRNG_h($F19,'STU Treatment Values'!$B$54:$K$76,0,1,$J19),\"\")","v":""},"","",{"$f":"IFERROR(INTERPRNG_h($F19,'STU Treatment Values'!$B$104:$K$126,0,1,$J19),\"\")","v":""},""]
[null,{"$f":"IF(A20=\"\",\"\",VLOOKUP(A20,STU!$A$5:$G$300,7,0))","v":""},{"$f":"IF(A20=\"\",\"\",SUMIF(Catchment!$K$5:$K$300,A20,Catchment!$V$5:$V$300))","v":""},{"$f":"IF(A20=\"\",\"\",SUMIF(Catchment!$K$5:$K$300,A20,Catchment!$L$5:$L$300))","v":""},{"$f":"IF(A20=\"\",\"\",VLOOKUP(A20,'RIDOT STU History (inputs)'!$A$5:$K$300,11,0))","v":""},"",{"$f":"IF(A20=\"\",\"\",VLOOKUP(A20,'RIDOT STU History (inputs)'!$A$5:$K$79,10,0))","v":""},"","",{"$f":"IF(ISBLANK(B20),\"\",IF(ISBLANK(G20),\"\",RowFunc(B20,G20)))","v":0},{"$f":"IF(A20=\"\",\"\",SUMIF(Catchment!$K$5:$K$300,A20,Catchment!$X$5:$X$300))","v":""},{"$f":"IFERROR(IF(I20>=0.5,INTERPRNG_h($F20,'STU Treatment Values'!$B$5:$K$27,0,1,$J20),INTERPRNG_h($F20,'STU Treatment Values'!$B$29:$K$51,0,1,$J20)),\"\")","v":""},"",{"$f":"IF(A20=\"\",\"\",SUMIF(Catchment!$K$5:$K$300,A20,Catchment!$Y$5:$Y$300))","v":""},{"$f":"IFERROR(IF(I20>=0.5,INTERPRNG_h($F20,'STU Treatment Values'!$N$5:$W$27,0,1,$J20),INTERPRNG_h($F20,'STU Treatment Values'!$N$29:$W$51,0,1,$J20)),\"\")","v":""},"",{"$f":"IF(A20=\"\",\"\",SUMIF(Catchment!$K$5:$K$300,A20,Catchment!$Z$5:$Z$300))","v":""},{"$f":"IFERROR(IF(I20>=0.5,INTERPRNG_h($F20,'STU Treatment Values'!$Z$5:$AI$27,0,1,$J20),INTERPRNG_h($F20,'STU Treatment Values'!$Z$29:$AI$51,0,1,$J20)),\"\")","v":""},"",{"$f":"IF(A20=\"\",\"\",SUMIF(Catchment!$K$5:$K$300,A20,Catchment!$AA$5:$AA$300))","v":""},{"$f":"IFERROR(IF(I20>=0.5,INTERPRNG_h($F20,'STU Treatment Values'!$AL$5:$AU$27,0,1,$J20),INTERPRNG_h($F20,'STU Treatment Values'!$AL$29:$AU$51,0,1,$J20)),\"\")","v":""},"","","","",{"$f":"IFERROR(INTERPRNG_h($F20,'STU Treatment Values'!$B$79:$K$101,0,1,$J20),\"\")","v":""},{"$f":"IFERROR(INTERPRNG_h($F20,'STU Treatment Values'!$B$54:$K$76,0,1,$J20),\"\")","v":""},"","",{"$f":"IFERROR(INTERPRNG_h($F20,'STU Treatment Values'!$B$104:$K$126,0,1,$J20),\"\")","v":""},""]
[null,{"$f":"IF(A21=\"\",\"\",VLOOKUP(A21,STU!$A$5:$G$300,7,0))","v":""},{"$f":"IF(A21=\"\",\"\",SUMIF(Catchment!$K$5:$K$300,A21,Catchment!$V$5:$V$300))","v":""},{"$f":"IF(A21=\"\",\"\",SUMIF(Catchment!$K$5:$K$300,A21,Catchment!$L$5:$L$300))","v":""},{"$f":"IF(A21=\"\",\"\",VLOOKUP(A21,'RIDOT STU History (inputs)'!$A$5:$K$300,11,0))","v":""},"",{"$f":"IF(A21=\"\",\"\",VLOOKUP(A21,'RIDOT STU History (inputs)'!$A$5:$K$79,10,0))","v":""},"","",{"$f":"IF(ISBLANK(B21),\"\",IF(ISBLANK(G21),\"\",RowFunc(B21,G21)))","v":0},{"$f":"IF(A21=\"\",\"\",SUMIF(Catchment!$K$5:$K$300,A21,Catchment!$X$5:$X$300))","v":""},{"$f":"IFERROR(IF(I21>=0.5,INTERPRNG_h($F21,'STU Treatment Values'!$B$5:$K$27,0,1,$J21),INTERPRNG_h($F21,'STU Treatment Values'!$B$29:$K$51,0,1,$J21)),\"\")","v":""},"",{"$f":"IF(A21=\"\",\"\",SUMIF(Catchment!$K$5:$K$300,A21,Catchment!$Y$5:$Y$300))","v":""},{"$f":"IFERROR(IF(I21>=0.5,INTERPRNG_h($F21,'STU Treatment Values'!$N$5:$W$27,0,1,$J21),INTERPRNG_h($F21,'STU Treatment Values'!$N$29:$W$51,0,1,$J21)),\"\")","v":""},"",{"$f":"IF(A21=\"\",\"\",SUMIF(Catchment!$K$5:$K$300,A21,Catchment!$Z$5:$Z$300))","v":""},{"$f":"IFERROR(IF(I21>=0.5,INTERPRNG_h($F21,'STU Treatment Values'!$Z$5:$AI$27,0,1,$J21),INTERPRNG_h($F21,'STU Treatment Values'!$Z$29:$AI$51,0,1,$J21)),\"\")","v":""},"",{"$f":"IF(A21=\"\",\"\",SUMIF(Catchment!$K$5:$K$300,A21,Catchment!$AA$5:$AA$300))","v":""},{"$f":"IFERROR(IF(I21>=0.5,INTERPRNG_h($F21,'STU Treatment Values'!$AL$5:$AU$27,0,1,$J21),INTERPRNG_h($F21,'STU Treatment Values'!$AL$29:$AU$51,0,1,$J21)),\"\")","v":""},"","","","",{"$f":"IFERROR(INTERPRNG_h($F21,'STU Treatment Values'!$B$79:$K$101,0,1,$J21),\"\")","v":""},{"$f":"IFERROR(INTERPRNG_h($F21,'STU Treatment Values'!$B$54:$K$76,0,1,$J21),\"\")","v":""},"","",{"$f":"IFERROR(INTERPRNG_h($F21,'STU Treatment Values'!$B$104:$K$126,0,1,$J21),\"\")","v":""},""]
[null,{"$f":"IF(A22=\"\",\"\",VLOOKUP(A22,STU!$A$5:$G$300,7,0))","v":""},{"$f":"IF(A22=\"\",\"\",SUMIF(Catchment!$K$5:$K$300,A22,Catchment!$V$5:$V$300))","v":""},{"$f":"IF(A22=\"\",\"\",SUMIF(Catchment!$K$5:$K$300,A22,Catchment!$L$5:$L$300))","v":""},{"$f":"IF(A22=\"\",\"\",VLOOKUP(A22,'RIDOT STU History (inputs)'!$A$5:$K$300,11,0))","v":""},"",{"$f":"IF(A22=\"\",\"\",VLOOKUP(A22,'RIDOT STU History (inputs)'!$A$5:$K$79,10,0))","v":""},"","",{"$f":"IF(ISBLANK(B22),\"\",IF(ISBLANK(G22),\"\",RowFunc(B22,G22)))","v":0},{"$f":"IF(A22=\"\",\"\",SUMIF(Catchment!$K$5:$K$300,A22,Catchment!$X$5:$X$300))","v":""},{"$f":"IFERROR(IF(I22>=0.5,INTERPRNG_h($F22,'STU Treatment Values'!$B$5:$K$27,0,1,$J22),INTERPRNG_h($F22,'STU Treatment Values'!$B$29:$K$51,0,1,$J22)),\"\")","v":""},"",{"$f":"IF(A22=\"\",\"\",SUMIF(Catchment!$K$5:$K$300,A22,Catchment!$Y$5:$Y$300))","v":""},{"$f":"IFERROR(IF(I22>=0.5,INTERPRNG_h($F22,'STU Treatment Values'!$N$5:$W$27,0,1,$J22),INTERPRNG_h($F22,'STU Treatment Values'!$N$29:$W$51,0,1,$J22)),\"\")","v":""},"",{"$f":"IF(A22=\"\",\"\",SUMIF(Catchment!$K$5:$K$300,A22,Catchment!$Z$5:$Z$300))","v":""},{"$f":"IFERROR(IF(I22>=0.5,INTERPRNG_h($F22,'STU Treatment Values'!$Z$5:$AI$27,0,1,$J22),INTERPRNG_h($F22,'STU Treatment Values'!$Z$29:$AI$51,0,1,$J22)),\"\")","v":""},"",{"$f":"IF(A22=\"\",\"\",SUMIF(Catchment!$K$5:$K$300,A22,Catchment!$AA$5:$AA$300))","v":""},{"$f":"IFERROR(IF(I22>=0.5,INTERPRNG_h($F22,'STU Treatment Values'!$AL$5:$AU$27,0,1,$J22),INTERPRNG_h($F22,'STU Treatment Values'!$AL$29:$AU$51,0,1,$J22)),\"\")","v":""},"","","","",{"$f":"IFERROR(INTERPRNG_h($F22,'STU Treatment Values'!$B$79:$K$101,0,1,$J22),\"\")","v":""},{"$f":"IFERROR(INTERPRNG_h($F22,'STU Treatment Values'!$B$54:$K$76,0,1,$J22),\"\")","v":""},"","",{"$f":"IFERROR(INTERPRNG_h($F22,'STU Treatment Values'!$B$104:$K$126,0,1,$J22),\"\")","v":""},""]
[null,{"$f":"IF(A23=\"\",\"\",VLOOKUP(A23,STU!$A$5:$G$300,7,0))","v":""},{"$f":"IF(A23=\"\",\"\",SUMIF(Catchment!$K$5:$K$300,A23,Catchment!$V$5:$V$300))","v":""},{"$f":"IF(A23=\"\",\"\",SUMIF(Catchment!$K$5:$K$300,A23,Catchment!$L$5:$L$300))","v":""},{"$f":"IF(A23=\"\",\"\",VLOOKUP(A23,'RIDOT STU History (inputs)'!$A$5:$K$300,11,0))","v":""},"",{"$f":"IF(A23=\"\",\"\",VLOOKUP(A23,'RIDOT STU History (inputs)'!$A$5:$K$79,10,0))","v":""},"","",{"$f":"IF(ISBLANK(B23),\"\",IF(ISBLANK(G23),\"\",RowFunc(B23,G23)))","v":0},{"$f":"IF(A23=\"\",\"\",SUMIF(Catchment!$K$5:$K$300,A23,Catchment!$X$5:$X$300))","v":""},{"$f":"IFERROR(IF(I23>=0.5,INTERPRNG_h($F23,'STU Treatment Values'!$B$5:$K$27,0,1,$J23),INTERPRNG_h($F23,'STU Treatment Values'!$B$29:$K$51,0,1,$J23)),\"\")","v":""},"",{"$f":"IF(A23=\"\",\"\",SUMIF(Catchment!$K$5:$K$300,A23,Catchment!$Y$5:$Y$300))","v":""},{"$f":"IFERROR(IF(I23>=0.5,INTERPRNG_h($F23,'STU Treatment Values'!$N$5:$W$27,0,1,$J23),INTERPRNG_h($F23,'STU Treatment Values'!$N$29:$W$51,0,1,$J23)),\"\")","v":""},"",{"$f":"IF(A23=\"\",\"\",SUMIF(Catchment!$K$5:$K$300,A23,Catchment!$Z$5:$Z$300))","v":""},{"$f":"IFERROR(IF(I23>=0.5,INTERPRNG_h($F23,'STU Treatment Values'!$Z$5:$AI$27,0,1,$J23),INTERPRNG_h($F23,'STU Treatment Values'!$Z$29:$AI$51,0,1,$J23)),\"\")","v":""},"",{"$f":"IF(A23=\"\",\"\",SUMIF(Catchment!$K$5:$K$300,A23,Catchment!$AA$5:$AA$300))","v":""},{"$f":"IFERROR(IF(I23>=0.5,INTERPRNG_h($F23,'STU Treatment Values'!$AL$5:$AU$27,0,1,$J23),INTERPRNG_h($F23,'STU Treatment Values'!$AL$29:$AU$51,0,1,$J23)),\"\")","v":""},"","","","",{"$f":"IFERROR(INTERPRNG_h($F23,'STU Treatment Values'!$B$79:$K$101,0,1,$J23),\"\")","v":""},{"$f":"IFERROR(INTERPRNG_h($F23,'STU Treatment Values'!$B$54:$K$76,0,1,$J23),\"\")","v":""},"","",{"$f":"IFERROR(INTERPRNG_h($F23,'STU Treatment Values'!$B$104:$K$126,0,1,$J23),\"\")","v":""},""]
[null,{"$f":"IF(A24=\"\",\"\",VLOOKUP(A24,STU!$A$5:$G$300,7,0))","v":""},{"$f":"IF(A24=\"\",\"\",SUMIF(Catchment!$K$5:$K$300,A24,Catchment!$V$5:$V$300))","v":""},{"$f":"IF(A24=\"\",\"\",SUMIF(Catchment!$K$5:$K$300,A24,Catchment!$L$5:$L$300))","v":""},{"$f":"IF(A24=\"\",\"\",VLOOKUP(A24,'RIDOT STU History (inputs)'!$A$5:$K$300,11,0))","v":""},"",{"$f":"IF(A24=\"\",\"\",VLOOKUP(A24,'RIDOT STU History (inputs)'!$A$5:$K$79,10,0))","v":""},"","",{"$f":"IF(ISBLANK(B24),\"\",IF(ISBLANK(G24),\"\",RowFunc(B24,G24)))","v":0},{"$f":"IF(A24=\"\",\"\",SUMIF(Catchment!$K$5:$K$300,A24,Catchment!$X$5:$X$300))","v":""},{"$f":"IFERROR(IF(I24>=0.5,INTERPRNG_h($F24,'STU Treatment Values'!$B$5:$K$27,0,1,$J24),INTERPRNG_h($F24,'STU Treatment Values'!$B$29:$K$51,0,1,$J24)),\"\")","v":""},"",{"$f":"IF(A24=\"\",\"\",SUMIF(Catchment!$K$5:$K$300,A24,Catchment!$Y$5:$Y$300))","v":""},{"$f":"IFERROR(IF(I24>=0.5,INTERPRNG_h($F24,'STU Treatment Values'!$N$5:$W$27,0,1,$J24),INTERPRNG_h($F24,'STU Treatment Values'!$N$29:$W$51,0,1,$J24)),\"\")","v":""},"",{"$f":"IF(A24=\"\",\"\",SUMIF(Catchment!$K$5:$K$300,A24,Catchment!$Z$5:$Z$300))","v":""},{"$f":"IFERROR(IF(I24>=0.5,INTERPRNG_h($F24,'STU Treatment Values'!$Z$5:$AI$27,0,1,$J24),INTERPRNG_h($F24,'STU Treatment Values'!$Z$29:$AI$51,0,1,$J24)),\"\")","v":""},"",{"$f":"IF(A24=\"\",\"\",SUMIF(Catchment!$K$5:$K$300,A24,Catchment!$AA$5:$AA$300))","v":""},{"$f":"IFERROR(IF(I24>=0.5,INTERPRNG_h($F24,'STU Treatment Values'!$AL$5:$AU$27,0,1,$J24),INTERPRNG_h($F24,'STU Treatment Values'!$AL$29:$AU$51,0,1,$J24)),\"\")","v":""},"","","","",{"$f":"IFERROR(INTERPRNG_h($F24,'STU Treatment Values'!$B$79:$K$101,0,1,$J24),\"\")","v":""},{"$f":"IFERROR(INTERPRNG_h($F24,'STU Treatment Values'!$B$54:$K$76,0,1,$J24),\"\")","v":""},"","",{"$f":"IFERROR(INTERPRNG_h($F24,'STU Treatment Values'!$B$104:$K$126,0,1,$J24),\"\")","v":""},""]
[null,{"$f":"IF(A25=\"\",\"\",VLOOKUP(A25,STU!$A$5:$G$300,7,0))","v":""},{"$f":"IF(A25=\"\",\"\",SUMIF(Catchment!$K$5:$K$300,A25,Catchment!$V$5:$V$300))","v":""},{"$f":"IF(A25=\"\",\"\",SUMIF(Catchment!$K$5:$K$300,A25,Catchment!$L$5:$L$300))","v":""},{"$f":"IF(A25=\"\",\"\",VLOOKUP(A25,'RIDOT STU History (inputs)'!$A$5:$K$300,11,0))","v":""},"",{"$f":"IF(A25=\"\",\"\",VLOOKUP(A25,'RIDOT STU History (inputs)'!$A$5:$K$79,10,0))","v":""},"","",{"$f":"IF(ISBLANK(B25),\"\",IF(ISBLANK(G25),\"\",RowFunc(B25,G25)))","v":0},{"$f":"IF(A25=\"\",\"\",SUMIF(Catchment!$K$5:$K$300,A25,Catchment!$X$5:$X$300))","v":""},{"$f":"IFERROR(IF(I25>=0.5,INTERPRNG_h($F25,'STU Treatment Values'!$B$5:$K$27,0,1,$J25),INTERPRNG_h($F25,'STU Treatment Values'!$B$29:$K$51,0,1,$J25)),\"\")","v":""},"",{"$f":"IF(A25=\"\",\"\",SUMIF(Catchment!$K$5:$K$300,A25,Catchment!$Y$5:$Y$300))","v":""},{"$f":"IFERROR(IF(I25>=0.5,INTERPRNG_h($F25,'STU Treatment Values'!$N$5:$W$27,0,1,$J25),INTERPRNG_h($F25,'STU Treatment Values'!$N$29:$W$51,0,1,$J25)),\"\")","v":""},"",{"$f":"IF(A25=\"\",\"\",SUMIF(Catchment!$K$5:$K$300,A25,Catchment!$Z$5:$Z$300))","v":""},{"$f":"IFERROR(IF(I25>=0.5,INTERPRNG_h($F25,'STU Treatment Values'!$Z$5:$AI$27,0,1,$J25),INTERPRNG_h($F25,'STU Treatment Values'!$Z$29:$AI$51,0,1,$J25)),\"\")","v":""},"",{"$f":"IF(A25=\"\",\"\",SUMIF(Catchment!$K$5:$K$300,A25,Catchment!$AA$5:$AA$300))","v":""},{"$f":"IFERROR(IF(I25>=0.5,INTERPRNG_h($F25,'STU Treatment Values'!$AL$5:$AU$27,0,1,$J25),INTERPRNG_h($F25,'STU Treatment Values'!$AL$29:$AU$51,0,1,$J25)),\"\")","v":""},"","","","",{"$f":"IFERROR(INTERPRNG_h($F25,'STU Treatment Values'!$B$79:$K$101,0,1,$J25),\"\")","v":""},{"$f":"IFERROR(INTERPRNG_h($F25,'STU Treatment Values'!$B$54:$K$76,0,1,$J25),\"\")","v":""},"","",{"$f":"IFERROR(INTERPRNG_h($F25,'STU Treatment Values'!$B$104:$K$126,0,1,$J25),\"\")","v":""},""]
[null,{"$f":"IF(A26=\"\",\"\",VLOOKUP(A26,STU!$A$5:$G$300,7,0))","v":""},{"$f":"IF(A26=\"\",\"\",SUMIF(Catchment!$K$5:$K$300,A26,Catchment!$V$5:$V$300))","v":""},{"$f":"IF(A26=\"\",\"\",SUMIF(Catchment!$K$5:$K$300,A26,Catchment!$L$5:$L$300))","v":""},{"$f":"IF(A26=\"\",\"\",VLOOKUP(A26,'RIDOT STU History (inputs)'!$A$5:$K$300,11,0))","v":""},"",{"$f":"IF(A26=\"\",\"\",VLOOKUP(A26,'RIDOT STU History (inputs)'!$A$5:$K$79,10,0))","v":""},"","",{"$f":"IF(ISBLANK(B26),\"\",IF(ISBLANK(G26),\"\",RowFunc(B26,G26)))","v":0},{"$f":"IF(A26=\"\",\"\",SUMIF(Catchment!$K$5:$K$300,A26,Catchment!$X$5:$X$300))","v":""},{"$f":"IFERROR(IF(I26>=0.5,INTERPRNG_h($F26,'STU Treatment Values'!$B$5:$K$27,0,1,$J26),INTERPRNG_h($F26,'STU Treatment Values'!$B$29:$K$51,0,1,$J26)),\"\")","v":""},"",{"$f":"IF(A26=\"\",\"\",SUMIF(Catchment!$K$5:$K$300,A26,Catchment!$Y$5:$Y$300))","v":""},{"$f":"IFERROR(IF(I26>=0.5,INTERPRNG_h($F26,'STU Treatment Values'!$N$5:$W$27,0,1,$J26),INTERPRNG_h($F26,'STU Treatment Values'!$N$29:$W$51,0,1,$J26)),\"\")","v":""},"",{"$f":"IF(A26=\"\",\"\",SUMIF(Catchment!$K$5:$K$300,A26,Catchment!$Z$5:$Z$300))","v":""},{"$f":"IFERROR(IF(I26>=0.5,INTERPRNG_h($F26,'STU Treatment Values'!$Z$5:$AI$27,0,1,$J26),INTERPRNG_h($F26,'STU Treatment Values'!$Z$29:$AI$51,0,1,$J26)),\"\")","v":""},"",{"$f":"IF(A26=\"\",\"\",SUMIF(Catchment!$K$5:$K$300,A26,Catchment!$AA$5:$AA$300))","v":""},{"$f":"IFERROR(IF(I26>=0.5,INTERPRNG_h($F26,'STU Treatment Values'!$AL$5:$AU$27,0,1,$J26),INTERPRNG_h($F26,'STU Treatment Values'!$AL$29:$AU$51,0,1,$J26)),\"\")","v":""},"","","","",{"$f":"IFERROR(INTERPRNG_h($F26,'STU Treatment Values'!$B$79:$K$101,0,1,$J26),\"\")","v":""},{"$f":"IFERROR(INTERPRNG_h($F26,'STU Treatment Values'!$B$54:$K$76,0,1,$J26),\"\")","v":""},"","",{"$f":"IFERROR(INTERPRNG_h($F26,'STU Treatment Values'!$B$104:$K$126,0,1,$J26),\"\")","v":""},""]
[null,{"$f":"IF(A27=\"\",\"\",VLOOKUP(A27,STU!$A$5:$G$300,7,0))","v":""},{"$f":"IF(A27=\"\",\"\",SUMIF(Catchment!$K$5:$K$300,A27,Catchment!$V$5:$V$300))","v":""},{"$f":"IF(A27=\"\",\"\",SUMIF(Catchment!$K$5:$K$300,A27,Catchment!$L$5:$L$300))","v":""},{"$f":"IF(A27=\"\",\"\",VLOOKUP(A27,'RIDOT STU History (inputs)'!$A$5:$K$300,11,0))","v":""},"",{"$f":"IF(A27=\"\",\"\",VLOOKUP(A27,'RIDOT STU History (inputs)'!$A$5:$K$79,10,0))","v":""},"","",{"$f":"IF(ISBLANK(B27),\"\",IF(ISBLANK(G27),\"\",RowFunc(B27,G27)))","v":0},{"$f":"IF(A27=\"\",\"\",SUMIF(Catchment!$K$5:$K$300,A27,Catchment!$X$5:$X$300))","v":""},{"$f":"IFERROR(IF(I27>=0.5,INTERPRNG_h($F27,'STU Treatment Values'!$B$5:$K$27,0,1,$J27),INTERPRNG_h($F27,'STU Treatment Values'!$B$29:$K$51,0,1,$J27)),\"\")","v":""},"",{"$f":"IF(A27=\"\",\"\",SUMIF(Catchment!$K$5:$K$300,A27,Catchment!$Y$5:$Y$300))","v":""},{"$f":"IFERROR(IF(I27>=0.5,INTERPRNG_h($F27,'STU Treatment Values'!$N$5:$W$27,0,1,$J27),INTERPRNG_h($F27,'STU Treatment Values'!$N$29:$W$51,0,1,$J27)),\"\")","v":""},"",{"$f":"IF(A27=\"\",\"\",SUMIF(Catchment!$K$5:$K$300,A27,Catchment!$Z$5:$Z$300))","v":""},{"$f":"IFERROR(IF(I27>=0.5,INTERPRNG_h($F27,'STU Treatment Values'!$Z$5:$AI$27,0,1,$J27),INTERPRNG_h($F27,'STU Treatment Values'!$Z$29:$AI$51,0,1,$J27)),\"\")","v":""},"",{"$f":"IF(A27=\"\",\"\",SUMIF(Catchment!$K$5:$K$300,A27,Catchment!$AA$5:$AA$300))","v":""},{"$f":"IFERROR(IF(I27>=0.5,INTERPRNG_h($F27,'STU Treatment Values'!$AL$5:$AU$27,0,1,$J27),INTERPRNG_h($F27,'STU Treatment Values'!$AL$29:$AU$51,0,1,$J27)),\"\")","v":""},"","","","",{"$f":"IFERROR(INTERPRNG_h($F27,'STU Treatment Values'!$B$79:$K$101,0,1,$J27),\"\")","v":""},{"$f":"IFERROR(INTERPRNG_h($F27,'STU Treatment Values'!$B$54:$K$76,0,1,$J27),\"\")","v":""},"","",{"$f":"IFERROR(INTERPRNG_h($F27,'STU Treatment Values'!$B$104:$K$126,0,1,$J27),\"\")","v":""},""]
[null,{"$f":"IF(A28=\"\",\"\",VLOOKUP(A28,STU!$A$5:$G$300,7,0))","v":""},{"$f":"IF(A28=\"\",\"\",SUMIF(Catchment!$K$5:$K$300,A28,Catchment!$V$5:$V$300))","v":""},{"$f":"IF(A28=\"\",\"\",SUMIF(Catchment!$K$5:$K$300,A28,Catchment!$L$5:$L$300))","v":""},{"$f":"IF(A28=\"\",\"\",VLOOKUP(A28,'RIDOT STU History (inputs)'!$A$5:$K$300,11,0))","v":""},"",{"$f":"IF(A28=\"\",\"\",VLOOKUP(A28,'RIDOT STU History (inputs)'!$A$5:$K$79,10,0))","v":""},"","",{"$f":"IF(ISBLANK(B28),\"\",IF(ISBLANK(G28),\"\",RowFunc(B28,G28)))","v":0},{"$f":"IF(A28=\"\",\"\",SUMIF(Catchment!$K$5:$K$300,A28,Catchment!$X$5:$X$300))","v":""},{"$f":"IFERROR(IF(I28>=0.5,INTERPRNG_h($F28,'STU Treatment Values'!$B$5:$K$27,0,1,$J28),INTERPRNG_h($F28,'STU Treatment Values'!$B$29:$K$51,0,1,$J28)),\"\")","v":""},"",{"$f":"IF(A28=\"\",\"\",SUMIF(Catchment!$K$5:$K$300,A28,Catchment!$Y$5:$Y$300))","v":""},{"$f":"IFERROR(IF(I28>=0.5,INTERPRNG_h($F28,'STU Treatment Values'!$N$5:$W$27,0,1,$J28),INTERPRNG_h($F28,'STU Treatment Values'!$N$29:$W$51,0,1,$J28)),\"\")","v":""},"",{"$f":"IF(A28=\"\",\"\",SUMIF(Catchment!$K$5:$K$300,A28,Catchment!$Z$5:$Z$300))","v":""},{"$f":"IFERROR(IF(I28>=0.5,INTERPRNG_h($F28,'STU Treatment Values'!$Z$5:$AI$27,0,1,$J28),INTERPRNG_h($F28,'STU Treatment Values'!$Z$29:$AI$51,0,1,$J28)),\"\")","v":""},"",{"$f":"IF(A28=\"\",\"\",SUMIF(Catchment!$K$5:$K$300,A28,Catchment!$AA$5:$AA$300))","v":""},{"$f":"IFERROR(IF(I28>=0.5,INTERPRNG_h($F28,'STU Treatment Values'!$AL$5:$AU$27,0,1,$J28),INTERPRNG_h($F28,'STU Treatment Values'!$AL$29:$AU$51,0,1,$J28)),\"\")","v":""},"","","","",{"$f":"IFERROR(INTERPRNG_h($F28,'STU Treatment Values'!$B$79:$K$101,0,1,$J28),\"\")","v":""},{"$f":"IFERROR(INTERPRNG_h($F28,'STU Treatment Values'!$B$54:$K$76,0,1,$J28),\"\")","v":""},"","",{"$f":"IFERROR(INTERPRNG_h($F28,'STU Treatment Values'!$B$104:$K$126,0,1,$J28),\"\")","v":""},""]
[null,{"$f":"IF(A29=\"\",\"\",VLOOKUP(A29,STU!$A$5:$G$300,7,0))","v":""},{"$f":"IF(A29=\"\",\"\",SUMIF(Catchment!$K$5:$K$300,A29,Catchment!$V$5:$V$300))","v":""},{"$f":"IF(A29=\"\",\"\",SUMIF(Catchment!$K$5:$K$300,A29,Catchment!$L$5:$L$300))","v":""},{"$f":"IF(A29=\"\",\"\",VLOOKUP(A29,'RIDOT STU History (inputs)'!$A$5:$K$300,11,0))","v":""},"",{"$f":"IF(A29=\"\",\"\",VLOOKUP(A29,'RIDOT STU History (inputs)'!$A$5:$K$79,10,0))","v":""},"","",{"$f":"IF(ISBLANK(B29),\"\",IF(ISBLANK(G29),\"\",RowFunc(B29,G29)))","v":0},{"$f":"IF(A29=\"\",\"\",SUMIF(Catchment!$K$5:$K$300,A29,Catchment!$X$5:$X$300))","v":""},{"$f":"IFERROR(IF(I29>=0.5,INTERPRNG_h($F29,'STU Treatment Values'!$B$5:$K$27,0,1,$J29),INTERPRNG_h($F29,'STU Treatment Values'!$B$29:$K$51,0,1,$J29)),\"\")","v":""},"",{"$f":"IF(A29=\"\",\"\",SUMIF(Catchment!$K$5:$K$300,A29,Catchment!$Y$5:$Y$300))","v":""},{"$f":"IFERROR(IF(I29>=0.5,INTERPRNG_h($F29,'STU Treatment Values'!$N$5:$W$27,0,1,$J29),INTERPRNG_h($F29,'STU Treatment Values'!$N$29:$W$51,0,1,$J29)),\"\")","v":""},"",{"$f":"IF(A29=\"\",\"\",SUMIF(Catchment!$K$5:$K$300,A29,Catchment!$Z$5:$Z$300))","v":""},{"$f":"IFERROR(IF(I29>=0.5,INTERPRNG_h($F29,'STU Treatment Values'!$Z$5:$AI$27,0,1,$J29),INTERPRNG_h($F29,'STU Treatment Values'!$Z$29:$AI$51,0,1,$J29)),\"\")","v":""},"",{"$f":"IF(A29=\"\",\"\",SUMIF(Catchment!$K$5:$K$300,A29,Catchment!$AA$5:$AA$300))","v":""},{"$f":"IFERROR(IF(I29>=0.5,INTERPRNG_h($F29,'STU Treatment Values'!$AL$5:$AU$27,0,1,$J29),INTERPRNG_h($F29,'STU Treatment Values'!$AL$29:$AU$51,0,1,$J29)),\"\")","v":""},"","","","",{"$f":"IFERROR(INTERPRNG_h($F29,'STU Treatment Values'!$B$79:$K$101,0,1,$J29),\"\")","v":""},{"$f":"IFERROR(INTERPRNG_h($F29,'STU Treatment Values'!$B$54:$K$76,0,1,$J29),\"\")","v":""},"","",{"$f":"IFERROR(INTERPRNG_h($F29,'STU Treatment Values'!$B$104:$K$126,0,1,$J29),\"\")","v":""},""]
[null,{"$f":"IF(A30=\"\",\"\",VLOOKUP(A30,STU!$A$5:$G$300,7,0))","v":""},{"$f":"IF(A30=\"\",\"\",SUMIF(Catchment!$K$5:$K$300,A30,Catchment!$V$5:$V$300))","v":""},{"$f":"IF(A30=\"\",\"\",SUMIF(Catchment!$K$5:$K$300,A30,Catchment!$L$5:$L$300))","v":""},{"$f":"IF(A30=\"\",\"\",VLOOKUP(A30,'RIDOT STU History (inputs)'!$A$5:$K$300,11,0))","v":""},"",{"$f":"IF(A30=\"\",\"\",VLOOKUP(A30,'RIDOT STU History (inputs)'!$A$5:$K$79,10,0))","v":""},"","",{"$f":"IF(ISBLANK(B30),\"\",IF(ISBLANK(G30),\"\",RowFunc(B30,G30)))","v":0},{"$f":"IF(A30=\"\",\"\",SUMIF(Catchment!$K$5:$K$300,A30,Catchment!$X$5:$X$300))","v":""},{"$f":"IFERROR(IF(I30>=0.5,INTERPRNG_h($F30,'STU Treatment Values'!$B$5:$K$27,0,1,$J30),INTERPRNG_h($F30,'STU Treatment Values'!$B$29:$K$51,0,1,$J30)),\"\")","v":""},"",{"$f":"IF(A30=\"\",\"\",SUMIF(Catchment!$K$5:$K$300,A30,Catchment!$Y$5:$Y$300))","v":""},{"$f":"IFERROR(IF(I30>=0.5,INTERPRNG_h($F30,'STU Treatment Values'!$N$5:$W$27,0,1,$J30),INTERPRNG_h($F30,'STU Treatment Values'!$N$29:$W$51,0,1,$J30)),\"\")","v":""},"",{"$f":"IF(A30=\"\",\"\",SUMIF(Catchment!$K$5:$K$300,A30,Catchment!$Z$5:$Z$300))","v":""},{"$f":"IFERROR(IF(I30>=0.5,INTERPRNG_h($F30,'STU Treatment Values'!$Z$5:$AI$27,0,1,$J30),INTERPRNG_h($F30,'STU Treatment Values'!$Z$29:$AI$51,0,1,$J30)),\"\")","v":""},"",{"$f":"IF(A30=\"\",\"\",SUMIF(Catchment!$K$5:$K$300,A30,Catchment!$AA$5:$AA$300))","v":""},{"$f":"IFERROR(IF(I30>=0.5,INTERPRNG_h($F30,'STU Treatment Values'!$AL$5:$AU$27,0,1,$J30),INTERPRNG_h($F30,'STU Treatment Values'!$AL$29:$AU$51,0,1,$J30)),\"\")","v":""},"","","","",{"$f":"IFERROR(INTERPRNG_h($F30,'STU Treatment Values'!$B$79:$K$101,0,1,$J30),\"\")","v":""},{"$f":"IFERROR(INTERPRNG_h($F30,'STU Treatment Values'!$B$54:$K$76,0,1,$J30),\"\")","v":""},"","",{"$f":"IFERROR(INTERPRNG_h($F30,'STU Treatment Values'!$B$104:$K$126,0,1,$J30),\"\")","v":""},""]
[null,{"$f":"IF(A31=\"\",\"\",VLOOKUP(A31,STU!$A$5:$G$300,7,0))","v":""},{"$f":"IF(A31=\"\",\"\",SUMIF(Catchment!$K$5:$K$300,A31,Catchment!$V$5:$V$300))","v":""},{"$f":"IF(A31=\"\",\"\",SUMIF(Catchment!$K$5:$K$300,A31,Catchment!$L$5:$L$300))","v":""},{"$f":"IF(A31=\"\",\"\",VLOOKUP(A31,'RIDOT STU History (inputs)'!$A$5:$K$300,11,0))","v":""},"",{"$f":"IF(A31=\"\",\"\",VLOOKUP(A31,'RIDOT STU History (inputs)'!$A$5:$K$79,10,0))","v":""},"","",{"$f":"IF(ISBLANK(B31),\"\",IF(ISBLANK(G31),\"\",RowFunc(B31,G31)))","v":0},{"$f":"IF(A31=\"\",\"\",SUMIF(Catchment!$K$5:$K$300,A31,Catchment!$X$5:$X$300))","v":""},{"$f":"IFERROR(IF(I31>=0.5,INTERPRNG_h($F31,'STU Treatment Values'!$B$5:$K$27,0,1,$J31),INTERPRNG_h($F31,'STU Treatment Values'!$B$29:$K$51,0,1,$J31)),\"\")","v":""},"",{"$f":"IF(A31=\"\",\"\",SUMIF(Catchment!$K$5:$K$300,A31,Catchment!$Y$5:$Y$300))","v":""},{"$f":"IFERROR(IF(I31>=0.5,INTERPRNG_h($F31,'STU Treatment Values'!$N$5:$W$27,0,1,$J31),INTERPRNG_h($F31,'STU Treatment Values'!$N$29:$W$51,0,1,$J31)),\"\")","v":""},"",{"$f":"IF(A31=\"\",\"\",SUMIF(Catchment!$K$5:$K$300,A31,Catchment!$Z$5:$Z$300))","v":""},{"$f":"IFERROR(IF(I31>=0.5,INTERPRNG_h($F31,'STU Treatment Values'!$Z$5:$AI$27,0,1,$J31),INTERPRNG_h($F31,'STU Treatment Values'!$Z$29:$AI$51,0,1,$J31)),\"\")","v":""},"",{"$f":"IF(A31=\"\",\"\",SUMIF(Catchment!$K$5:$K$300,A31,Catchment!$AA$5:$AA$300))","v":""},{"$f":"IFERROR(IF(I31>=0.5,INTERPRNG_h($F31,'STU Treatment Values'!$AL$5:$AU$27,0,1,$J31),INTERPRNG_h($F31,'STU Treatment Values'!$AL$29:$AU$51,0,1,$J31)),\"\")","v":""},"","","","",{"$f":"IFERROR(INTERPRNG_h($F31,'STU Treatment Values'!$B$79:$K$101,0,1,$J31),\"\")","v":""},{"$f":"IFERROR(INTERPRNG_h($F31,'STU Treatment Values'!$B$54:$K$76,0,1,$J31),\"\")","v":""},"","",{"$f":"IFERROR(INTERPRNG_h($F31,'STU Treatment Values'!$B$104:$K$126,0,1,$J31),\"\")","v":""},""]
[null,{"$f":"IF(A32=\"\",\"\",VLOOKUP(A32,STU!$A$5:$G$300,7,0))","v":""},{"$f":"IF(A32=\"\",\"\",SUMIF(Catchment!$K$5:$K$300,A32,Catchment!$V$5:$V$300))","v":""},{"$f":"IF(A32=\"\",\"\",SUMIF(Catchment!$K$5:$K$300,A32,Catchment!$L$5:$L$300))","v":""},{"$f":"IF(A32=\"\",\"\",VLOOKUP(A32,'RIDOT STU History (inputs)'!$A$5:$K$300,11,0))","v":""},"",{"$f":"IF(A32=\"\",\"\",VLOOKUP(A32,'RIDOT STU History (inputs)'!$A$5:$K$79,10,0))","v":""},"","",{"$f":"IF(ISBLANK(B32),\"\",IF(ISBLANK(G32),\"\",RowFunc(B32,G32)))","v":0},{"$f":"IF(A32=\"\",\"\",SUMIF(Catchment!$K$5:$K$300,A32,Catchment!$X$5:$X$300))","v":""},{"$f":"IFERROR(IF(I32>=0.5,INTERPRNG_h($F32,'STU Treatment Values'!$B$5:$K$27,0,1,$J32),INTERPRNG_h($F32,'STU Treatment Values'!$B$29:$K$51,0,1,$J32)),\"\")","v":""},"",{"$f":"IF(A32=\"\",\"\",SUMIF(Catchment!$K$5:$K$300,A32,Catchment!$Y$5:$Y$300))","v":""},{"$f":"IFERROR(IF(I32>=0.5,INTERPRNG_h($F32,'STU Treatment Values'!$N$5:$W$27,0,1,$J32),INTERPRNG_h($F32,'STU Treatment Values'!$N$29:$W$51,0,1,$J32)),\"\")","v":""},"",{"$f":"IF(A32=\"\",\"\",SUMIF(Catchment!$K$5:$K$300,A32,Catchment!$Z$5:$Z$300))","v":""},{"$f":"IFERROR(IF(I32>=0.5,INTERPRNG_h($F32,'STU Treatment Values'!$Z$5:$AI$27,0,1,$J32),INTERPRNG_h($F32,'STU Treatment Values'!$Z$29:$AI$51,0,1,$J32)),\"\")","v":""},"",{"$f":"IF(A32=\"\",\"\",SUMIF(Catchment!$K$5:$K$300,A32,Catchment!$AA$5:$AA$300))","v":""},{"$f":"IFERROR(IF(I32>=0.5,INTERPRNG_h($F32,'STU Treatment Values'!$AL$5:$AU$27,0,1,$J32),INTERPRNG_h($F32,'STU Treatment Values'!$AL$29:$AU$51,0,1,$J32)),\"\")","v":""},"","","","",{"$f":"IFERROR(INTERPRNG_h($F32,'STU Treatment Values'!$B$79:$K$101,0,1,$J32),\"\")","v":""},{"$f":"IFERROR(INTERPRNG_h($F32,'STU Treatment Values'!$B$54:$K$76,0,1,$J32),\"\")","v":""},"","",{"$f":"IFERROR(INTERPRNG_h($F32,'STU Treatment Values'!$B$104:$K$126,0,1,$J32),\"\")","v":""},""]
[null,{"$f":"IF(A33=\"\",\"\",VLOOKUP(A33,STU!$A$5:$G$300,7,0))","v":""},{"$f":"IF(A33=\"\",\"\",SUMIF(Catchment!$K$5:$K$300,A33,Catchment!$V$5:$V$300))","v":""},{"$f":"IF(A33=\"\",\"\",SUMIF(Catchment!$K$5:$K$300,A33,Catchment!$L$5:$L$300))","v":""},{"$f":"IF(A33=\"\",\"\",VLOOKUP(A33,'RIDOT STU History (inputs)'!$A$5:$K$300,11,0))","v":""},"",{"$f":"IF(A33=\"\",\"\",VLOOKUP(A33,'RIDOT STU History (inputs)'!$A$5:$K$79,10,0))","v":""},"","",{"$f":"IF(ISBLANK(B33),\"\",IF(ISBLANK(G33),\"\",RowFunc(B33,G33)))","v":0},{"$f":"IF(A33=\"\",\"\",SUMIF(Catchment!$K$5:$K$300,A33,Catchment!$X$5:$X$300))","v":""},{"$f":"IFERROR(IF(I33>=0.5,INTERPRNG_h($F33,'STU Treatment Values'!$B$5:$K$27,0,1,$J33),INTERPRNG_h($F33,'STU Treatment Values'!$B$29:$K$51,0,1,$J33)),\"\")","v":""},"",{"$f":"IF(A33=\"\",\"\",SUMIF(Catchment!$K$5:$K$300,A33,Catchment!$Y$5:$Y$300))","v":""},{"$f":"IFERROR(IF(I33>=0.5,INTERPRNG_h($F33,'STU Treatment Values'!$N$5:$W$27,0,1,$J33),INTERPRNG_h($F33,'STU Treatment Values'!$N$29:$W$51,0,1,$J33)),\"\")","v":""},"",{"$f":"IF(A33=\"\",\"\",SUMIF(Catchment!$K$5:$K$300,A33,Catchment!$Z$5:$Z$300))","v":""},{"$f":"IFERROR(IF(I33>=0.5,INTERPRNG_h($F33,'STU Treatment Values'!$Z$5:$AI$27,0,1,$J33),INTERPRNG_h($F33,'STU Treatment Values'!$Z$29:$AI$51,0,1,$J33)),\"\")","v":""},"",{"$f":"IF(A33=\"\",\"\",SUMIF(Catchment!$K$5:$K$300,A33,Catchment!$AA$5:$AA$300))","v":""},{"$f":"IFERROR(IF(I33>=0.5,INTERPRNG_h($F33,'STU Treatment Values'!$AL$5:$AU$27,0,1,$J33),INTERPRNG_h($F33,'STU Treatment Values'!$AL$29:$AU$51,0,1,$J33)),\"\")","v":""},"","","","",{"$f":"IFERROR(INTERPRNG_h($F33,'STU Treatment Values'!$B$79:$K$101,0,1,$J33),\"\")","v":""},{"$f":"IFERROR(INTERPRNG_h($F33,'STU Treatment Values'!$B$54:$K$76,0,1,$J33),\"\")","v":""},"","",{"$f":"IFERROR(INTERPRNG_h($F33,'STU Treatment Values'!$B$104:$K$126,0,1,$J33),\"\")","v":""},""]
[null,{"$f":"IF(A34=\"\",\"\",VLOOKUP(A34,STU!$A$5:$G$300,7,0))","v":""},{"$f":"IF(A34=\"\",\"\",SUMIF(Catchment!$K$5:$K$300,A34,Catchment!$V$5:$V$300))","v":""},{"$f":"IF(A34=\"\",\"\",SUMIF(Catchment!$K$5:$K$300,A34,Catchment!$L$5:$L$300))","v":""},{"$f":"IF(A34=\"\",\"\",VLOOKUP(A34,'RIDOT STU History (inputs)'!$A$5:$K$300,11,0))","v":""},"",{"$f":"IF(A34=\"\",\"\",VLOOKUP(A34,'RIDOT STU History (inputs)'!$A$5:$K$79,10,0))","v":""},"","",{"$f":"IF(ISBLANK(B34),\"\",IF(ISBLANK(G34),\"\",RowFunc(B34,G34)))","v":0},{"$f":"IF(A34=\"\",\"\",SUMIF(Catchment!$K$5:$K$300,A34,Catchment!$X$5:$X$300))","v":""},{"$f":"IFERROR(IF(I34>=0.5,INTERPRNG_h($F34,'STU Treatment Values'!$B$5:$K$27,0,1,$J34),INTERPRNG_h($F34,'STU Treatment Values'!$B$29:$K$51,0,1,$J34)),\"\")","v":""},"",{"$f":"IF(A34=\"\",\"\",SUMIF(Catchment!$K$5:$K$300,A34,Catchment!$Y$5:$Y$300))","v":""},{"$f":"IFERROR(IF(I34>=0.5,INTERPRNG_h($F34,'STU Treatment Values'!$N$5:$W$27,0,1,$J34),INTERPRNG_h($F34,'STU Treatment Values'!$N$29:$W$51,0,1,$J34)),\"\")","v":""},"",{"$f":"IF(A34=\"\",\"\",SUMIF(Catchment!$K$5:$K$300,A34,Catchment!$Z$5:$Z$300))","v":""},{"$f":"IFERROR(IF(I34>=0.5,INTERPRNG_h($F34,'STU Treatment Values'!$Z$5:$AI$27,0,1,$J34),INTERPRNG_h($F34,'STU Treatment Values'!$Z$29:$AI$51,0,1,$J34)),\"\")","v":""},"",{"$f":"IF(A34=\"\",\"\",SUMIF(Catchment!$K$5:$K$300,A34,Catchment!$AA$5:$AA$300))","v":""},{"$f":"IFERROR(IF(I34>=0.5,INTERPRNG_h($F34,'STU Treatment Values'!$AL$5:$AU$27,0,1,$J34),INTERPRNG_h($F34,'STU Treatment Values'!$AL$29:$AU$51,0,1,$J34)),\"\")","v":""},"","","","",{"$f":"IFERROR(INTERPRNG_h($F34,'STU Treatment Values'!$B$79:$K$101,0,1,$J34),\"\")","v":""},{"$f":"IFERROR(INTERPRNG_h($F34,'STU Treatment Values'!$B$54:$K$76,0,1,$J34),\"\")","v":""},"","",{"$f":"IFERROR(INTERPRNG_h($F34,'STU Treatment Values'!$B$104:$K$126,0,1,$J34),\"\")","v":""},""]
[null,{"$f":"IF(A35=\"\",\"\",VLOOKUP(A35,STU!$A$5:$G$300,7,0))","v":""},{"$f":"IF(A35=\"\",\"\",SUMIF(Catchment!$K$5:$K$300,A35,Catchment!$V$5:$V$300))","v":""},{"$f":"IF(A35=\"\",\"\",SUMIF(Catchment!$K$5:$K$300,A35,Catchment!$L$5:$L$300))","v":""},{"$f":"IF(A35=\"\",\"\",VLOOKUP(A35,'RIDOT STU History (inputs)'!$A$5:$K$300,11,0))","v":""},"",{"$f":"IF(A35=\"\",\"\",VLOOKUP(A35,'RIDOT STU History (inputs)'!$A$5:$K$79,10,0))","v":""},"","",{"$f":"IF(ISBLANK(B35),\"\",IF(ISBLANK(G35),\"\",RowFunc(B35,G35)))","v":0},{"$f":"IF(A35=\"\",\"\",SUMIF(Catchment!$K$5:$K$300,A35,Catchment!$X$5:$X$300))","v":""},{"$f":"IFERROR(IF(I35>=0.5,INTERPRNG_h($F35,'STU Treatment Values'!$B$5:$K$27,0,1,$J35),INTERPRNG_h($F35,'STU Treatment Values'!$B$29:$K$51,0,1,$J35)),\"\")","v":""},"",{"$f":"IF(A35=\"\",\"\",SUMIF(Catchment!$K$5:$K$300,A35,Catchment!$Y$5:$Y$300))","v":""},{"$f":"IFERROR(IF(I35>=0.5,INTERPRNG_h($F35,'STU Treatment Values'!$N$5:$W$27,0,1,$J35),INTERPRNG_h($F35,'STU Treatment Values'!$N$29:$W$51,0,1,$J35)),\"\")","v":""},"",{"$f":"IF(A35=\"\",\"\",SUMIF(Catchment!$K$5:$K$300,A35,Catchment!$Z$5:$Z$300))","v":""},{"$f":"IFERROR(IF(I35>=0.5,INTERPRNG_h($F35,'STU Treatment Values'!$Z$5:$AI$27,0,1,$J35),INTERPRNG_h($F35,'STU Treatment Values'!$Z$29:$AI$51,0,1,$J35)),\"\")","v":""},"",{"$f":"IF(A35=\"\",\"\",SUMIF(Catchment!$K$5:$K$300,A35,Catchment!$AA$5:$AA$300))","v":""},{"$f":"IFERROR(IF(I35>=0.5,INTERPRNG_h($F35,'STU Treatment Values'!$AL$5:$AU$27,0,1,$J35),INTERPRNG_h($F35,'STU Treatment Values'!$AL$29:$AU$51,0,1,$J35)),\"\")","v":""},"","","","",{"$f":"IFERROR(INTERPRNG_h($F35,'STU Treatment Values'!$B$79:$K$101,0,1,$J35),\"\")","v":""},{"$f":"IFERROR(INTERPRNG_h($F35,'STU Treatment Values'!$B$54:$K$76,0,1,$J35),\"\")","v":""},"","",{"$f":"IFERROR(INTERPRNG_h($F35,'STU Treatment Values'!$B$104:$K$126,0,1,$J35),\"\")","v":""},""]
[null,{"$f":"IF(A36=\"\",\"\",VLOOKUP(A36,STU!$A$5:$G$300,7,0))","v":""},{"$f":"IF(A36=\"\",\"\",SUMIF(Catchment!$K$5:$K$300,A36,Catchment!$V$5:$V$300))","v":""},{"$f":"IF(A36=\"\",\"\",SUMIF(Catchment!$K$5:$K$300,A36,Catchment!$L$5:$L$300))","v":""},{"$f":"IF(A36=\"\",\"\",VLOOKUP(A36,'RIDOT STU History (inputs)'!$A$5:$K$300,11,0))","v":""},"",{"$f":"IF(A36=\"\",\"\",VLOOKUP(A36,'RIDOT STU History (inputs)'!$A$5:$K$79,10,0))","v":""},"","",{"$f":"IF(ISBLANK(B36),\"\",IF(ISBLANK(G36),\"\",RowFunc(B36,G36)))","v":0},{"$f":"IF(A36=\"\",\"\",SUMIF(Catchment!$K$5:$K$300,A36,Catchment!$X$5:$X$300))","v":""},{"$f":"IFERROR(IF(I36>=0.5,INTERPRNG_h($F36,'STU Treatment Values'!$B$5:$K$27,0,1,$J36),INTERPRNG_h($F36,'STU Treatment Values'!$B$29:$K$51,0,1,$J36)),\"\")","v":""},"",{"$f":"IF(A36=\"\",\"\",SUMIF(Catchment!$K$5:$K$300,A36,Catchment!$Y$5:$Y$300))","v":""},{"$f":"IFERROR(IF(I36>=0.5,INTERPRNG_h($F36,'STU Treatment Values'!$N$5:$W$27,0,1,$J36),INTERPRNG_h($F36,'STU Treatment Values'!$N$29:$W$51,0,1,$J36)),\"\")","v":""},"",{"$f":"IF(A36=\"\",\"\",SUMIF(Catchment!$K$5:$K$300,A36,Catchment!$Z$5:$Z$300))","v":""},{"$f":"IFERROR(IF(I36>=0.5,INTERPRNG_h($F36,'STU Treatment Values'!$Z$5:$AI$27,0,1,$J36),INTERPRNG_h($F36,'STU Treatment Values'!$Z$29:$AI$51,0,1,$J36)),\"\")","v":""},"",{"$f":"IF(A36=\"\",\"\",SUMIF(Catchment!$K$5:$K$300,A36,Catchment!$AA$5:$AA$300))","v":""},{"$f":"IFERROR(IF(I36>=0.5,INTERPRNG_h($F36,'STU Treatment Values'!$AL$5:$AU$27,0,1,$J36),INTERPRNG_h($F36,'STU Treatment Values'!$AL$29:$AU$51,0,1,$J36)),\"\")","v":""},"","","","",{"$f":"IFERROR(INTERPRNG_h($F36,'STU Treatment Values'!$B$79:$K$101,0,1,$J36),\"\")","v":""},{"$f":"IFERROR(INTERPRNG_h($F36,'STU Treatment Values'!$B$54:$K$76,0,1,$J36),\"\")","v":""},"","",{"$f":"IFERROR(INTERPRNG_h($F36,'STU Treatment Values'!$B$104:$K$126,0,1,$J36),\"\")","v":""},""]
[null,{"$f":"IF(A37=\"\",\"\",VLOOKUP(A37,STU!$A$5:$G$300,7,0))","v":""},{"$f":"IF(A37=\"\",\"\",SUMIF(Catchment!$K$5:$K$300,A37,Catchment!$V$5:$V$300))","v":""},{"$f":"IF(A37=\"\",\"\",SUMIF(Catchment!$K$5:$K$300,A37,Catchment!$L$5:$L$300))","v":""},{"$f":"IF(A37=\"\",\"\",VLOOKUP(A37,'RIDOT STU History (inputs)'!$A$5:$K$300,11,0))","v":""},"",{"$f":"IF(A37=\"\",\"\",VLOOKUP(A37,'RIDOT STU History (inputs)'!$A$5:$K$79,10,0))","v":""},"","",{"$f":"IF(ISBLANK(B37),\"\",IF(ISBLANK(G37),\"\",RowFunc(B37,G37)))","v":0},{"$f":"IF(A37=\"\",\"\",SUMIF(Catchment!$K$5:$K$300,A37,Catchment!$X$5:$X$300))","v":""},{"$f":"IFERROR(IF(I37>=0.5,INTERPRNG_h($F37,'STU Treatment Values'!$B$5:$K$27,0,1,$J37),INTERPRNG_h($F37,'STU Treatment Values'!$B$29:$K$51,0,1,$J37)),\"\")","v":""},"",{"$f":"IF(A37=\"\",\"\",SUMIF(Catchment!$K$5:$K$300,A37,Catchment!$Y$5:$Y$300))","v":""},{"$f":"IFERROR(IF(I37>=0.5,INTERPRNG_h($F37,'STU Treatment Values'!$N$5:$W$27,0,1,$J37),INTERPRNG_h($F37,'STU Treatment Values'!$N$29:$W$51,0,1,$J37)),\"\")","v":""},"",{"$f":"IF(A37=\"\",\"\",SUMIF(Catchment!$K$5:$K$300,A37,Catchment!$Z$5:$Z$300))","v":""},{"$f":"IFERROR(IF(I37>=0.5,INTERPRNG_h($F37,'STU Treatment Values'!$Z$5:$AI$27,0,1,$J37),INTERPRNG_h($F37,'STU Treatment Values'!$Z$29:$AI$51,0,1,$J37)),\"\")","v":""},"",{"$f":"IF(A37=\"\",\"\",SUMIF(Catchment!$K$5:$K$300,A37,Catchment!$AA$5:$AA$300))","v":""},{"$f":"IFERROR(IF(I37>=0.5,INTERPRNG_h($F37,'STU Treatment Values'!$AL$5:$AU$27,0,1,$J37),INTERPRNG_h($F37,'STU Treatment Values'!$AL$29:$AU$51,0,1,$J37)),\"\")","v":""},"","","","",{"$f":"IFERROR(INTERPRNG_h($F37,'STU Treatment Values'!$B$79:$K$101,0,1,$J37),\"\")","v":""},{"$f":"IFERROR(INTERPRNG_h($F37,'STU Treatment Values'!$B$54:$K$76,0,1,$J37),\"\")","v":""},"","",{"$f":"IFERROR(INTERPRNG_h($F37,'STU Treatment Values'!$B$104:$K$126,0,1,$J37),\"\")","v":""},""]
[null,{"$f":"IF(A38=\"\",\"\",VLOOKUP(A38,STU!$A$5:$G$300,7,0))","v":""},{"$f":"IF(A38=\"\",\"\",SUMIF(Catchment!$K$5:$K$300,A38,Catchment!$V$5:$V$300))","v":""},{"$f":"IF(A38=\"\",\"\",SUMIF(Catchment!$K$5:$K$300,A38,Catchment!$L$5:$L$300))","v":""},{"$f":"IF(A38=\"\",\"\",VLOOKUP(A38,'RIDOT STU History (inputs)'!$A$5:$K$300,11,0))","v":""},"",{"$f":"IF(A38=\"\",\"\",VLOOKUP(A38,'RIDOT STU History (inputs)'!$A$5:$K$79,10,0))","v":""},"","",{"$f":"IF(ISBLANK(B38),\"\",IF(ISBLANK(G38),\"\",RowFunc(B38,G38)))","v":0},{"$f":"IF(A38=\"\",\"\",SUMIF(Catchment!$K$5:$K$300,A38,Catchment!$X$5:$X$300))","v":""},{"$f":"IFERROR(IF(I38>=0.5,INTERPRNG_h($F38,'STU Treatment Values'!$B$5:$K$27,0,1,$J38),INTERPRNG_h($F38,'STU Treatment Values'!$B$29:$K$51,0,1,$J38)),\"\")","v":""},"",{"$f":"IF(A38=\"\",\"\",SUMIF(Catchment!$K$5:$K$300,A38,Catchment!$Y$5:$Y$300))","v":""},{"$f":"IFERROR(IF(I38>=0.5,INTERPRNG_h($F38,'STU Treatment Values'!$N$5:$W$27,0,1,$J38),INTERPRNG_h($F38,'STU Treatment Values'!$N$29:$W$51,0,1,$J38)),\"\")","v":""},"",{"$f":"IF(A38=\"\",\"\",SUMIF(Catchment!$K$5:$K$300,A38,Catchment!$Z$5:$Z$300))","v":""},{"$f":"IFERROR(IF(I38>=0.5,INTERPRNG_h($F38,'STU Treatment Values'!$Z$5:$AI$27,0,1,$J38),INTERPRNG_h($F38,'STU Treatment Values'!$Z$29:$AI$51,0,1,$J38)),\"\")","v":""},"",{"$f":"IF(A38=\"\",\"\",SUMIF(Catchment!$K$5:$K$300,A38,Catchment!$AA$5:$AA$300))","v":""},{"$f":"IFERROR(IF(I38>=0.5,INTERPRNG_h($F38,'STU Treatment Values'!$AL$5:$AU$27,0,1,$J38),INTERPRNG_h($F38,'STU Treatment Values'!$AL$29:$AU$51,0,1,$J38)),\"\")","v":""},"","","","",{"$f":"IFERROR(INTERPRNG_h($F38,'STU Treatment Values'!$B$79:$K$101,0,1,$J38),\"\")","v":""},{"$f":"IFERROR(INTERPRNG_h($F38,'STU Treatment Values'!$B$54:$K$76,0,1,$J38),\"\")","v":""},"","",{"$f":"IFERROR(INTERPRNG_h($F38,'STU Treatment Values'!$B$104:$K$126,0,1,$J38),\"\")","v":""},""]
[null,{"$f":"IF(A39=\"\",\"\",VLOOKUP(A39,STU!$A$5:$G$300,7,0))","v":""},{"$f":"IF(A39=\"\",\"\",SUMIF(Catchment!$K$5:$K$300,A39,Catchment!$V$5:$V$300))","v":""},{"$f":"IF(A39=\"\",\"\",SUMIF(Catchment!$K$5:$K$300,A39,Catchment!$L$5:$L$300))","v":""},{"$f":"IF(A39=\"\",\"\",VLOOKUP(A39,'RIDOT STU History (inputs)'!$A$5:$K$300,11,0))","v":""},"",{"$f":"IF(A39=\"\",\"\",VLOOKUP(A39,'RIDOT STU History (inputs)'!$A$5:$K$79,10,0))","v":""},"","",{"$f":"IF(ISBLANK(B39),\"\",IF(ISBLANK(G39),\"\",RowFunc(B39,G39)))","v":0},{"$f":"IF(A39=\"\",\"\",SUMIF(Catchment!$K$5:$K$300,A39,Catchment!$X$5:$X$300))","v":""},{"$f":"IFERROR(IF(I39>=0.5,INTERPRNG_h($F39,'STU Treatment Values'!$B$5:$K$27,0,1,$J39),INTERPRNG_h($F39,'STU Treatment Values'!$B$29:$K$51,0,1,$J39)),\"\")","v":""},"",{"$f":"IF(A39=\"\",\"\",SUMIF(Catchment!$K$5:$K$300,A39,Catchment!$Y$5:$Y$300))","v":""},{"$f":"IFERROR(IF(I39>=0.5,INTERPRNG_h($F39,'STU Treatment Values'!$N$5:$W$27,0,1,$J39),INTERPRNG_h($F39,'STU Treatment Values'!$N$29:$W$51,0,1,$J39)),\"\")","v":""},"",{"$f":"IF(A39=\"\",\"\",SUMIF(Catchment!$K$5:$K$300,A39,Catchment!$Z$5:$Z$300))","v":""},{"$f":"IFERROR(IF(I39>=0.5,INTERPRNG_h($F39,'STU Treatment Values'!$Z$5:$AI$27,0,1,$J39),INTERPRNG_h($F39,'STU Treatment Values'!$Z$29:$AI$51,0,1,$J39)),\"\")","v":""},"",{"$f":"IF(A39=\"\",\"\",SUMIF(Catchment!$K$5:$K$300,A39,Catchment!$AA$5:$AA$300))","v":""},{"$f":"IFERROR(IF(I39>=0.5,INTERPRNG_h($F39,'STU Treatment Values'!$AL$5:$AU$27,0,1,$J39),INTERPRNG_h($F39,'STU Treatment Values'!$AL$29:$AU$51,0,1,$J39)),\"\")","v":""},"","","","",{"$f":"IFERROR(INTERPRNG_h($F39,'STU Treatment Values'!$B$79:$K$101,0,1,$J39),\"\")","v":""},{"$f":"IFERROR(INTERPRNG_h($F39,'STU Treatment Values'!$B$54:$K$76,0,1,$J39),\"\")","v":""},"","",{"$f":"IFERROR(INTERPRNG_h($F39,'STU Treatment Values'!$B$104:$K$126,0,1,$J39),\"\")","v":""},""]
[null,{"$f":"IF(A40=\"\",\"\",VLOOKUP(A40,STU!$A$5:$G$300,7,0))","v":""},{"$f":"IF(A40=\"\",\"\",SUMIF(Catchment!$K$5:$K$300,A40,Catchment!$V$5:$V$300))","v":""},{"$f":"IF(A40=\"\",\"\",SUMIF(Catchment!$K$5:$K$300,A40,Catchment!$L$5:$L$300))","v":""},{"$f":"IF(A40=\"\",\"\",VLOOKUP(A40,'RIDOT STU History (inputs)'!$A$5:$K$300,11,0))","v":""},"",{"$f":"IF(A40=\"\",\"\",VLOOKUP(A40,'RIDOT STU History (inputs)'!$A$5:$K$79,10,0))","v":""},"","",{"$f":"IF(ISBLANK(B40),\"\",IF(ISBLANK(G40),\"\",RowFunc(B40,G40)))","v":0},{"$f":"IF(A40=\"\",\"\",SUMIF(Catchment!$K$5:$K$300,A40,Catchment!$X$5:$X$300))","v":""},{"$f":"IFERROR(IF(I40>=0.5,INTERPRNG_h($F40,'STU Treatment Values'!$B$5:$K$27,0,1,$J40),INTERPRNG_h($F40,'STU Treatment Values'!$B$29:$K$51,0,1,$J40)),\"\")","v":""},"",{"$f":"IF(A40=\"\",\"\",SUMIF(Catchment!$K$5:$K$300,A40,Catchment!$Y$5:$Y$300))","v":""},{"$f":"IFERROR(IF(I40>=0.5,INTERPRNG_h($F40,'STU Treatment Values'!$N$5:$W$27,0,1,$J40),INTERPRNG_h($F40,'STU Treatment Values'!$N$29:$W$51,0,1,$J40)),\"\")","v":""},"",{"$f":"IF(A40=\"\",\"\",SUMIF(Catchment!$K$5:$K$300,A40,Catchment!$Z$5:$Z$300))","v":""},{"$f":"IFERROR(IF(I40>=0.5,INTERPRNG_h($F40,'STU Treatment Values'!$Z$5:$AI$27,0,1,$J40),INTERPRNG_h($F40,'STU Treatment Values'!$Z$29:$AI$51,0,1,$J40)),\"\")","v":""},"",{"$f":"IF(A40=\"\",\"\",SUMIF(Catchment!$K$5:$K$300,A40,Catchment!$AA$5:$AA$300))","v":""},{"$f":"IFERROR(IF(I40>=0.5,INTERPRNG_h($F40,'STU Treatment Values'!$AL$5:$AU$27,0,1,$J40),INTERPRNG_h($F40,'STU Treatment Values'!$AL$29:$AU$51,0,1,$J40)),\"\")","v":""},"","","","",{"$f":"IFERROR(INTERPRNG_h($F40,'STU Treatment Values'!$B$79:$K$101,0,1,$J40),\"\")","v":""},{"$f":"IFERROR(INTERPRNG_h($F40,'STU Treatment Values'!$B$54:$K$76,0,1,$J40),\"\")","v":""},"","",{"$f":"IFERROR(INTERPRNG_h($F40,'STU Treatment Values'!$B$104:$K$126,0,1,$J40),\"\")","v":""},""]
[null,{"$f":"IF(A41=\"\",\"\",VLOOKUP(A41,STU!$A$5:$G$300,7,0))","v":""},{"$f":"IF(A41=\"\",\"\",SUMIF(Catchment!$K$5:$K$300,A41,Catchment!$V$5:$V$300))","v":""},{"$f":"IF(A41=\"\",\"\",SUMIF(Catchment!$K$5:$K$300,A41,Catchment!$L$5:$L$300))","v":""},{"$f":"IF(A41=\"\",\"\",VLOOKUP(A41,'RIDOT STU History (inputs)'!$A$5:$K$300,11,0))","v":""},"",{"$f":"IF(A41=\"\",\"\",VLOOKUP(A41,'RIDOT STU History (inputs)'!$A$5:$K$79,10,0))","v":""},"","",{"$f":"IF(ISBLANK(B41),\"\",IF(ISBLANK(G41),\"\",RowFunc(B41,G41)))","v":0},{"$f":"IF(A41=\"\",\"\",SUMIF(Catchment!$K$5:$K$300,A41,Catchment!$X$5:$X$300))","v":""},{"$f":"IFERROR(IF(I41>=0.5,INTERPRNG_h($F41,'STU Treatment Values'!$B$5:$K$27,0,1,$J41),INTERPRNG_h($F41,'STU Treatment Values'!$B$29:$K$51,0,1,$J41)),\"\")","v":""},"",{"$f":"IF(A41=\"\",\"\",SUMIF(Catchment!$K$5:$K$300,A41,Catchment!$Y$5:$Y$300))","v":""},{"$f":"IFERROR(IF(I41>=0.5,INTERPRNG_h($F41,'STU Treatment Values'!$N$5:$W$27,0,1,$J41),INTERPRNG_h($F41,'STU Treatment Values'!$N$29:$W$51,0,1,$J41)),\"\")","v":""},"",{"$f":"IF(A41=\"\",\"\",SUMIF(Catchment!$K$5:$K$300,A41,Catchment!$Z$5:$Z$300))","v":""},{"$f":"IFERROR(IF(I41>=0.5,INTERPRNG_h($F41,'STU Treatment Values'!$Z$5:$AI$27,0,1,$J41),INTERPRNG_h($F41,'STU Treatment Values'!$Z$29:$AI$51,0,1,$J41)),\"\")","v":""},"",{"$f":"IF(A41=\"\",\"\",SUMIF(Catchment!$K$5:$K$300,A41,Catchment!$AA$5:$AA$300))","v":""},{"$f":"IFERROR(IF(I41>=0.5,INTERPRNG_h($F41,'STU Treatment Values'!$AL$5:$AU$27,0,1,$J41),INTERPRNG_h($F41,'STU Treatment Values'!$AL$29:$AU$51,0,1,$J41)),\"\")","v":""},"","","","",{"$f":"IFERROR(INTERPRNG_h($F41,'STU Treatment Values'!$B$79:$K$101,0,1,$J41),\"\")","v":""},{"$f":"IFERROR(INTERPRNG_h($F41,'STU Treatment Values'!$B$54:$K$76,0,1,$J41),\"\")","v":""},"","",{"$f":"IFERROR(INTERPRNG_h($F41,'STU Treatment Values'!$B$104:$K$126,0,1,$J41),\"\")","v":""},""]
[null,{"$f":"IF(A42=\"\",\"\",VLOOKUP(A42,STU!$A$5:$G$300,7,0))","v":""},{"$f":"IF(A42=\"\",\"\",SUMIF(Catchment!$K$5:$K$300,A42,Catchment!$V$5:$V$300))","v":""},{"$f":"IF(A42=\"\",\"\",SUMIF(Catchment!$K$5:$K$300,A42,Catchment!$L$5:$L$300))","v":""},{"$f":"IF(A42=\"\",\"\",VLOOKUP(A42,'RIDOT STU History (inputs)'!$A$5:$K$300,11,0))","v":""},"",{"$f":"IF(A42=\"\",\"\",VLOOKUP(A42,'RIDOT STU History (inputs)'!$A$5:$K$79,10,0))","v":""},"","",{"$f":"IF(ISBLANK(B42),\"\",IF(ISBLANK(G42),\"\",RowFunc(B42,G42)))","v":0},{"$f":"IF(A42=\"\",\"\",SUMIF(Catchment!$K$5:$K$300,A42,Catchment!$X$5:$X$300))","v":""},{"$f":"IFERROR(IF(I42>=0.5,INTERPRNG_h($F42,'STU Treatment Values'!$B$5:$K$27,0,1,$J42),INTERPRNG_h($F42,'STU Treatment Values'!$B$29:$K$51,0,1,$J42)),\"\")","v":""},"",{"$f":"IF(A42=\"\",\"\",SUMIF(Catchment!$K$5:$K$300,A42,Catchment!$Y$5:$Y$300))","v":""},{"$f":"IFERROR(IF(I42>=0.5,INTERPRNG_h($F42,'STU Treatment Values'!$N$5:$W$27,0,1,$J42),INTERPRNG_h($F42,'STU Treatment Values'!$N$29:$W$51,0,1,$J42)),\"\")","v":""},"",{"$f":"IF(A42=\"\",\"\",SUMIF(Catchment!$K$5:$K$300,A42,Catchment!$Z$5:$Z$300))","v":""},{"$f":"IFERROR(IF(I42>=0.5,INTERPRNG_h($F42,'STU Treatment Values'!$Z$5:$AI$27,0,1,$J42),INTERPRNG_h($F42,'STU Treatment Values'!$Z$29:$AI$51,0,1,$J42)),\"\")","v":""},"",{"$f":"IF(A42=\"\",\"\",SUMIF(Catchment!$K$5:$K$300,A42,Catchment!$AA$5:$AA$300))","v":""},{"$f":"IFERROR(IF(I42>=0.5,INTERPRNG_h($F42,'STU Treatment Values'!$AL$5:$AU$27,0,1,$J42),INTERPRNG_h($F42,'STU Treatment Values'!$AL$29:$AU$51,0,1,$J42)),\"\")","v":""},"","","","",{"$f":"IFERROR(INTERPRNG_h($F42,'STU Treatment Values'!$B$79:$K$101,0,1,$J42),\"\")","v":""},{"$f":"IFERROR(INTERPRNG_h($F42,'STU Treatment Values'!$B$54:$K$76,0,1,$J42),\"\")","v":""},"","",{"$f":"IFERROR(INTERPRNG_h($F42,'STU Treatment Values'!$B$104:$K$126,0,1,$J42),\"\")","v":""},""]
[null,{"$f":"IF(A43=\"\",\"\",VLOOKUP(A43,STU!$A$5:$G$300,7,0))","v":""},{"$f":"IF(A43=\"\",\"\",SUMIF(Catchment!$K$5:$K$300,A43,Catchment!$V$5:$V$300))","v":""},{"$f":"IF(A43=\"\",\"\",SUMIF(Catchment!$K$5:$K$300,A43,Catchment!$L$5:$L$300))","v":""},{"$f":"IF(A43=\"\",\"\",VLOOKUP(A43,'RIDOT STU History (inputs)'!$A$5:$K$300,11,0))","v":""},"",{"$f":"IF(A43=\"\",\"\",VLOOKUP(A43,'RIDOT STU History (inputs)'!$A$5:$K$79,10,0))","v":""},"",{"$f":"IF(A43=\"\",\"\",D43/C43)","v":""},{"$f":"IF(ISBLANK(B43),\"\",IF(ISBLANK(G43),\"\",RowFunc(B43,G43)))","v":0},{"$f":"IF(A43=\"\",\"\",SUMIF(Catchment!$K$5:$K$300,A43,Catchment!$X$5:$X$300))","v":""},{"$f":"IFERROR(IF(I43>=0.5,INTERPRNG_h($F43,'STU Treatment Values'!$B$5:$K$27,0,1,$J43),INTERPRNG_h($F43,'STU Treatment Values'!$B$29:$K$51,0,1,$J43)),\"\")","v":""},{"$f":"IF(B43=\"Limited ROW\",L43*K43*0.1,IFERROR(L43*K43,\"\"))","v":""},{"$f":"IF(A43=\"\",\"\",SUMIF(Catchment!$K$5:$K$300,A43,Catchment!$Y$5:$Y$300))","v":""},{"$f":"IFERROR(IF(I43>=0.5,INTERPRNG_h($F43,'STU Treatment Values'!$N$5:$W$27,0,1,$J43),INTERPRNG_h($F43,'STU Treatment Values'!$N$29:$W$51,0,1,$J43)),\"\")","v":""},{"$f":"IF(B43=\"Limited ROW\",O43*N43*0.1,IFERROR(N43*O43,\"\"))","v":""},{"$f":"IF(A43=\"\",\"\",SUMIF(Catchment!$K$5:$K$300,A43,Catchment!$Z$5:$Z$300))","v":""},{"$f":"IFERROR(IF(I43>=0.5,INTERPRNG_h($F43,'STU Treatment Values'!$Z$5:$AI$27,0,1,$J43),INTERPRNG_h($F43,'STU Treatment Values'!$Z$29:$AI$51,0,1,$J43)),\"\")","v":""},{"$f":"IF(B43=\"Limited ROW\",R43*Q43*0.1,IFERROR(Q43*R43,\"\"))","v":""},{"$f":"IF(A43=\"\",\"\",SUMIF(Catchment!$K$5:$K$300,A43,Catchment!$AA$5:$AA$300))","v":""},{"$f":"IFERROR(IF(I43>=0.5,INTERPRNG_h($F43,'STU Treatment Values'!$AL$5:$AU$27,0,1,$J43),INTERPRNG_h($F43,'STU Treatment Values'!$AL$29:$AU$51,0,1,$J43)),\"\")","v":""},"","","","",{"$f":"IFERROR(INTERPRNG_h($F43,'STU Treatment Values'!$B$79:$K$101,0,1,$J43),\"\")","v":""},{"$f":"IFERROR(INTERPRNG_h($F43,'STU Treatment Values'!$B$54:$K$76,0,1,$J43),\"\")","v":""},"","",{"$f":"IFERROR(INTERPRNG_h($F43,'STU Treatment Values'!$B$104:$K$126,0,1,$J43),\"\")","v":""},""]
[null,{"$f":"IF(A44=\"\",\"\",VLOOKUP(A44,STU!$A$5:$G$300,7,0))","v":""},{"$f":"IF(A44=\"\",\"\",SUMIF(Catchment!$K$5:$K$300,A44,Catchment!$V$5:$V$300))","v":""},{"$f":"IF(A44=\"\",\"\",SUMIF(Catchment!$K$5:$K$300,A44,Catchment!$L$5:$L$300))","v":""},{"$f":"IF(A44=\"\",\"\",VLOOKUP(A44,'RIDOT STU History (inputs)'!$A$5:$K$300,11,0))","v":""},"",{"$f":"IF(A44=\"\",\"\",VLOOKUP(A44,'RIDOT STU History (inputs)'!$A$5:$K$79,10,0))","v":""},"",{"$f":"IF(A44=\"\",\"\",D44/C44)","v":""},{"$f":"IF(ISBLANK(B44),\"\",IF(ISBLANK(G44),\"\",RowFunc(B44,G44)))","v":0},{"$f":"IF(A44=\"\",\"\",SUMIF(Catchment!$K$5:$K$300,A44,Catchment!$X$5:$X$300))","v":""},{"$f":"IFERROR(IF(I44>=0.5,INTERPRNG_h($F44,'STU Treatment Values'!$B$5:$K$27,0,1,$J44),INTERPRNG_h($F44,'STU Treatment Values'!$B$29:$K$51,0,1,$J44)),\"\")","v":""},{"$f":"IF(B44=\"Limited ROW\",L44*K44*0.1,IFERROR(L44*K44,\"\"))","v":""},{"$f":"IF(A44=\"\",\"\",SUMIF(Catchment!$K$5:$K$300,A44,Catchment!$Y$5:$Y$300))","v":""},{"$f":"IFERROR(IF(I44>=0.5,INTERPRNG_h($F44,'STU Treatment Values'!$N$5:$W$27,0,1,$J44),INTERPRNG_h($F44,'STU Treatment Values'!$N$29:$W$51,0,1,$J44)),\"\")","v":""},{"$f":"IF(B44=\"Limited ROW\",O44*N44*0.1,IFERROR(N44*O44,\"\"))","v":""},{"$f":"IF(A44=\"\",\"\",SUMIF(Catchment!$K$5:$K$300,A44,Catchment!$Z$5:$Z$300))","v":""},{"$f":"IFERROR(IF(I44>=0.5,INTERPRNG_h($F44,'STU Treatment Values'!$Z$5:$AI$27,0,1,$J44),INTERPRNG_h($F44,'STU Treatment Values'!$Z$29:$AI$51,0,1,$J44)),\"\")","v":""},{"$f":"IF(B44=\"Limited ROW\",R44*Q44*0.1,IFERROR(Q44*R44,\"\"))","v":""},{"$f":"IF(A44=\"\",\"\",SUMIF(Catchment!$K$5:$K$300,A44,Catchment!$AA$5:$AA$300))","v":""},{"$f":"IFERROR(IF(I44>=0.5,INTERPRNG_h($F44,'STU Treatment Values'!$AL$5:$AU$27,0,1,$J44),INTERPRNG_h($F44,'STU Treatment Values'!$AL$29:$AU$51,0,1,$J44)),\"\")","v":""},"","","","",{"$f":"IFERROR(INTERPRNG_h($F44,'STU Treatment Values'!$B$79:$K$101,0,1,$J44),\"\")","v":""},{"$f":"IFERROR(INTERPRNG_h($F44,'STU Treatment Values'!$B$54:$K$76,0,1,$J44),\"\")","v":""},"","",{"$f":"IFERROR(INTERPRNG_h($F44,'STU Treatment Values'!$B$104:$K$126,0,1,$J44),\"\")","v":""},""]
[null,{"$f":"IF(A45=\"\",\"\",VLOOKUP(A45,STU!$A$5:$G$300,7,0))","v":""},{"$f":"IF(A45=\"\",\"\",SUMIF(Catchment!$K$5:$K$300,A45,Catchment!$V$5:$V$300))","v":""},{"$f":"IF(A45=\"\",\"\",SUMIF(Catchment!$K$5:$K$300,A45,Catchment!$L$5:$L$300))","v":""},{"$f":"IF(A45=\"\",\"\",VLOOKUP(A45,'RIDOT STU History (inputs)'!$A$5:$K$300,11,0))","v":""},"",{"$f":"IF(A45=\"\",\"\",VLOOKUP(A45,'RIDOT STU History (inputs)'!$A$5:$K$79,10,0))","v":""},"","",{"$f":"IF(ISBLANK(B45),\"\",IF(ISBLANK(G45),\"\",RowFunc(B45,G45)))","v":0},{"$f":"IF(A45=\"\",\"\",SUMIF(Catchment!$K$5:$K$300,A45,Catchment!$X$5:$X$300))","v":""},{"$f":"IFERROR(IF(I45>=0.5,INTERPRNG_h($F45,'STU Treatment Values'!$B$5:$K$27,0,1,$J45),INTERPRNG_h($F45,'STU Treatment Values'!$B$29:$K$51,0,1,$J45)),\"\")","v":""},"",{"$f":"IF(A45=\"\",\"\",SUMIF(Catchment!$K$5:$K$300,A45,Catchment!$Y$5:$Y$300))","v":""},{"$f":"IFERROR(IF(I45>=0.5,INTERPRNG_h($F45,'STU Treatment Values'!$N$5:$W$27,0,1,$J45),INTERPRNG_h($F45,'STU Treatment Values'!$N$29:$W$51,0,1,$J45)),\"\")","v":""},"",{"$f":"IF(A45=\"\",\"\",SUMIF(Catchment!$K$5:$K$300,A45,Catchment!$Z$5:$Z$300))","v":""},{"$f":"IFERROR(IF(I45>=0.5,INTERPRNG_h($F45,'STU Treatment Values'!$Z$5:$AI$27,0,1,$J45),INTERPRNG_h($F45,'STU Treatment Values'!$Z$29:$AI$51,0,1,$J45)),\"\")","v":""},"",{"$f":"IF(A45=\"\",\"\",SUMIF(Catchment!$K$5:$K$300,A45,Catchment!$AA$5:$AA$300))","v":""},{"$f":"IFERROR(IF(I45>=0.5,INTERPRNG_h($F45,'STU Treatment Values'!$AL$5:$AU$27,0,1,$J45),INTERPRNG_h($F45,'STU Treatment Values'!$AL$29:$AU$51,0,1,$J45)),\"\")","v":""},"","","","",{"$f":"IFERROR(INTERPRNG_h($F45,'STU Treatment Values'!$B$79:$K$101,0,1,$J45),\"\")","v":""},{"$f":"IFERROR(INTERPRNG_h($F45,'STU Treatment Values'!$B$54:$K$76,0,1,$J45),\"\")","v":""},"","",{"$f":"IFERROR(INTERPRNG_h($F45,'STU Treatment Values'!$B$104:$K$126,0,1,$J45),\"\")","v":""},""]
[null,{"$f":"IF(A46=\"\",\"\",VLOOKUP(A46,STU!$A$5:$G$300,7,0))","v":""},{"$f":"IF(A46=\"\",\"\",SUMIF(Catchment!$K$5:$K$300,A46,Catchment!$V$5:$V$300))","v":""},{"$f":"IF(A46=\"\",\"\",SUMIF(Catchment!$K$5:$K$300,A46,Catchment!$L$5:$L$300))","v":""},{"$f":"IF(A46=\"\",\"\",VLOOKUP(A46,'RIDOT STU History (inputs)'!$A$5:$K$300,11,0))","v":""},"",{"$f":"IF(A46=\"\",\"\",VLOOKUP(A46,'RIDOT STU History (inputs)'!$A$5:$K$79,10,0))","v":""},"","",{"$f":"IF(ISBLANK(B46),\"\",IF(ISBLANK(G46),\"\",RowFunc(B46,G46)))","v":0},{"$f":"IF(A46=\"\",\"\",SUMIF(Catchment!$K$5:$K$300,A46,Catchment!$X$5:$X$300))","v":""},{"$f":"IFERROR(IF(I46>=0.5,INTERPRNG_h($F46,'STU Treatment Values'!$B$5:$K$27,0,1,$J46),INTERPRNG_h($F46,'STU Treatment Values'!$B$29:$K$51,0,1,$J46)),\"\")","v":""},"",{"$f":"IF(A46=\"\",\"\",SUMIF(Catchment!$K$5:$K$300,A46,Catchment!$Y$5:$Y$300))","v":""},{"$f":"IFERROR(IF(I46>=0.5,INTERPRNG_h($F46,'STU Treatment Values'!$N$5:$W$27,0,1,$J46),INTERPRNG_h($F46,'STU Treatment Values'!$N$29:$W$51,0,1,$J46)),\"\")","v":""},"",{"$f":"IF(A46=\"\",\"\",SUMIF(Catchment!$K$5:$K$300,A46,Catchment!$Z$5:$Z$300))","v":""},{"$f":"IFERROR(IF(I46>=0.5,INTERPRNG_h($F46,'STU Treatment Values'!$Z$5:$AI$27,0,1,$J46),INTERPRNG_h($F46,'STU Treatment Values'!$Z$29:$AI$51,0,1,$J46)),\"\")","v":""},"",{"$f":"IF(A46=\"\",\"\",SUMIF(Catchment!$K$5:$K$300,A46,Catchment!$AA$5:$AA$300))","v":""},{"$f":"IFERROR(IF(I46>=0.5,INTERPRNG_h($F46,'STU Treatment Values'!$AL$5:$AU$27,0,1,$J46),INTERPRNG_h($F46,'STU Treatment Values'!$AL$29:$AU$51,0,1,$J46)),\"\")","v":""},"","","","",{"$f":"IFERROR(INTERPRNG_h($F46,'STU Treatment Values'!$B$79:$K$101,0,1,$J46),\"\")","v":""},{"$f":"IFERROR(INTERPRNG_h($F46,'STU Treatment Values'!$B$54:$K$76,0,1,$J46),\"\")","v":""},"","",{"$f":"IFERROR(INTERPRNG_h($F46,'STU Treatment Values'!$B$104:$K$126,0,1,$J46),\"\")","v":""},""]
[null,{"$f":"IF(A47=\"\",\"\",VLOOKUP(A47,STU!$A$5:$G$300,7,0))","v":""},{"$f":"IF(A47=\"\",\"\",SUMIF(Catchment!$K$5:$K$300,A47,Catchment!$V$5:$V$300))","v":""},{"$f":"IF(A47=\"\",\"\",SUMIF(Catchment!$K$5:$K$300,A47,Catchment!$L$5:$L$300))","v":""},{"$f":"IF(A47=\"\",\"\",VLOOKUP(A47,'RIDOT STU History (inputs)'!$A$5:$K$300,11,0))","v":""},"",{"$f":"IF(A47=\"\",\"\",VLOOKUP(A47,'RIDOT STU History (inputs)'!$A$5:$K$79,10,0))","v":""},"","",{"$f":"IF(ISBLANK(B47),\"\",IF(ISBLANK(G47),\"\",RowFunc(B47,G47)))","v":0},{"$f":"IF(A47=\"\",\"\",SUMIF(Catchment!$K$5:$K$300,A47,Catchment!$X$5:$X$300))","v":""},{"$f":"IFERROR(IF(I47>=0.5,INTERPRNG_h($F47,'STU Treatment Values'!$B$5:$K$27,0,1,$J47),INTERPRNG_h($F47,'STU Treatment Values'!$B$29:$K$51,0,1,$J47)),\"\")","v":""},"",{"$f":"IF(A47=\"\",\"\",SUMIF(Catchment!$K$5:$K$300,A47,Catchment!$Y$5:$Y$300))","v":""},{"$f":"IFERROR(IF(I47>=0.5,INTERPRNG_h($F47,'STU Treatment Values'!$N$5:$W$27,0,1,$J47),INTERPRNG_h($F47,'STU Treatment Values'!$N$29:$W$51,0,1,$J47)),\"\")","v":""},"",{"$f":"IF(A47=\"\",\"\",SUMIF(Catchment!$K$5:$K$300,A47,Catchment!$Z$5:$Z$300))","v":""},{"$f":"IFERROR(IF(I47>=0.5,INTERPRNG_h($F47,'STU Treatment Values'!$Z$5:$AI$27,0,1,$J47),INTERPRNG_h($F47,'STU Treatment Values'!$Z$29:$AI$51,0,1,$J47)),\"\")","v":""},"",{"$f":"IF(A47=\"\",\"\",SUMIF(Catchment!$K$5:$K$300,A47,Catchment!$AA$5:$AA$300))","v":""},{"$f":"IFERROR(IF(I47>=0.5,INTERPRNG_h($F47,'STU Treatment Values'!$AL$5:$AU$27,0,1,$J47),INTERPRNG_h($F47,'STU Treatment Values'!$AL$29:$AU$51,0,1,$J47)),\"\")","v":""},"","","","",{"$f":"IFERROR(INTERPRNG_h($F47,'STU Treatment Values'!$B$79:$K$101,0,1,$J47),\"\")","v":""},{"$f":"IFERROR(INTERPRNG_h($F47,'STU Treatment Values'!$B$54:$K$76,0,1,$J47),\"\")","v":""},"","",{"$f":"IFERROR(INTERPRNG_h($F47,'STU Treatment Values'!$B$104:$K$126,0,1,$J47),\"\")","v":""},""]
[null,{"$f":"IF(A48=\"\",\"\",VLOOKUP(A48,STU!$A$5:$G$300,7,0))","v":""},{"$f":"IF(A48=\"\",\"\",SUMIF(Catchment!$K$5:$K$300,A48,Catchment!$V$5:$V$300))","v":""},{"$f":"IF(A48=\"\",\"\",SUMIF(Catchment!$K$5:$K$300,A48,Catchment!$L$5:$L$300))","v":""},{"$f":"IF(A48=\"\",\"\",VLOOKUP(A48,'RIDOT STU History (inputs)'!$A$5:$K$300,11,0))","v":""},"",{"$f":"IF(A48=\"\",\"\",VLOOKUP(A48,'RIDOT STU History (inputs)'!$A$5:$K$79,10,0))","v":""},"","",{"$f":"IF(ISBLANK(B48),\"\",IF(ISBLANK(G48),\"\",RowFunc(B48,G48)))","v":0},{"$f":"IF(A48=\"\",\"\",SUMIF(Catchment!$K$5:$K$300,A48,Catchment!$X$5:$X$300))","v":""},{"$f":"IFERROR(IF(I48>=0.5,INTERPRNG_h($F48,'STU Treatment Values'!$B$5:$K$27,0,1,$J48),INTERPRNG_h($F48,'STU Treatment Values'!$B$29:$K$51,0,1,$J48)),\"\")","v":""},"",{"$f":"IF(A48=\"\",\"\",SUMIF(Catchment!$K$5:$K$300,A48,Catchment!$Y$5:$Y$300))","v":""},{"$f":"IFERROR(IF(I48>=0.5,INTERPRNG_h($F48,'STU Treatment Values'!$N$5:$W$27,0,1,$J48),INTERPRNG_h($F48,'STU Treatment Values'!$N$29:$W$51,0,1,$J48)),\"\")","v":""},"",{"$f":"IF(A48=\"\",\"\",SUMIF(Catchment!$K$5:$K$300,A48,Catchment!$Z$5:$Z$300))","v":""},{"$f":"IFERROR(IF(I48>=0.5,INTERPRNG_h($F48,'STU Treatment Values'!$Z$5:$AI$27,0,1,$J48),INTERPRNG_h($F48,'STU Treatment Values'!$Z$29:$AI$51,0,1,$J48)),\"\")","v":""},"",{"$f":"IF(A48=\"\",\"\",SUMIF(Catchment!$K$5:$K$300,A48,Catchment!$AA$5:$AA$300))","v":""},{"$f":"IFERROR(IF(I48>=0.5,INTERPRNG_h($F48,'STU Treatment Values'!$AL$5:$AU$27,0,1,$J48),INTERPRNG_h($F48,'STU Treatment Values'!$AL$29:$AU$51,0,1,$J48)),\"\")","v":""},"","","","",{"$f":"IFERROR(INTERPRNG_h($F48,'STU Treatment Values'!$B$79:$K$101,0,1,$J48),\"\")","v":""},{"$f":"IFERROR(INTERPRNG_h($F48,'STU Treatment Values'!$B$54:$K$76,0,1,$J48),\"\")","v":""},"","",{"$f":"IFERROR(INTERPRNG_h($F48,'STU Treatment Values'!$B$104:$K$126,0,1,$J48),\"\")","v":""},""]
[null,{"$f":"IF(A49=\"\",\"\",VLOOKUP(A49,STU!$A$5:$G$300,7,0))","v":""},{"$f":"IF(A49=\"\",\"\",SUMIF(Catchment!$K$5:$K$300,A49,Catchment!$V$5:$V$300))","v":""},{"$f":"IF(A49=\"\",\"\",SUMIF(Catchment!$K$5:$K$300,A49,Catchment!$L$5:$L$300))","v":""},{"$f":"IF(A49=\"\",\"\",VLOOKUP(A49,'RIDOT STU History (inputs)'!$A$5:$K$300,11,0))","v":""},"",{"$f":"IF(A49=\"\",\"\",VLOOKUP(A49,'RIDOT STU History (inputs)'!$A$5:$K$79,10,0))","v":""},"","",{"$f":"IF(ISBLANK(B49),\"\",IF(ISBLANK(G49),\"\",RowFunc(B49,G49)))","v":0},{"$f":"IF(A49=\"\",\"\",SUMIF(Catchment!$K$5:$K$300,A49,Catchment!$X$5:$X$300))","v":""},{"$f":"IFERROR(IF(I49>=0.5,INTERPRNG_h($F49,'STU Treatment Values'!$B$5:$K$27,0,1,$J49),INTERPRNG_h($F49,'STU Treatment Values'!$B$29:$K$51,0,1,$J49)),\"\")","v":""},"",{"$f":"IF(A49=\"\",\"\",SUMIF(Catchment!$K$5:$K$300,A49,Catchment!$Y$5:$Y$300))","v":""},{"$f":"IFERROR(IF(I49>=0.5,INTERPRNG_h($F49,'STU Treatment Values'!$N$5:$W$27,0,1,$J49),INTERPRNG_h($F49,'STU Treatment Values'!$N$29:$W$51,0,1,$J49)),\"\")","v":""},"",{"$f":"IF(A49=\"\",\"\",SUMIF(Catchment!$K$5:$K$300,A49,Catchment!$Z$5:$Z$300))","v":""},{"$f":"IFERROR(IF(I49>=0.5,INTERPRNG_h($F49,'STU Treatment Values'!$Z$5:$AI$27,0,1,$J49),INTERPRNG_h($F49,'STU Treatment Values'!$Z$29:$AI$51,0,1,$J49)),\"\")","v":""},"",{"$f":"IF(A49=\"\",\"\",SUMIF(Catchment!$K$5:$K$300,A49,Catchment!$AA$5:$AA$300))","v":""},{"$f":"IFERROR(IF(I49>=0.5,INTERPRNG_h($F49,'STU Treatment Values'!$AL$5:$AU$27,0,1,$J49),INTERPRNG_h($F49,'STU Treatment Values'!$AL$29:$AU$51,0,1,$J49)),\"\")","v":""},"","","","",{"$f":"IFERROR(INTERPRNG_h($F49,'STU Treatment Values'!$B$79:$K$101,0,1,$J49),\"\")","v":""},{"$f":"IFERROR(INTERPRNG_h($F49,'STU Treatment Values'!$B$54:$K$76,0,1,$J49),\"\")","v":""},"","",{"$f":"IFERROR(INTERPRNG_h($F49,'STU Treatment Values'!$B$104:$K$126,0,1,$J49),\"\")","v":""},""]
[null,{"$f":"IF(A50=\"\",\"\",VLOOKUP(A50,STU!$A$5:$G$300,7,0))","v":""},{"$f":"IF(A50=\"\",\"\",SUMIF(Catchment!$K$5:$K$300,A50,Catchment!$V$5:$V$300))","v":""},{"$f":"IF(A50=\"\",\"\",SUMIF(Catchment!$K$5:$K$300,A50,Catchment!$L$5:$L$300))","v":""},{"$f":"IF(A50=\"\",\"\",VLOOKUP(A50,'RIDOT STU History (inputs)'!$A$5:$K$300,11,0))","v":""},"",{"$f":"IF(A50=\"\",\"\",VLOOKUP(A50,'RIDOT STU History (inputs)'!$A$5:$K$79,10,0))","v":""},"","",{"$f":"IF(ISBLANK(B50),\"\",IF(ISBLANK(G50),\"\",RowFunc(B50,G50)))","v":0},{"$f":"IF(A50=\"\",\"\",SUMIF(Catchment!$K$5:$K$300,A50,Catchment!$X$5:$X$300))","v":""},{"$f":"IFERROR(IF(I50>=0.5,INTERPRNG_h($F50,'STU Treatment Values'!$B$5:$K$27,0,1,$J50),INTERPRNG_h($F50,'STU Treatment Values'!$B$29:$K$51,0,1,$J50)),\"\")","v":""},"",{"$f":"IF(A50=\"\",\"\",SUMIF(Catchment!$K$5:$K$300,A50,Catchment!$Y$5:$Y$300))","v":""},{"$f":"IFERROR(IF(I50>=0.5,INTERPRNG_h($F50,'STU Treatment Values'!$N$5:$W$27,0,1,$J50),INTERPRNG_h($F50,'STU Treatment Values'!$N$29:$W$51,0,1,$J50)),\"\")","v":""},"",{"$f":"IF(A50=\"\",\"\",SUMIF(Catchment!$K$5:$K$300,A50,Catchment!$Z$5:$Z$300))","v":""},{"$f":"IFERROR(IF(I50>=0.5,INTERPRNG_h($F50,'STU Treatment Values'!$Z$5:$AI$27,0,1,$J50),INTERPRNG_h($F50,'STU Treatment Values'!$Z$29:$AI$51,0,1,$J50)),\"\")","v":""},"",{"$f":"IF(A50=\"\",\"\",SUMIF(Catchment!$K$5:$K$300,A50,Catchment!$AA$5:$AA$300))","v":""},{"$f":"IFERROR(IF(I50>=0.5,INTERPRNG_h($F50,'STU Treatment Values'!$AL$5:$AU$27,0,1,$J50),INTERPRNG_h($F50,'STU Treatment Values'!$AL$29:$AU$51,0,1,$J50)),\"\")","v":""},"","","","",{"$f":"IFERROR(INTERPRNG_h($F50,'STU Treatment Values'!$B$79:$K$101,0,1,$J50),\"\")","v":""},{"$f":"IFERROR(INTERPRNG_h($F50,'STU Treatment Values'!$B$54:$K$76,0,1,$J50),\"\")","v":""},"","",{"$f":"IFERROR(INTERPRNG_h($F50,'STU Treatment Values'!$B$104:$K$126,0,1,$J50),\"\")","v":""},""]
[null,{"$f":"IF(A51=\"\",\"\",VLOOKUP(A51,STU!$A$5:$G$300,7,0))","v":""},{"$f":"IF(A51=\"\",\"\",SUMIF(Catchment!$K$5:$K$300,A51,Catchment!$V$5:$V$300))","v":""},{"$f":"IF(A51=\"\",\"\",SUMIF(Catchment!$K$5:$K$300,A51,Catchment!$L$5:$L$300))","v":""},{"$f":"IF(A51=\"\",\"\",VLOOKUP(A51,'RIDOT STU History (inputs)'!$A$5:$K$300,11,0))","v":""},"",{"$f":"IF(A51=\"\",\"\",VLOOKUP(A51,'RIDOT STU History (inputs)'!$A$5:$K$79,10,0))","v":""},"","",{"$f":"IF(ISBLANK(B51),\"\",IF(ISBLANK(G51),\"\",RowFunc(B51,G51)))","v":0},{"$f":"IF(A51=\"\",\"\",SUMIF(Catchment!$K$5:$K$300,A51,Catchment!$X$5:$X$300))","v":""},{"$f":"IFERROR(IF(I51>=0.5,INTERPRNG_h($F51,'STU Treatment Values'!$B$5:$K$27,0,1,$J51),INTERPRNG_h($F51,'STU Treatment Values'!$B$29:$K$51,0,1,$J51)),\"\")","v":""},"",{"$f":"IF(A51=\"\",\"\",SUMIF(Catchment!$K$5:$K$300,A51,Catchment!$Y$5:$Y$300))","v":""},{"$f":"IFERROR(IF(I51>=0.5,INTERPRNG_h($F51,'STU Treatment Values'!$N$5:$W$27,0,1,$J51),INTERPRNG_h($F51,'STU Treatment Values'!$N$29:$W$51,0,1,$J51)),\"\")","v":""},"",{"$f":"IF(A51=\"\",\"\",SUMIF(Catchment!$K$5:$K$300,A51,Catchment!$Z$5:$Z$300))","v":""},{"$f":"IFERROR(IF(I51>=0.5,INTERPRNG_h($F51,'STU Treatment Values'!$Z$5:$AI$27,0,1,$J51),INTERPRNG_h($F51,'STU Treatment Values'!$Z$29:$AI$51,0,1,$J51)),\"\")","v":""},"",{"$f":"IF(A51=\"\",\"\",SUMIF(Catchment!$K$5:$K$300,A51,Catchment!$AA$5:$AA$300))","v":""},{"$f":"IFERROR(IF(I51>=0.5,INTERPRNG_h($F51,'STU Treatment Values'!$AL$5:$AU$27,0,1,$J51),INTERPRNG_h($F51,'STU Treatment Values'!$AL$29:$AU$51,0,1,$J51)),\"\")","v":""},"","","","",{"$f":"IFERROR(INTERPRNG_h($F51,'STU Treatment Values'!$B$79:$K$101,0,1,$J51),\"\")","v":""},{"$f":"IFERROR(INTERPRNG_h($F51,'STU Treatment Values'!$B$54:$K$76,0,1,$J51),\"\")","v":""},"","",{"$f":"IFERROR(INTERPRNG_h($F51,'STU Treatment Values'!$B$104:$K$126,0,1,$J51),\"\")","v":""},""]
[null,{"$f":"IF(A52=\"\",\"\",VLOOKUP(A52,STU!$A$5:$G$300,7,0))","v":""},{"$f":"IF(A52=\"\",\"\",SUMIF(Catchment!$K$5:$K$300,A52,Catchment!$V$5:$V$300))","v":""},{"$f":"IF(A52=\"\",\"\",SUMIF(Catchment!$K$5:$K$300,A52,Catchment!$L$5:$L$300))","v":""},{"$f":"IF(A52=\"\",\"\",VLOOKUP(A52,'RIDOT STU History (inputs)'!$A$5:$K$300,11,0))","v":""},"",{"$f":"IF(A52=\"\",\"\",VLOOKUP(A52,'RIDOT STU History (inputs)'!$A$5:$K$79,10,0))","v":""},"","",{"$f":"IF(ISBLANK(B52),\"\",IF(ISBLANK(G52),\"\",RowFunc(B52,G52)))","v":0},{"$f":"IF(A52=\"\",\"\",SUMIF(Catchment!$K$5:$K$300,A52,Catchment!$X$5:$X$300))","v":""},{"$f":"IFERROR(IF(I52>=0.5,INTERPRNG_h($F52,'STU Treatment Values'!$B$5:$K$27,0,1,$J52),INTERPRNG_h($F52,'STU Treatment Values'!$B$29:$K$51,0,1,$J52)),\"\")","v":""},"",{"$f":"IF(A52=\"\",\"\",SUMIF(Catchment!$K$5:$K$300,A52,Catchment!$Y$5:$Y$300))","v":""},{"$f":"IFERROR(IF(I52>=0.5,INTERPRNG_h($F52,'STU Treatment Values'!$N$5:$W$27,0,1,$J52),INTERPRNG_h($F52,'STU Treatment Values'!$N$29:$W$51,0,1,$J52)),\"\")","v":""},"",{"$f":"IF(A52=\"\",\"\",SUMIF(Catchment!$K$5:$K$300,A52,Catchment!$Z$5:$Z$300))","v":""},{"$f":"IFERROR(IF(I52>=0.5,INTERPRNG_h($F52,'STU Treatment Values'!$Z$5:$AI$27,0,1,$J52),INTERPRNG_h($F52,'STU Treatment Values'!$Z$29:$AI$51,0,1,$J52)),\"\")","v":""},"",{"$f":"IF(A52=\"\",\"\",SUMIF(Catchment!$K$5:$K$300,A52,Catchment!$AA$5:$AA$300))","v":""},{"$f":"IFERROR(IF(I52>=0.5,INTERPRNG_h($F52,'STU Treatment Values'!$AL$5:$AU$27,0,1,$J52),INTERPRNG_h($F52,'STU Treatment Values'!$AL$29:$AU$51,0,1,$J52)),\"\")","v":""},"","","","",{"$f":"IFERROR(INTERPRNG_h($F52,'STU Treatment Values'!$B$79:$K$101,0,1,$J52),\"\")","v":""},{"$f":"IFERROR(INTERPRNG_h($F52,'STU Treatment Values'!$B$54:$K$76,0,1,$J52),\"\")","v":""},"","",{"$f":"IFERROR(INTERPRNG_h($F52,'STU Treatment Values'!$B$104:$K$126,0,1,$J52),\"\")","v":""},""]
[null,{"$f":"IF(A53=\"\",\"\",VLOOKUP(A53,STU!$A$5:$G$300,7,0))","v":""},{"$f":"IF(A53=\"\",\"\",SUMIF(Catchment!$K$5:$K$300,A53,Catchment!$V$5:$V$300))","v":""},{"$f":"IF(A53=\"\",\"\",SUMIF(Catchment!$K$5:$K$300,A53,Catchment!$L$5:$L$300))","v":""},{"$f":"IF(A53=\"\",\"\",VLOOKUP(A53,'RIDOT STU History (inputs)'!$A$5:$K$300,11,0))","v":""},"",{"$f":"IF(A53=\"\",\"\",VLOOKUP(A53,'RIDOT STU History (inputs)'!$A$5:$K$79,10,0))","v":""},"","",{"$f":"IF(ISBLANK(B53),\"\",IF(ISBLANK(G53),\"\",RowFunc(B53,G53)))","v":0},{"$f":"IF(A53=\"\",\"\",SUMIF(Catchment!$K$5:$K$300,A53,Catchment!$X$5:$X$300))","v":""},{"$f":"IFERROR(IF(I53>=0.5,INTERPRNG_h($F53,'STU Treatment Values'!$B$5:$K$27,0,1,$J53),INTERPRNG_h($F53,'STU Treatment Values'!$B$29:$K$51,0,1,$J53)),\"\")","v":""},"",{"$f":"IF(A53=\"\",\"\",SUMIF(Catchment!$K$5:$K$300,A53,Catchment!$Y$5:$Y$300))","v":""},{"$f":"IFERROR(IF(I53>=0.5,INTERPRNG_h($F53,'STU Treatment Values'!$N$5:$W$27,0,1,$J53),INTERPRNG_h($F53,'STU Treatment Values'!$N$29:$W$51,0,1,$J53)),\"\")","v":""},"",{"$f":"IF(A53=\"\",\"\",SUMIF(Catchment!$K$5:$K$300,A53,Catchment!$Z$5:$Z$300))","v":""},{"$f":"IFERROR(IF(I53>=0.5,INTERPRNG_h($F53,'STU Treatment Values'!$Z$5:$AI$27,0,1,$J53),INTERPRNG_h($F53,'STU Treatment Values'!$Z$29:$AI$51,0,1,$J53)),\"\")","v":""},"",{"$f":"IF(A53=\"\",\"\",SUMIF(Catchment!$K$5:$K$300,A53,Catchment!$AA$5:$AA$300))","v":""},{"$f":"IFERROR(IF(I53>=0.5,INTERPRNG_h($F53,'STU Treatment Values'!$AL$5:$AU$27,0,1,$J53),INTERPRNG_h($F53,'STU Treatment Values'!$AL$29:$AU$51,0,1,$J53)),\"\")","v":""},"","","","",{"$f":"IFERROR(INTERPRNG_h($F53,'STU Treatment Values'!$B$79:$K$101,0,1,$J53),\"\")","v":""},{"$f":"IFERROR(INTERPRNG_h($F53,'STU Treatment Values'!$B$54:$K$76,0,1,$J53),\"\")","v":""},"","",{"$f":"IFERROR(INTERPRNG_h($F53,'STU Treatment Values'!$B$104:$K$126,0,1,$J53),\"\")","v":""},""]
[null,{"$f":"IF(A54=\"\",\"\",VLOOKUP(A54,STU!$A$5:$G$300,7,0))","v":""},{"$f":"IF(A54=\"\",\"\",SUMIF(Catchment!$K$5:$K$300,A54,Catchment!$V$5:$V$300))","v":""},{"$f":"IF(A54=\"\",\"\",SUMIF(Catchment!$K$5:$K$300,A54,Catchment!$L$5:$L$300))","v":""},{"$f":"IF(A54=\"\",\"\",VLOOKUP(A54,'RIDOT STU History (inputs)'!$A$5:$K$300,11,0))","v":""},"",{"$f":"IF(A54=\"\",\"\",VLOOKUP(A54,'RIDOT STU History (inputs)'!$A$5:$K$79,10,0))","v":""},"","",{"$f":"IF(ISBLANK(B54),\"\",IF(ISBLANK(G54),\"\",RowFunc(B54,G54)))","v":0},{"$f":"IF(A54=\"\",\"\",SUMIF(Catchment!$K$5:$K$300,A54,Catchment!$X$5:$X$300))","v":""},{"$f":"IFERROR(IF(I54>=0.5,INTERPRNG_h($F54,'STU Treatment Values'!$B$5:$K$27,0,1,$J54),INTERPRNG_h($F54,'STU Treatment Values'!$B$29:$K$51,0,1,$J54)),\"\")","v":""},"",{"$f":"IF(A54=\"\",\"\",SUMIF(Catchment!$K$5:$K$300,A54,Catchment!$Y$5:$Y$300))","v":""},{"$f":"IFERROR(IF(I54>=0.5,INTERPRNG_h($F54,'STU Treatment Values'!$N$5:$W$27,0,1,$J54),INTERPRNG_h($F54,'STU Treatment Values'!$N$29:$W$51,0,1,$J54)),\"\")","v":""},"",{"$f":"IF(A54=\"\",\"\",SUMIF(Catchment!$K$5:$K$300,A54,Catchment!$Z$5:$Z$300))","v":""},{"$f":"IFERROR(IF(I54>=0.5,INTERPRNG_h($F54,'STU Treatment Values'!$Z$5:$AI$27,0,1,$J54),INTERPRNG_h($F54,'STU Treatment Values'!$Z$29:$AI$51,0,1,$J54)),\"\")","v":""},"",{"$f":"IF(A54=\"\",\"\",SUMIF(Catchment!$K$5:$K$300,A54,Catchment!$AA$5:$AA$300))","v":""},{"$f":"IFERROR(IF(I54>=0.5,INTERPRNG_h($F54,'STU Treatment Values'!$AL$5:$AU$27,0,1,$J54),INTERPRNG_h($F54,'STU Treatment Values'!$AL$29:$AU$51,0,1,$J54)),\"\")","v":""},"","","","",{"$f":"IFERROR(INTERPRNG_h($F54,'STU Treatment Values'!$B$79:$K$101,0,1,$J54),\"\")","v":""},{"$f":"IFERROR(INTERPRNG_h($F54,'STU Treatment Values'!$B$54:$K$76,0,1,$J54),\"\")","v":""},"","",{"$f":"IFERROR(INTERPRNG_h($F54,'STU Treatment Values'!$B$104:$K$126,0,1,$J54),\"\")","v":""},""]
[null,{"$f":"IF(A55=\"\",\"\",VLOOKUP(A55,STU!$A$5:$G$300,7,0))","v":""},{"$f":"IF(A55=\"\",\"\",SUMIF(Catchment!$K$5:$K$300,A55,Catchment!$V$5:$V$300))","v":""},{"$f":"IF(A55=\"\",\"\",SUMIF(Catchment!$K$5:$K$300,A55,Catchment!$L$5:$L$300))","v":""},{"$f":"IF(A55=\"\",\"\",VLOOKUP(A55,'RIDOT STU History (inputs)'!$A$5:$K$300,11,0))","v":""},"",{"$f":"IF(A55=\"\",\"\",VLOOKUP(A55,'RIDOT STU History (inputs)'!$A$5:$K$79,10,0))","v":""},"","",{"$f":"IF(ISBLANK(B55),\"\",IF(ISBLANK(G55),\"\",RowFunc(B55,G55)))","v":0},{"$f":"IF(A55=\"\",\"\",SUMIF(Catchment!$K$5:$K$300,A55,Catchment!$X$5:$X$300))","v":""},{"$f":"IFERROR(IF(I55>=0.5,INTERPRNG_h($F55,'STU Treatment Values'!$B$5:$K$27,0,1,$J55),INTERPRNG_h($F55,'STU Treatment Values'!$B$29:$K$51,0,1,$J55)),\"\")","v":""},"",{"$f":"IF(A55=\"\",\"\",SUMIF(Catchment!$K$5:$K$300,A55,Catchment!$Y$5:$Y$300))","v":""},{"$f":"IFERROR(IF(I55>=0.5,INTERPRNG_h($F55,'STU Treatment Values'!$N$5:$W$27,0,1,$J55),INTERPRNG_h($F55,'STU Treatment Values'!$N$29:$W$51,0,1,$J55)),\"\")","v":""},"",{"$f":"IF(A55=\"\",\"\",SUMIF(Catchment!$K$5:$K$300,A55,Catchment!$Z$5:$Z$300))","v":""},{"$f":"IFERROR(IF(I55>=0.5,INTERPRNG_h($F55,'STU Treatment Values'!$Z$5:$AI$27,0,1,$J55),INTERPRNG_h($F55,'STU Treatment Values'!$Z$29:$AI$51,0,1,$J55)),\"\")","v":""},"",{"$f":"IF(A55=\"\",\"\",SUMIF(Catchment!$K$5:$K$300,A55,Catchment!$AA$5:$AA$300))","v":""},{"$f":"IFERROR(IF(I55>=0.5,INTERPRNG_h($F55,'STU Treatment Values'!$AL$5:$AU$27,0,1,$J55),INTERPRNG_h($F55,'STU Treatment Values'!$AL$29:$AU$51,0,1,$J55)),\"\")","v":""},"","","","",{"$f":"IFERROR(INTERPRNG_h($F55,'STU Treatment Values'!$B$79:$K$101,0,1,$J55),\"\")","v":""},{"$f":"IFERROR(INTERPRNG_h($F55,'STU Treatment Values'!$B$54:$K$76,0,1,$J55),\"\")","v":""},"","",{"$f":"IFERROR(INTERPRNG_h($F55,'STU Treatment Values'!$B$104:$K$126,0,1,$J55),\"\")","v":""},""]
[null,{"$f":"IF(A56=\"\",\"\",VLOOKUP(A56,STU!$A$5:$G$300,7,0))","v":""},{"$f":"IF(A56=\"\",\"\",SUMIF(Catchment!$K$5:$K$300,A56,Catchment!$V$5:$V$300))","v":""},{"$f":"IF(A56=\"\",\"\",SUMIF(Catchment!$K$5:$K$300,A56,Catchment!$L$5:$L$300))","v":""},{"$f":"IF(A56=\"\",\"\",VLOOKUP(A56,'RIDOT STU History (inputs)'!$A$5:$K$300,11,0))","v":""},"",{"$f":"IF(A56=\"\",\"\",VLOOKUP(A56,'RIDOT STU History (inputs)'!$A$5:$K$79,10,0))","v":""},"","",{"$f":"IF(ISBLANK(B56),\"\",IF(ISBLANK(G56),\"\",RowFunc(B56,G56)))","v":0},{"$f":"IF(A56=\"\",\"\",SUMIF(Catchment!$K$5:$K$300,A56,Catchment!$X$5:$X$300))","v":""},{"$f":"IFERROR(IF(I56>=0.5,INTERPRNG_h($F56,'STU Treatment Values'!$B$5:$K$27,0,1,$J56),INTERPRNG_h($F56,'STU Treatment Values'!$B$29:$K$51,0,1,$J56)),\"\")","v":""},"",{"$f":"IF(A56=\"\",\"\",SUMIF(Catchment!$K$5:$K$300,A56,Catchment!$Y$5:$Y$300))","v":""},{"$f":"IFERROR(IF(I56>=0.5,INTERPRNG_h($F56,'STU Treatment Values'!$N$5:$W$27,0,1,$J56),INTERPRNG_h($F56,'STU Treatment Values'!$N$29:$W$51,0,1,$J56)),\"\")","v":""},"",{"$f":"IF(A56=\"\",\"\",SUMIF(Catchment!$K$5:$K$300,A56,Catchment!$Z$5:$Z$300))","v":""},{"$f":"IFERROR(IF(I56>=0.5,INTERPRNG_h($F56,'STU Treatment Values'!$Z$5:$AI$27,0,1,$J56),INTERPRNG_h($F56,'STU Treatment Values'!$Z$29:$AI$51,0,1,$J56)),\"\")","v":""},"",{"$f":"IF(A56=\"\",\"\",SUMIF(Catchment!$K$5:$K$300,A56,Catchment!$AA$5:$AA$300))","v":""},{"$f":"IFERROR(IF(I56>=0.5,INTERPRNG_h($F56,'STU Treatment Values'!$AL$5:$AU$27,0,1,$J56),INTERPRNG_h($F56,'STU Treatment Values'!$AL$29:$AU$51,0,1,$J56)),\"\")","v":""},"","","","",{"$f":"IFERROR(INTERPRNG_h($F56,'STU Treatment Values'!$B$79:$K$101,0,1,$J56),\"\")","v":""},{"$f":"IFERROR(INTERPRNG_h($F56,'STU Treatment Values'!$B$54:$K$76,0,1,$J56),\"\")","v":""},"","",{"$f":"IFERROR(INTERPRNG_h($F56,'STU Treatment Values'!$B$104:$K$126,0,1,$J56),\"\")","v":""},""]
[null,{"$f":"IF(A57=\"\",\"\",VLOOKUP(A57,STU!$A$5:$G$300,7,0))","v":""},{"$f":"IF(A57=\"\",\"\",SUMIF(Catchment!$K$5:$K$300,A57,Catchment!$V$5:$V$300))","v":""},{"$f":"IF(A57=\"\",\"\",SUMIF(Catchment!$K$5:$K$300,A57,Catchment!$L$5:$L$300))","v":""},{"$f":"IF(A57=\"\",\"\",VLOOKUP(A57,'RIDOT STU History (inputs)'!$A$5:$K$300,11,0))","v":""},"",{"$f":"IF(A57=\"\",\"\",VLOOKUP(A57,'RIDOT STU History (inputs)'!$A$5:$K$79,10,0))","v":""},"","",{"$f":"IF(ISBLANK(B57),\"\",IF(ISBLANK(G57),\"\",RowFunc(B57,G57)))","v":0},{"$f":"IF(A57=\"\",\"\",SUMIF(Catchment!$K$5:$K$300,A57,Catchment!$X$5:$X$300))","v":""},{"$f":"IFERROR(IF(I57>=0.5,INTERPRNG_h($F57,'STU Treatment Values'!$B$5:$K$27,0,1,$J57),INTERPRNG_h($F57,'STU Treatment Values'!$B$29:$K$51,0,1,$J57)),\"\")","v":""},"",{"$f":"IF(A57=\"\",\"\",SUMIF(Catchment!$K$5:$K$300,A57,Catchment!$Y$5:$Y$300))","v":""},{"$f":"IFERROR(IF(I57>=0.5,INTERPRNG_h($F57,'STU Treatment Values'!$N$5:$W$27,0,1,$J57),INTERPRNG_h($F57,'STU Treatment Values'!$N$29:$W$51,0,1,$J57)),\"\")","v":""},"",{"$f":"IF(A57=\"\",\"\",SUMIF(Catchment!$K$5:$K$300,A57,Catchment!$Z$5:$Z$300))","v":""},{"$f":"IFERROR(IF(I57>=0.5,INTERPRNG_h($F57,'STU Treatment Values'!$Z$5:$AI$27,0,1,$J57),INTERPRNG_h($F57,'STU Treatment Values'!$Z$29:$AI$51,0,1,$J57)),\"\")","v":""},"",{"$f":"IF(A57=\"\",\"\",SUMIF(Catchment!$K$5:$K$300,A57,Catchment!$AA$5:$AA$300))","v":""},{"$f":"IFERROR(IF(I57>=0.5,INTERPRNG_h($F57,'STU Treatment Values'!$AL$5:$AU$27,0,1,$J57),INTERPRNG_h($F57,'STU Treatment Values'!$AL$29:$AU$51,0,1,$J57)),\"\")","v":""},"","","","",{"$f":"IFERROR(INTERPRNG_h($F57,'STU Treatment Values'!$B$79:$K$101,0,1,$J57),\"\")","v":""},{"$f":"IFERROR(INTERPRNG_h($F57,'STU Treatment Values'!$B$54:$K$76,0,1,$J57),\"\")","v":""},"","",{"$f":"IFERROR(INTERPRNG_h($F57,'STU Treatment Values'!$B$104:$K$126,0,1,$J57),\"\")","v":""},""]
[null,{"$f":"IF(A58=\"\",\"\",VLOOKUP(A58,STU!$A$5:$G$300,7,0))","v":""},{"$f":"IF(A58=\"\",\"\",SUMIF(Catchment!$K$5:$K$300,A58,Catchment!$V$5:$V$300))","v":""},{"$f":"IF(A58=\"\",\"\",SUMIF(Catchment!$K$5:$K$300,A58,Catchment!$L$5:$L$300))","v":""},{"$f":"IF(A58=\"\",\"\",VLOOKUP(A58,'RIDOT STU History (inputs)'!$A$5:$K$300,11,0))","v":""},"",{"$f":"IF(A58=\"\",\"\",VLOOKUP(A58,'RIDOT STU History (inputs)'!$A$5:$K$79,10,0))","v":""},"","",{"$f":"IF(ISBLANK(B58),\"\",IF(ISBLANK(G58),\"\",RowFunc(B58,G58)))","v":0},{"$f":"IF(A58=\"\",\"\",SUMIF(Catchment!$K$5:$K$300,A58,Catchment!$X$5:$X$300))","v":""},{"$f":"IFERROR(IF(I58>=0.5,INTERPRNG_h($F58,'STU Treatment Values'!$B$5:$K$27,0,1,$J58),INTERPRNG_h($F58,'STU Treatment Values'!$B$29:$K$51,0,1,$J58)),\"\")","v":""},"",{"$f":"IF(A58=\"\",\"\",SUMIF(Catchment!$K$5:$K$300,A58,Catchment!$Y$5:$Y$300))","v":""},{"$f":"IFERROR(IF(I58>=0.5,INTERPRNG_h($F58,'STU Treatment Values'!$N$5:$W$27,0,1,$J58),INTERPRNG_h($F58,'STU Treatment Values'!$N$29:$W$51,0,1,$J58)),\"\")","v":""},"",{"$f":"IF(A58=\"\",\"\",SUMIF(Catchment!$K$5:$K$300,A58,Catchment!$Z$5:$Z$300))","v":""},{"$f":"IFERROR(IF(I58>=0.5,INTERPRNG_h($F58,'STU Treatment Values'!$Z$5:$AI$27,0,1,$J58),INTERPRNG_h($F58,'STU Treatment Values'!$Z$29:$AI$51,0,1,$J58)),\"\")","v":""},"",{"$f":"IF(A58=\"\",\"\",SUMIF(Catchment!$K$5:$K$300,A58,Catchment!$AA$5:$AA$300))","v":""},{"$f":"IFERROR(IF(I58>=0.5,INTERPRNG_h($F58,'STU Treatment Values'!$AL$5:$AU$27,0,1,$J58),INTERPRNG_h($F58,'STU Treatment Values'!$AL$29:$AU$51,0,1,$J58)),\"\")","v":""},"","","","",{"$f":"IFERROR(INTERPRNG_h($F58,'STU Treatment Values'!$B$79:$K$101,0,1,$J58),\"\")","v":""},{"$f":"IFERROR(INTERPRNG_h($F58,'STU Treatment Values'!$B$54:$K$76,0,1,$J58),\"\")","v":""},"","",{"$f":"IFERROR(INTERPRNG_h($F58,'STU Treatment Values'!$B$104:$K$126,0,1,$J58),\"\")","v":""},""]
[null,{"$f":"IF(A59=\"\",\"\",VLOOKUP(A59,STU!$A$5:$G$300,7,0))","v":""},{"$f":"IF(A59=\"\",\"\",SUMIF(Catchment!$K$5:$K$300,A59,Catchment!$V$5:$V$300))","v":""},{"$f":"IF(A59=\"\",\"\",SUMIF(Catchment!$K$5:$K$300,A59,Catchment!$L$5:$L$300))","v":""},{"$f":"IF(A59=\"\",\"\",VLOOKUP(A59,'RIDOT STU History (inputs)'!$A$5:$K$300,11,0))","v":""},"",{"$f":"IF(A59=\"\",\"\",VLOOKUP(A59,'RIDOT STU History (inputs)'!$A$5:$K$79,10,0))","v":""},"","",{"$f":"IF(ISBLANK(B59),\"\",IF(ISBLANK(G59),\"\",RowFunc(B59,G59)))","v":0},{"$f":"IF(A59=\"\",\"\",SUMIF(Catchment!$K$5:$K$300,A59,Catchment!$X$5:$X$300))","v":""},{"$f":"IFERROR(IF(I59>=0.5,INTERPRNG_h($F59,'STU Treatment Values'!$B$5:$K$27,0,1,$J59),INTERPRNG_h($F59,'STU Treatment Values'!$B$29:$K$51,0,1,$J59)),\"\")","v":""},"",{"$f":"IF(A59=\"\",\"\",SUMIF(Catchment!$K$5:$K$300,A59,Catchment!$Y$5:$Y$300))","v":""},{"$f":"IFERROR(IF(I59>=0.5,INTERPRNG_h($F59,'STU Treatment Values'!$N$5:$W$27,0,1,$J59),INTERPRNG_h($F59,'STU Treatment Values'!$N$29:$W$51,0,1,$J59)),\"\")","v":""},"",{"$f":"IF(A59=\"\",\"\",SUMIF(Catchment!$K$5:$K$300,A59,Catchment!$Z$5:$Z$300))","v":""},{"$f":"IFERROR(IF(I59>=0.5,INTERPRNG_h($F59,'STU Treatment Values'!$Z$5:$AI$27,0,1,$J59),INTERPRNG_h($F59,'STU Treatment Values'!$Z$29:$AI$51,0,1,$J59)),\"\")","v":""},"",{"$f":"IF(A59=\"\",\"\",SUMIF(Catchment!$K$5:$K$300,A59,Catchment!$AA$5:$AA$300))","v":""},{"$f":"IFERROR(IF(I59>=0.5,INTERPRNG_h($F59,'STU Treatment Values'!$AL$5:$AU$27,0,1,$J59),INTERPRNG_h($F59,'STU Treatment Values'!$AL$29:$AU$51,0,1,$J59)),\"\")","v":""},"","","","",{"$f":"IFERROR(INTERPRNG_h($F59,'STU Treatment Values'!$B$79:$K$101,0,1,$J59),\"\")","v":""},{"$f":"IFERROR(INTERPRNG_h($F59,'STU Treatment Values'!$B$54:$K$76,0,1,$J59),\"\")","v":""},"","",{"$f":"IFERROR(INTERPRNG_h($F59,'STU Treatment Values'!$B$104:$K$126,0,1,$J59),\"\")","v":""},""]
[null,{"$f":"IF(A60=\"\",\"\",VLOOKUP(A60,STU!$A$5:$G$300,7,0))","v":""},{"$f":"IF(A60=\"\",\"\",SUMIF(Catchment!$K$5:$K$300,A60,Catchment!$V$5:$V$300))","v":""},{"$f":"IF(A60=\"\",\"\",SUMIF(Catchment!$K$5:$K$300,A60,Catchment!$L$5:$L$300))","v":""},{"$f":"IF(A60=\"\",\"\",VLOOKUP(A60,'RIDOT STU History (inputs)'!$A$5:$K$300,11,0))","v":""},"",{"$f":"IF(A60=\"\",\"\",VLOOKUP(A60,'RIDOT STU History (inputs)'!$A$5:$K$79,10,0))","v":""},"","",{"$f":"IF(ISBLANK(B60),\"\",IF(ISBLANK(G60),\"\",RowFunc(B60,G60)))","v":0},{"$f":"IF(A60=\"\",\"\",SUMIF(Catchment!$K$5:$K$300,A60,Catchment!$X$5:$X$300))","v":""},{"$f":"IFERROR(IF(I60>=0.5,INTERPRNG_h($F60,'STU Treatment Values'!$B$5:$K$27,0,1,$J60),INTERPRNG_h($F60,'STU Treatment Values'!$B$29:$K$51,0,1,$J60)),\"\")","v":""},"",{"$f":"IF(A60=\"\",\"\",SUMIF(Catchment!$K$5:$K$300,A60,Catchment!$Y$5:$Y$300))","v":""},{"$f":"IFERROR(IF(I60>=0.5,INTERPRNG_h($F60,'STU Treatment Values'!$N$5:$W$27,0,1,$J60),INTERPRNG_h($F60,'STU Treatment Values'!$N$29:$W$51,0,1,$J60)),\"\")","v":""},"",{"$f":"IF(A60=\"\",\"\",SUMIF(Catchment!$K$5:$K$300,A60,Catchment!$Z$5:$Z$300))","v":""},{"$f":"IFERROR(IF(I60>=0.5,INTERPRNG_h($F60,'STU Treatment Values'!$Z$5:$AI$27,0,1,$J60),INTERPRNG_h($F60,'STU Treatment Values'!$Z$29:$AI$51,0,1,$J60)),\"\")","v":""},"",{"$f":"IF(A60=\"\",\"\",SUMIF(Catchment!$K$5:$K$300,A60,Catchment!$AA$5:$AA$300))","v":""},{"$f":"IFERROR(IF(I60>=0.5,INTERPRNG_h($F60,'STU Treatment Values'!$AL$5:$AU$27,0,1,$J60),INTERPRNG_h($F60,'STU Treatment Values'!$AL$29:$AU$51,0,1,$J60)),\"\")","v":""},"","","","",{"$f":"IFERROR(INTERPRNG_h($F60,'STU Treatment Values'!$B$79:$K$101,0,1,$J60),\"\")","v":""},{"$f":"IFERROR(INTERPRNG_h($F60,'STU Treatment Values'!$B$54:$K$76,0,1,$J60),\"\")","v":""},"","",{"$f":"IFERROR(INTERPRNG_h($F60,'STU Treatment Values'!$B$104:$K$126,0,1,$J60),\"\")","v":""},""]
[null,{"$f":"IF(A61=\"\",\"\",VLOOKUP(A61,STU!$A$5:$G$300,7,0))","v":""},{"$f":"IF(A61=\"\",\"\",SUMIF(Catchment!$K$5:$K$300,A61,Catchment!$V$5:$V$300))","v":""},{"$f":"IF(A61=\"\",\"\",SUMIF(Catchment!$K$5:$K$300,A61,Catchment!$L$5:$L$300))","v":""},{"$f":"IF(A61=\"\",\"\",VLOOKUP(A61,'RIDOT STU History (inputs)'!$A$5:$K$300,11,0))","v":""},"",{"$f":"IF(A61=\"\",\"\",VLOOKUP(A61,'RIDOT STU History (inputs)'!$A$5:$K$79,10,0))","v":""},"","",{"$f":"IF(ISBLANK(B61),\"\",IF(ISBLANK(G61),\"\",RowFunc(B61,G61)))","v":0},{"$f":"IF(A61=\"\",\"\",SUMIF(Catchment!$K$5:$K$300,A61,Catchment!$X$5:$X$300))","v":""},{"$f":"IFERROR(IF(I61>=0.5,INTERPRNG_h($F61,'STU Treatment Values'!$B$5:$K$27,0,1,$J61),INTERPRNG_h($F61,'STU Treatment Values'!$B$29:$K$51,0,1,$J61)),\"\")","v":""},"",{"$f":"IF(A61=\"\",\"\",SUMIF(Catchment!$K$5:$K$300,A61,Catchment!$Y$5:$Y$300))","v":""},{"$f":"IFERROR(IF(I61>=0.5,INTERPRNG_h($F61,'STU Treatment Values'!$N$5:$W$27,0,1,$J61),INTERPRNG_h($F61,'STU Treatment Values'!$N$29:$W$51,0,1,$J61)),\"\")","v":""},"",{"$f":"IF(A61=\"\",\"\",SUMIF(Catchment!$K$5:$K$300,A61,Catchment!$Z$5:$Z$300))","v":""},{"$f":"IFERROR(IF(I61>=0.5,INTERPRNG_h($F61,'STU Treatment Values'!$Z$5:$AI$27,0,1,$J61),INTERPRNG_h($F61,'STU Treatment Values'!$Z$29:$AI$51,0,1,$J61)),\"\")","v":""},"",{"$f":"IF(A61=\"\",\"\",SUMIF(Catchment!$K$5:$K$300,A61,Catchment!$AA$5:$AA$300))","v":""},{"$f":"IFERROR(IF(I61>=0.5,INTERPRNG_h($F61,'STU Treatment Values'!$AL$5:$AU$27,0,1,$J61),INTERPRNG_h($F61,'STU Treatment Values'!$AL$29:$AU$51,0,1,$J61)),\"\")","v":""},"","","","",{"$f":"IFERROR(INTERPRNG_h($F61,'STU Treatment Values'!$B$79:$K$101,0,1,$J61),\"\")","v":""},{"$f":"IFERROR(INTERPRNG_h($F61,'STU Treatment Values'!$B$54:$K$76,0,1,$J61),\"\")","v":""},"","",{"$f":"IFERROR(INTERPRNG_h($F61,'STU Treatment Values'!$B$104:$K$126,0,1,$J61),\"\")","v":""},""]
[null,{"$f":"IF(A62=\"\",\"\",VLOOKUP(A62,STU!$A$5:$G$300,7,0))","v":""},{"$f":"IF(A62=\"\",\"\",SUMIF(Catchment!$K$5:$K$300,A62,Catchment!$V$5:$V$300))","v":""},{"$f":"IF(A62=\"\",\"\",SUMIF(Catchment!$K$5:$K$300,A62,Catchment!$L$5:$L$300))","v":""},{"$f":"IF(A62=\"\",\"\",VLOOKUP(A62,'RIDOT STU History (inputs)'!$A$5:$K$300,11,0))","v":""},"",{"$f":"IF(A62=\"\",\"\",VLOOKUP(A62,'RIDOT STU History (inputs)'!$A$5:$K$79,10,0))","v":""},"","",{"$f":"IF(ISBLANK(B62),\"\",IF(ISBLANK(G62),\"\",RowFunc(B62,G62)))","v":0},{"$f":"IF(A62=\"\",\"\",SUMIF(Catchment!$K$5:$K$300,A62,Catchment!$X$5:$X$300))","v":""},{"$f":"IFERROR(IF(I62>=0.5,INTERPRNG_h($F62,'STU Treatment Values'!$B$5:$K$27,0,1,$J62),INTERPRNG_h($F62,'STU Treatment Values'!$B$29:$K$51,0,1,$J62)),\"\")","v":""},"",{"$f":"IF(A62=\"\",\"\",SUMIF(Catchment!$K$5:$K$300,A62,Catchment!$Y$5:$Y$300))","v":""},{"$f":"IFERROR(IF(I62>=0.5,INTERPRNG_h($F62,'STU Treatment Values'!$N$5:$W$27,0,1,$J62),INTERPRNG_h($F62,'STU Treatment Values'!$N$29:$W$51,0,1,$J62)),\"\")","v":""},"",{"$f":"IF(A62=\"\",\"\",SUMIF(Catchment!$K$5:$K$300,A62,Catchment!$Z$5:$Z$300))","v":""},{"$f":"IFERROR(IF(I62>=0.5,INTERPRNG_h($F62,'STU Treatment Values'!$Z$5:$AI$27,0,1,$J62),INTERPRNG_h($F62,'STU Treatment Values'!$Z$29:$AI$51,0,1,$J62)),\"\")","v":""},"",{"$f":"IF(A62=\"\",\"\",SUMIF(Catchment!$K$5:$K$300,A62,Catchment!$AA$5:$AA$300))","v":""},{"$f":"IFERROR(IF(I62>=0.5,INTERPRNG_h($F62,'STU Treatment Values'!$AL$5:$AU$27,0,1,$J62),INTERPRNG_h($F62,'STU Treatment Values'!$AL$29:$AU$51,0,1,$J62)),\"\")","v":""},"","","","",{"$f":"IFERROR(INTERPRNG_h($F62,'STU Treatment Values'!$B$79:$K$101,0,1,$J62),\"\")","v":""},{"$f":"IFERROR(INTERPRNG_h($F62,'STU Treatment Values'!$B$54:$K$76,0,1,$J62),\"\")","v":""},"","",{"$f":"IFERROR(INTERPRNG_h($F62,'STU Treatment Values'!$B$104:$K$126,0,1,$J62),\"\")","v":""},""]
[null,{"$f":"IF(A63=\"\",\"\",VLOOKUP(A63,STU!$A$5:$G$300,7,0))","v":""},{"$f":"IF(A63=\"\",\"\",SUMIF(Catchment!$K$5:$K$300,A63,Catchment!$V$5:$V$300))","v":""},{"$f":"IF(A63=\"\",\"\",SUMIF(Catchment!$K$5:$K$300,A63,Catchment!$L$5:$L$300))","v":""},{"$f":"IF(A63=\"\",\"\",VLOOKUP(A63,'RIDOT STU History (inputs)'!$A$5:$K$300,11,0))","v":""},"",{"$f":"IF(A63=\"\",\"\",VLOOKUP(A63,'RIDOT STU History (inputs)'!$A$5:$K$79,10,0))","v":""},"","",{"$f":"IF(ISBLANK(B63),\"\",IF(ISBLANK(G63),\"\",RowFunc(B63,G63)))","v":0},{"$f":"IF(A63=\"\",\"\",SUMIF(Catchment!$K$5:$K$300,A63,Catchment!$X$5:$X$300))","v":""},{"$f":"IFERROR(IF(I63>=0.5,INTERPRNG_h($F63,'STU Treatment Values'!$B$5:$K$27,0,1,$J63),INTERPRNG_h($F63,'STU Treatment Values'!$B$29:$K$51,0,1,$J63)),\"\")","v":""},"",{"$f":"IF(A63=\"\",\"\",SUMIF(Catchment!$K$5:$K$300,A63,Catchment!$Y$5:$Y$300))","v":""},{"$f":"IFERROR(IF(I63>=0.5,INTERPRNG_h($F63,'STU Treatment Values'!$N$5:$W$27,0,1,$J63),INTERPRNG_h($F63,'STU Treatment Values'!$N$29:$W$51,0,1,$J63)),\"\")","v":""},"",{"$f":"IF(A63=\"\",\"\",SUMIF(Catchment!$K$5:$K$300,A63,Catchment!$Z$5:$Z$300))","v":""},{"$f":"IFERROR(IF(I63>=0.5,INTERPRNG_h($F63,'STU Treatment Values'!$Z$5:$AI$27,0,1,$J63),INTERPRNG_h($F63,'STU Treatment Values'!$Z$29:$AI$51,0,1,$J63)),\"\")","v":""},"",{"$f":"IF(A63=\"\",\"\",SUMIF(Catchment!$K$5:$K$300,A63,Catchment!$AA$5:$AA$300))","v":""},{"$f":"IFERROR(IF(I63>=0.5,INTERPRNG_h($F63,'STU Treatment Values'!$AL$5:$AU$27,0,1,$J63),INTERPRNG_h($F63,'STU Treatment Values'!$AL$29:$AU$51,0,1,$J63)),\"\")","v":""},"","","","",{"$f":"IFERROR(INTERPRNG_h($F63,'STU Treatment Values'!$B$79:$K$101,0,1,$J63),\"\")","v":""},{"$f":"IFERROR(INTERPRNG_h($F63,'STU Treatment Values'!$B$54:$K$76,0,1,$J63),\"\")","v":""},"","",{"$f":"IFERROR(INTERPRNG_h($F63,'STU Treatment Values'!$B$104:$K$126,0,1,$J63),\"\")","v":""},""]
[null,{"$f":"IF(A64=\"\",\"\",VLOOKUP(A64,STU!$A$5:$G$300,7,0))","v":""},{"$f":"IF(A64=\"\",\"\",SUMIF(Catchment!$K$5:$K$300,A64,Catchment!$V$5:$V$300))","v":""},{"$f":"IF(A64=\"\",\"\",SUMIF(Catchment!$K$5:$K$300,A64,Catchment!$L$5:$L$300))","v":""},{"$f":"IF(A64=\"\",\"\",VLOOKUP(A64,'RIDOT STU History (inputs)'!$A$5:$K$300,11,0))","v":""},"",{"$f":"IF(A64=\"\",\"\",VLOOKUP(A64,'RIDOT STU History (inputs)'!$A$5:$K$79,10,0))","v":""},"","",{"$f":"IF(ISBLANK(B64),\"\",IF(ISBLANK(G64),\"\",RowFunc(B64,G64)))","v":0},{"$f":"IF(A64=\"\",\"\",SUMIF(Catchment!$K$5:$K$300,A64,Catchment!$X$5:$X$300))","v":""},{"$f":"IFERROR(IF(I64>=0.5,INTERPRNG_h($F64,'STU Treatment Values'!$B$5:$K$27,0,1,$J64),INTERPRNG_h($F64,'STU Treatment Values'!$B$29:$K$51,0,1,$J64)),\"\")","v":""},"",{"$f":"IF(A64=\"\",\"\",SUMIF(Catchment!$K$5:$K$300,A64,Catchment!$Y$5:$Y$300))","v":""},{"$f":"IFERROR(IF(I64>=0.5,INTERPRNG_h($F64,'STU Treatment Values'!$N$5:$W$27,0,1,$J64),INTERPRNG_h($F64,'STU Treatment Values'!$N$29:$W$51,0,1,$J64)),\"\")","v":""},"",{"$f":"IF(A64=\"\",\"\",SUMIF(Catchment!$K$5:$K$300,A64,Catchment!$Z$5:$Z$300))","v":""},{"$f":"IFERROR(IF(I64>=0.5,INTERPRNG_h($F64,'STU Treatment Values'!$Z$5:$AI$27,0,1,$J64),INTERPRNG_h($F64,'STU Treatment Values'!$Z$29:$AI$51,0,1,$J64)),\"\")","v":""},"",{"$f":"IF(A64=\"\",\"\",SUMIF(Catchment!$K$5:$K$300,A64,Catchment!$AA$5:$AA$300))","v":""},{"$f":"IFERROR(IF(I64>=0.5,INTERPRNG_h($F64,'STU Treatment Values'!$AL$5:$AU$27,0,1,$J64),INTERPRNG_h($F64,'STU Treatment Values'!$AL$29:$AU$51,0,1,$J64)),\"\")","v":""},"","","","",{"$f":"IFERROR(INTERPRNG_h($F64,'STU Treatment Values'!$B$79:$K$101,0,1,$J64),\"\")","v":""},{"$f":"IFERROR(INTERPRNG_h($F64,'STU Treatment Values'!$B$54:$K$76,0,1,$J64),\"\")","v":""},"","",{"$f":"IFERROR(INTERPRNG_h($F64,'STU Treatment Values'!$B$104:$K$126,0,1,$J64),\"\")","v":""},""]
[null,{"$f":"IF(A65=\"\",\"\",VLOOKUP(A65,STU!$A$5:$G$300,7,0))","v":""},{"$f":"IF(A65=\"\",\"\",SUMIF(Catchment!$K$5:$K$300,A65,Catchment!$V$5:$V$300))","v":""},{"$f":"IF(A65=\"\",\"\",SUMIF(Catchment!$K$5:$K$300,A65,Catchment!$L$5:$L$300))","v":""},{"$f":"IF(A65=\"\",\"\",VLOOKUP(A65,'RIDOT STU History (inputs)'!$A$5:$K$300,11,0))","v":""},"",{"$f":"IF(A65=\"\",\"\",VLOOKUP(A65,'RIDOT STU History (inputs)'!$A$5:$K$79,10,0))","v":""},"","",{"$f":"IF(ISBLANK(B65),\"\",IF(ISBLANK(G65),\"\",RowFunc(B65,G65)))","v":0},{"$f":"IF(A65=\"\",\"\",SUMIF(Catchment!$K$5:$K$300,A65,Catchment!$X$5:$X$300))","v":""},{"$f":"IFERROR(IF(I65>=0.5,INTERPRNG_h($F65,'STU Treatment Values'!$B$5:$K$27,0,1,$J65),INTERPRNG_h($F65,'STU Treatment Values'!$B$29:$K$51,0,1,$J65)),\"\")","v":""},"",{"$f":"IF(A65=\"\",\"\",SUMIF(Catchment!$K$5:$K$300,A65,Catchment!$Y$5:$Y$300))","v":""},{"$f":"IFERROR(IF(I65>=0.5,INTERPRNG_h($F65,'STU Treatment Values'!$N$5:$W$27,0,1,$J65),INTERPRNG_h($F65,'STU Treatment Values'!$N$29:$W$51,0,1,$J65)),\"\")","v":""},"",{"$f":"IF(A65=\"\",\"\",SUMIF(Catchment!$K$5:$K$300,A65,Catchment!$Z$5:$Z$300))","v":""},{"$f":"IFERROR(IF(I65>=0.5,INTERPRNG_h($F65,'STU Treatment Values'!$Z$5:$AI$27,0,1,$J65),INTERPRNG_h($F65,'STU Treatment Values'!$Z$29:$AI$51,0,1,$J65)),\"\")","v":""},"",{"$f":"IF(A65=\"\",\"\",SUMIF(Catchment!$K$5:$K$300,A65,Catchment!$AA$5:$AA$300))","v":""},{"$f":"IFERROR(IF(I65>=0.5,INTERPRNG_h($F65,'STU Treatment Values'!$AL$5:$AU$27,0,1,$J65),INTERPRNG_h($F65,'STU Treatment Values'!$AL$29:$AU$51,0,1,$J65)),\"\")","v":""},"","","","",{"$f":"IFERROR(INTERPRNG_h($F65,'STU Treatment Values'!$B$79:$K$101,0,1,$J65),\"\")","v":""},{"$f":"IFERROR(INTERPRNG_h($F65,'STU Treatment Values'!$B$54:$K$76,0,1,$J65),\"\")","v":""},"","",{"$f":"IFERROR(INTERPRNG_h($F65,'STU Treatment Values'!$B$104:$K$126,0,1,$J65),\"\")","v":""},""]
[null,{"$f":"IF(A66=\"\",\"\",VLOOKUP(A66,STU!$A$5:$G$300,7,0))","v":""},{"$f":"IF(A66=\"\",\"\",SUMIF(Catchment!$K$5:$K$300,A66,Catchment!$V$5:$V$300))","v":""},{"$f":"IF(A66=\"\",\"\",SUMIF(Catchment!$K$5:$K$300,A66,Catchment!$L$5:$L$300))","v":""},{"$f":"IF(A66=\"\",\"\",VLOOKUP(A66,'RIDOT STU History (inputs)'!$A$5:$K$300,11,0))","v":""},"",{"$f":"IF(A66=\"\",\"\",VLOOKUP(A66,'RIDOT STU History (inputs)'!$A$5:$K$79,10,0))","v":""},"","",{"$f":"IF(ISBLANK(B66),\"\",IF(ISBLANK(G66),\"\",RowFunc(B66,G66)))","v":0},{"$f":"IF(A66=\"\",\"\",SUMIF(Catchment!$K$5:$K$300,A66,Catchment!$X$5:$X$300))","v":""},{"$f":"IFERROR(IF(I66>=0.5,INTERPRNG_h($F66,'STU Treatment Values'!$B$5:$K$27,0,1,$J66),INTERPRNG_h($F66,'STU Treatment Values'!$B$29:$K$51,0,1,$J66)),\"\")","v":""},"",{"$f":"IF(A66=\"\",\"\",SUMIF(Catchment!$K$5:$K$300,A66,Catchment!$Y$5:$Y$300))","v":""},{"$f":"IFERROR(IF(I66>=0.5,INTERPRNG_h($F66,'STU Treatment Values'!$N$5:$W$27,0,1,$J66),INTERPRNG_h($F66,'STU Treatment Values'!$N$29:$W$51,0,1,$J66)),\"\")","v":""},"",{"$f":"IF(A66=\"\",\"\",SUMIF(Catchment!$K$5:$K$300,A66,Catchment!$Z$5:$Z$300))","v":""},{"$f":"IFERROR(IF(I66>=0.5,INTERPRNG_h($F66,'STU Treatment Values'!$Z$5:$AI$27,0,1,$J66),INTERPRNG_h($F66,'STU Treatment Values'!$Z$29:$AI$51,0,1,$J66)),\"\")","v":""},"",{"$f":"IF(A66=\"\",\"\",SUMIF(Catchment!$K$5:$K$300,A66,Catchment!$AA$5:$AA$300))","v":""},{"$f":"IFERROR(IF(I66>=0.5,INTERPRNG_h($F66,'STU Treatment Values'!$AL$5:$AU$27,0,1,$J66),INTERPRNG_h($F66,'STU Treatment Values'!$AL$29:$AU$51,0,1,$J66)),\"\")","v":""},"","","","",{"$f":"IFERROR(INTERPRNG_h($F66,'STU Treatment Values'!$B$79:$K$101,0,1,$J66),\"\")","v":""},{"$f":"IFERROR(INTERPRNG_h($F66,'STU Treatment Values'!$B$54:$K$76,0,1,$J66),\"\")","v":""},"","",{"$f":"IFERROR(INTERPRNG_h($F66,'STU Treatment Values'!$B$104:$K$126,0,1,$J66),\"\")","v":""},""]
[null,{"$f":"IF(A67=\"\",\"\",VLOOKUP(A67,STU!$A$5:$G$300,7,0))","v":""},{"$f":"IF(A67=\"\",\"\",SUMIF(Catchment!$K$5:$K$300,A67,Catchment!$V$5:$V$300))","v":""},{"$f":"IF(A67=\"\",\"\",SUMIF(Catchment!$K$5:$K$300,A67,Catchment!$L$5:$L$300))","v":""},{"$f":"IF(A67=\"\",\"\",VLOOKUP(A67,'RIDOT STU History (inputs)'!$A$5:$K$300,11,0))","v":""},"",{"$f":"IF(A67=\"\",\"\",VLOOKUP(A67,'RIDOT STU History (inputs)'!$A$5:$K$79,10,0))","v":""},"","",{"$f":"IF(ISBLANK(B67),\"\",IF(ISBLANK(G67),\"\",RowFunc(B67,G67)))","v":0},{"$f":"IF(A67=\"\",\"\",SUMIF(Catchment!$K$5:$K$300,A67,Catchment!$X$5:$X$300))","v":""},{"$f":"IFERROR(IF(I67>=0.5,INTERPRNG_h($F67,'STU Treatment Values'!$B$5:$K$27,0,1,$J67),INTERPRNG_h($F67,'STU Treatment Values'!$B$29:$K$51,0,1,$J67)),\"\")","v":""},"",{"$f":"IF(A67=\"\",\"\",SUMIF(Catchment!$K$5:$K$300,A67,Catchment!$Y$5:$Y$300))","v":""},{"$f":"IFERROR(IF(I67>=0.5,INTERPRNG_h($F67,'STU Treatment Values'!$N$5:$W$27,0,1,$J67),INTERPRNG_h($F67,'STU Treatment Values'!$N$29:$W$51,0,1,$J67)),\"\")","v":""},"",{"$f":"IF(A67=\"\",\"\",SUMIF(Catchment!$K$5:$K$300,A67,Catchment!$Z$5:$Z$300))","v":""},{"$f":"IFERROR(IF(I67>=0.5,INTERPRNG_h($F67,'STU Treatment Values'!$Z$5:$AI$27,0,1,$J67),INTERPRNG_h($F67,'STU Treatment Values'!$Z$29:$AI$51,0,1,$J67)),\"\")","v":""},"",{"$f":"IF(A67=\"\",\"\",SUMIF(Catchment!$K$5:$K$300,A67,Catchment!$AA$5:$AA$300))","v":""},{"$f":"IFERROR(IF(I67>=0.5,INTERPRNG_h($F67,'STU Treatment Values'!$AL$5:$AU$27,0,1,$J67),INTERPRNG_h($F67,'STU Treatment Values'!$AL$29:$AU$51,0,1,$J67)),\"\")","v":""},"","","","",{"$f":"IFERROR(INTERPRNG_h($F67,'STU Treatment Values'!$B$79:$K$101,0,1,$J67),\"\")","v":""},{"$f":"IFERROR(INTERPRNG_h($F67,'STU Treatment Values'!$B$54:$K$76,0,1,$J67),\"\")","v":""},"","",{"$f":"IFERROR(INTERPRNG_h($F67,'STU Treatment Values'!$B$104:$K$126,0,1,$J67),\"\")","v":""},""]
[null,{"$f":"IF(A68=\"\",\"\",VLOOKUP(A68,STU!$A$5:$G$300,7,0))","v":""},{"$f":"IF(A68=\"\",\"\",SUMIF(Catchment!$K$5:$K$300,A68,Catchment!$V$5:$V$300))","v":""},{"$f":"IF(A68=\"\",\"\",SUMIF(Catchment!$K$5:$K$300,A68,Catchment!$L$5:$L$300))","v":""},{"$f":"IF(A68=\"\",\"\",VLOOKUP(A68,'RIDOT STU History (inputs)'!$A$5:$K$300,11,0))","v":""},"",{"$f":"IF(A68=\"\",\"\",VLOOKUP(A68,'RIDOT STU History (inputs)'!$A$5:$K$79,10,0))","v":""},"","",{"$f":"IF(ISBLANK(B68),\"\",IF(ISBLANK(G68),\"\",RowFunc(B68,G68)))","v":0},{"$f":"IF(A68=\"\",\"\",SUMIF(Catchment!$K$5:$K$300,A68,Catchment!$X$5:$X$300))","v":""},{"$f":"IFERROR(IF(I68>=0.5,INTERPRNG_h($F68,'STU Treatment Values'!$B$5:$K$27,0,1,$J68),INTERPRNG_h($F68,'STU Treatment Values'!$B$29:$K$51,0,1,$J68)),\"\")","v":""},"",{"$f":"IF(A68=\"\",\"\",SUMIF(Catchment!$K$5:$K$300,A68,Catchment!$Y$5:$Y$300))","v":""},{"$f":"IFERROR(IF(I68>=0.5,INTERPRNG_h($F68,'STU Treatment Values'!$N$5:$W$27,0,1,$J68),INTERPRNG_h($F68,'STU Treatment Values'!$N$29:$W$51,0,1,$J68)),\"\")","v":""},"",{"$f":"IF(A68=\"\",\"\",SUMIF(Catchment!$K$5:$K$300,A68,Catchment!$Z$5:$Z$300))","v":""},{"$f":"IFERROR(IF(I68>=0.5,INTERPRNG_h($F68,'STU Treatment Values'!$Z$5:$AI$27,0,1,$J68),INTERPRNG_h($F68,'STU Treatment Values'!$Z$29:$AI$51,0,1,$J68)),\"\")","v":""},"",{"$f":"IF(A68=\"\",\"\",SUMIF(Catchment!$K$5:$K$300,A68,Catchment!$AA$5:$AA$300))","v":""},{"$f":"IFERROR(IF(I68>=0.5,INTERPRNG_h($F68,'STU Treatment Values'!$AL$5:$AU$27,0,1,$J68),INTERPRNG_h($F68,'STU Treatment Values'!$AL$29:$AU$51,0,1,$J68)),\"\")","v":""},"","","","",{"$f":"IFERROR(INTERPRNG_h($F68,'STU Treatment Values'!$B$79:$K$101,0,1,$J68),\"\")","v":""},{"$f":"IFERROR(INTERPRNG_h($F68,'STU Treatment Values'!$B$54:$K$76,0,1,$J68),\"\")","v":""},"","",{"$f":"IFERROR(INTERPRNG_h($F68,'STU Treatment Values'!$B$104:$K$126,0,1,$J68),\"\")","v":""},""]
[null,{"$f":"IF(A69=\"\",\"\",VLOOKUP(A69,STU!$A$5:$G$300,7,0))","v":""},{"$f":"IF(A69=\"\",\"\",SUMIF(Catchment!$K$5:$K$300,A69,Catchment!$V$5:$V$300))","v":""},{"$f":"IF(A69=\"\",\"\",SUMIF(Catchment!$K$5:$K$300,A69,Catchment!$L$5:$L$300))","v":""},{"$f":"IF(A69=\"\",\"\",VLOOKUP(A69,'RIDOT STU History (inputs)'!$A$5:$K$300,11,0))","v":""},"",{"$f":"IF(A69=\"\",\"\",VLOOKUP(A69,'RIDOT STU History (inputs)'!$A$5:$K$79,10,0))","v":""},"","",{"$f":"IF(ISBLANK(B69),\"\",IF(ISBLANK(G69),\"\",RowFunc(B69,G69)))","v":0},{"$f":"IF(A69=\"\",\"\",SUMIF(Catchment!$K$5:$K$300,A69,Catchment!$X$5:$X$300))","v":""},{"$f":"IFERROR(IF(I69>=0.5,INTERPRNG_h($F69,'STU Treatment Values'!$B$5:$K$27,0,1,$J69),INTERPRNG_h($F69,'STU Treatment Values'!$B$29:$K$51,0,1,$J69)),\"\")","v":""},"",{"$f":"IF(A69=\"\",\"\",SUMIF(Catchment!$K$5:$K$300,A69,Catchment!$Y$5:$Y$300))","v":""},{"$f":"IFERROR(IF(I69>=0.5,INTERPRNG_h($F69,'STU Treatment Values'!$N$5:$W$27,0,1,$J69),INTERPRNG_h($F69,'STU Treatment Values'!$N$29:$W$51,0,1,$J69)),\"\")","v":""},"",{"$f":"IF(A69=\"\",\"\",SUMIF(Catchment!$K$5:$K$300,A69,Catchment!$Z$5:$Z$300))","v":""},{"$f":"IFERROR(IF(I69>=0.5,INTERPRNG_h($F69,'STU Treatment Values'!$Z$5:$AI$27,0,1,$J69),INTERPRNG_h($F69,'STU Treatment Values'!$Z$29:$AI$51,0,1,$J69)),\"\")","v":""},"",{"$f":"IF(A69=\"\",\"\",SUMIF(Catchment!$K$5:$K$300,A69,Catchment!$AA$5:$AA$300))","v":""},{"$f":"IFERROR(IF(I69>=0.5,INTERPRNG_h($F69,'STU Treatment Values'!$AL$5:$AU$27,0,1,$J69),INTERPRNG_h($F69,'STU Treatment Values'!$AL$29:$AU$51,0,1,$J69)),\"\")","v":""},"","","","",{"$f":"IFERROR(INTERPRNG_h($F69,'STU Treatment Values'!$B$79:$K$101,0,1,$J69),\"\")","v":""},{"$f":"IFERROR(INTERPRNG_h($F69,'STU Treatment Values'!$B$54:$K$76,0,1,$J69),\"\")","v":""},"","",{"$f":"IFERROR(INTERPRNG_h($F69,'STU Treatment Values'!$B$104:$K$126,0,1,$J69),\"\")","v":""},""]
[null,{"$f":"IF(A70=\"\",\"\",VLOOKUP(A70,STU!$A$5:$G$300,7,0))","v":""},{"$f":"IF(A70=\"\",\"\",SUMIF(Catchment!$K$5:$K$300,A70,Catchment!$V$5:$V$300))","v":""},{"$f":"IF(A70=\"\",\"\",SUMIF(Catchment!$K$5:$K$300,A70,Catchment!$L$5:$L$300))","v":""},{"$f":"IF(A70=\"\",\"\",VLOOKUP(A70,'RIDOT STU History (inputs)'!$A$5:$K$300,11,0))","v":""},"",{"$f":"IF(A70=\"\",\"\",VLOOKUP(A70,'RIDOT STU History (inputs)'!$A$5:$K$79,10,0))","v":""},"","",{"$f":"IF(ISBLANK(B70),\"\",IF(ISBLANK(G70),\"\",RowFunc(B70,G70)))","v":0},{"$f":"IF(A70=\"\",\"\",SUMIF(Catchment!$K$5:$K$300,A70,Catchment!$X$5:$X$300))","v":""},{"$f":"IFERROR(IF(I70>=0.5,INTERPRNG_h($F70,'STU Treatment Values'!$B$5:$K$27,0,1,$J70),INTERPRNG_h($F70,'STU Treatment Values'!$B$29:$K$51,0,1,$J70)),\"\")","v":""},"",{"$f":"IF(A70=\"\",\"\",SUMIF(Catchment!$K$5:$K$300,A70,Catchment!$Y$5:$Y$300))","v":""},{"$f":"IFERROR(IF(I70>=0.5,INTERPRNG_h($F70,'STU Treatment Values'!$N$5:$W$27,0,1,$J70),INTERPRNG_h($F70,'STU Treatment Values'!$N$29:$W$51,0,1,$J70)),\"\")","v":""},"",{"$f":"IF(A70=\"\",\"\",SUMIF(Catchment!$K$5:$K$300,A70,Catchment!$Z$5:$Z$300))","v":""},{"$f":"IFERROR(IF(I70>=0.5,INTERPRNG_h($F70,'STU Treatment Values'!$Z$5:$AI$27,0,1,$J70),INTERPRNG_h($F70,'STU Treatment Values'!$Z$29:$AI$51,0,1,$J70)),\"\")","v":""},"",{"$f":"IF(A70=\"\",\"\",SUMIF(Catchment!$K$5:$K$300,A70,Catchment!$AA$5:$AA$300))","v":""},{"$f":"IFERROR(IF(I70>=0.5,INTERPRNG_h($F70,'STU Treatment Values'!$AL$5:$AU$27,0,1,$J70),INTERPRNG_h($F70,'STU Treatment Values'!$AL$29:$AU$51,0,1,$J70)),\"\")","v":""},"","","","",{"$f":"IFERROR(INTERPRNG_h($F70,'STU Treatment Values'!$B$79:$K$101,0,1,$J70),\"\")","v":""},{"$f":"IFERROR(INTERPRNG_h($F70,'STU Treatment Values'!$B$54:$K$76,0,1,$J70),\"\")","v":""},"","",{"$f":"IFERROR(INTERPRNG_h($F70,'STU Treatment Values'!$B$104:$K$126,0,1,$J70),\"\")","v":""},""]
[null,{"$f":"IF(A71=\"\",\"\",VLOOKUP(A71,STU!$A$5:$G$300,7,0))","v":""},{"$f":"IF(A71=\"\",\"\",SUMIF(Catchment!$K$5:$K$300,A71,Catchment!$V$5:$V$300))","v":""},{"$f":"IF(A71=\"\",\"\",SUMIF(Catchment!$K$5:$K$300,A71,Catchment!$L$5:$L$300))","v":""},{"$f":"IF(A71=\"\",\"\",VLOOKUP(A71,'RIDOT STU History (inputs)'!$A$5:$K$300,11,0))","v":""},"",{"$f":"IF(A71=\"\",\"\",VLOOKUP(A71,'RIDOT STU History (inputs)'!$A$5:$K$79,10,0))","v":""},"","",{"$f":"IF(ISBLANK(B71),\"\",IF(ISBLANK(G71),\"\",RowFunc(B71,G71)))","v":0},{"$f":"IF(A71=\"\",\"\",SUMIF(Catchment!$K$5:$K$300,A71,Catchment!$X$5:$X$300))","v":""},{"$f":"IFERROR(IF(I71>=0.5,INTERPRNG_h($F71,'STU Treatment Values'!$B$5:$K$27,0,1,$J71),INTERPRNG_h($F71,'STU Treatment Values'!$B$29:$K$51,0,1,$J71)),\"\")","v":""},"",{"$f":"IF(A71=\"\",\"\",SUMIF(Catchment!$K$5:$K$300,A71,Catchment!$Y$5:$Y$300))","v":""},{"$f":"IFERROR(IF(I71>=0.5,INTERPRNG_h($F71,'STU Treatment Values'!$N$5:$W$27,0,1,$J71),INTERPRNG_h($F71,'STU Treatment Values'!$N$29:$W$51,0,1,$J71)),\"\")","v":""},"",{"$f":"IF(A71=\"\",\"\",SUMIF(Catchment!$K$5:$K$300,A71,Catchment!$Z$5:$Z$300))","v":""},{"$f":"IFERROR(IF(I71>=0.5,INTERPRNG_h($F71,'STU Treatment Values'!$Z$5:$AI$27,0,1,$J71),INTERPRNG_h($F71,'STU Treatment Values'!$Z$29:$AI$51,0,1,$J71)),\"\")","v":""},"",{"$f":"IF(A71=\"\",\"\",SUMIF(Catchment!$K$5:$K$300,A71,Catchment!$AA$5:$AA$300))","v":""},{"$f":"IFERROR(IF(I71>=0.5,INTERPRNG_h($F71,'STU Treatment Values'!$AL$5:$AU$27,0,1,$J71),INTERPRNG_h($F71,'STU Treatment Values'!$AL$29:$AU$51,0,1,$J71)),\"\")","v":""},"","","","",{"$f":"IFERROR(INTERPRNG_h($F71,'STU Treatment Values'!$B$79:$K$101,0,1,$J71),\"\")","v":""},{"$f":"IFERROR(INTERPRNG_h($F71,'STU Treatment Values'!$B$54:$K$76,0,1,$J71),\"\")","v":""},"","",{"$f":"IFERROR(INTERPRNG_h($F71,'STU Treatment Values'!$B$104:$K$126,0,1,$J71),\"\")","v":""},""]
[null,{"$f":"IF(A72=\"\",\"\",VLOOKUP(A72,STU!$A$5:$G$300,7,0))","v":""},{"$f":"IF(A72=\"\",\"\",SUMIF(Catchment!$K$5:$K$300,A72,Catchment!$V$5:$V$300))","v":""},{"$f":"IF(A72=\"\",\"\",SUMIF(Catchment!$K$5:$K$300,A72,Catchment!$L$5:$L$300))","v":""},{"$f":"IF(A72=\"\",\"\",VLOOKUP(A72,'RIDOT STU History (inputs)'!$A$5:$K$300,11,0))","v":""},"",{"$f":"IF(A72=\"\",\"\",VLOOKUP(A72,'RIDOT STU History (inputs)'!$A$5:$K$79,10,0))","v":""},"","",{"$f":"IF(ISBLANK(B72),\"\",IF(ISBLANK(G72),\"\",RowFunc(B72,G72)))","v":0},{"$f":"IF(A72=\"\",\"\",SUMIF(Catchment!$K$5:$K$300,A72,Catchment!$X$5:$X$300))","v":""},{"$f":"IFERROR(IF(I72>=0.5,INTERPRNG_h($F72,'STU Treatment Values'!$B$5:$K$27,0,1,$J72),INTERPRNG_h($F72,'STU Treatment Values'!$B$29:$K$51,0,1,$J72)),\"\")","v":""},"",{"$f":"IF(A72=\"\",\"\",SUMIF(Catchment!$K$5:$K$300,A72,Catchment!$Y$5:$Y$300))","v":""},{"$f":"IFERROR(IF(I72>=0.5,INTERPRNG_h($F72,'STU Treatment Values'!$N$5:$W$27,0,1,$J72),INTERPRNG_h($F72,'STU Treatment Values'!$N$29:$W$51,0,1,$J72)),\"\")","v":""},"",{"$f":"IF(A72=\"\",\"\",SUMIF(Catchment!$K$5:$K$300,A72,Catchment!$Z$5:$Z$300))","v":""},{"$f":"IFERROR(IF(I72>=0.5,INTERPRNG_h($F72,'STU Treatment Values'!$Z$5:$AI$27,0,1,$J72),INTERPRNG_h($F72,'STU Treatment Values'!$Z$29:$AI$51,0,1,$J72)),\"\")","v":""},"",{"$f":"IF(A72=\"\",\"\",SUMIF(Catchment!$K$5:$K$300,A72,Catchment!$AA$5:$AA$300))","v":""},{"$f":"IFERROR(IF(I72>=0.5,INTERPRNG_h($F72,'STU Treatment Values'!$AL$5:$AU$27,0,1,$J72),INTERPRNG_h($F72,'STU Treatment Values'!$AL$29:$AU$51,0,1,$J72)),\"\")","v":""},"","","","",{"$f":"IFERROR(INTERPRNG_h($F72,'STU Treatment Values'!$B$79:$K$101,0,1,$J72),\"\")","v":""},{"$f":"IFERROR(INTERPRNG_h($F72,'STU Treatment Values'!$B$54:$K$76,0,1,$J72),\"\")","v":""},"","",{"$f":"IFERROR(INTERPRNG_h($F72,'STU Treatment Values'!$B$104:$K$126,0,1,$J72),\"\")","v":""},""]
[null,{"$f":"IF(A73=\"\",\"\",VLOOKUP(A73,STU!$A$5:$G$300,7,0))","v":""},{"$f":"IF(A73=\"\",\"\",SUMIF(Catchment!$K$5:$K$300,A73,Catchment!$V$5:$V$300))","v":""},{"$f":"IF(A73=\"\",\"\",SUMIF(Catchment!$K$5:$K$300,A73,Catchment!$L$5:$L$300))","v":""},{"$f":"IF(A73=\"\",\"\",VLOOKUP(A73,'RIDOT STU History (inputs)'!$A$5:$K$300,11,0))","v":""},"",{"$f":"IF(A73=\"\",\"\",VLOOKUP(A73,'RIDOT STU History (inputs)'!$A$5:$K$79,10,0))","v":""},"","",{"$f":"IF(ISBLANK(B73),\"\",IF(ISBLANK(G73),\"\",RowFunc(B73,G73)))","v":0},{"$f":"IF(A73=\"\",\"\",SUMIF(Catchment!$K$5:$K$300,A73,Catchment!$X$5:$X$300))","v":""},{"$f":"IFERROR(IF(I73>=0.5,INTERPRNG_h($F73,'STU Treatment Values'!$B$5:$K$27,0,1,$J73),INTERPRNG_h($F73,'STU Treatment Values'!$B$29:$K$51,0,1,$J73)),\"\")","v":""},"",{"$f":"IF(A73=\"\",\"\",SUMIF(Catchment!$K$5:$K$300,A73,Catchment!$Y$5:$Y$300))","v":""},{"$f":"IFERROR(IF(I73>=0.5,INTERPRNG_h($F73,'STU Treatment Values'!$N$5:$W$27,0,1,$J73),INTERPRNG_h($F73,'STU Treatment Values'!$N$29:$W$51,0,1,$J73)),\"\")","v":""},"",{"$f":"IF(A73=\"\",\"\",SUMIF(Catchment!$K$5:$K$300,A73,Catchment!$Z$5:$Z$300))","v":""},{"$f":"IFERROR(IF(I73>=0.5,INTERPRNG_h($F73,'STU Treatment Values'!$Z$5:$AI$27,0,1,$J73),INTERPRNG_h($F73,'STU Treatment Values'!$Z$29:$AI$51,0,1,$J73)),\"\")","v":""},"",{"$f":"IF(A73=\"\",\"\",SUMIF(Catchment!$K$5:$K$300,A73,Catchment!$AA$5:$AA$300))","v":""},{"$f":"IFERROR(IF(I73>=0.5,INTERPRNG_h($F73,'STU Treatment Values'!$AL$5:$AU$27,0,1,$J73),INTERPRNG_h($F73,'STU Treatment Values'!$AL$29:$AU$51,0,1,$J73)),\"\")","v":""},"","","","",{"$f":"IFERROR(INTERPRNG_h($F73,'STU Treatment Values'!$B$79:$K$101,0,1,$J73),\"\")","v":""},{"$f":"IFERROR(INTERPRNG_h($F73,'STU Treatment Values'!$B$54:$K$76,0,1,$J73),\"\")","v":""},"","",{"$f":"IFERROR(INTERPRNG_h($F73,'STU Treatment Values'!$B$104:$K$126,0,1,$J73),\"\")","v":""},""]
[null,{"$f":"IF(A74=\"\",\"\",VLOOKUP(A74,STU!$A$5:$G$300,7,0))","v":""},{"$f":"IF(A74=\"\",\"\",SUMIF(Catchment!$K$5:$K$300,A74,Catchment!$V$5:$V$300))","v":""},{"$f":"IF(A74=\"\",\"\",SUMIF(Catchment!$K$5:$K$300,A74,Catchment!$L$5:$L$300))","v":""},{"$f":"IF(A74=\"\",\"\",VLOOKUP(A74,'RIDOT STU History (inputs)'!$A$5:$K$300,11,0))","v":""},{"$f":"IF(A74=\"\",\"\",IF(B74=\"Limited ROW\",0.25,E74/D74*12))","v":""},{"$f":"IF(A74=\"\",\"\",VLOOKUP(A74,'RIDOT STU History (inputs)'!$A$5:$K$79,10,0))","v":""},{"$f":"IF(A74=\"\",\"\",C74-D74)","v":""},"",{"$f":"IF(ISBLANK(B74),\"\",IF(ISBLANK(G74),\"\",RowFunc(B74,G74)))","v":0},{"$f":"IF(A74=\"\",\"\",SUMIF(Catchment!$K$5:$K$300,A74,Catchment!$X$5:$X$300))","v":""},{"$f":"IFERROR(IF(I74>=0.5,INTERPRNG_h($F74,'STU Treatment Values'!$B$5:$K$27,0,1,$J74),INTERPRNG_h($F74,'STU Treatment Values'!$B$29:$K$51,0,1,$J74)),\"\")","v":""},"",{"$f":"IF(A74=\"\",\"\",SUMIF(Catchment!$K$5:$K$300,A74,Catchment!$Y$5:$Y$300))","v":""},{"$f":"IFERROR(IF(I74>=0.5,INTERPRNG_h($F74,'STU Treatment Values'!$N$5:$W$27,0,1,$J74),INTERPRNG_h($F74,'STU Treatment Values'!$N$29:$W$51,0,1,$J74)),\"\")","v":""},"",{"$f":"IF(A74=\"\",\"\",SUMIF(Catchment!$K$5:$K$300,A74,Catchment!$Z$5:$Z$300))","v":""},{"$f":"IFERROR(IF(I74>=0.5,INTERPRNG_h($F74,'STU Treatment Values'!$Z$5:$AI$27,0,1,$J74),INTERPRNG_h($F74,'STU Treatment Values'!$Z$29:$AI$51,0,1,$J74)),\"\")","v":""},"",{"$f":"IF(A74=\"\",\"\",SUMIF(Catchment!$K$5:$K$300,A74,Catchment!$AA$5:$AA$300))","v":""},{"$f":"IFERROR(IF(I74>=0.5,INTERPRNG_h($F74,'STU Treatment Values'!$AL$5:$AU$27,0,1,$J74),INTERPRNG_h($F74,'STU Treatment Values'!$AL$29:$AU$51,0,1,$J74)),\"\")","v":""},{"$f":"IF(B74=\"Limited ROW\",U74*T74*0.1,IFERROR(U74*T74,\"\"))","v":""},{"$f":"IF(A74=\"\",\"\",D74/43560)","v":""},{"$f":"IFERROR(IF(O74/0.9>1,1,O74/0.9),\"\")","v":""},{"$f":"IFERROR(IF(L74/0.9>1,1,L74/0.9),\"\")","v":""},{"$f":"IFERROR(INTERPRNG_h($F74,'STU Treatment Values'!$B$79:$K$101,0,1,$J74),\"\")","v":""},{"$f":"IFERROR(INTERPRNG_h($F74,'STU Treatment Values'!$B$54:$K$76,0,1,$J74),\"\")","v":""},{"$f":"IFERROR((X74+Y74+Z74+AA74)/4,\"\")","v":""},{"$f":"IF(B74=\"Limited ROW\",W74*AB74*0.1,IFERROR(AB74*W74,\"\"))","v":""},{"$f":"IFERROR(INTERPRNG_h($F74,'STU Treatment Values'!$B$104:$K$126,0,1,$J74),\"\")","v":""},{"$f":"IF(B74=\"Limited ROW\",AD74*(D74*0.1/43560*3.559+H74*0.1/43560*0.239),IFERROR(AD74*(D74/43560*3.559+H74/43560*0.239),\"\"))","v":""}]
[null,{"$f":"IF(A75=\"\",\"\",VLOOKUP(A75,STU!$A$5:$G$300,7,0))","v":""},{"$f":"IF(A75=\"\",\"\",SUMIF(Catchment!$K$5:$K$300,A75,Catchment!$V$5:$V$300))","v":""},{"$f":"IF(A75=\"\",\"\",SUMIF(Catchment!$K$5:$K$300,A75,Catchment!$L$5:$L$300))","v":""},{"$f":"IF(A75=\"\",\"\",VLOOKUP(A75,'RIDOT STU History (inputs)'!$A$5:$K$300,11,0))","v":""},"",{"$f":"IF(A75=\"\",\"\",VLOOKUP(A75,'RIDOT STU History (inputs)'!$A$5:$K$79,10,0))","v":""},"","",{"$f":"IF(ISBLANK(B75),\"\",IF(ISBLANK(G75),\"\",RowFunc(B75,G75)))","v":0},{"$f":"IF(A75=\"\",\"\",SUMIF(Catchment!$K$5:$K$300,A75,Catchment!$X$5:$X$300))","v":""},{"$f":"IFERROR(IF(I75>=0.5,INTERPRNG_h($F75,'STU Treatment Values'!$B$5:$K$27,0,1,$J75),INTERPRNG_h($F75,'STU Treatment Values'!$B$29:$K$51,0,1,$J75)),\"\")","v":""},"",{"$f":"IF(A75=\"\",\"\",SUMIF(Catchment!$K$5:$K$300,A75,Catchment!$Y$5:$Y$300))","v":""},{"$f":"IFERROR(IF(I75>=0.5,INTERPRNG_h($F75,'STU Treatment Values'!$N$5:$W$27,0,1,$J75),INTERPRNG_h($F75,'STU Treatment Values'!$N$29:$W$51,0,1,$J75)),\"\")","v":""},"",{"$f":"IF(A75=\"\",\"\",SUMIF(Catchment!$K$5:$K$300,A75,Catchment!$Z$5:$Z$300))","v":""},{"$f":"IFERROR(IF(I75>=0.5,INTERPRNG_h($F75,'STU Treatment Values'!$Z$5:$AI$27,0,1,$J75),INTERPRNG_h($F75,'STU Treatment Values'!$Z$29:$AI$51,0,1,$J75)),\"\")","v":""},"",{"$f":"IF(A75=\"\",\"\",SUMIF(Catchment!$K$5:$K$300,A75,Catchment!$AA$5:$AA$300))","v":""},{"$f":"IFERROR(IF(I75>=0.5,INTERPRNG_h($F75,'STU Treatment Values'!$AL$5:$AU$27,0,1,$J75),INTERPRNG_h($F75,'STU Treatment Values'!$AL$29:$AU$51,0,1,$J75)),\"\")","v":""},"","","","",{"$f":"IFERROR(INTERPRNG_h($F75,'STU Treatment Values'!$B$79:$K$101,0,1,$J75),\"\")","v":""},{"$f":"IFERROR(INTERPRNG_h($F75,'STU Treatment Values'!$B$54:$K$76,0,1,$J75),\"\")","v":""},"","",{"$f":"IFERROR(INTERPRNG_h($F75,'STU Treatment Values'!$B$104:$K$126,0,1,$J75),\"\")","v":""},""]
[null,{"$f":"IF(A76=\"\",\"\",VLOOKUP(A76,STU!$A$5:$G$300,7,0))","v":""},{"$f":"IF(A76=\"\",\"\",SUMIF(Catchment!$K$5:$K$300,A76,Catchment!$V$5:$V$300))","v":""},{"$f":"IF(A76=\"\",\"\",SUMIF(Catchment!$K$5:$K$300,A76,Catchment!$L$5:$L$300))","v":""},{"$f":"IF(A76=\"\",\"\",VLOOKUP(A76,'RIDOT STU History (inputs)'!$A$5:$K$300,11,0))","v":""},"",{"$f":"IF(A76=\"\",\"\",VLOOKUP(A76,'RIDOT STU History (inputs)'!$A$5:$K$79,10,0))","v":""},"","",{"$f":"IF(ISBLANK(B76),\"\",IF(ISBLANK(G76),\"\",RowFunc(B76,G76)))","v":0},{"$f":"IF(A76=\"\",\"\",SUMIF(Catchment!$K$5:$K$300,A76,Catchment!$X$5:$X$300))","v":""},{"$f":"IFERROR(IF(I76>=0.5,INTERPRNG_h($F76,'STU Treatment Values'!$B$5:$K$27,0,1,$J76),INTERPRNG_h($F76,'STU Treatment Values'!$B$29:$K$51,0,1,$J76)),\"\")","v":""},"",{"$f":"IF(A76=\"\",\"\",SUMIF(Catchment!$K$5:$K$300,A76,Catchment!$Y$5:$Y$300))","v":""},{"$f":"IFERROR(IF(I76>=0.5,INTERPRNG_h($F76,'STU Treatment Values'!$N$5:$W$27,0,1,$J76),INTERPRNG_h($F76,'STU Treatment Values'!$N$29:$W$51,0,1,$J76)),\"\")","v":""},"",{"$f":"IF(A76=\"\",\"\",SUMIF(Catchment!$K$5:$K$300,A76,Catchment!$Z$5:$Z$300))","v":""},{"$f":"IFERROR(IF(I76>=0.5,INTERPRNG_h($F76,'STU Treatment Values'!$Z$5:$AI$27,0,1,$J76),INTERPRNG_h($F76,'STU Treatment Values'!$Z$29:$AI$51,0,1,$J76)),\"\")","v":""},"",{"$f":"IF(A76=\"\",\"\",SUMIF(Catchment!$K$5:$K$300,A76,Catchment!$AA$5:$AA$300))","v":""},{"$f":"IFERROR(IF(I76>=0.5,INTERPRNG_h($F76,'STU Treatment Values'!$AL$5:$AU$27,0,1,$J76),INTERPRNG_h($F76,'STU Treatment Values'!$AL$29:$AU$51,0,1,$J76)),\"\")","v":""},"","","","",{"$f":"IFERROR(INTERPRNG_h($F76,'STU Treatment Values'!$B$79:$K$101,0,1,$J76),\"\")","v":""},{"$f":"IFERROR(INTERPRNG_h($F76,'STU Treatment Values'!$B$54:$K$76,0,1,$J76),\"\")","v":""},"","",{"$f":"IFERROR(INTERPRNG_h($F76,'STU Treatment Values'!$B$104:$K$126,0,1,$J76),\"\")","v":""},""]
[null,{"$f":"IF(A77=\"\",\"\",VLOOKUP(A77,STU!$A$5:$G$300,7,0))","v":""},{"$f":"IF(A77=\"\",\"\",SUMIF(Catchment!$K$5:$K$300,A77,Catchment!$V$5:$V$300))","v":""},{"$f":"IF(A77=\"\",\"\",SUMIF(Catchment!$K$5:$K$300,A77,Catchment!$L$5:$L$300))","v":""},{"$f":"IF(A77=\"\",\"\",VLOOKUP(A77,'RIDOT STU History (inputs)'!$A$5:$K$300,11,0))","v":""},"",{"$f":"IF(A77=\"\",\"\",VLOOKUP(A77,'RIDOT STU History (inputs)'!$A$5:$K$79,10,0))","v":""},"","",{"$f":"IF(ISBLANK(B77),\"\",IF(ISBLANK(G77),\"\",RowFunc(B77,G77)))","v":0},{"$f":"IF(A77=\"\",\"\",SUMIF(Catchment!$K$5:$K$300,A77,Catchment!$X$5:$X$300))","v":""},{"$f":"IFERROR(IF(I77>=0.5,INTERPRNG_h($F77,'STU Treatment Values'!$B$5:$K$27,0,1,$J77),INTERPRNG_h($F77,'STU Treatment Values'!$B$29:$K$51,0,1,$J77)),\"\")","v":""},"",{"$f":"IF(A77=\"\",\"\",SUMIF(Catchment!$K$5:$K$300,A77,Catchment!$Y$5:$Y$300))","v":""},{"$f":"IFERROR(IF(I77>=0.5,INTERPRNG_h($F77,'STU Treatment Values'!$N$5:$W$27,0,1,$J77),INTERPRNG_h($F77,'STU Treatment Values'!$N$29:$W$51,0,1,$J77)),\"\")","v":""},"",{"$f":"IF(A77=\"\",\"\",SUMIF(Catchment!$K$5:$K$300,A77,Catchment!$Z$5:$Z$300))","v":""},{"$f":"IFERROR(IF(I77>=0.5,INTERPRNG_h($F77,'STU Treatment Values'!$Z$5:$AI$27,0,1,$J77),INTERPRNG_h($F77,'STU Treatment Values'!$Z$29:$AI$51,0,1,$J77)),\"\")","v":""},"",{"$f":"IF(A77=\"\",\"\",SUMIF(Catchment!$K$5:$K$300,A77,Catchment!$AA$5:$AA$300))","v":""},{"$f":"IFERROR(IF(I77>=0.5,INTERPRNG_h($F77,'STU Treatment Values'!$AL$5:$AU$27,0,1,$J77),INTERPRNG_h($F77,'STU Treatment Values'!$AL$29:$AU$51,0,1,$J77)),\"\")","v":""},"","","","",{"$f":"IFERROR(INTERPRNG_h($F77,'STU Treatment Values'!$B$79:$K$101,0,1,$J77),\"\")","v":""},{"$f":"IFERROR(INTERPRNG_h($F77,'STU Treatment Values'!$B$54:$K$76,0,1,$J77),\"\")","v":""},"","",{"$f":"IFERROR(INTERPRNG_h($F77,'STU Treatment Values'!$B$104:$K$126,0,1,$J77),\"\")","v":""},""]
[null,{"$f":"IF(A78=\"\",\"\",VLOOKUP(A78,STU!$A$5:$G$300,7,0))","v":""},{"$f":"IF(A78=\"\",\"\",SUMIF(Catchment!$K$5:$K$300,A78,Catchment!$V$5:$V$300))","v":""},{"$f":"IF(A78=\"\",\"\",SUMIF(Catchment!$K$5:$K$300,A78,Catchment!$L$5:$L$300))","v":""},{"$f":"IF(A78=\"\",\"\",VLOOKUP(A78,'RIDOT STU History (inputs)'!$A$5:$K$300,11,0))","v":""},"",{"$f":"IF(A78=\"\",\"\",VLOOKUP(A78,'RIDOT STU History (inputs)'!$A$5:$K$79,10,0))","v":""},"","",{"$f":"IF(ISBLANK(B78),\"\",IF(ISBLANK(G78),\"\",RowFunc(B78,G78)))","v":0},{"$f":"IF(A78=\"\",\"\",SUMIF(Catchment!$K$5:$K$300,A78,Catchment!$X$5:$X$300))","v":""},{"$f":"IFERROR(IF(I78>=0.5,INTERPRNG_h($F78,'STU Treatment Values'!$B$5:$K$27,0,1,$J78),INTERPRNG_h($F78,'STU Treatment Values'!$B$29:$K$51,0,1,$J78)),\"\")","v":""},"",{"$f":"IF(A78=\"\",\"\",SUMIF(Catchment!$K$5:$K$300,A78,Catchment!$Y$5:$Y$300))","v":""},{"$f":"IFERROR(IF(I78>=0.5,INTERPRNG_h($F78,'STU Treatment Values'!$N$5:$W$27,0,1,$J78),INTERPRNG_h($F78,'STU Treatment Values'!$N$29:$W$51,0,1,$J78)),\"\")","v":""},"",{"$f":"IF(A78=\"\",\"\",SUMIF(Catchment!$K$5:$K$300,A78,Catchment!$Z$5:$Z$300))","v":""},{"$f":"IFERROR(IF(I78>=0.5,INTERPRNG_h($F78,'STU Treatment Values'!$Z$5:$AI$27,0,1,$J78),INTERPRNG_h($F78,'STU Treatment Values'!$Z$29:$AI$51,0,1,$J78)),\"\")","v":""},"",{"$f":"IF(A78=\"\",\"\",SUMIF(Catchment!$K$5:$K$300,A78,Catchment!$AA$5:$AA$300))","v":""},{"$f":"IFERROR(IF(I78>=0.5,INTERPRNG_h($F78,'STU Treatment Values'!$AL$5:$AU$27,0,1,$J78),INTERPRNG_h($F78,'STU Treatment Values'!$AL$29:$AU$51,0,1,$J78)),\"\")","v":""},"","","","",{"$f":"IFERROR(INTERPRNG_h($F78,'STU Treatment Values'!$B$79:$K$101,0,1,$J78),\"\")","v":""},{"$f":"IFERROR(INTERPRNG_h($F78,'STU Treatment Values'!$B$54:$K$76,0,1,$J78),\"\")","v":""},"","",{"$f":"IFERROR(INTERPRNG_h($F78,'STU Treatment Values'!$B$104:$K$126,0,1,$J78),\"\")","v":""},""]
[null,{"$f":"IF(A79=\"\",\"\",VLOOKUP(A79,STU!$A$5:$G$300,7,0))","v":""},{"$f":"IF(A79=\"\",\"\",SUMIF(Catchment!$K$5:$K$300,A79,Catchment!$V$5:$V$300))","v":""},{"$f":"IF(A79=\"\",\"\",SUMIF(Catchment!$K$5:$K$300,A79,Catchment!$L$5:$L$300))","v":""},{"$f":"IF(A79=\"\",\"\",VLOOKUP(A79,'RIDOT STU History (inputs)'!$A$5:$K$300,11,0))","v":""},"",{"$f":"IF(A79=\"\",\"\",VLOOKUP(A79,'RIDOT STU History (inputs)'!$A$5:$K$79,10,0))","v":""},"","",{"$f":"IF(ISBLANK(B79),\"\",IF(ISBLANK(G79),\"\",RowFunc(B79,G79)))","v":0},{"$f":"IF(A79=\"\",\"\",SUMIF(Catchment!$K$5:$K$300,A79,Catchment!$X$5:$X$300))","v":""},{"$f":"IFERROR(IF(I79>=0.5,INTERPRNG_h($F79,'STU Treatment Values'!$B$5:$K$27,0,1,$J79),INTERPRNG_h($F79,'STU Treatment Values'!$B$29:$K$51,0,1,$J79)),\"\")","v":""},"",{"$f":"IF(A79=\"\",\"\",SUMIF(Catchment!$K$5:$K$300,A79,Catchment!$Y$5:$Y$300))","v":""},{"$f":"IFERROR(IF(I79>=0.5,INTERPRNG_h($F79,'STU Treatment Values'!$N$5:$W$27,0,1,$J79),INTERPRNG_h($F79,'STU Treatment Values'!$N$29:$W$51,0,1,$J79)),\"\")","v":""},"",{"$f":"IF(A79=\"\",\"\",SUMIF(Catchment!$K$5:$K$300,A79,Catchment!$Z$5:$Z$300))","v":""},{"$f":"IFERROR(IF(I79>=0.5,INTERPRNG_h($F79,'STU Treatment Values'!$Z$5:$AI$27,0,1,$J79),INTERPRNG_h($F79,'STU Treatment Values'!$Z$29:$AI$51,0,1,$J79)),\"\")","v":""},"",{"$f":"IF(A79=\"\",\"\",SUMIF(Catchment!$K$5:$K$300,A79,Catchment!$AA$5:$AA$300))","v":""},{"$f":"IFERROR(IF(I79>=0.5,INTERPRNG_h($F79,'STU Treatment Values'!$AL$5:$AU$27,0,1,$J79),INTERPRNG_h($F79,'STU Treatment Values'!$AL$29:$AU$51,0,1,$J79)),\"\")","v":""},"","","","",{"$f":"IFERROR(INTERPRNG_h($F79,'STU Treatment Values'!$B$79:$K$101,0,1,$J79),\"\")","v":""},{"$f":"IFERROR(INTERPRNG_h($F79,'STU Treatment Values'!$B$54:$K$76,0,1,$J79),\"\")","v":""},"","",{"$f":"IFERROR(INTERPRNG_h($F79,'STU Treatment Values'!$B$104:$K$126,0,1,$J79),\"\")","v":""},""]
[null,{"$f":"IF(A80=\"\",\"\",VLOOKUP(A80,STU!$A$5:$G$300,7,0))","v":""},{"$f":"IF(A80=\"\",\"\",SUMIF(Catchment!$K$5:$K$300,A80,Catchment!$V$5:$V$300))","v":""},{"$f":"IF(A80=\"\",\"\",SUMIF(Catchment!$K$5:$K$300,A80,Catchment!$L$5:$L$300))","v":""},{"$f":"IF(A80=\"\",\"\",VLOOKUP(A80,'RIDOT STU History (inputs)'!$A$5:$K$300,11,0))","v":""},"",{"$f":"IF(A80=\"\",\"\",VLOOKUP(A80,'RIDOT STU History (inputs)'!$A$5:$K$79,10,0))","v":""},"","",{"$f":"IF(ISBLANK(B80),\"\",IF(ISBLANK(G80),\"\",RowFunc(B80,G80)))","v":0},{"$f":"IF(A80=\"\",\"\",SUMIF(Catchment!$K$5:$K$300,A80,Catchment!$X$5:$X$300))","v":""},{"$f":"IFERROR(IF(I80>=0.5,INTERPRNG_h($F80,'STU Treatment Values'!$B$5:$K$27,0,1,$J80),INTERPRNG_h($F80,'STU Treatment Values'!$B$29:$K$51,0,1,$J80)),\"\")","v":""},"",{"$f":"IF(A80=\"\",\"\",SUMIF(Catchment!$K$5:$K$300,A80,Catchment!$Y$5:$Y$300))","v":""},{"$f":"IFERROR(IF(I80>=0.5,INTERPRNG_h($F80,'STU Treatment Values'!$N$5:$W$27,0,1,$J80),INTERPRNG_h($F80,'STU Treatment Values'!$N$29:$W$51,0,1,$J80)),\"\")","v":""},"",{"$f":"IF(A80=\"\",\"\",SUMIF(Catchment!$K$5:$K$300,A80,Catchment!$Z$5:$Z$300))","v":""},{"$f":"IFERROR(IF(I80>=0.5,INTERPRNG_h($F80,'STU Treatment Values'!$Z$5:$AI$27,0,1,$J80),INTERPRNG_h($F80,'STU Treatment Values'!$Z$29:$AI$51,0,1,$J80)),\"\")","v":""},"",{"$f":"IF(A80=\"\",\"\",SUMIF(Catchment!$K$5:$K$300,A80,Catchment!$AA$5:$AA$300))","v":""},{"$f":"IFERROR(IF(I80>=0.5,INTERPRNG_h($F80,'STU Treatment Values'!$AL$5:$AU$27,0,1,$J80),INTERPRNG_h($F80,'STU Treatment Values'!$AL$29:$AU$51,0,1,$J80)),\"\")","v":""},"","","","",{"$f":"IFERROR(INTERPRNG_h($F80,'STU Treatment Values'!$B$79:$K$101,0,1,$J80),\"\")","v":""},{"$f":"IFERROR(INTERPRNG_h($F80,'STU Treatment Values'!$B$54:$K$76,0,1,$J80),\"\")","v":""},"","",{"$f":"IFERROR(INTERPRNG_h($F80,'STU Treatment Values'!$B$104:$K$126,0,1,$J80),\"\")","v":""},""]
[null,{"$f":"IF(A81=\"\",\"\",VLOOKUP(A81,STU!$A$5:$G$300,7,0))","v":""},{"$f":"IF(A81=\"\",\"\",SUMIF(Catchment!$K$5:$K$300,A81,Catchment!$V$5:$V$300))","v":""},{"$f":"IF(A81=\"\",\"\",SUMIF(Catchment!$K$5:$K$300,A81,Catchment!$L$5:$L$300))","v":""},{"$f":"IF(A81=\"\",\"\",VLOOKUP(A81,'RIDOT STU History (inputs)'!$A$5:$K$300,11,0))","v":""},"",{"$f":"IF(A81=\"\",\"\",VLOOKUP(A81,'RIDOT STU History (inputs)'!$A$5:$K$79,10,0))","v":""},"","",{"$f":"IF(ISBLANK(B81),\"\",IF(ISBLANK(G81),\"\",RowFunc(B81,G81)))","v":0},{"$f":"IF(A81=\"\",\"\",SUMIF(Catchment!$K$5:$K$300,A81,Catchment!$X$5:$X$300))","v":""},{"$f":"IFERROR(IF(I81>=0.5,INTERPRNG_h($F81,'STU Treatment Values'!$B$5:$K$27,0,1,$J81),INTERPRNG_h($F81,'STU Treatment Values'!$B$29:$K$51,0,1,$J81)),\"\")","v":""},"",{"$f":"IF(A81=\"\",\"\",SUMIF(Catchment!$K$5:$K$300,A81,Catchment!$Y$5:$Y$300))","v":""},{"$f":"IFERROR(IF(I81>=0.5,INTERPRNG_h($F81,'STU Treatment Values'!$N$5:$W$27,0,1,$J81),INTERPRNG_h($F81,'STU Treatment Values'!$N$29:$W$51,0,1,$J81)),\"\")","v":""},"",{"$f":"IF(A81=\"\",\"\",SUMIF(Catchment!$K$5:$K$300,A81,Catchment!$Z$5:$Z$300))","v":""},{"$f":"IFERROR(IF(I81>=0.5,INTERPRNG_h($F81,'STU Treatment Values'!$Z$5:$AI$27,0,1,$J81),INTERPRNG_h($F81,'STU Treatment Values'!$Z$29:$AI$51,0,1,$J81)),\"\")","v":""},"",{"$f":"IF(A81=\"\",\"\",SUMIF(Catchment!$K$5:$K$300,A81,Catchment!$AA$5:$AA$300))","v":""},{"$f":"IFERROR(IF(I81>=0.5,INTERPRNG_h($F81,'STU Treatment Values'!$AL$5:$AU$27,0,1,$J81),INTERPRNG_h($F81,'STU Treatment Values'!$AL$29:$AU$51,0,1,$J81)),\"\")","v":""},"","","","",{"$f":"IFERROR(INTERPRNG_h($F81,'STU Treatment Values'!$B$79:$K$101,0,1,$J81),\"\")","v":""},{"$f":"IFERROR(INTERPRNG_h($F81,'STU Treatment Values'!$B$54:$K$76,0,1,$J81),\"\")","v":""},"","",{"$f":"IFERROR(INTERPRNG_h($F81,'STU Treatment Values'!$B$104:$K$126,0,1,$J81),\"\")","v":""},""]
[null,{"$f":"IF(A82=\"\",\"\",VLOOKUP(A82,STU!$A$5:$G$300,7,0))","v":""},{"$f":"IF(A82=\"\",\"\",SUMIF(Catchment!$K$5:$K$300,A82,Catchment!$V$5:$V$300))","v":""},{"$f":"IF(A82=\"\",\"\",SUMIF(Catchment!$K$5:$K$300,A82,Catchment!$L$5:$L$300))","v":""},{"$f":"IF(A82=\"\",\"\",VLOOKUP(A82,'RIDOT STU History (inputs)'!$A$5:$K$300,11,0))","v":""},"",{"$f":"IF(A82=\"\",\"\",VLOOKUP(A82,'RIDOT STU History (inputs)'!$A$5:$K$79,10,0))","v":""},"","",{"$f":"IF(ISBLANK(B82),\"\",IF(ISBLANK(G82),\"\",RowFunc(B82,G82)))","v":0},{"$f":"IF(A82=\"\",\"\",SUMIF(Catchment!$K$5:$K$300,A82,Catchment!$X$5:$X$300))","v":""},{"$f":"IFERROR(IF(I82>=0.5,INTERPRNG_h($F82,'STU Treatment Values'!$B$5:$K$27,0,1,$J82),INTERPRNG_h($F82,'STU Treatment Values'!$B$29:$K$51,0,1,$J82)),\"\")","v":""},"",{"$f":"IF(A82=\"\",\"\",SUMIF(Catchment!$K$5:$K$300,A82,Catchment!$Y$5:$Y$300))","v":""},{"$f":"IFERROR(IF(I82>=0.5,INTERPRNG_h($F82,'STU Treatment Values'!$N$5:$W$27,0,1,$J82),INTERPRNG_h($F82,'STU Treatment Values'!$N$29:$W$51,0,1,$J82)),\"\")","v":""},"",{"$f":"IF(A82=\"\",\"\",SUMIF(Catchment!$K$5:$K$300,A82,Catchment!$Z$5:$Z$300))","v":""},{"$f":"IFERROR(IF(I82>=0.5,INTERPRNG_h($F82,'STU Treatment Values'!$Z$5:$AI$27,0,1,$J82),INTERPRNG_h($F82,'STU Treatment Values'!$Z$29:$AI$51,0,1,$J82)),\"\")","v":""},"",{"$f":"IF(A82=\"\",\"\",SUMIF(Catchment!$K$5:$K$300,A82,Catchment!$AA$5:$AA$300))","v":""},{"$f":"IFERROR(IF(I82>=0.5,INTERPRNG_h($F82,'STU Treatment Values'!$AL$5:$AU$27,0,1,$J82),INTERPRNG_h($F82,'STU Treatment Values'!$AL$29:$AU$51,0,1,$J82)),\"\")","v":""},"","","","",{"$f":"IFERROR(INTERPRNG_h($F82,'STU Treatment Values'!$B$79:$K$101,0,1,$J82),\"\")","v":""},{"$f":"IFERROR(INTERPRNG_h($F82,'STU Treatment Values'!$B$54:$K$76,0,1,$J82),\"\")","v":""},"","",{"$f":"IFERROR(INTERPRNG_h($F82,'STU Treatment Values'!$B$104:$K$126,0,1,$J82),\"\")","v":""},""]
[null,{"$f":"IF(A83=\"\",\"\",VLOOKUP(A83,STU!$A$5:$G$300,7,0))","v":""},{"$f":"IF(A83=\"\",\"\",SUMIF(Catchment!$K$5:$K$300,A83,Catchment!$V$5:$V$300))","v":""},{"$f":"IF(A83=\"\",\"\",SUMIF(Catchment!$K$5:$K$300,A83,Catchment!$L$5:$L$300))","v":""},{"$f":"IF(A83=\"\",\"\",VLOOKUP(A83,'RIDOT STU History (inputs)'!$A$5:$K$300,11,0))","v":""},"",{"$f":"IF(A83=\"\",\"\",VLOOKUP(A83,'RIDOT STU History (inputs)'!$A$5:$K$79,10,0))","v":""},"","",{"$f":"IF(ISBLANK(B83),\"\",IF(ISBLANK(G83),\"\",RowFunc(B83,G83)))","v":0},{"$f":"IF(A83=\"\",\"\",SUMIF(Catchment!$K$5:$K$300,A83,Catchment!$X$5:$X$300))","v":""},{"$f":"IFERROR(IF(I83>=0.5,INTERPRNG_h($F83,'STU Treatment Values'!$B$5:$K$27,0,1,$J83),INTERPRNG_h($F83,'STU Treatment Values'!$B$29:$K$51,0,1,$J83)),\"\")","v":""},"",{"$f":"IF(A83=\"\",\"\",SUMIF(Catchment!$K$5:$K$300,A83,Catchment!$Y$5:$Y$300))","v":""},{"$f":"IFERROR(IF(I83>=0.5,INTERPRNG_h($F83,'STU Treatment Values'!$N$5:$W$27,0,1,$J83),INTERPRNG_h($F83,'STU Treatment Values'!$N$29:$W$51,0,1,$J83)),\"\")","v":""},"",{"$f":"IF(A83=\"\",\"\",SUMIF(Catchment!$K$5:$K$300,A83,Catchment!$Z$5:$Z$300))","v":""},{"$f":"IFERROR(IF(I83>=0.5,INTERPRNG_h($F83,'STU Treatment Values'!$Z$5:$AI$27,0,1,$J83),INTERPRNG_h($F83,'STU Treatment Values'!$Z$29:$AI$51,0,1,$J83)),\"\")","v":""},"",{"$f":"IF(A83=\"\",\"\",SUMIF(Catchment!$K$5:$K$300,A83,Catchment!$AA$5:$AA$300))","v":""},{"$f":"IFERROR(IF(I83>=0.5,INTERPRNG_h($F83,'STU Treatment Values'!$AL$5:$AU$27,0,1,$J83),INTERPRNG_h($F83,'STU Treatment Values'!$AL$29:$AU$51,0,1,$J83)),\"\")","v":""},"","","","",{"$f":"IFERROR(INTERPRNG_h($F83,'STU Treatment Values'!$B$79:$K$101,0,1,$J83),\"\")","v":""},{"$f":"IFERROR(INTERPRNG_h($F83,'STU Treatment Values'!$B$54:$K$76,0,1,$J83),\"\")","v":""},"","",{"$f":"IFERROR(INTERPRNG_h($F83,'STU Treatment Values'!$B$104:$K$126,0,1,$J83),\"\")","v":""},""]
[null,{"$f":"IF(A84=\"\",\"\",VLOOKUP(A84,STU!$A$5:$G$300,7,0))","v":""},{"$f":"IF(A84=\"\",\"\",SUMIF(Catchment!$K$5:$K$300,A84,Catchment!$V$5:$V$300))","v":""},{"$f":"IF(A84=\"\",\"\",SUMIF(Catchment!$K$5:$K$300,A84,Catchment!$L$5:$L$300))","v":""},{"$f":"IF(A84=\"\",\"\",VLOOKUP(A84,'RIDOT STU History (inputs)'!$A$5:$K$300,11,0))","v":""},"",{"$f":"IF(A84=\"\",\"\",VLOOKUP(A84,'RIDOT STU History (inputs)'!$A$5:$K$79,10,0))","v":""},"","",{"$f":"IF(ISBLANK(B84),\"\",IF(ISBLANK(G84),\"\",RowFunc(B84,G84)))","v":0},{"$f":"IF(A84=\"\",\"\",SUMIF(Catchment!$K$5:$K$300,A84,Catchment!$X$5:$X$300))","v":""},{"$f":"IFERROR(IF(I84>=0.5,INTERPRNG_h($F84,'STU Treatment Values'!$B$5:$K$27,0,1,$J84),INTERPRNG_h($F84,'STU Treatment Values'!$B$29:$K$51,0,1,$J84)),\"\")","v":""},"",{"$f":"IF(A84=\"\",\"\",SUMIF(Catchment!$K$5:$K$300,A84,Catchment!$Y$5:$Y$300))","v":""},{"$f":"IFERROR(IF(I84>=0.5,INTERPRNG_h($F84,'STU Treatment Values'!$N$5:$W$27,0,1,$J84),INTERPRNG_h($F84,'STU Treatment Values'!$N$29:$W$51,0,1,$J84)),\"\")","v":""},"",{"$f":"IF(A84=\"\",\"\",SUMIF(Catchment!$K$5:$K$300,A84,Catchment!$Z$5:$Z$300))","v":""},{"$f":"IFERROR(IF(I84>=0.5,INTERPRNG_h($F84,'STU Treatment Values'!$Z$5:$AI$27,0,1,$J84),INTERPRNG_h($F84,'STU Treatment Values'!$Z$29:$AI$51,0,1,$J84)),\"\")","v":""},"",{"$f":"IF(A84=\"\",\"\",SUMIF(Catchment!$K$5:$K$300,A84,Catchment!$AA$5:$AA$300))","v":""},{"$f":"IFERROR(IF(I84>=0.5,INTERPRNG_h($F84,'STU Treatment Values'!$AL$5:$AU$27,0,1,$J84),INTERPRNG_h($F84,'STU Treatment Values'!$AL$29:$AU$51,0,1,$J84)),\"\")","v":""},"","","","",{"$f":"IFERROR(INTERPRNG_h($F84,'STU Treatment Values'!$B$79:$K$101,0,1,$J84),\"\")","v":""},{"$f":"IFERROR(INTERPRNG_h($F84,'STU Treatment Values'!$B$54:$K$76,0,1,$J84),\"\")","v":""},"","",{"$f":"IFERROR(INTERPRNG_h($F84,'STU Treatment Values'!$B$104:$K$126,0,1,$J84),\"\")","v":""},""]
[null,{"$f":"IF(A85=\"\",\"\",VLOOKUP(A85,STU!$A$5:$G$300,7,0))","v":""},{"$f":"IF(A85=\"\",\"\",SUMIF(Catchment!$K$5:$K$300,A85,Catchment!$V$5:$V$300))","v":""},{"$f":"IF(A85=\"\",\"\",SUMIF(Catchment!$K$5:$K$300,A85,Catchment!$L$5:$L$300))","v":""},{"$f":"IF(A85=\"\",\"\",VLOOKUP(A85,'RIDOT STU History (inputs)'!$A$5:$K$300,11,0))","v":""},"",{"$f":"IF(A85=\"\",\"\",VLOOKUP(A85,'RIDOT STU History (inputs)'!$A$5:$K$79,10,0))","v":""},"","",{"$f":"IF(ISBLANK(B85),\"\",IF(ISBLANK(G85),\"\",RowFunc(B85,G85)))","v":0},{"$f":"IF(A85=\"\",\"\",SUMIF(Catchment!$K$5:$K$300,A85,Catchment!$X$5:$X$300))","v":""},{"$f":"IFERROR(IF(I85>=0.5,INTERPRNG_h($F85,'STU Treatment Values'!$B$5:$K$27,0,1,$J85),INTERPRNG_h($F85,'STU Treatment Values'!$B$29:$K$51,0,1,$J85)),\"\")","v":""},"",{"$f":"IF(A85=\"\",\"\",SUMIF(Catchment!$K$5:$K$300,A85,Catchment!$Y$5:$Y$300))","v":""},{"$f":"IFERROR(IF(I85>=0.5,INTERPRNG_h($F85,'STU Treatment Values'!$N$5:$W$27,0,1,$J85),INTERPRNG_h($F85,'STU Treatment Values'!$N$29:$W$51,0,1,$J85)),\"\")","v":""},"",{"$f":"IF(A85=\"\",\"\",SUMIF(Catchment!$K$5:$K$300,A85,Catchment!$Z$5:$Z$300))","v":""},{"$f":"IFERROR(IF(I85>=0.5,INTERPRNG_h($F85,'STU Treatment Values'!$Z$5:$AI$27,0,1,$J85),INTERPRNG_h($F85,'STU Treatment Values'!$Z$29:$AI$51,0,1,$J85)),\"\")","v":""},"",{"$f":"IF(A85=\"\",\"\",SUMIF(Catchment!$K$5:$K$300,A85,Catchment!$AA$5:$AA$300))","v":""},{"$f":"IFERROR(IF(I85>=0.5,INTERPRNG_h($F85,'STU Treatment Values'!$AL$5:$AU$27,0,1,$J85),INTERPRNG_h($F85,'STU Treatment Values'!$AL$29:$AU$51,0,1,$J85)),\"\")","v":""},"","","","",{"$f":"IFERROR(INTERPRNG_h($F85,'STU Treatment Values'!$B$79:$K$101,0,1,$J85),\"\")","v":""},{"$f":"IFERROR(INTERPRNG_h($F85,'STU Treatment Values'!$B$54:$K$76,0,1,$J85),\"\")","v":""},"","",{"$f":"IFERROR(INTERPRNG_h($F85,'STU Treatment Values'!$B$104:$K$126,0,1,$J85),\"\")","v":""},""]
[null,{"$f":"IF(A86=\"\",\"\",VLOOKUP(A86,STU!$A$5:$G$300,7,0))","v":""},{"$f":"IF(A86=\"\",\"\",SUMIF(Catchment!$K$5:$K$300,A86,Catchment!$V$5:$V$300))","v":""},{"$f":"IF(A86=\"\",\"\",SUMIF(Catchment!$K$5:$K$300,A86,Catchment!$L$5:$L$300))","v":""},{"$f":"IF(A86=\"\",\"\",VLOOKUP(A86,'RIDOT STU History (inputs)'!$A$5:$K$300,11,0))","v":""},"",{"$f":"IF(A86=\"\",\"\",VLOOKUP(A86,'RIDOT STU History (inputs)'!$A$5:$K$79,10,0))","v":""},"","",{"$f":"IF(ISBLANK(B86),\"\",IF(ISBLANK(G86),\"\",RowFunc(B86,G86)))","v":0},{"$f":"IF(A86=\"\",\"\",SUMIF(Catchment!$K$5:$K$300,A86,Catchment!$X$5:$X$300))","v":""},{"$f":"IFERROR(IF(I86>=0.5,INTERPRNG_h($F86,'STU Treatment Values'!$B$5:$K$27,0,1,$J86),INTERPRNG_h($F86,'STU Treatment Values'!$B$29:$K$51,0,1,$J86)),\"\")","v":""},"",{"$f":"IF(A86=\"\",\"\",SUMIF(Catchment!$K$5:$K$300,A86,Catchment!$Y$5:$Y$300))","v":""},{"$f":"IFERROR(IF(I86>=0.5,INTERPRNG_h($F86,'STU Treatment Values'!$N$5:$W$27,0,1,$J86),INTERPRNG_h($F86,'STU Treatment Values'!$N$29:$W$51,0,1,$J86)),\"\")","v":""},"",{"$f":"IF(A86=\"\",\"\",SUMIF(Catchment!$K$5:$K$300,A86,Catchment!$Z$5:$Z$300))","v":""},{"$f":"IFERROR(IF(I86>=0.5,INTERPRNG_h($F86,'STU Treatment Values'!$Z$5:$AI$27,0,1,$J86),INTERPRNG_h($F86,'STU Treatment Values'!$Z$29:$AI$51,0,1,$J86)),\"\")","v":""},"",{"$f":"IF(A86=\"\",\"\",SUMIF(Catchment!$K$5:$K$300,A86,Catchment!$AA$5:$AA$300))","v":""},{"$f":"IFERROR(IF(I86>=0.5,INTERPRNG_h($F86,'STU Treatment Values'!$AL$5:$AU$27,0,1,$J86),INTERPRNG_h($F86,'STU Treatment Values'!$AL$29:$AU$51,0,1,$J86)),\"\")","v":""},"","","","",{"$f":"IFERROR(INTERPRNG_h($F86,'STU Treatment Values'!$B$79:$K$101,0,1,$J86),\"\")","v":""},{"$f":"IFERROR(INTERPRNG_h($F86,'STU Treatment Values'!$B$54:$K$76,0,1,$J86),\"\")","v":""},"","",{"$f":"IFERROR(INTERPRNG_h($F86,'STU Treatment Values'!$B$104:$K$126,0,1,$J86),\"\")","v":""},""]
[null,{"$f":"IF(A87=\"\",\"\",VLOOKUP(A87,STU!$A$5:$G$300,7,0))","v":""},{"$f":"IF(A87=\"\",\"\",SUMIF(Catchment!$K$5:$K$300,A87,Catchment!$V$5:$V$300))","v":""},{"$f":"IF(A87=\"\",\"\",SUMIF(Catchment!$K$5:$K$300,A87,Catchment!$L$5:$L$300))","v":""},{"$f":"IF(A87=\"\",\"\",VLOOKUP(A87,'RIDOT STU History (inputs)'!$A$5:$K$300,11,0))","v":""},"",{"$f":"IF(A87=\"\",\"\",VLOOKUP(A87,'RIDOT STU History (inputs)'!$A$5:$K$79,10,0))","v":""},"","",{"$f":"IF(ISBLANK(B87),\"\",IF(ISBLANK(G87),\"\",RowFunc(B87,G87)))","v":0},{"$f":"IF(A87=\"\",\"\",SUMIF(Catchment!$K$5:$K$300,A87,Catchment!$X$5:$X$300))","v":""},{"$f":"IFERROR(IF(I87>=0.5,INTERPRNG_h($F87,'STU Treatment Values'!$B$5:$K$27,0,1,$J87),INTERPRNG_h($F87,'STU Treatment Values'!$B$29:$K$51,0,1,$J87)),\"\")","v":""},"",{"$f":"IF(A87=\"\",\"\",SUMIF(Catchment!$K$5:$K$300,A87,Catchment!$Y$5:$Y$300))","v":""},{"$f":"IFERROR(IF(I87>=0.5,INTERPRNG_h($F87,'STU Treatment Values'!$N$5:$W$27,0,1,$J87),INTERPRNG_h($F87,'STU Treatment Values'!$N$29:$W$51,0,1,$J87)),\"\")","v":""},"",{"$f":"IF(A87=\"\",\"\",SUMIF(Catchment!$K$5:$K$300,A87,Catchment!$Z$5:$Z$300))","v":""},{"$f":"IFERROR(IF(I87>=0.5,INTERPRNG_h($F87,'STU Treatment Values'!$Z$5:$AI$27,0,1,$J87),INTERPRNG_h($F87,'STU Treatment Values'!$Z$29:$AI$51,0,1,$J87)),\"\")","v":""},"",{"$f":"IF(A87=\"\",\"\",SUMIF(Catchment!$K$5:$K$300,A87,Catchment!$AA$5:$AA$300))","v":""},{"$f":"IFERROR(IF(I87>=0.5,INTERPRNG_h($F87,'STU Treatment Values'!$AL$5:$AU$27,0,1,$J87),INTERPRNG_h($F87,'STU Treatment Values'!$AL$29:$AU$51,0,1,$J87)),\"\")","v":""},"","","","",{"$f":"IFERROR(INTERPRNG_h($F87,'STU Treatment Values'!$B$79:$K$101,0,1,$J87),\"\")","v":""},{"$f":"IFERROR(INTERPRNG_h($F87,'STU Treatment Values'!$B$54:$K$76,0,1,$J87),\"\")","v":""},"","",{"$f":"IFERROR(INTERPRNG_h($F87,'STU Treatment Values'!$B$104:$K$126,0,1,$J87),\"\")","v":""},""]
[null,{"$f":"IF(A88=\"\",\"\",VLOOKUP(A88,STU!$A$5:$G$300,7,0))","v":""},{"$f":"IF(A88=\"\",\"\",SUMIF(Catchment!$K$5:$K$300,A88,Catchment!$V$5:$V$300))","v":""},{"$f":"IF(A88=\"\",\"\",SUMIF(Catchment!$K$5:$K$300,A88,Catchment!$L$5:$L$300))","v":""},{"$f":"IF(A88=\"\",\"\",VLOOKUP(A88,'RIDOT STU History (inputs)'!$A$5:$K$300,11,0))","v":""},"",{"$f":"IF(A88=\"\",\"\",VLOOKUP(A88,'RIDOT STU History (inputs)'!$A$5:$K$79,10,0))","v":""},"","",{"$f":"IF(ISBLANK(B88),\"\",IF(ISBLANK(G88),\"\",RowFunc(B88,G88)))","v":0},{"$f":"IF(A88=\"\",\"\",SUMIF(Catchment!$K$5:$K$300,A88,Catchment!$X$5:$X$300))","v":""},{"$f":"IFERROR(IF(I88>=0.5,INTERPRNG_h($F88,'STU Treatment Values'!$B$5:$K$27,0,1,$J88),INTERPRNG_h($F88,'STU Treatment Values'!$B$29:$K$51,0,1,$J88)),\"\")","v":""},"",{"$f":"IF(A88=\"\",\"\",SUMIF(Catchment!$K$5:$K$300,A88,Catchment!$Y$5:$Y$300))","v":""},{"$f":"IFERROR(IF(I88>=0.5,INTERPRNG_h($F88,'STU Treatment Values'!$N$5:$W$27,0,1,$J88),INTERPRNG_h($F88,'STU Treatment Values'!$N$29:$W$51,0,1,$J88)),\"\")","v":""},"",{"$f":"IF(A88=\"\",\"\",SUMIF(Catchment!$K$5:$K$300,A88,Catchment!$Z$5:$Z$300))","v":""},{"$f":"IFERROR(IF(I88>=0.5,INTERPRNG_h($F88,'STU Treatment Values'!$Z$5:$AI$27,0,1,$J88),INTERPRNG_h($F88,'STU Treatment Values'!$Z$29:$AI$51,0,1,$J88)),\"\")","v":""},"",{"$f":"IF(A88=\"\",\"\",SUMIF(Catchment!$K$5:$K$300,A88,Catchment!$AA$5:$AA$300))","v":""},{"$f":"IFERROR(IF(I88>=0.5,INTERPRNG_h($F88,'STU Treatment Values'!$AL$5:$AU$27,0,1,$J88),INTERPRNG_h($F88,'STU Treatment Values'!$AL$29:$AU$51,0,1,$J88)),\"\")","v":""},"","","","",{"$f":"IFERROR(INTERPRNG_h($F88,'STU Treatment Values'!$B$79:$K$101,0,1,$J88),\"\")","v":""},{"$f":"IFERROR(INTERPRNG_h($F88,'STU Treatment Values'!$B$54:$K$76,0,1,$J88),\"\")","v":""},"","",{"$f":"IFERROR(INTERPRNG_h($F88,'STU Treatment Values'!$B$104:$K$126,0,1,$J88),\"\")","v":""},""]
[null,{"$f":"IF(A89=\"\",\"\",VLOOKUP(A89,STU!$A$5:$G$300,7,0))","v":""},{"$f":"IF(A89=\"\",\"\",SUMIF(Catchment!$K$5:$K$300,A89,Catchment!$V$5:$V$300))","v":""},{"$f":"IF(A89=\"\",\"\",SUMIF(Catchment!$K$5:$K$300,A89,Catchment!$L$5:$L$300))","v":""},{"$f":"IF(A89=\"\",\"\",VLOOKUP(A89,'RIDOT STU History (inputs)'!$A$5:$K$300,11,0))","v":""},"",{"$f":"IF(A89=\"\",\"\",VLOOKUP(A89,'RIDOT STU History (inputs)'!$A$5:$K$79,10,0))","v":""},"","",{"$f":"IF(ISBLANK(B89),\"\",IF(ISBLANK(G89),\"\",RowFunc(B89,G89)))","v":0},{"$f":"IF(A89=\"\",\"\",SUMIF(Catchment!$K$5:$K$300,A89,Catchment!$X$5:$X$300))","v":""},{"$f":"IFERROR(IF(I89>=0.5,INTERPRNG_h($F89,'STU Treatment Values'!$B$5:$K$27,0,1,$J89),INTERPRNG_h($F89,'STU Treatment Values'!$B$29:$K$51,0,1,$J89)),\"\")","v":""},"",{"$f":"IF(A89=\"\",\"\",SUMIF(Catchment!$K$5:$K$300,A89,Catchment!$Y$5:$Y$300))","v":""},{"$f":"IFERROR(IF(I89>=0.5,INTERPRNG_h($F89,'STU Treatment Values'!$N$5:$W$27,0,1,$J89),INTERPRNG_h($F89,'STU Treatment Values'!$N$29:$W$51,0,1,$J89)),\"\")","v":""},"",{"$f":"IF(A89=\"\",\"\",SUMIF(Catchment!$K$5:$K$300,A89,Catchment!$Z$5:$Z$300))","v":""},{"$f":"IFERROR(IF(I89>=0.5,INTERPRNG_h($F89,'STU Treatment Values'!$Z$5:$AI$27,0,1,$J89),INTERPRNG_h($F89,'STU Treatment Values'!$Z$29:$AI$51,0,1,$J89)),\"\")","v":""},"",{"$f":"IF(A89=\"\",\"\",SUMIF(Catchment!$K$5:$K$300,A89,Catchment!$AA$5:$AA$300))","v":""},{"$f":"IFERROR(IF(I89>=0.5,INTERPRNG_h($F89,'STU Treatment Values'!$AL$5:$AU$27,0,1,$J89),INTERPRNG_h($F89,'STU Treatment Values'!$AL$29:$AU$51,0,1,$J89)),\"\")","v":""},"","","","",{"$f":"IFERROR(INTERPRNG_h($F89,'STU Treatment Values'!$B$79:$K$101,0,1,$J89),\"\")","v":""},{"$f":"IFERROR(INTERPRNG_h($F89,'STU Treatment Values'!$B$54:$K$76,0,1,$J89),\"\")","v":""},"","",{"$f":"IFERROR(INTERPRNG_h($F89,'STU Treatment Values'!$B$104:$K$126,0,1,$J89),\"\")","v":""},""]
[null,{"$f":"IF(A90=\"\",\"\",VLOOKUP(A90,STU!$A$5:$G$300,7,0))","v":""},{"$f":"IF(A90=\"\",\"\",SUMIF(Catchment!$K$5:$K$300,A90,Catchment!$V$5:$V$300))","v":""},{"$f":"IF(A90=\"\",\"\",SUMIF(Catchment!$K$5:$K$300,A90,Catchment!$L$5:$L$300))","v":""},{"$f":"IF(A90=\"\",\"\",VLOOKUP(A90,'RIDOT STU History (inputs)'!$A$5:$K$300,11,0))","v":""},"",{"$f":"IF(A90=\"\",\"\",VLOOKUP(A90,'RIDOT STU History (inputs)'!$A$5:$K$79,10,0))","v":""},"","",{"$f":"IF(ISBLANK(B90),\"\",IF(ISBLANK(G90),\"\",RowFunc(B90,G90)))","v":0},{"$f":"IF(A90=\"\",\"\",SUMIF(Catchment!$K$5:$K$300,A90,Catchment!$X$5:$X$300))","v":""},{"$f":"IFERROR(IF(I90>=0.5,INTERPRNG_h($F90,'STU Treatment Values'!$B$5:$K$27,0,1,$J90),INTERPRNG_h($F90,'STU Treatment Values'!$B$29:$K$51,0,1,$J90)),\"\")","v":""},"",{"$f":"IF(A90=\"\",\"\",SUMIF(Catchment!$K$5:$K$300,A90,Catchment!$Y$5:$Y$300))","v":""},{"$f":"IFERROR(IF(I90>=0.5,INTERPRNG_h($F90,'STU Treatment Values'!$N$5:$W$27,0,1,$J90),INTERPRNG_h($F90,'STU Treatment Values'!$N$29:$W$51,0,1,$J90)),\"\")","v":""},"",{"$f":"IF(A90=\"\",\"\",SUMIF(Catchment!$K$5:$K$300,A90,Catchment!$Z$5:$Z$300))","v":""},{"$f":"IFERROR(IF(I90>=0.5,INTERPRNG_h($F90,'STU Treatment Values'!$Z$5:$AI$27,0,1,$J90),INTERPRNG_h($F90,'STU Treatment Values'!$Z$29:$AI$51,0,1,$J90)),\"\")","v":""},"",{"$f":"IF(A90=\"\",\"\",SUMIF(Catchment!$K$5:$K$300,A90,Catchment!$AA$5:$AA$300))","v":""},{"$f":"IFERROR(IF(I90>=0.5,INTERPRNG_h($F90,'STU Treatment Values'!$AL$5:$AU$27,0,1,$J90),INTERPRNG_h($F90,'STU Treatment Values'!$AL$29:$AU$51,0,1,$J90)),\"\")","v":""},"","","","",{"$f":"IFERROR(INTERPRNG_h($F90,'STU Treatment Values'!$B$79:$K$101,0,1,$J90),\"\")","v":""},{"$f":"IFERROR(INTERPRNG_h($F90,'STU Treatment Values'!$B$54:$K$76,0,1,$J90),\"\")","v":""},"","",{"$f":"IFERROR(INTERPRNG_h($F90,'STU Treatment Values'!$B$104:$K$126,0,1,$J90),\"\")","v":""},""]
[null,{"$f":"IF(A91=\"\",\"\",VLOOKUP(A91,STU!$A$5:$G$300,7,0))","v":""},{"$f":"IF(A91=\"\",\"\",SUMIF(Catchment!$K$5:$K$300,A91,Catchment!$V$5:$V$300))","v":""},{"$f":"IF(A91=\"\",\"\",SUMIF(Catchment!$K$5:$K$300,A91,Catchment!$L$5:$L$300))","v":""},{"$f":"IF(A91=\"\",\"\",VLOOKUP(A91,'RIDOT STU History (inputs)'!$A$5:$K$300,11,0))","v":""},"",{"$f":"IF(A91=\"\",\"\",VLOOKUP(A91,'RIDOT STU History (inputs)'!$A$5:$K$79,10,0))","v":""},"","",{"$f":"IF(ISBLANK(B91),\"\",IF(ISBLANK(G91),\"\",RowFunc(B91,G91)))","v":0},{"$f":"IF(A91=\"\",\"\",SUMIF(Catchment!$K$5:$K$300,A91,Catchment!$X$5:$X$300))","v":""},{"$f":"IFERROR(IF(I91>=0.5,INTERPRNG_h($F91,'STU Treatment Values'!$B$5:$K$27,0,1,$J91),INTERPRNG_h($F91,'STU Treatment Values'!$B$29:$K$51,0,1,$J91)),\"\")","v":""},"",{"$f":"IF(A91=\"\",\"\",SUMIF(Catchment!$K$5:$K$300,A91,Catchment!$Y$5:$Y$300))","v":""},{"$f":"IFERROR(IF(I91>=0.5,INTERPRNG_h($F91,'STU Treatment Values'!$N$5:$W$27,0,1,$J91),INTERPRNG_h($F91,'STU Treatment Values'!$N$29:$W$51,0,1,$J91)),\"\")","v":""},"",{"$f":"IF(A91=\"\",\"\",SUMIF(Catchment!$K$5:$K$300,A91,Catchment!$Z$5:$Z$300))","v":""},{"$f":"IFERROR(IF(I91>=0.5,INTERPRNG_h($F91,'STU Treatment Values'!$Z$5:$AI$27,0,1,$J91),INTERPRNG_h($F91,'STU Treatment Values'!$Z$29:$AI$51,0,1,$J91)),\"\")","v":""},"",{"$f":"IF(A91=\"\",\"\",SUMIF(Catchment!$K$5:$K$300,A91,Catchment!$AA$5:$AA$300))","v":""},{"$f":"IFERROR(IF(I91>=0.5,INTERPRNG_h($F91,'STU Treatment Values'!$AL$5:$AU$27,0,1,$J91),INTERPRNG_h($F91,'STU Treatment Values'!$AL$29:$AU$51,0,1,$J91)),\"\")","v":""},"","","","",{"$f":"IFERROR(INTERPRNG_h($F91,'STU Treatment Values'!$B$79:$K$101,0,1,$J91),\"\")","v":""},{"$f":"IFERROR(INTERPRNG_h($F91,'STU Treatment Values'!$B$54:$K$76,0,1,$J91),\"\")","v":""},"","",{"$f":"IFERROR(INTERPRNG_h($F91,'STU Treatment Values'!$B$104:$K$126,0,1,$J91),\"\")","v":""},""]
[null,{"$f":"IF(A92=\"\",\"\",VLOOKUP(A92,STU!$A$5:$G$300,7,0))","v":""},{"$f":"IF(A92=\"\",\"\",SUMIF(Catchment!$K$5:$K$300,A92,Catchment!$V$5:$V$300))","v":""},{"$f":"IF(A92=\"\",\"\",SUMIF(Catchment!$K$5:$K$300,A92,Catchment!$L$5:$L$300))","v":""},{"$f":"IF(A92=\"\",\"\",VLOOKUP(A92,'RIDOT STU History (inputs)'!$A$5:$K$300,11,0))","v":""},"",{"$f":"IF(A92=\"\",\"\",VLOOKUP(A92,'RIDOT STU History (inputs)'!$A$5:$K$79,10,0))","v":""},"","",{"$f":"IF(ISBLANK(B92),\"\",IF(ISBLANK(G92),\"\",RowFunc(B92,G92)))","v":0},{"$f":"IF(A92=\"\",\"\",SUMIF(Catchment!$K$5:$K$300,A92,Catchment!$X$5:$X$300))","v":""},{"$f":"IFERROR(IF(I92>=0.5,INTERPRNG_h($F92,'STU Treatment Values'!$B$5:$K$27,0,1,$J92),INTERPRNG_h($F92,'STU Treatment Values'!$B$29:$K$51,0,1,$J92)),\"\")","v":""},"",{"$f":"IF(A92=\"\",\"\",SUMIF(Catchment!$K$5:$K$300,A92,Catchment!$Y$5:$Y$300))","v":""},{"$f":"IFERROR(IF(I92>=0.5,INTERPRNG_h($F92,'STU Treatment Values'!$N$5:$W$27,0,1,$J92),INTERPRNG_h($F92,'STU Treatment Values'!$N$29:$W$51,0,1,$J92)),\"\")","v":""},"",{"$f":"IF(A92=\"\",\"\",SUMIF(Catchment!$K$5:$K$300,A92,Catchment!$Z$5:$Z$300))","v":""},{"$f":"IFERROR(IF(I92>=0.5,INTERPRNG_h($F92,'STU Treatment Values'!$Z$5:$AI$27,0,1,$J92),INTERPRNG_h($F92,'STU Treatment Values'!$Z$29:$AI$51,0,1,$J92)),\"\")","v":""},"",{"$f":"IF(A92=\"\",\"\",SUMIF(Catchment!$K$5:$K$300,A92,Catchment!$AA$5:$AA$300))","v":""},{"$f":"IFERROR(IF(I92>=0.5,INTERPRNG_h($F92,'STU Treatment Values'!$AL$5:$AU$27,0,1,$J92),INTERPRNG_h($F92,'STU Treatment Values'!$AL$29:$AU$51,0,1,$J92)),\"\")","v":""},"","","","",{"$f":"IFERROR(INTERPRNG_h($F92,'STU Treatment Values'!$B$79:$K$101,0,1,$J92),\"\")","v":""},{"$f":"IFERROR(INTERPRNG_h($F92,'STU Treatment Values'!$B$54:$K$76,0,1,$J92),\"\")","v":""},"","",{"$f":"IFERROR(INTERPRNG_h($F92,'STU Treatment Values'!$B$104:$K$126,0,1,$J92),\"\")","v":""},""]
[null,{"$f":"IF(A93=\"\",\"\",VLOOKUP(A93,STU!$A$5:$G$300,7,0))","v":""},{"$f":"IF(A93=\"\",\"\",SUMIF(Catchment!$K$5:$K$300,A93,Catchment!$V$5:$V$300))","v":""},{"$f":"IF(A93=\"\",\"\",SUMIF(Catchment!$K$5:$K$300,A93,Catchment!$L$5:$L$300))","v":""},{"$f":"IF(A93=\"\",\"\",VLOOKUP(A93,'RIDOT STU History (inputs)'!$A$5:$K$300,11,0))","v":""},"",{"$f":"IF(A93=\"\",\"\",VLOOKUP(A93,'RIDOT STU History (inputs)'!$A$5:$K$79,10,0))","v":""},"","",{"$f":"IF(ISBLANK(B93),\"\",IF(ISBLANK(G93),\"\",RowFunc(B93,G93)))","v":0},{"$f":"IF(A93=\"\",\"\",SUMIF(Catchment!$K$5:$K$300,A93,Catchment!$X$5:$X$300))","v":""},{"$f":"IFERROR(IF(I93>=0.5,INTERPRNG_h($F93,'STU Treatment Values'!$B$5:$K$27,0,1,$J93),INTERPRNG_h($F93,'STU Treatment Values'!$B$29:$K$51,0,1,$J93)),\"\")","v":""},"",{"$f":"IF(A93=\"\",\"\",SUMIF(Catchment!$K$5:$K$300,A93,Catchment!$Y$5:$Y$300))","v":""},{"$f":"IFERROR(IF(I93>=0.5,INTERPRNG_h($F93,'STU Treatment Values'!$N$5:$W$27,0,1,$J93),INTERPRNG_h($F93,'STU Treatment Values'!$N$29:$W$51,0,1,$J93)),\"\")","v":""},"",{"$f":"IF(A93=\"\",\"\",SUMIF(Catchment!$K$5:$K$300,A93,Catchment!$Z$5:$Z$300))","v":""},{"$f":"IFERROR(IF(I93>=0.5,INTERPRNG_h($F93,'STU Treatment Values'!$Z$5:$AI$27,0,1,$J93),INTERPRNG_h($F93,'STU Treatment Values'!$Z$29:$AI$51,0,1,$J93)),\"\")","v":""},"",{"$f":"IF(A93=\"\",\"\",SUMIF(Catchment!$K$5:$K$300,A93,Catchment!$AA$5:$AA$300))","v":""},{"$f":"IFERROR(IF(I93>=0.5,INTERPRNG_h($F93,'STU Treatment Values'!$AL$5:$AU$27,0,1,$J93),INTERPRNG_h($F93,'STU Treatment Values'!$AL$29:$AU$51,0,1,$J93)),\"\")","v":""},"","","","",{"$f":"IFERROR(INTERPRNG_h($F93,'STU Treatment Values'!$B$79:$K$101,0,1,$J93),\"\")","v":""},{"$f":"IFERROR(INTERPRNG_h($F93,'STU Treatment Values'!$B$54:$K$76,0,1,$J93),\"\")","v":""},"","",{"$f":"IFERROR(INTERPRNG_h($F93,'STU Treatment Values'!$B$104:$K$126,0,1,$J93),\"\")","v":""},""]
[null,{"$f":"IF(A94=\"\",\"\",VLOOKUP(A94,STU!$A$5:$G$300,7,0))","v":""},{"$f":"IF(A94=\"\",\"\",SUMIF(Catchment!$K$5:$K$300,A94,Catchment!$V$5:$V$300))","v":""},{"$f":"IF(A94=\"\",\"\",SUMIF(Catchment!$K$5:$K$300,A94,Catchment!$L$5:$L$300))","v":""},{"$f":"IF(A94=\"\",\"\",VLOOKUP(A94,'RIDOT STU History (inputs)'!$A$5:$K$300,11,0))","v":""},"",{"$f":"IF(A94=\"\",\"\",VLOOKUP(A94,'RIDOT STU History (inputs)'!$A$5:$K$79,10,0))","v":""},"","",{"$f":"IF(ISBLANK(B94),\"\",IF(ISBLANK(G94),\"\",RowFunc(B94,G94)))","v":0},{"$f":"IF(A94=\"\",\"\",SUMIF(Catchment!$K$5:$K$300,A94,Catchment!$X$5:$X$300))","v":""},{"$f":"IFERROR(IF(I94>=0.5,INTERPRNG_h($F94,'STU Treatment Values'!$B$5:$K$27,0,1,$J94),INTERPRNG_h($F94,'STU Treatment Values'!$B$29:$K$51,0,1,$J94)),\"\")","v":""},"",{"$f":"IF(A94=\"\",\"\",SUMIF(Catchment!$K$5:$K$300,A94,Catchment!$Y$5:$Y$300))","v":""},{"$f":"IFERROR(IF(I94>=0.5,INTERPRNG_h($F94,'STU Treatment Values'!$N$5:$W$27,0,1,$J94),INTERPRNG_h($F94,'STU Treatment Values'!$N$29:$W$51,0,1,$J94)),\"\")","v":""},"",{"$f":"IF(A94=\"\",\"\",SUMIF(Catchment!$K$5:$K$300,A94,Catchment!$Z$5:$Z$300))","v":""},{"$f":"IFERROR(IF(I94>=0.5,INTERPRNG_h($F94,'STU Treatment Values'!$Z$5:$AI$27,0,1,$J94),INTERPRNG_h($F94,'STU Treatment Values'!$Z$29:$AI$51,0,1,$J94)),\"\")","v":""},"",{"$f":"IF(A94=\"\",\"\",SUMIF(Catchment!$K$5:$K$300,A94,Catchment!$AA$5:$AA$300))","v":""},{"$f":"IFERROR(IF(I94>=0.5,INTERPRNG_h($F94,'STU Treatment Values'!$AL$5:$AU$27,0,1,$J94),INTERPRNG_h($F94,'STU Treatment Values'!$AL$29:$AU$51,0,1,$J94)),\"\")","v":""},"","","","",{"$f":"IFERROR(INTERPRNG_h($F94,'STU Treatment Values'!$B$79:$K$101,0,1,$J94),\"\")","v":""},{"$f":"IFERROR(INTERPRNG_h($F94,'STU Treatment Values'!$B$54:$K$76,0,1,$J94),\"\")","v":""},"","",{"$f":"IFERROR(INTERPRNG_h($F94,'STU Treatment Values'!$B$104:$K$126,0,1,$J94),\"\")","v":""},""]
[null,{"$f":"IF(A95=\"\",\"\",VLOOKUP(A95,STU!$A$5:$G$300,7,0))","v":""},{"$f":"IF(A95=\"\",\"\",SUMIF(Catchment!$K$5:$K$300,A95,Catchment!$V$5:$V$300))","v":""},{"$f":"IF(A95=\"\",\"\",SUMIF(Catchment!$K$5:$K$300,A95,Catchment!$L$5:$L$300))","v":""},{"$f":"IF(A95=\"\",\"\",VLOOKUP(A95,'RIDOT STU History (inputs)'!$A$5:$K$300,11,0))","v":""},"",{"$f":"IF(A95=\"\",\"\",VLOOKUP(A95,'RIDOT STU History (inputs)'!$A$5:$K$79,10,0))","v":""},"","",{"$f":"IF(ISBLANK(B95),\"\",IF(ISBLANK(G95),\"\",RowFunc(B95,G95)))","v":0},{"$f":"IF(A95=\"\",\"\",SUMIF(Catchment!$K$5:$K$300,A95,Catchment!$X$5:$X$300))","v":""},{"$f":"IFERROR(IF(I95>=0.5,INTERPRNG_h($F95,'STU Treatment Values'!$B$5:$K$27,0,1,$J95),INTERPRNG_h($F95,'STU Treatment Values'!$B$29:$K$51,0,1,$J95)),\"\")","v":""},"",{"$f":"IF(A95=\"\",\"\",SUMIF(Catchment!$K$5:$K$300,A95,Catchment!$Y$5:$Y$300))","v":""},{"$f":"IFERROR(IF(I95>=0.5,INTERPRNG_h($F95,'STU Treatment Values'!$N$5:$W$27,0,1,$J95),INTERPRNG_h($F95,'STU Treatment Values'!$N$29:$W$51,0,1,$J95)),\"\")","v":""},"",{"$f":"IF(A95=\"\",\"\",SUMIF(Catchment!$K$5:$K$300,A95,Catchment!$Z$5:$Z$300))","v":""},{"$f":"IFERROR(IF(I95>=0.5,INTERPRNG_h($F95,'STU Treatment Values'!$Z$5:$AI$27,0,1,$J95),INTERPRNG_h($F95,'STU Treatment Values'!$Z$29:$AI$51,0,1,$J95)),\"\")","v":""},"",{"$f":"IF(A95=\"\",\"\",SUMIF(Catchment!$K$5:$K$300,A95,Catchment!$AA$5:$AA$300))","v":""},{"$f":"IFERROR(IF(I95>=0.5,INTERPRNG_h($F95,'STU Treatment Values'!$AL$5:$AU$27,0,1,$J95),INTERPRNG_h($F95,'STU Treatment Values'!$AL$29:$AU$51,0,1,$J95)),\"\")","v":""},"","","","",{"$f":"IFERROR(INTERPRNG_h($F95,'STU Treatment Values'!$B$79:$K$101,0,1,$J95),\"\")","v":""},{"$f":"IFERROR(INTERPRNG_h($F95,'STU Treatment Values'!$B$54:$K$76,0,1,$J95),\"\")","v":""},"","",{"$f":"IFERROR(INTERPRNG_h($F95,'STU Treatment Values'!$B$104:$K$126,0,1,$J95),\"\")","v":""},""]
[null,{"$f":"IF(A96=\"\",\"\",VLOOKUP(A96,STU!$A$5:$G$300,7,0))","v":""},{"$f":"IF(A96=\"\",\"\",SUMIF(Catchment!$K$5:$K$300,A96,Catchment!$V$5:$V$300))","v":""},{"$f":"IF(A96=\"\",\"\",SUMIF(Catchment!$K$5:$K$300,A96,Catchment!$L$5:$L$300))","v":""},{"$f":"IF(A96=\"\",\"\",VLOOKUP(A96,'RIDOT STU History (inputs)'!$A$5:$K$300,11,0))","v":""},"",{"$f":"IF(A96=\"\",\"\",VLOOKUP(A96,'RIDOT STU History (inputs)'!$A$5:$K$79,10,0))","v":""},"","",{"$f":"IF(ISBLANK(B96),\"\",IF(ISBLANK(G96),\"\",RowFunc(B96,G96)))","v":0},{"$f":"IF(A96=\"\",\"\",SUMIF(Catchment!$K$5:$K$300,A96,Catchment!$X$5:$X$300))","v":""},{"$f":"IFERROR(IF(I96>=0.5,INTERPRNG_h($F96,'STU Treatment Values'!$B$5:$K$27,0,1,$J96),INTERPRNG_h($F96,'STU Treatment Values'!$B$29:$K$51,0,1,$J96)),\"\")","v":""},"",{"$f":"IF(A96=\"\",\"\",SUMIF(Catchment!$K$5:$K$300,A96,Catchment!$Y$5:$Y$300))","v":""},{"$f":"IFERROR(IF(I96>=0.5,INTERPRNG_h($F96,'STU Treatment Values'!$N$5:$W$27,0,1,$J96),INTERPRNG_h($F96,'STU Treatment Values'!$N$29:$W$51,0,1,$J96)),\"\")","v":""},"",{"$f":"IF(A96=\"\",\"\",SUMIF(Catchment!$K$5:$K$300,A96,Catchment!$Z$5:$Z$300))","v":""},{"$f":"IFERROR(IF(I96>=0.5,INTERPRNG_h($F96,'STU Treatment Values'!$Z$5:$AI$27,0,1,$J96),INTERPRNG_h($F96,'STU Treatment Values'!$Z$29:$AI$51,0,1,$J96)),\"\")","v":""},"",{"$f":"IF(A96=\"\",\"\",SUMIF(Catchment!$K$5:$K$300,A96,Catchment!$AA$5:$AA$300))","v":""},{"$f":"IFERROR(IF(I96>=0.5,INTERPRNG_h($F96,'STU Treatment Values'!$AL$5:$AU$27,0,1,$J96),INTERPRNG_h($F96,'STU Treatment Values'!$AL$29:$AU$51,0,1,$J96)),\"\")","v":""},"","","","",{"$f":"IFERROR(INTERPRNG_h($F96,'STU Treatment Values'!$B$79:$K$101,0,1,$J96),\"\")","v":""},{"$f":"IFERROR(INTERPRNG_h($F96,'STU Treatment Values'!$B$54:$K$76,0,1,$J96),\"\")","v":""},"","",{"$f":"IFERROR(INTERPRNG_h($F96,'STU Treatment Values'!$B$104:$K$126,0,1,$J96),\"\")","v":""},""]
[null,{"$f":"IF(A97=\"\",\"\",VLOOKUP(A97,STU!$A$5:$G$300,7,0))","v":""},{"$f":"IF(A97=\"\",\"\",SUMIF(Catchment!$K$5:$K$300,A97,Catchment!$V$5:$V$300))","v":""},{"$f":"IF(A97=\"\",\"\",SUMIF(Catchment!$K$5:$K$300,A97,Catchment!$L$5:$L$300))","v":""},{"$f":"IF(A97=\"\",\"\",VLOOKUP(A97,'RIDOT STU History (inputs)'!$A$5:$K$300,11,0))","v":""},"",{"$f":"IF(A97=\"\",\"\",VLOOKUP(A97,'RIDOT STU History (inputs)'!$A$5:$K$79,10,0))","v":""},"","",{"$f":"IF(ISBLANK(B97),\"\",IF(ISBLANK(G97),\"\",RowFunc(B97,G97)))","v":0},{"$f":"IF(A97=\"\",\"\",SUMIF(Catchment!$K$5:$K$300,A97,Catchment!$X$5:$X$300))","v":""},{"$f":"IFERROR(IF(I97>=0.5,INTERPRNG_h($F97,'STU Treatment Values'!$B$5:$K$27,0,1,$J97),INTERPRNG_h($F97,'STU Treatment Values'!$B$29:$K$51,0,1,$J97)),\"\")","v":""},"",{"$f":"IF(A97=\"\",\"\",SUMIF(Catchment!$K$5:$K$300,A97,Catchment!$Y$5:$Y$300))","v":""},{"$f":"IFERROR(IF(I97>=0.5,INTERPRNG_h($F97,'STU Treatment Values'!$N$5:$W$27,0,1,$J97),INTERPRNG_h($F97,'STU Treatment Values'!$N$29:$W$51,0,1,$J97)),\"\")","v":""},"",{"$f":"IF(A97=\"\",\"\",SUMIF(Catchment!$K$5:$K$300,A97,Catchment!$Z$5:$Z$300))","v":""},{"$f":"IFERROR(IF(I97>=0.5,INTERPRNG_h($F97,'STU Treatment Values'!$Z$5:$AI$27,0,1,$J97),INTERPRNG_h($F97,'STU Treatment Values'!$Z$29:$AI$51,0,1,$J97)),\"\")","v":""},"",{"$f":"IF(A97=\"\",\"\",SUMIF(Catchment!$K$5:$K$300,A97,Catchment!$AA$5:$AA$300))","v":""},{"$f":"IFERROR(IF(I97>=0.5,INTERPRNG_h($F97,'STU Treatment Values'!$AL$5:$AU$27,0,1,$J97),INTERPRNG_h($F97,'STU Treatment Values'!$AL$29:$AU$51,0,1,$J97)),\"\")","v":""},"","","","",{"$f":"IFERROR(INTERPRNG_h($F97,'STU Treatment Values'!$B$79:$K$101,0,1,$J97),\"\")","v":""},{"$f":"IFERROR(INTERPRNG_h($F97,'STU Treatment Values'!$B$54:$K$76,0,1,$J97),\"\")","v":""},"","",{"$f":"IFERROR(INTERPRNG_h($F97,'STU Treatment Values'!$B$104:$K$126,0,1,$J97),\"\")","v":""},""]
[null,{"$f":"IF(A98=\"\",\"\",VLOOKUP(A98,STU!$A$5:$G$300,7,0))","v":""},{"$f":"IF(A98=\"\",\"\",SUMIF(Catchment!$K$5:$K$300,A98,Catchment!$V$5:$V$300))","v":""},{"$f":"IF(A98=\"\",\"\",SUMIF(Catchment!$K$5:$K$300,A98,Catchment!$L$5:$L$300))","v":""},{"$f":"IF(A98=\"\",\"\",VLOOKUP(A98,'RIDOT STU History (inputs)'!$A$5:$K$300,11,0))","v":""},"",{"$f":"IF(A98=\"\",\"\",VLOOKUP(A98,'RIDOT STU History (inputs)'!$A$5:$K$79,10,0))","v":""},"","",{"$f":"IF(ISBLANK(B98),\"\",IF(ISBLANK(G98),\"\",RowFunc(B98,G98)))","v":0},{"$f":"IF(A98=\"\",\"\",SUMIF(Catchment!$K$5:$K$300,A98,Catchment!$X$5:$X$300))","v":""},{"$f":"IFERROR(IF(I98>=0.5,INTERPRNG_h($F98,'STU Treatment Values'!$B$5:$K$27,0,1,$J98),INTERPRNG_h($F98,'STU Treatment Values'!$B$29:$K$51,0,1,$J98)),\"\")","v":""},"",{"$f":"IF(A98=\"\",\"\",SUMIF(Catchment!$K$5:$K$300,A98,Catchment!$Y$5:$Y$300))","v":""},{"$f":"IFERROR(IF(I98>=0.5,INTERPRNG_h($F98,'STU Treatment Values'!$N$5:$W$27,0,1,$J98),INTERPRNG_h($F98,'STU Treatment Values'!$N$29:$W$51,0,1,$J98)),\"\")","v":""},"",{"$f":"IF(A98=\"\",\"\",SUMIF(Catchment!$K$5:$K$300,A98,Catchment!$Z$5:$Z$300))","v":""},{"$f":"IFERROR(IF(I98>=0.5,INTERPRNG_h($F98,'STU Treatment Values'!$Z$5:$AI$27,0,1,$J98),INTERPRNG_h($F98,'STU Treatment Values'!$Z$29:$AI$51,0,1,$J98)),\"\")","v":""},"",{"$f":"IF(A98=\"\",\"\",SUMIF(Catchment!$K$5:$K$300,A98,Catchment!$AA$5:$AA$300))","v":""},{"$f":"IFERROR(IF(I98>=0.5,INTERPRNG_h($F98,'STU Treatment Values'!$AL$5:$AU$27,0,1,$J98),INTERPRNG_h($F98,'STU Treatment Values'!$AL$29:$AU$51,0,1,$J98)),\"\")","v":""},"","","","",{"$f":"IFERROR(INTERPRNG_h($F98,'STU Treatment Values'!$B$79:$K$101,0,1,$J98),\"\")","v":""},{"$f":"IFERROR(INTERPRNG_h($F98,'STU Treatment Values'!$B$54:$K$76,0,1,$J98),\"\")","v":""},"","",{"$f":"IFERROR(INTERPRNG_h($F98,'STU Treatment Values'!$B$104:$K$126,0,1,$J98),\"\")","v":""},""]
[null,{"$f":"IF(A99=\"\",\"\",VLOOKUP(A99,STU!$A$5:$G$300,7,0))","v":""},{"$f":"IF(A99=\"\",\"\",SUMIF(Catchment!$K$5:$K$300,A99,Catchment!$V$5:$V$300))","v":""},{"$f":"IF(A99=\"\",\"\",SUMIF(Catchment!$K$5:$K$300,A99,Catchment!$L$5:$L$300))","v":""},{"$f":"IF(A99=\"\",\"\",VLOOKUP(A99,'RIDOT STU History (inputs)'!$A$5:$K$300,11,0))","v":""},"",{"$f":"IF(A99=\"\",\"\",VLOOKUP(A99,'RIDOT STU History (inputs)'!$A$5:$K$79,10,0))","v":""},"","",{"$f":"IF(ISBLANK(B99),\"\",IF(ISBLANK(G99),\"\",RowFunc(B99,G99)))","v":0},{"$f":"IF(A99=\"\",\"\",SUMIF(Catchment!$K$5:$K$300,A99,Catchment!$X$5:$X$300))","v":""},{"$f":"IFERROR(IF(I99>=0.5,INTERPRNG_h($F99,'STU Treatment Values'!$B$5:$K$27,0,1,$J99),INTERPRNG_h($F99,'STU Treatment Values'!$B$29:$K$51,0,1,$J99)),\"\")","v":""},"",{"$f":"IF(A99=\"\",\"\",SUMIF(Catchment!$K$5:$K$300,A99,Catchment!$Y$5:$Y$300))","v":""},{"$f":"IFERROR(IF(I99>=0.5,INTERPRNG_h($F99,'STU Treatment Values'!$N$5:$W$27,0,1,$J99),INTERPRNG_h($F99,'STU Treatment Values'!$N$29:$W$51,0,1,$J99)),\"\")","v":""},"",{"$f":"IF(A99=\"\",\"\",SUMIF(Catchment!$K$5:$K$300,A99,Catchment!$Z$5:$Z$300))","v":""},{"$f":"IFERROR(IF(I99>=0.5,INTERPRNG_h($F99,'STU Treatment Values'!$Z$5:$AI$27,0,1,$J99),INTERPRNG_h($F99,'STU Treatment Values'!$Z$29:$AI$51,0,1,$J99)),\"\")","v":""},"",{"$f":"IF(A99=\"\",\"\",SUMIF(Catchment!$K$5:$K$300,A99,Catchment!$AA$5:$AA$300))","v":""},{"$f":"IFERROR(IF(I99>=0.5,INTERPRNG_h($F99,'STU Treatment Values'!$AL$5:$AU$27,0,1,$J99),INTERPRNG_h($F99,'STU Treatment Values'!$AL$29:$AU$51,0,1,$J99)),\"\")","v":""},"","","","",{"$f":"IFERROR(INTERPRNG_h($F99,'STU Treatment Values'!$B$79:$K$101,0,1,$J99),\"\")","v":""},{"$f":"IFERROR(INTERPRNG_h($F99,'STU Treatment Values'!$B$54:$K$76,0,1,$J99),\"\")","v":""},"","",{"$f":"IFERROR(INTERPRNG_h($F99,'STU Treatment Values'!$B$104:$K$126,0,1,$J99),\"\")","v":""},""]
[null,{"$f":"IF(A100=\"\",\"\",VLOOKUP(A100,STU!$A$5:$G$300,7,0))","v":""},{"$f":"IF(A100=\"\",\"\",SUMIF(Catchment!$K$5:$K$300,A100,Catchment!$V$5:$V$300))","v":""},{"$f":"IF(A100=\"\",\"\",SUMIF(Catchment!$K$5:$K$300,A100,Catchment!$L$5:$L$300))","v":""},{"$f":"IF(A100=\"\",\"\",VLOOKUP(A100,'RIDOT STU History (inputs)'!$A$5:$K$300,11,0))","v":""},"",{"$f":"IF(A100=\"\",\"\",VLOOKUP(A100,'RIDOT STU History (inputs)'!$A$5:$K$79,10,0))","v":""},"","",{"$f":"IF(ISBLANK(B100),\"\",IF(ISBLANK(G100),\"\",RowFunc(B100,G100)))","v":0},{"$f":"IF(A100=\"\",\"\",SUMIF(Catchment!$K$5:$K$300,A100,Catchment!$X$5:$X$300))","v":""},{"$f":"IFERROR(IF(I100>=0.5,INTERPRNG_h($F100,'STU Treatment Values'!$B$5:$K$27,0,1,$J100),INTERPRNG_h($F100,'STU Treatment Values'!$B$29:$K$51,0,1,$J100)),\"\")","v":""},"",{"$f":"IF(A100=\"\",\"\",SUMIF(Catchment!$K$5:$K$300,A100,Catchment!$Y$5:$Y$300))","v":""},{"$f":"IFERROR(IF(I100>=0.5,INTERPRNG_h($F100,'STU Treatment Values'!$N$5:$W$27,0,1,$J100),INTERPRNG_h($F100,'STU Treatment Values'!$N$29:$W$51,0,1,$J100)),\"\")","v":""},"",{"$f":"IF(A100=\"\",\"\",SUMIF(Catchment!$K$5:$K$300,A100,Catchment!$Z$5:$Z$300))","v":""},{"$f":"IFERROR(IF(I100>=0.5,INTERPRNG_h($F100,'STU Treatment Values'!$Z$5:$AI$27,0,1,$J100),INTERPRNG_h($F100,'STU Treatment Values'!$Z$29:$AI$51,0,1,$J100)),\"\")","v":""},"",{"$f":"IF(A100=\"\",\"\",SUMIF(Catchment!$K$5:$K$300,A100,Catchment!$AA$5:$AA$300))","v":""},{"$f":"IFERROR(IF(I100>=0.5,INTERPRNG_h($F100,'STU Treatment Values'!$AL$5:$AU$27,0,1,$J100),INTERPRNG_h($F100,'STU Treatment Values'!$AL$29:$AU$51,0,1,$J100)),\"\")","v":""},"","","","",{"$f":"IFERROR(INTERPRNG_h($F100,'STU Treatment Values'!$B$79:$K$101,0,1,$J100),\"\")","v":""},{"$f":"IFERROR(INTERPRNG_h($F100,'STU Treatment Values'!$B$54:$K$76,0,1,$J100),\"\")","v":""},"","",{"$f":"IFERROR(INTERPRNG_h($F100,'STU Treatment Values'!$B$104:$K$126,0,1,$J100),\"\")","v":""},""]
[null,{"$f":"IF(A101=\"\",\"\",VLOOKUP(A101,STU!$A$5:$G$300,7,0))","v":""},{"$f":"IF(A101=\"\",\"\",SUMIF(Catchment!$K$5:$K$300,A101,Catchment!$V$5:$V$300))","v":""},{"$f":"IF(A101=\"\",\"\",SUMIF(Catchment!$K$5:$K$300,A101,Catchment!$L$5:$L$300))","v":""},{"$f":"IF(A101=\"\",\"\",VLOOKUP(A101,'RIDOT STU History (inputs)'!$A$5:$K$300,11,0))","v":""},"",{"$f":"IF(A101=\"\",\"\",VLOOKUP(A101,'RIDOT STU History (inputs)'!$A$5:$K$79,10,0))","v":""},"","",{"$f":"IF(ISBLANK(B101),\"\",IF(ISBLANK(G101),\"\",RowFunc(B101,G101)))","v":0},{"$f":"IF(A101=\"\",\"\",SUMIF(Catchment!$K$5:$K$300,A101,Catchment!$X$5:$X$300))","v":""},{"$f":"IFERROR(IF(I101>=0.5,INTERPRNG_h($F101,'STU Treatment Values'!$B$5:$K$27,0,1,$J101),INTERPRNG_h($F101,'STU Treatment Values'!$B$29:$K$51,0,1,$J101)),\"\")","v":""},"",{"$f":"IF(A101=\"\",\"\",SUMIF(Catchment!$K$5:$K$300,A101,Catchment!$Y$5:$Y$300))","v":""},{"$f":"IFERROR(IF(I101>=0.5,INTERPRNG_h($F101,'STU Treatment Values'!$N$5:$W$27,0,1,$J101),INTERPRNG_h($F101,'STU Treatment Values'!$N$29:$W$51,0,1,$J101)),\"\")","v":""},"",{"$f":"IF(A101=\"\",\"\",SUMIF(Catchment!$K$5:$K$300,A101,Catchment!$Z$5:$Z$300))","v":""},{"$f":"IFERROR(IF(I101>=0.5,INTERPRNG_h($F101,'STU Treatment Values'!$Z$5:$AI$27,0,1,$J101),INTERPRNG_h($F101,'STU Treatment Values'!$Z$29:$AI$51,0,1,$J101)),\"\")","v":""},"",{"$f":"IF(A101=\"\",\"\",SUMIF(Catchment!$K$5:$K$300,A101,Catchment!$AA$5:$AA$300))","v":""},{"$f":"IFERROR(IF(I101>=0.5,INTERPRNG_h($F101,'STU Treatment Values'!$AL$5:$AU$27,0,1,$J101),INTERPRNG_h($F101,'STU Treatment Values'!$AL$29:$AU$51,0,1,$J101)),\"\")","v":""},"","","","",{"$f":"IFERROR(INTERPRNG_h($F101,'STU Treatment Values'!$B$79:$K$101,0,1,$J101),\"\")","v":""},{"$f":"IFERROR(INTERPRNG_h($F101,'STU Treatment Values'!$B$54:$K$76,0,1,$J101),\"\")","v":""},"","",{"$f":"IFERROR(INTERPRNG_h($F101,'STU Treatment Values'!$B$104:$K$126,0,1,$J101),\"\")","v":""},""]
[null,{"$f":"IF(A102=\"\",\"\",VLOOKUP(A102,STU!$A$5:$G$300,7,0))","v":""},{"$f":"IF(A102=\"\",\"\",SUMIF(Catchment!$K$5:$K$300,A102,Catchment!$V$5:$V$300))","v":""},{"$f":"IF(A102=\"\",\"\",SUMIF(Catchment!$K$5:$K$300,A102,Catchment!$L$5:$L$300))","v":""},{"$f":"IF(A102=\"\",\"\",VLOOKUP(A102,'RIDOT STU History (inputs)'!$A$5:$K$300,11,0))","v":""},"",{"$f":"IF(A102=\"\",\"\",VLOOKUP(A102,'RIDOT STU History (inputs)'!$A$5:$K$79,10,0))","v":""},"","",{"$f":"IF(ISBLANK(B102),\"\",IF(ISBLANK(G102),\"\",RowFunc(B102,G102)))","v":0},{"$f":"IF(A102=\"\",\"\",SUMIF(Catchment!$K$5:$K$300,A102,Catchment!$X$5:$X$300))","v":""},{"$f":"IFERROR(IF(I102>=0.5,INTERPRNG_h($F102,'STU Treatment Values'!$B$5:$K$27,0,1,$J102),INTERPRNG_h($F102,'STU Treatment Values'!$B$29:$K$51,0,1,$J102)),\"\")","v":""},"",{"$f":"IF(A102=\"\",\"\",SUMIF(Catchment!$K$5:$K$300,A102,Catchment!$Y$5:$Y$300))","v":""},{"$f":"IFERROR(IF(I102>=0.5,INTERPRNG_h($F102,'STU Treatment Values'!$N$5:$W$27,0,1,$J102),INTERPRNG_h($F102,'STU Treatment Values'!$N$29:$W$51,0,1,$J102)),\"\")","v":""},"",{"$f":"IF(A102=\"\",\"\",SUMIF(Catchment!$K$5:$K$300,A102,Catchment!$Z$5:$Z$300))","v":""},{"$f":"IFERROR(IF(I102>=0.5,INTERPRNG_h($F102,'STU Treatment Values'!$Z$5:$AI$27,0,1,$J102),INTERPRNG_h($F102,'STU Treatment Values'!$Z$29:$AI$51,0,1,$J102)),\"\")","v":""},"",{"$f":"IF(A102=\"\",\"\",SUMIF(Catchment!$K$5:$K$300,A102,Catchment!$AA$5:$AA$300))","v":""},{"$f":"IFERROR(IF(I102>=0.5,INTERPRNG_h($F102,'STU Treatment Values'!$AL$5:$AU$27,0,1,$J102),INTERPRNG_h($F102,'STU Treatment Values'!$AL$29:$AU$51,0,1,$J102)),\"\")","v":""},"","","","",{"$f":"IFERROR(INTERPRNG_h($F102,'STU Treatment Values'!$B$79:$K$101,0,1,$J102),\"\")","v":""},{"$f":"IFERROR(INTERPRNG_h($F102,'STU Treatment Values'!$B$54:$K$76,0,1,$J102),\"\")","v":""},"","",{"$f":"IFERROR(INTERPRNG_h($F102,'STU Treatment Values'!$B$104:$K$126,0,1,$J102),\"\")","v":""},""]
[null,{"$f":"IF(A103=\"\",\"\",VLOOKUP(A103,STU!$A$5:$G$300,7,0))","v":""},{"$f":"IF(A103=\"\",\"\",SUMIF(Catchment!$K$5:$K$300,A103,Catchment!$V$5:$V$300))","v":""},{"$f":"IF(A103=\"\",\"\",SUMIF(Catchment!$K$5:$K$300,A103,Catchment!$L$5:$L$300))","v":""},{"$f":"IF(A103=\"\",\"\",VLOOKUP(A103,'RIDOT STU History (inputs)'!$A$5:$K$300,11,0))","v":""},"",{"$f":"IF(A103=\"\",\"\",VLOOKUP(A103,'RIDOT STU History (inputs)'!$A$5:$K$79,10,0))","v":""},"","",{"$f":"IF(ISBLANK(B103),\"\",IF(ISBLANK(G103),\"\",RowFunc(B103,G103)))","v":0},{"$f":"IF(A103=\"\",\"\",SUMIF(Catchment!$K$5:$K$300,A103,Catchment!$X$5:$X$300))","v":""},{"$f":"IFERROR(IF(I103>=0.5,INTERPRNG_h($F103,'STU Treatment Values'!$B$5:$K$27,0,1,$J103),INTERPRNG_h($F103,'STU Treatment Values'!$B$29:$K$51,0,1,$J103)),\"\")","v":""},"",{"$f":"IF(A103=\"\",\"\",SUMIF(Catchment!$K$5:$K$300,A103,Catchment!$Y$5:$Y$300))","v":""},{"$f":"IFERROR(IF(I103>=0.5,INTERPRNG_h($F103,'STU Treatment Values'!$N$5:$W$27,0,1,$J103),INTERPRNG_h($F103,'STU Treatment Values'!$N$29:$W$51,0,1,$J103)),\"\")","v":""},"",{"$f":"IF(A103=\"\",\"\",SUMIF(Catchment!$K$5:$K$300,A103,Catchment!$Z$5:$Z$300))","v":""},{"$f":"IFERROR(IF(I103>=0.5,INTERPRNG_h($F103,'STU Treatment Values'!$Z$5:$AI$27,0,1,$J103),INTERPRNG_h($F103,'STU Treatment Values'!$Z$29:$AI$51,0,1,$J103)),\"\")","v":""},"",{"$f":"IF(A103=\"\",\"\",SUMIF(Catchment!$K$5:$K$300,A103,Catchment!$AA$5:$AA$300))","v":""},{"$f":"IFERROR(IF(I103>=0.5,INTERPRNG_h($F103,'STU Treatment Values'!$AL$5:$AU$27,0,1,$J103),INTERPRNG_h($F103,'STU Treatment Values'!$AL$29:$AU$51,0,1,$J103)),\"\")","v":""},"","","","",{"$f":"IFERROR(INTERPRNG_h($F103,'STU Treatment Values'!$B$79:$K$101,0,1,$J103),\"\")","v":""},{"$f":"IFERROR(INTERPRNG_h($F103,'STU Treatment Values'!$B$54:$K$76,0,1,$J103),\"\")","v":""},"","",{"$f":"IFERROR(INTERPRNG_h($F103,'STU Treatment Values'!$B$104:$K$126,0,1,$J103),\"\")","v":""},""]
[null,{"$f":"IF(A104=\"\",\"\",VLOOKUP(A104,STU!$A$5:$G$300,7,0))","v":""},{"$f":"IF(A104=\"\",\"\",SUMIF(Catchment!$K$5:$K$300,A104,Catchment!$V$5:$V$300))","v":""},{"$f":"IF(A104=\"\",\"\",SUMIF(Catchment!$K$5:$K$300,A104,Catchment!$L$5:$L$300))","v":""},{"$f":"IF(A104=\"\",\"\",VLOOKUP(A104,'RIDOT STU History (inputs)'!$A$5:$K$300,11,0))","v":""},"",{"$f":"IF(A104=\"\",\"\",VLOOKUP(A104,'RIDOT STU History (inputs)'!$A$5:$K$79,10,0))","v":""},"","",{"$f":"IF(ISBLANK(B104),\"\",IF(ISBLANK(G104),\"\",RowFunc(B104,G104)))","v":0},{"$f":"IF(A104=\"\",\"\",SUMIF(Catchment!$K$5:$K$300,A104,Catchment!$X$5:$X$300))","v":""},{"$f":"IFERROR(IF(I104>=0.5,INTERPRNG_h($F104,'STU Treatment Values'!$B$5:$K$27,0,1,$J104),INTERPRNG_h($F104,'STU Treatment Values'!$B$29:$K$51,0,1,$J104)),\"\")","v":""},"",{"$f":"IF(A104=\"\",\"\",SUMIF(Catchment!$K$5:$K$300,A104,Catchment!$Y$5:$Y$300))","v":""},{"$f":"IFERROR(IF(I104>=0.5,INTERPRNG_h($F104,'STU Treatment Values'!$N$5:$W$27,0,1,$J104),INTERPRNG_h($F104,'STU Treatment Values'!$N$29:$W$51,0,1,$J104)),\"\")","v":""},"",{"$f":"IF(A104=\"\",\"\",SUMIF(Catchment!$K$5:$K$300,A104,Catchment!$Z$5:$Z$300))","v":""},{"$f":"IFERROR(IF(I104>=0.5,INTERPRNG_h($F104,'STU Treatment Values'!$Z$5:$AI$27,0,1,$J104),INTERPRNG_h($F104,'STU Treatment Values'!$Z$29:$AI$51,0,1,$J104)),\"\")","v":""},"",{"$f":"IF(A104=\"\",\"\",SUMIF(Catchment!$K$5:$K$300,A104,Catchment!$AA$5:$AA$300))","v":""},{"$f":"IFERROR(IF(I104>=0.5,INTERPRNG_h($F104,'STU Treatment Values'!$AL$5:$AU$27,0,1,$J104),INTERPRNG_h($F104,'STU Treatment Values'!$AL$29:$AU$51,0,1,$J104)),\"\")","v":""},"","","","",{"$f":"IFERROR(INTERPRNG_h($F104,'STU Treatment Values'!$B$79:$K$101,0,1,$J104),\"\")","v":""},{"$f":"IFERROR(INTERPRNG_h($F104,'STU Treatment Values'!$B$54:$K$76,0,1,$J104),\"\")","v":""},"","",{"$f":"IFERROR(INTERPRNG_h($F104,'STU Treatment Values'!$B$104:$K$126,0,1,$J104),\"\")","v":""},""]
[null,{"$f":"IF(A105=\"\",\"\",VLOOKUP(A105,STU!$A$5:$G$300,7,0))","v":""},{"$f":"IF(A105=\"\",\"\",SUMIF(Catchment!$K$5:$K$300,A105,Catchment!$V$5:$V$300))","v":""},{"$f":"IF(A105=\"\",\"\",SUMIF(Catchment!$K$5:$K$300,A105,Catchment!$L$5:$L$300))","v":""},{"$f":"IF(A105=\"\",\"\",VLOOKUP(A105,'RIDOT STU History (inputs)'!$A$5:$K$300,11,0))","v":""},"",{"$f":"IF(A105=\"\",\"\",VLOOKUP(A105,'RIDOT STU History (inputs)'!$A$5:$K$79,10,0))","v":""},"","",{"$f":"IF(ISBLANK(B105),\"\",IF(ISBLANK(G105),\"\",RowFunc(B105,G105)))","v":0},{"$f":"IF(A105=\"\",\"\",SUMIF(Catchment!$K$5:$K$300,A105,Catchment!$X$5:$X$300))","v":""},{"$f":"IFERROR(IF(I105>=0.5,INTERPRNG_h($F105,'STU Treatment Values'!$B$5:$K$27,0,1,$J105),INTERPRNG_h($F105,'STU Treatment Values'!$B$29:$K$51,0,1,$J105)),\"\")","v":""},"",{"$f":"IF(A105=\"\",\"\",SUMIF(Catchment!$K$5:$K$300,A105,Catchment!$Y$5:$Y$300))","v":""},{"$f":"IFERROR(IF(I105>=0.5,INTERPRNG_h($F105,'STU Treatment Values'!$N$5:$W$27,0,1,$J105),INTERPRNG_h($F105,'STU Treatment Values'!$N$29:$W$51,0,1,$J105)),\"\")","v":""},"",{"$f":"IF(A105=\"\",\"\",SUMIF(Catchment!$K$5:$K$300,A105,Catchment!$Z$5:$Z$300))","v":""},{"$f":"IFERROR(IF(I105>=0.5,INTERPRNG_h($F105,'STU Treatment Values'!$Z$5:$AI$27,0,1,$J105),INTERPRNG_h($F105,'STU Treatment Values'!$Z$29:$AI$51,0,1,$J105)),\"\")","v":""},"",{"$f":"IF(A105=\"\",\"\",SUMIF(Catchment!$K$5:$K$300,A105,Catchment!$AA$5:$AA$300))","v":""},{"$f":"IFERROR(IF(I105>=0.5,INTERPRNG_h($F105,'STU Treatment Values'!$AL$5:$AU$27,0,1,$J105),INTERPRNG_h($F105,'STU Treatment Values'!$AL$29:$AU$51,0,1,$J105)),\"\")","v":""},"","","","",{"$f":"IFERROR(INTERPRNG_h($F105,'STU Treatment Values'!$B$79:$K$101,0,1,$J105),\"\")","v":""},{"$f":"IFERROR(INTERPRNG_h($F105,'STU Treatment Values'!$B$54:$K$76,0,1,$J105),\"\")","v":""},"","",{"$f":"IFERROR(INTERPRNG_h($F105,'STU Treatment Values'!$B$104:$K$126,0,1,$J105),\"\")","v":""},""]
[null,{"$f":"IF(A106=\"\",\"\",VLOOKUP(A106,STU!$A$5:$G$300,7,0))","v":""},{"$f":"IF(A106=\"\",\"\",SUMIF(Catchment!$K$5:$K$300,A106,Catchment!$V$5:$V$300))","v":""},{"$f":"IF(A106=\"\",\"\",SUMIF(Catchment!$K$5:$K$300,A106,Catchment!$L$5:$L$300))","v":""},{"$f":"IF(A106=\"\",\"\",VLOOKUP(A106,'RIDOT STU History (inputs)'!$A$5:$K$300,11,0))","v":""},"",{"$f":"IF(A106=\"\",\"\",VLOOKUP(A106,'RIDOT STU History (inputs)'!$A$5:$K$79,10,0))","v":""},"","",{"$f":"IF(ISBLANK(B106),\"\",IF(ISBLANK(G106),\"\",RowFunc(B106,G106)))","v":0},{"$f":"IF(A106=\"\",\"\",SUMIF(Catchment!$K$5:$K$300,A106,Catchment!$X$5:$X$300))","v":""},{"$f":"IFERROR(IF(I106>=0.5,INTERPRNG_h($F106,'STU Treatment Values'!$B$5:$K$27,0,1,$J106),INTERPRNG_h($F106,'STU Treatment Values'!$B$29:$K$51,0,1,$J106)),\"\")","v":""},"",{"$f":"IF(A106=\"\",\"\",SUMIF(Catchment!$K$5:$K$300,A106,Catchment!$Y$5:$Y$300))","v":""},{"$f":"IFERROR(IF(I106>=0.5,INTERPRNG_h($F106,'STU Treatment Values'!$N$5:$W$27,0,1,$J106),INTERPRNG_h($F106,'STU Treatment Values'!$N$29:$W$51,0,1,$J106)),\"\")","v":""},"",{"$f":"IF(A106=\"\",\"\",SUMIF(Catchment!$K$5:$K$300,A106,Catchment!$Z$5:$Z$300))","v":""},{"$f":"IFERROR(IF(I106>=0.5,INTERPRNG_h($F106,'STU Treatment Values'!$Z$5:$AI$27,0,1,$J106),INTERPRNG_h($F106,'STU Treatment Values'!$Z$29:$AI$51,0,1,$J106)),\"\")","v":""},"",{"$f":"IF(A106=\"\",\"\",SUMIF(Catchment!$K$5:$K$300,A106,Catchment!$AA$5:$AA$300))","v":""},{"$f":"IFERROR(IF(I106>=0.5,INTERPRNG_h($F106,'STU Treatment Values'!$AL$5:$AU$27,0,1,$J106),INTERPRNG_h($F106,'STU Treatment Values'!$AL$29:$AU$51,0,1,$J106)),\"\")","v":""},"","","","",{"$f":"IFERROR(INTERPRNG_h($F106,'STU Treatment Values'!$B$79:$K$101,0,1,$J106),\"\")","v":""},{"$f":"IFERROR(INTERPRNG_h($F106,'STU Treatment Values'!$B$54:$K$76,0,1,$J106),\"\")","v":""},"","",{"$f":"IFERROR(INTERPRNG_h($F106,'STU Treatment Values'!$B$104:$K$126,0,1,$J106),\"\")","v":""},""]
[null,{"$f":"IF(A107=\"\",\"\",VLOOKUP(A107,STU!$A$5:$G$300,7,0))","v":""},{"$f":"IF(A107=\"\",\"\",SUMIF(Catchment!$K$5:$K$300,A107,Catchment!$V$5:$V$300))","v":""},{"$f":"IF(A107=\"\",\"\",SUMIF(Catchment!$K$5:$K$300,A107,Catchment!$L$5:$L$300))","v":""},{"$f":"IF(A107=\"\",\"\",VLOOKUP(A107,'RIDOT STU History (inputs)'!$A$5:$K$300,11,0))","v":""},"",{"$f":"IF(A107=\"\",\"\",VLOOKUP(A107,'RIDOT STU History (inputs)'!$A$5:$K$79,10,0))","v":""},"","",{"$f":"IF(ISBLANK(B107),\"\",IF(ISBLANK(G107),\"\",RowFunc(B107,G107)))","v":0},{"$f":"IF(A107=\"\",\"\",SUMIF(Catchment!$K$5:$K$300,A107,Catchment!$X$5:$X$300))","v":""},{"$f":"IFERROR(IF(I107>=0.5,INTERPRNG_h($F107,'STU Treatment Values'!$B$5:$K$27,0,1,$J107),INTERPRNG_h($F107,'STU Treatment Values'!$B$29:$K$51,0,1,$J107)),\"\")","v":""},"",{"$f":"IF(A107=\"\",\"\",SUMIF(Catchment!$K$5:$K$300,A107,Catchment!$Y$5:$Y$300))","v":""},{"$f":"IFERROR(IF(I107>=0.5,INTERPRNG_h($F107,'STU Treatment Values'!$N$5:$W$27,0,1,$J107),INTERPRNG_h($F107,'STU Treatment Values'!$N$29:$W$51,0,1,$J107)),\"\")","v":""},"",{"$f":"IF(A107=\"\",\"\",SUMIF(Catchment!$K$5:$K$300,A107,Catchment!$Z$5:$Z$300))","v":""},{"$f":"IFERROR(IF(I107>=0.5,INTERPRNG_h($F107,'STU Treatment Values'!$Z$5:$AI$27,0,1,$J107),INTERPRNG_h($F107,'STU Treatment Values'!$Z$29:$AI$51,0,1,$J107)),\"\")","v":""},"",{"$f":"IF(A107=\"\",\"\",SUMIF(Catchment!$K$5:$K$300,A107,Catchment!$AA$5:$AA$300))","v":""},{"$f":"IFERROR(IF(I107>=0.5,INTERPRNG_h($F107,'STU Treatment Values'!$AL$5:$AU$27,0,1,$J107),INTERPRNG_h($F107,'STU Treatment Values'!$AL$29:$AU$51,0,1,$J107)),\"\")","v":""},"","","","",{"$f":"IFERROR(INTERPRNG_h($F107,'STU Treatment Values'!$B$79:$K$101,0,1,$J107),\"\")","v":""},{"$f":"IFERROR(INTERPRNG_h($F107,'STU Treatment Values'!$B$54:$K$76,0,1,$J107),\"\")","v":""},"","",{"$f":"IFERROR(INTERPRNG_h($F107,'STU Treatment Values'!$B$104:$K$126,0,1,$J107),\"\")","v":""},""]
[null,{"$f":"IF(A108=\"\",\"\",VLOOKUP(A108,STU!$A$5:$G$300,7,0))","v":""},{"$f":"IF(A108=\"\",\"\",SUMIF(Catchment!$K$5:$K$300,A108,Catchment!$V$5:$V$300))","v":""},{"$f":"IF(A108=\"\",\"\",SUMIF(Catchment!$K$5:$K$300,A108,Catchment!$L$5:$L$300))","v":""},{"$f":"IF(A108=\"\",\"\",VLOOKUP(A108,'RIDOT STU History (inputs)'!$A$5:$K$300,11,0))","v":""},"",{"$f":"IF(A108=\"\",\"\",VLOOKUP(A108,'RIDOT STU History (inputs)'!$A$5:$K$79,10,0))","v":""},"",{"$f":"IF(A108=\"\",\"\",D108/C108)","v":""},{"$f":"IF(ISBLANK(B108),\"\",IF(ISBLANK(G108),\"\",RowFunc(B108,G108)))","v":0},{"$f":"IF(A108=\"\",\"\",SUMIF(Catchment!$K$5:$K$300,A108,Catchment!$X$5:$X$300))","v":""},{"$f":"IFERROR(IF(I108>=0.5,INTERPRNG_h($F108,'STU Treatment Values'!$B$5:$K$27,0,1,$J108),INTERPRNG_h($F108,'STU Treatment Values'!$B$29:$K$51,0,1,$J108)),\"\")","v":""},{"$f":"IF(B108=\"Limited ROW\",L108*K108*0.1,IFERROR(L108*K108,\"\"))","v":""},{"$f":"IF(A108=\"\",\"\",SUMIF(Catchment!$K$5:$K$300,A108,Catchment!$Y$5:$Y$300))","v":""},{"$f":"IFERROR(IF(I108>=0.5,INTERPRNG_h($F108,'STU Treatment Values'!$N$5:$W$27,0,1,$J108),INTERPRNG_h($F108,'STU Treatment Values'!$N$29:$W$51,0,1,$J108)),\"\")","v":""},{"$f":"IF(B108=\"Limited ROW\",O108*N108*0.1,IFERROR(N108*O108,\"\"))","v":""},{"$f":"IF(A108=\"\",\"\",SUMIF(Catchment!$K$5:$K$300,A108,Catchment!$Z$5:$Z$300))","v":""},{"$f":"IFERROR(IF(I108>=0.5,INTERPRNG_h($F108,'STU Treatment Values'!$Z$5:$AI$27,0,1,$J108),INTERPRNG_h($F108,'STU Treatment Values'!$Z$29:$AI$51,0,1,$J108)),\"\")","v":""},{"$f":"IF(B108=\"Limited ROW\",R108*Q108*0.1,IFERROR(Q108*R108,\"\"))","v":""},{"$f":"IF(A108=\"\",\"\",SUMIF(Catchment!$K$5:$K$300,A108,Catchment!$AA$5:$AA$300))","v":""},{"$f":"IFERROR(IF(I108>=0.5,INTERPRNG_h($F108,'STU Treatment Values'!$AL$5:$AU$27,0,1,$J108),INTERPRNG_h($F108,'STU Treatment Values'!$AL$29:$AU$51,0,1,$J108)),\"\")","v":""},"","","","",{"$f":"IFERROR(INTERPRNG_h($F108,'STU Treatment Values'!$B$79:$K$101,0,1,$J108),\"\")","v":""},{"$f":"IFERROR(INTERPRNG_h($F108,'STU Treatment Values'!$B$54:$K$76,0,1,$J108),\"\")","v":""},"","",{"$f":"IFERROR(INTERPRNG_h($F108,'STU Treatment Values'!$B$104:$K$126,0,1,$J108),\"\")","v":""},""]
[null,{"$f":"IF(A109=\"\",\"\",VLOOKUP(A109,STU!$A$5:$G$300,7,0))","v":""},{"$f":"IF(A109=\"\",\"\",SUMIF(Catchment!$K$5:$K$300,A109,Catchment!$V$5:$V$300))","v":""},{"$f":"IF(A109=\"\",\"\",SUMIF(Catchment!$K$5:$K$300,A109,Catchment!$L$5:$L$300))","v":""},{"$f":"IF(A109=\"\",\"\",VLOOKUP(A109,'RIDOT STU History (inputs)'!$A$5:$K$300,11,0))","v":""},"",{"$f":"IF(A109=\"\",\"\",VLOOKUP(A109,'RIDOT STU History (inputs)'!$A$5:$K$79,10,0))","v":""},"","",{"$f":"IF(ISBLANK(B109),\"\",IF(ISBLANK(G109),\"\",RowFunc(B109,G109)))","v":0},{"$f":"IF(A109=\"\",\"\",SUMIF(Catchment!$K$5:$K$300,A109,Catchment!$X$5:$X$300))","v":""},{"$f":"IFERROR(IF(I109>=0.5,INTERPRNG_h($F109,'STU Treatment Values'!$B$5:$K$27,0,1,$J109),INTERPRNG_h($F109,'STU Treatment Values'!$B$29:$K$51,0,1,$J109)),\"\")","v":""},"",{"$f":"IF(A109=\"\",\"\",SUMIF(Catchment!$K$5:$K$300,A109,Catchment!$Y$5:$Y$300))","v":""},{"$f":"IFERROR(IF(I109>=0.5,INTERPRNG_h($F109,'STU Treatment Values'!$N$5:$W$27,0,1,$J109),INTERPRNG_h($F109,'STU Treatment Values'!$N$29:$W$51,0,1,$J109)),\"\")","v":""},"",{"$f":"IF(A109=\"\",\"\",SUMIF(Catchment!$K$5:$K$300,A109,Catchment!$Z$5:$Z$300))","v":""},{"$f":"IFERROR(IF(I109>=0.5,INTERPRNG_h($F109,'STU Treatment Values'!$Z$5:$AI$27,0,1,$J109),INTERPRNG_h($F109,'STU Treatment Values'!$Z$29:$AI$51,0,1,$J109)),\"\")","v":""},"",{"$f":"IF(A109=\"\",\"\",SUMIF(Catchment!$K$5:$K$300,A109,Catchment!$AA$5:$AA$300))","v":""},{"$f":"IFERROR(IF(I109>=0.5,INTERPRNG_h($F109,'STU Treatment Values'!$AL$5:$AU$27,0,1,$J109),INTERPRNG_h($F109,'STU Treatment Values'!$AL$29:$AU$51,0,1,$J109)),\"\")","v":""},"","","","",{"$f":"IFERROR(INTERPRNG_h($F109,'STU Treatment Values'!$B$79:$K$101,0,1,$J109),\"\")","v":""},{"$f":"IFERROR(INTERPRNG_h($F109,'STU Treatment Values'!$B$54:$K$76,0,1,$J109),\"\")","v":""},"","",{"$f":"IFERROR(INTERPRNG_h($F109,'STU Treatment Values'!$B$104:$K$126,0,1,$J109),\"\")","v":""},""]
[null,{"$f":"IF(A110=\"\",\"\",VLOOKUP(A110,STU!$A$5:$G$300,7,0))","v":""},{"$f":"IF(A110=\"\",\"\",SUMIF(Catchment!$K$5:$K$300,A110,Catchment!$V$5:$V$300))","v":""},{"$f":"IF(A110=\"\",\"\",SUMIF(Catchment!$K$5:$K$300,A110,Catchment!$L$5:$L$300))","v":""},{"$f":"IF(A110=\"\",\"\",VLOOKUP(A110,'RIDOT STU History (inputs)'!$A$5:$K$300,11,0))","v":""},"",{"$f":"IF(A110=\"\",\"\",VLOOKUP(A110,'RIDOT STU History (inputs)'!$A$5:$K$79,10,0))","v":""},"","",{"$f":"IF(ISBLANK(B110),\"\",IF(ISBLANK(G110),\"\",RowFunc(B110,G110)))","v":0},{"$f":"IF(A110=\"\",\"\",SUMIF(Catchment!$K$5:$K$300,A110,Catchment!$X$5:$X$300))","v":""},{"$f":"IFERROR(IF(I110>=0.5,INTERPRNG_h($F110,'STU Treatment Values'!$B$5:$K$27,0,1,$J110),INTERPRNG_h($F110,'STU Treatment Values'!$B$29:$K$51,0,1,$J110)),\"\")","v":""},"",{"$f":"IF(A110=\"\",\"\",SUMIF(Catchment!$K$5:$K$300,A110,Catchment!$Y$5:$Y$300))","v":""},{"$f":"IFERROR(IF(I110>=0.5,INTERPRNG_h($F110,'STU Treatment Values'!$N$5:$W$27,0,1,$J110),INTERPRNG_h($F110,'STU Treatment Values'!$N$29:$W$51,0,1,$J110)),\"\")","v":""},"",{"$f":"IF(A110=\"\",\"\",SUMIF(Catchment!$K$5:$K$300,A110,Catchment!$Z$5:$Z$300))","v":""},{"$f":"IFERROR(IF(I110>=0.5,INTERPRNG_h($F110,'STU Treatment Values'!$Z$5:$AI$27,0,1,$J110),INTERPRNG_h($F110,'STU Treatment Values'!$Z$29:$AI$51,0,1,$J110)),\"\")","v":""},"",{"$f":"IF(A110=\"\",\"\",SUMIF(Catchment!$K$5:$K$300,A110,Catchment!$AA$5:$AA$300))","v":""},{"$f":"IFERROR(IF(I110>=0.5,INTERPRNG_h($F110,'STU Treatment Values'!$AL$5:$AU$27,0,1,$J110),INTERPRNG_h($F110,'STU Treatment Values'!$AL$29:$AU$51,0,1,$J110)),\"\")","v":""},"","","","",{"$f":"IFERROR(INTERPRNG_h($F110,'STU Treatment Values'!$B$79:$K$101,0,1,$J110),\"\")","v":""},{"$f":"IFERROR(INTERPRNG_h($F110,'STU Treatment Values'!$B$54:$K$76,0,1,$J110),\"\")","v":""},"","",{"$f":"IFERROR(INTERPRNG_h($F110,'STU Treatment Values'!$B$104:$K$126,0,1,$J110),\"\")","v":""},""]
[null,{"$f":"IF(A111=\"\",\"\",VLOOKUP(A111,STU!$A$5:$G$300,7,0))","v":""},{"$f":"IF(A111=\"\",\"\",SUMIF(Catchment!$K$5:$K$300,A111,Catchment!$V$5:$V$300))","v":""},{"$f":"IF(A111=\"\",\"\",SUMIF(Catchment!$K$5:$K$300,A111,Catchment!$L$5:$L$300))","v":""},{"$f":"IF(A111=\"\",\"\",VLOOKUP(A111,'RIDOT STU History (inputs)'!$A$5:$K$300,11,0))","v":""},"",{"$f":"IF(A111=\"\",\"\",VLOOKUP(A111,'RIDOT STU History (inputs)'!$A$5:$K$79,10,0))","v":""},"","",{"$f":"IF(ISBLANK(B111),\"\",IF(ISBLANK(G111),\"\",RowFunc(B111,G111)))","v":0},{"$f":"IF(A111=\"\",\"\",SUMIF(Catchment!$K$5:$K$300,A111,Catchment!$X$5:$X$300))","v":""},{"$f":"IFERROR(IF(I111>=0.5,INTERPRNG_h($F111,'STU Treatment Values'!$B$5:$K$27,0,1,$J111),INTERPRNG_h($F111,'STU Treatment Values'!$B$29:$K$51,0,1,$J111)),\"\")","v":""},"",{"$f":"IF(A111=\"\",\"\",SUMIF(Catchment!$K$5:$K$300,A111,Catchment!$Y$5:$Y$300))","v":""},{"$f":"IFERROR(IF(I111>=0.5,INTERPRNG_h($F111,'STU Treatment Values'!$N$5:$W$27,0,1,$J111),INTERPRNG_h($F111,'STU Treatment Values'!$N$29:$W$51,0,1,$J111)),\"\")","v":""},"",{"$f":"IF(A111=\"\",\"\",SUMIF(Catchment!$K$5:$K$300,A111,Catchment!$Z$5:$Z$300))","v":""},{"$f":"IFERROR(IF(I111>=0.5,INTERPRNG_h($F111,'STU Treatment Values'!$Z$5:$AI$27,0,1,$J111),INTERPRNG_h($F111,'STU Treatment Values'!$Z$29:$AI$51,0,1,$J111)),\"\")","v":""},"",{"$f":"IF(A111=\"\",\"\",SUMIF(Catchment!$K$5:$K$300,A111,Catchment!$AA$5:$AA$300))","v":""},{"$f":"IFERROR(IF(I111>=0.5,INTERPRNG_h($F111,'STU Treatment Values'!$AL$5:$AU$27,0,1,$J111),INTERPRNG_h($F111,'STU Treatment Values'!$AL$29:$AU$51,0,1,$J111)),\"\")","v":""},"","","","",{"$f":"IFERROR(INTERPRNG_h($F111,'STU Treatment Values'!$B$79:$K$101,0,1,$J111),\"\")","v":""},{"$f":"IFERROR(INTERPRNG_h($F111,'STU Treatment Values'!$B$54:$K$76,0,1,$J111),\"\")","v":""},"","",{"$f":"IFERROR(INTERPRNG_h($F111,'STU Treatment Values'!$B$104:$K$126,0,1,$J111),\"\")","v":""},""]
[null,{"$f":"IF(A112=\"\",\"\",VLOOKUP(A112,STU!$A$5:$G$300,7,0))","v":""},{"$f":"IF(A112=\"\",\"\",SUMIF(Catchment!$K$5:$K$300,A112,Catchment!$V$5:$V$300))","v":""},{"$f":"IF(A112=\"\",\"\",SUMIF(Catchment!$K$5:$K$300,A112,Catchment!$L$5:$L$300))","v":""},{"$f":"IF(A112=\"\",\"\",VLOOKUP(A112,'RIDOT STU History (inputs)'!$A$5:$K$300,11,0))","v":""},"",{"$f":"IF(A112=\"\",\"\",VLOOKUP(A112,'RIDOT STU History (inputs)'!$A$5:$K$79,10,0))","v":""},"","",{"$f":"IF(ISBLANK(B112),\"\",IF(ISBLANK(G112),\"\",RowFunc(B112,G112)))","v":0},{"$f":"IF(A112=\"\",\"\",SUMIF(Catchment!$K$5:$K$300,A112,Catchment!$X$5:$X$300))","v":""},{"$f":"IFERROR(IF(I112>=0.5,INTERPRNG_h($F112,'STU Treatment Values'!$B$5:$K$27,0,1,$J112),INTERPRNG_h($F112,'STU Treatment Values'!$B$29:$K$51,0,1,$J112)),\"\")","v":""},"",{"$f":"IF(A112=\"\",\"\",SUMIF(Catchment!$K$5:$K$300,A112,Catchment!$Y$5:$Y$300))","v":""},{"$f":"IFERROR(IF(I112>=0.5,INTERPRNG_h($F112,'STU Treatment Values'!$N$5:$W$27,0,1,$J112),INTERPRNG_h($F112,'STU Treatment Values'!$N$29:$W$51,0,1,$J112)),\"\")","v":""},"",{"$f":"IF(A112=\"\",\"\",SUMIF(Catchment!$K$5:$K$300,A112,Catchment!$Z$5:$Z$300))","v":""},{"$f":"IFERROR(IF(I112>=0.5,INTERPRNG_h($F112,'STU Treatment Values'!$Z$5:$AI$27,0,1,$J112),INTERPRNG_h($F112,'STU Treatment Values'!$Z$29:$AI$51,0,1,$J112)),\"\")","v":""},"",{"$f":"IF(A112=\"\",\"\",SUMIF(Catchment!$K$5:$K$300,A112,Catchment!$AA$5:$AA$300))","v":""},{"$f":"IFERROR(IF(I112>=0.5,INTERPRNG_h($F112,'STU Treatment Values'!$AL$5:$AU$27,0,1,$J112),INTERPRNG_h($F112,'STU Treatment Values'!$AL$29:$AU$51,0,1,$J112)),\"\")","v":""},"","","","",{"$f":"IFERROR(INTERPRNG_h($F112,'STU Treatment Values'!$B$79:$K$101,0,1,$J112),\"\")","v":""},{"$f":"IFERROR(INTERPRNG_h($F112,'STU Treatment Values'!$B$54:$K$76,0,1,$J112),\"\")","v":""},"","",{"$f":"IFERROR(INTERPRNG_h($F112,'STU Treatment Values'!$B$104:$K$126,0,1,$J112),\"\")","v":""},""]
[null,{"$f":"IF(A113=\"\",\"\",VLOOKUP(A113,STU!$A$5:$G$300,7,0))","v":""},{"$f":"IF(A113=\"\",\"\",SUMIF(Catchment!$K$5:$K$300,A113,Catchment!$V$5:$V$300))","v":""},{"$f":"IF(A113=\"\",\"\",SUMIF(Catchment!$K$5:$K$300,A113,Catchment!$L$5:$L$300))","v":""},{"$f":"IF(A113=\"\",\"\",VLOOKUP(A113,'RIDOT STU History (inputs)'!$A$5:$K$300,11,0))","v":""},"",{"$f":"IF(A113=\"\",\"\",VLOOKUP(A113,'RIDOT STU History (inputs)'!$A$5:$K$79,10,0))","v":""},"","",{"$f":"IF(ISBLANK(B113),\"\",IF(ISBLANK(G113),\"\",RowFunc(B113,G113)))","v":0},{"$f":"IF(A113=\"\",\"\",SUMIF(Catchment!$K$5:$K$300,A113,Catchment!$X$5:$X$300))","v":""},{"$f":"IFERROR(IF(I113>=0.5,INTERPRNG_h($F113,'STU Treatment Values'!$B$5:$K$27,0,1,$J113),INTERPRNG_h($F113,'STU Treatment Values'!$B$29:$K$51,0,1,$J113)),\"\")","v":""},"",{"$f":"IF(A113=\"\",\"\",SUMIF(Catchment!$K$5:$K$300,A113,Catchment!$Y$5:$Y$300))","v":""},{"$f":"IFERROR(IF(I113>=0.5,INTERPRNG_h($F113,'STU Treatment Values'!$N$5:$W$27,0,1,$J113),INTERPRNG_h($F113,'STU Treatment Values'!$N$29:$W$51,0,1,$J113)),\"\")","v":""},"",{"$f":"IF(A113=\"\",\"\",SUMIF(Catchment!$K$5:$K$300,A113,Catchment!$Z$5:$Z$300))","v":""},{"$f":"IFERROR(IF(I113>=0.5,INTERPRNG_h($F113,'STU Treatment Values'!$Z$5:$AI$27,0,1,$J113),INTERPRNG_h($F113,'STU Treatment Values'!$Z$29:$AI$51,0,1,$J113)),\"\")","v":""},"",{"$f":"IF(A113=\"\",\"\",SUMIF(Catchment!$K$5:$K$300,A113,Catchment!$AA$5:$AA$300))","v":""},{"$f":"IFERROR(IF(I113>=0.5,INTERPRNG_h($F113,'STU Treatment Values'!$AL$5:$AU$27,0,1,$J113),INTERPRNG_h($F113,'STU Treatment Values'!$AL$29:$AU$51,0,1,$J113)),\"\")","v":""},"","","","",{"$f":"IFERROR(INTERPRNG_h($F113,'STU Treatment Values'!$B$79:$K$101,0,1,$J113),\"\")","v":""},{"$f":"IFERROR(INTERPRNG_h($F113,'STU Treatment Values'!$B$54:$K$76,0,1,$J113),\"\")","v":""},"","",{"$f":"IFERROR(INTERPRNG_h($F113,'STU Treatment Values'!$B$104:$K$126,0,1,$J113),\"\")","v":""},""]
[null,{"$f":"IF(A114=\"\",\"\",VLOOKUP(A114,STU!$A$5:$G$300,7,0))","v":""},{"$f":"IF(A114=\"\",\"\",SUMIF(Catchment!$K$5:$K$300,A114,Catchment!$V$5:$V$300))","v":""},{"$f":"IF(A114=\"\",\"\",SUMIF(Catchment!$K$5:$K$300,A114,Catchment!$L$5:$L$300))","v":""},{"$f":"IF(A114=\"\",\"\",VLOOKUP(A114,'RIDOT STU History (inputs)'!$A$5:$K$300,11,0))","v":""},"",{"$f":"IF(A114=\"\",\"\",VLOOKUP(A114,'RIDOT STU History (inputs)'!$A$5:$K$79,10,0))","v":""},"","",{"$f":"IF(ISBLANK(B114),\"\",IF(ISBLANK(G114),\"\",RowFunc(B114,G114)))","v":0},{"$f":"IF(A114=\"\",\"\",SUMIF(Catchment!$K$5:$K$300,A114,Catchment!$X$5:$X$300))","v":""},{"$f":"IFERROR(IF(I114>=0.5,INTERPRNG_h($F114,'STU Treatment Values'!$B$5:$K$27,0,1,$J114),INTERPRNG_h($F114,'STU Treatment Values'!$B$29:$K$51,0,1,$J114)),\"\")","v":""},"",{"$f":"IF(A114=\"\",\"\",SUMIF(Catchment!$K$5:$K$300,A114,Catchment!$Y$5:$Y$300))","v":""},{"$f":"IFERROR(IF(I114>=0.5,INTERPRNG_h($F114,'STU Treatment Values'!$N$5:$W$27,0,1,$J114),INTERPRNG_h($F114,'STU Treatment Values'!$N$29:$W$51,0,1,$J114)),\"\")","v":""},"",{"$f":"IF(A114=\"\",\"\",SUMIF(Catchment!$K$5:$K$300,A114,Catchment!$Z$5:$Z$300))","v":""},{"$f":"IFERROR(IF(I114>=0.5,INTERPRNG_h($F114,'STU Treatment Values'!$Z$5:$AI$27,0,1,$J114),INTERPRNG_h($F114,'STU Treatment Values'!$Z$29:$AI$51,0,1,$J114)),\"\")","v":""},"",{"$f":"IF(A114=\"\",\"\",SUMIF(Catchment!$K$5:$K$300,A114,Catchment!$AA$5:$AA$300))","v":""},{"$f":"IFERROR(IF(I114>=0.5,INTERPRNG_h($F114,'STU Treatment Values'!$AL$5:$AU$27,0,1,$J114),INTERPRNG_h($F114,'STU Treatment Values'!$AL$29:$AU$51,0,1,$J114)),\"\")","v":""},"","","","",{"$f":"IFERROR(INTERPRNG_h($F114,'STU Treatment Values'!$B$79:$K$101,0,1,$J114),\"\")","v":""},{"$f":"IFERROR(INTERPRNG_h($F114,'STU Treatment Values'!$B$54:$K$76,0,1,$J114),\"\")","v":""},"","",{"$f":"IFERROR(INTERPRNG_h($F114,'STU Treatment Values'!$B$104:$K$126,0,1,$J114),\"\")","v":""},""]
[null,{"$f":"IF(A115=\"\",\"\",VLOOKUP(A115,STU!$A$5:$G$300,7,0))","v":""},{"$f":"IF(A115=\"\",\"\",SUMIF(Catchment!$K$5:$K$300,A115,Catchment!$V$5:$V$300))","v":""},{"$f":"IF(A115=\"\",\"\",SUMIF(Catchment!$K$5:$K$300,A115,Catchment!$L$5:$L$300))","v":""},{"$f":"IF(A115=\"\",\"\",VLOOKUP(A115,'RIDOT STU History (inputs)'!$A$5:$K$300,11,0))","v":""},"",{"$f":"IF(A115=\"\",\"\",VLOOKUP(A115,'RIDOT STU History (inputs)'!$A$5:$K$79,10,0))","v":""},"","",{"$f":"IF(ISBLANK(B115),\"\",IF(ISBLANK(G115),\"\",RowFunc(B115,G115)))","v":0},{"$f":"IF(A115=\"\",\"\",SUMIF(Catchment!$K$5:$K$300,A115,Catchment!$X$5:$X$300))","v":""},{"$f":"IFERROR(IF(I115>=0.5,INTERPRNG_h($F115,'STU Treatment Values'!$B$5:$K$27,0,1,$J115),INTERPRNG_h($F115,'STU Treatment Values'!$B$29:$K$51,0,1,$J115)),\"\")","v":""},"",{"$f":"IF(A115=\"\",\"\",SUMIF(Catchment!$K$5:$K$300,A115,Catchment!$Y$5:$Y$300))","v":""},{"$f":"IFERROR(IF(I115>=0.5,INTERPRNG_h($F115,'STU Treatment Values'!$N$5:$W$27,0,1,$J115),INTERPRNG_h($F115,'STU Treatment Values'!$N$29:$W$51,0,1,$J115)),\"\")","v":""},"",{"$f":"IF(A115=\"\",\"\",SUMIF(Catchment!$K$5:$K$300,A115,Catchment!$Z$5:$Z$300))","v":""},{"$f":"IFERROR(IF(I115>=0.5,INTERPRNG_h($F115,'STU Treatment Values'!$Z$5:$AI$27,0,1,$J115),INTERPRNG_h($F115,'STU Treatment Values'!$Z$29:$AI$51,0,1,$J115)),\"\")","v":""},"",{"$f":"IF(A115=\"\",\"\",SUMIF(Catchment!$K$5:$K$300,A115,Catchment!$AA$5:$AA$300))","v":""},{"$f":"IFERROR(IF(I115>=0.5,INTERPRNG_h($F115,'STU Treatment Values'!$AL$5:$AU$27,0,1,$J115),INTERPRNG_h($F115,'STU Treatment Values'!$AL$29:$AU$51,0,1,$J115)),\"\")","v":""},"","","","",{"$f":"IFERROR(INTERPRNG_h($F115,'STU Treatment Values'!$B$79:$K$101,0,1,$J115),\"\")","v":""},{"$f":"IFERROR(INTERPRNG_h($F115,'STU Treatment Values'!$B$54:$K$76,0,1,$J115),\"\")","v":""},"","",{"$f":"IFERROR(INTERPRNG_h($F115,'STU Treatment Values'!$B$104:$K$126,0,1,$J115),\"\")","v":""},""]
[null,{"$f":"IF(A116=\"\",\"\",VLOOKUP(A116,STU!$A$5:$G$300,7,0))","v":""},{"$f":"IF(A116=\"\",\"\",SUMIF(Catchment!$K$5:$K$300,A116,Catchment!$V$5:$V$300))","v":""},{"$f":"IF(A116=\"\",\"\",SUMIF(Catchment!$K$5:$K$300,A116,Catchment!$L$5:$L$300))","v":""},{"$f":"IF(A116=\"\",\"\",VLOOKUP(A116,'RIDOT STU History (inputs)'!$A$5:$K$300,11,0))","v":""},"",{"$f":"IF(A116=\"\",\"\",VLOOKUP(A116,'RIDOT STU History (inputs)'!$A$5:$K$79,10,0))","v":""},"","",{"$f":"IF(ISBLANK(B116),\"\",IF(ISBLANK(G116),\"\",RowFunc(B116,G116)))","v":0},{"$f":"IF(A116=\"\",\"\",SUMIF(Catchment!$K$5:$K$300,A116,Catchment!$X$5:$X$300))","v":""},{"$f":"IFERROR(IF(I116>=0.5,INTERPRNG_h($F116,'STU Treatment Values'!$B$5:$K$27,0,1,$J116),INTERPRNG_h($F116,'STU Treatment Values'!$B$29:$K$51,0,1,$J116)),\"\")","v":""},"",{"$f":"IF(A116=\"\",\"\",SUMIF(Catchment!$K$5:$K$300,A116,Catchment!$Y$5:$Y$300))","v":""},{"$f":"IFERROR(IF(I116>=0.5,INTERPRNG_h($F116,'STU Treatment Values'!$N$5:$W$27,0,1,$J116),INTERPRNG_h($F116,'STU Treatment Values'!$N$29:$W$51,0,1,$J116)),\"\")","v":""},"",{"$f":"IF(A116=\"\",\"\",SUMIF(Catchment!$K$5:$K$300,A116,Catchment!$Z$5:$Z$300))","v":""},{"$f":"IFERROR(IF(I116>=0.5,INTERPRNG_h($F116,'STU Treatment Values'!$Z$5:$AI$27,0,1,$J116),INTERPRNG_h($F116,'STU Treatment Values'!$Z$29:$AI$51,0,1,$J116)),\"\")","v":""},"",{"$f":"IF(A116=\"\",\"\",SUMIF(Catchment!$K$5:$K$300,A116,Catchment!$AA$5:$AA$300))","v":""},{"$f":"IFERROR(IF(I116>=0.5,INTERPRNG_h($F116,'STU Treatment Values'!$AL$5:$AU$27,0,1,$J116),INTERPRNG_h($F116,'STU Treatment Values'!$AL$29:$AU$51,0,1,$J116)),\"\")","v":""},"","","","",{"$f":"IFERROR(INTERPRNG_h($F116,'STU Treatment Values'!$B$79:$K$101,0,1,$J116),\"\")","v":""},{"$f":"IFERROR(INTERPRNG_h($F116,'STU Treatment Values'!$B$54:$K$76,0,1,$J116),\"\")","v":""},"","",{"$f":"IFERROR(INTERPRNG_h($F116,'STU Treatment Values'!$B$104:$K$126,0,1,$J116),\"\")","v":""},""]
[null,{"$f":"IF(A117=\"\",\"\",VLOOKUP(A117,STU!$A$5:$G$300,7,0))","v":""},{"$f":"IF(A117=\"\",\"\",SUMIF(Catchment!$K$5:$K$300,A117,Catchment!$V$5:$V$300))","v":""},{"$f":"IF(A117=\"\",\"\",SUMIF(Catchment!$K$5:$K$300,A117,Catchment!$L$5:$L$300))","v":""},{"$f":"IF(A117=\"\",\"\",VLOOKUP(A117,'RIDOT STU History (inputs)'!$A$5:$K$300,11,0))","v":""},"",{"$f":"IF(A117=\"\",\"\",VLOOKUP(A117,'RIDOT STU History (inputs)'!$A$5:$K$79,10,0))","v":""},"","",{"$f":"IF(ISBLANK(B117),\"\",IF(ISBLANK(G117),\"\",RowFunc(B117,G117)))","v":0},{"$f":"IF(A117=\"\",\"\",SUMIF(Catchment!$K$5:$K$300,A117,Catchment!$X$5:$X$300))","v":""},{"$f":"IFERROR(IF(I117>=0.5,INTERPRNG_h($F117,'STU Treatment Values'!$B$5:$K$27,0,1,$J117),INTERPRNG_h($F117,'STU Treatment Values'!$B$29:$K$51,0,1,$J117)),\"\")","v":""},"",{"$f":"IF(A117=\"\",\"\",SUMIF(Catchment!$K$5:$K$300,A117,Catchment!$Y$5:$Y$300))","v":""},{"$f":"IFERROR(IF(I117>=0.5,INTERPRNG_h($F117,'STU Treatment Values'!$N$5:$W$27,0,1,$J117),INTERPRNG_h($F117,'STU Treatment Values'!$N$29:$W$51,0,1,$J117)),\"\")","v":""},"",{"$f":"IF(A117=\"\",\"\",SUMIF(Catchment!$K$5:$K$300,A117,Catchment!$Z$5:$Z$300))","v":""},{"$f":"IFERROR(IF(I117>=0.5,INTERPRNG_h($F117,'STU Treatment Values'!$Z$5:$AI$27,0,1,$J117),INTERPRNG_h($F117,'STU Treatment Values'!$Z$29:$AI$51,0,1,$J117)),\"\")","v":""},"",{"$f":"IF(A117=\"\",\"\",SUMIF(Catchment!$K$5:$K$300,A117,Catchment!$AA$5:$AA$300))","v":""},{"$f":"IFERROR(IF(I117>=0.5,INTERPRNG_h($F117,'STU Treatment Values'!$AL$5:$AU$27,0,1,$J117),INTERPRNG_h($F117,'STU Treatment Values'!$AL$29:$AU$51,0,1,$J117)),\"\")","v":""},"","","","",{"$f":"IFERROR(INTERPRNG_h($F117,'STU Treatment Values'!$B$79:$K$101,0,1,$J117),\"\")","v":""},{"$f":"IFERROR(INTERPRNG_h($F117,'STU Treatment Values'!$B$54:$K$76,0,1,$J117),\"\")","v":""},"","",{"$f":"IFERROR(INTERPRNG_h($F117,'STU Treatment Values'!$B$104:$K$126,0,1,$J117),\"\")","v":""},""]
[null,{"$f":"IF(A118=\"\",\"\",VLOOKUP(A118,STU!$A$5:$G$300,7,0))","v":""},{"$f":"IF(A118=\"\",\"\",SUMIF(Catchment!$K$5:$K$300,A118,Catchment!$V$5:$V$300))","v":""},{"$f":"IF(A118=\"\",\"\",SUMIF(Catchment!$K$5:$K$300,A118,Catchment!$L$5:$L$300))","v":""},{"$f":"IF(A118=\"\",\"\",VLOOKUP(A118,'RIDOT STU History (inputs)'!$A$5:$K$300,11,0))","v":""},"",{"$f":"IF(A118=\"\",\"\",VLOOKUP(A118,'RIDOT STU History (inputs)'!$A$5:$K$79,10,0))","v":""},"","",{"$f":"IF(ISBLANK(B118),\"\",IF(ISBLANK(G118),\"\",RowFunc(B118,G118)))","v":0},{"$f":"IF(A118=\"\",\"\",SUMIF(Catchment!$K$5:$K$300,A118,Catchment!$X$5:$X$300))","v":""},{"$f":"IFERROR(IF(I118>=0.5,INTERPRNG_h($F118,'STU Treatment Values'!$B$5:$K$27,0,1,$J118),INTERPRNG_h($F118,'STU Treatment Values'!$B$29:$K$51,0,1,$J118)),\"\")","v":""},"",{"$f":"IF(A118=\"\",\"\",SUMIF(Catchment!$K$5:$K$300,A118,Catchment!$Y$5:$Y$300))","v":""},{"$f":"IFERROR(IF(I118>=0.5,INTERPRNG_h($F118,'STU Treatment Values'!$N$5:$W$27,0,1,$J118),INTERPRNG_h($F118,'STU Treatment Values'!$N$29:$W$51,0,1,$J118)),\"\")","v":""},"",{"$f":"IF(A118=\"\",\"\",SUMIF(Catchment!$K$5:$K$300,A118,Catchment!$Z$5:$Z$300))","v":""},{"$f":"IFERROR(IF(I118>=0.5,INTERPRNG_h($F118,'STU Treatment Values'!$Z$5:$AI$27,0,1,$J118),INTERPRNG_h($F118,'STU Treatment Values'!$Z$29:$AI$51,0,1,$J118)),\"\")","v":""},"",{"$f":"IF(A118=\"\",\"\",SUMIF(Catchment!$K$5:$K$300,A118,Catchment!$AA$5:$AA$300))","v":""},{"$f":"IFERROR(IF(I118>=0.5,INTERPRNG_h($F118,'STU Treatment Values'!$AL$5:$AU$27,0,1,$J118),INTERPRNG_h($F118,'STU Treatment Values'!$AL$29:$AU$51,0,1,$J118)),\"\")","v":""},"","","","",{"$f":"IFERROR(INTERPRNG_h($F118,'STU Treatment Values'!$B$79:$K$101,0,1,$J118),\"\")","v":""},{"$f":"IFERROR(INTERPRNG_h($F118,'STU Treatment Values'!$B$54:$K$76,0,1,$J118),\"\")","v":""},"","",{"$f":"IFERROR(INTERPRNG_h($F118,'STU Treatment Values'!$B$104:$K$126,0,1,$J118),\"\")","v":""},""]
[null,{"$f":"IF(A119=\"\",\"\",VLOOKUP(A119,STU!$A$5:$G$300,7,0))","v":""},{"$f":"IF(A119=\"\",\"\",SUMIF(Catchment!$K$5:$K$300,A119,Catchment!$V$5:$V$300))","v":""},{"$f":"IF(A119=\"\",\"\",SUMIF(Catchment!$K$5:$K$300,A119,Catchment!$L$5:$L$300))","v":""},{"$f":"IF(A119=\"\",\"\",VLOOKUP(A119,'RIDOT STU History (inputs)'!$A$5:$K$300,11,0))","v":""},"",{"$f":"IF(A119=\"\",\"\",VLOOKUP(A119,'RIDOT STU History (inputs)'!$A$5:$K$79,10,0))","v":""},"","",{"$f":"IF(ISBLANK(B119),\"\",IF(ISBLANK(G119),\"\",RowFunc(B119,G119)))","v":0},{"$f":"IF(A119=\"\",\"\",SUMIF(Catchment!$K$5:$K$300,A119,Catchment!$X$5:$X$300))","v":""},{"$f":"IFERROR(IF(I119>=0.5,INTERPRNG_h($F119,'STU Treatment Values'!$B$5:$K$27,0,1,$J119),INTERPRNG_h($F119,'STU Treatment Values'!$B$29:$K$51,0,1,$J119)),\"\")","v":""},"",{"$f":"IF(A119=\"\",\"\",SUMIF(Catchment!$K$5:$K$300,A119,Catchment!$Y$5:$Y$300))","v":""},{"$f":"IFERROR(IF(I119>=0.5,INTERPRNG_h($F119,'STU Treatment Values'!$N$5:$W$27,0,1,$J119),INTERPRNG_h($F119,'STU Treatment Values'!$N$29:$W$51,0,1,$J119)),\"\")","v":""},"",{"$f":"IF(A119=\"\",\"\",SUMIF(Catchment!$K$5:$K$300,A119,Catchment!$Z$5:$Z$300))","v":""},{"$f":"IFERROR(IF(I119>=0.5,INTERPRNG_h($F119,'STU Treatment Values'!$Z$5:$AI$27,0,1,$J119),INTERPRNG_h($F119,'STU Treatment Values'!$Z$29:$AI$51,0,1,$J119)),\"\")","v":""},"",{"$f":"IF(A119=\"\",\"\",SUMIF(Catchment!$K$5:$K$300,A119,Catchment!$AA$5:$AA$300))","v":""},{"$f":"IFERROR(IF(I119>=0.5,INTERPRNG_h($F119,'STU Treatment Values'!$AL$5:$AU$27,0,1,$J119),INTERPRNG_h($F119,'STU Treatment Values'!$AL$29:$AU$51,0,1,$J119)),\"\")","v":""},"","","","",{"$f":"IFERROR(INTERPRNG_h($F119,'STU Treatment Values'!$B$79:$K$101,0,1,$J119),\"\")","v":""},{"$f":"IFERROR(INTERPRNG_h($F119,'STU Treatment Values'!$B$54:$K$76,0,1,$J119),\"\")","v":""},"","",{"$f":"IFERROR(INTERPRNG_h($F119,'STU Treatment Values'!$B$104:$K$126,0,1,$J119),\"\")","v":""},""]
[null,{"$f":"IF(A120=\"\",\"\",VLOOKUP(A120,STU!$A$5:$G$300,7,0))","v":""},{"$f":"IF(A120=\"\",\"\",SUMIF(Catchment!$K$5:$K$300,A120,Catchment!$V$5:$V$300))","v":""},{"$f":"IF(A120=\"\",\"\",SUMIF(Catchment!$K$5:$K$300,A120,Catchment!$L$5:$L$300))","v":""},{"$f":"IF(A120=\"\",\"\",VLOOKUP(A120,'RIDOT STU History (inputs)'!$A$5:$K$300,11,0))","v":""},"",{"$f":"IF(A120=\"\",\"\",VLOOKUP(A120,'RIDOT STU History (inputs)'!$A$5:$K$79,10,0))","v":""},"","",{"$f":"IF(ISBLANK(B120),\"\",IF(ISBLANK(G120),\"\",RowFunc(B120,G120)))","v":0},{"$f":"IF(A120=\"\",\"\",SUMIF(Catchment!$K$5:$K$300,A120,Catchment!$X$5:$X$300))","v":""},{"$f":"IFERROR(IF(I120>=0.5,INTERPRNG_h($F120,'STU Treatment Values'!$B$5:$K$27,0,1,$J120),INTERPRNG_h($F120,'STU Treatment Values'!$B$29:$K$51,0,1,$J120)),\"\")","v":""},"",{"$f":"IF(A120=\"\",\"\",SUMIF(Catchment!$K$5:$K$300,A120,Catchment!$Y$5:$Y$300))","v":""},{"$f":"IFERROR(IF(I120>=0.5,INTERPRNG_h($F120,'STU Treatment Values'!$N$5:$W$27,0,1,$J120),INTERPRNG_h($F120,'STU Treatment Values'!$N$29:$W$51,0,1,$J120)),\"\")","v":""},"",{"$f":"IF(A120=\"\",\"\",SUMIF(Catchment!$K$5:$K$300,A120,Catchment!$Z$5:$Z$300))","v":""},{"$f":"IFERROR(IF(I120>=0.5,INTERPRNG_h($F120,'STU Treatment Values'!$Z$5:$AI$27,0,1,$J120),INTERPRNG_h($F120,'STU Treatment Values'!$Z$29:$AI$51,0,1,$J120)),\"\")","v":""},"",{"$f":"IF(A120=\"\",\"\",SUMIF(Catchment!$K$5:$K$300,A120,Catchment!$AA$5:$AA$300))","v":""},{"$f":"IFERROR(IF(I120>=0.5,INTERPRNG_h($F120,'STU Treatment Values'!$AL$5:$AU$27,0,1,$J120),INTERPRNG_h($F120,'STU Treatment Values'!$AL$29:$AU$51,0,1,$J120)),\"\")","v":""},"","","","",{"$f":"IFERROR(INTERPRNG_h($F120,'STU Treatment Values'!$B$79:$K$101,0,1,$J120),\"\")","v":""},{"$f":"IFERROR(INTERPRNG_h($F120,'STU Treatment Values'!$B$54:$K$76,0,1,$J120),\"\")","v":""},"","",{"$f":"IFERROR(INTERPRNG_h($F120,'STU Treatment Values'!$B$104:$K$126,0,1,$J120),\"\")","v":""},""]
[null,{"$f":"IF(A121=\"\",\"\",VLOOKUP(A121,STU!$A$5:$G$300,7,0))","v":""},{"$f":"IF(A121=\"\",\"\",SUMIF(Catchment!$K$5:$K$300,A121,Catchment!$V$5:$V$300))","v":""},{"$f":"IF(A121=\"\",\"\",SUMIF(Catchment!$K$5:$K$300,A121,Catchment!$L$5:$L$300))","v":""},{"$f":"IF(A121=\"\",\"\",VLOOKUP(A121,'RIDOT STU History (inputs)'!$A$5:$K$300,11,0))","v":""},"",{"$f":"IF(A121=\"\",\"\",VLOOKUP(A121,'RIDOT STU History (inputs)'!$A$5:$K$79,10,0))","v":""},"","",{"$f":"IF(ISBLANK(B121),\"\",IF(ISBLANK(G121),\"\",RowFunc(B121,G121)))","v":0},{"$f":"IF(A121=\"\",\"\",SUMIF(Catchment!$K$5:$K$300,A121,Catchment!$X$5:$X$300))","v":""},{"$f":"IFERROR(IF(I121>=0.5,INTERPRNG_h($F121,'STU Treatment Values'!$B$5:$K$27,0,1,$J121),INTERPRNG_h($F121,'STU Treatment Values'!$B$29:$K$51,0,1,$J121)),\"\")","v":""},"",{"$f":"IF(A121=\"\",\"\",SUMIF(Catchment!$K$5:$K$300,A121,Catchment!$Y$5:$Y$300))","v":""},{"$f":"IFERROR(IF(I121>=0.5,INTERPRNG_h($F121,'STU Treatment Values'!$N$5:$W$27,0,1,$J121),INTERPRNG_h($F121,'STU Treatment Values'!$N$29:$W$51,0,1,$J121)),\"\")","v":""},"",{"$f":"IF(A121=\"\",\"\",SUMIF(Catchment!$K$5:$K$300,A121,Catchment!$Z$5:$Z$300))","v":""},{"$f":"IFERROR(IF(I121>=0.5,INTERPRNG_h($F121,'STU Treatment Values'!$Z$5:$AI$27,0,1,$J121),INTERPRNG_h($F121,'STU Treatment Values'!$Z$29:$AI$51,0,1,$J121)),\"\")","v":""},"",{"$f":"IF(A121=\"\",\"\",SUMIF(Catchment!$K$5:$K$300,A121,Catchment!$AA$5:$AA$300))","v":""},{"$f":"IFERROR(IF(I121>=0.5,INTERPRNG_h($F121,'STU Treatment Values'!$AL$5:$AU$27,0,1,$J121),INTERPRNG_h($F121,'STU Treatment Values'!$AL$29:$AU$51,0,1,$J121)),\"\")","v":""},"","","","",{"$f":"IFERROR(INTERPRNG_h($F121,'STU Treatment Values'!$B$79:$K$101,0,1,$J121),\"\")","v":""},{"$f":"IFERROR(INTERPRNG_h($F121,'STU Treatment Values'!$B$54:$K$76,0,1,$J121),\"\")","v":""},"","",{"$f":"IFERROR(INTERPRNG_h($F121,'STU Treatment Values'!$B$104:$K$126,0,1,$J121),\"\")","v":""},""]
[null,{"$f":"IF(A122=\"\",\"\",VLOOKUP(A122,STU!$A$5:$G$300,7,0))","v":""},{"$f":"IF(A122=\"\",\"\",SUMIF(Catchment!$K$5:$K$300,A122,Catchment!$V$5:$V$300))","v":""},{"$f":"IF(A122=\"\",\"\",SUMIF(Catchment!$K$5:$K$300,A122,Catchment!$L$5:$L$300))","v":""},{"$f":"IF(A122=\"\",\"\",VLOOKUP(A122,'RIDOT STU History (inputs)'!$A$5:$K$300,11,0))","v":""},"",{"$f":"IF(A122=\"\",\"\",VLOOKUP(A122,'RIDOT STU History (inputs)'!$A$5:$K$79,10,0))","v":""},"","",{"$f":"IF(ISBLANK(B122),\"\",IF(ISBLANK(G122),\"\",RowFunc(B122,G122)))","v":0},{"$f":"IF(A122=\"\",\"\",SUMIF(Catchment!$K$5:$K$300,A122,Catchment!$X$5:$X$300))","v":""},{"$f":"IFERROR(IF(I122>=0.5,INTERPRNG_h($F122,'STU Treatment Values'!$B$5:$K$27,0,1,$J122),INTERPRNG_h($F122,'STU Treatment Values'!$B$29:$K$51,0,1,$J122)),\"\")","v":""},"",{"$f":"IF(A122=\"\",\"\",SUMIF(Catchment!$K$5:$K$300,A122,Catchment!$Y$5:$Y$300))","v":""},{"$f":"IFERROR(IF(I122>=0.5,INTERPRNG_h($F122,'STU Treatment Values'!$N$5:$W$27,0,1,$J122),INTERPRNG_h($F122,'STU Treatment Values'!$N$29:$W$51,0,1,$J122)),\"\")","v":""},"",{"$f":"IF(A122=\"\",\"\",SUMIF(Catchment!$K$5:$K$300,A122,Catchment!$Z$5:$Z$300))","v":""},{"$f":"IFERROR(IF(I122>=0.5,INTERPRNG_h($F122,'STU Treatment Values'!$Z$5:$AI$27,0,1,$J122),INTERPRNG_h($F122,'STU Treatment Values'!$Z$29:$AI$51,0,1,$J122)),\"\")","v":""},"",{"$f":"IF(A122=\"\",\"\",SUMIF(Catchment!$K$5:$K$300,A122,Catchment!$AA$5:$AA$300))","v":""},{"$f":"IFERROR(IF(I122>=0.5,INTERPRNG_h($F122,'STU Treatment Values'!$AL$5:$AU$27,0,1,$J122),INTERPRNG_h($F122,'STU Treatment Values'!$AL$29:$AU$51,0,1,$J122)),\"\")","v":""},"","","","",{"$f":"IFERROR(INTERPRNG_h($F122,'STU Treatment Values'!$B$79:$K$101,0,1,$J122),\"\")","v":""},{"$f":"IFERROR(INTERPRNG_h($F122,'STU Treatment Values'!$B$54:$K$76,0,1,$J122),\"\")","v":""},"","",{"$f":"IFERROR(INTERPRNG_h($F122,'STU Treatment Values'!$B$104:$K$126,0,1,$J122),\"\")","v":""},""]
[null,{"$f":"IF(A123=\"\",\"\",VLOOKUP(A123,STU!$A$5:$G$300,7,0))","v":""},{"$f":"IF(A123=\"\",\"\",SUMIF(Catchment!$K$5:$K$300,A123,Catchment!$V$5:$V$300))","v":""},{"$f":"IF(A123=\"\",\"\",SUMIF(Catchment!$K$5:$K$300,A123,Catchment!$L$5:$L$300))","v":""},{"$f":"IF(A123=\"\",\"\",VLOOKUP(A123,'RIDOT STU History (inputs)'!$A$5:$K$300,11,0))","v":""},"",{"$f":"IF(A123=\"\",\"\",VLOOKUP(A123,'RIDOT STU History (inputs)'!$A$5:$K$79,10,0))","v":""},"","",{"$f":"IF(ISBLANK(B123),\"\",IF(ISBLANK(G123),\"\",RowFunc(B123,G123)))","v":0},{"$f":"IF(A123=\"\",\"\",SUMIF(Catchment!$K$5:$K$300,A123,Catchment!$X$5:$X$300))","v":""},{"$f":"IFERROR(IF(I123>=0.5,INTERPRNG_h($F123,'STU Treatment Values'!$B$5:$K$27,0,1,$J123),INTERPRNG_h($F123,'STU Treatment Values'!$B$29:$K$51,0,1,$J123)),\"\")","v":""},"",{"$f":"IF(A123=\"\",\"\",SUMIF(Catchment!$K$5:$K$300,A123,Catchment!$Y$5:$Y$300))","v":""},{"$f":"IFERROR(IF(I123>=0.5,INTERPRNG_h($F123,'STU Treatment Values'!$N$5:$W$27,0,1,$J123),INTERPRNG_h($F123,'STU Treatment Values'!$N$29:$W$51,0,1,$J123)),\"\")","v":""},"",{"$f":"IF(A123=\"\",\"\",SUMIF(Catchment!$K$5:$K$300,A123,Catchment!$Z$5:$Z$300))","v":""},{"$f":"IFERROR(IF(I123>=0.5,INTERPRNG_h($F123,'STU Treatment Values'!$Z$5:$AI$27,0,1,$J123),INTERPRNG_h($F123,'STU Treatment Values'!$Z$29:$AI$51,0,1,$J123)),\"\")","v":""},"",{"$f":"IF(A123=\"\",\"\",SUMIF(Catchment!$K$5:$K$300,A123,Catchment!$AA$5:$AA$300))","v":""},{"$f":"IFERROR(IF(I123>=0.5,INTERPRNG_h($F123,'STU Treatment Values'!$AL$5:$AU$27,0,1,$J123),INTERPRNG_h($F123,'STU Treatment Values'!$AL$29:$AU$51,0,1,$J123)),\"\")","v":""},"","","","",{"$f":"IFERROR(INTERPRNG_h($F123,'STU Treatment Values'!$B$79:$K$101,0,1,$J123),\"\")","v":""},{"$f":"IFERROR(INTERPRNG_h($F123,'STU Treatment Values'!$B$54:$K$76,0,1,$J123),\"\")","v":""},"","",{"$f":"IFERROR(INTERPRNG_h($F123,'STU Treatment Values'!$B$104:$K$126,0,1,$J123),\"\")","v":""},""]
[null,{"$f":"IF(A124=\"\",\"\",VLOOKUP(A124,STU!$A$5:$G$300,7,0))","v":""},{"$f":"IF(A124=\"\",\"\",SUMIF(Catchment!$K$5:$K$300,A124,Catchment!$V$5:$V$300))","v":""},{"$f":"IF(A124=\"\",\"\",SUMIF(Catchment!$K$5:$K$300,A124,Catchment!$L$5:$L$300))","v":""},{"$f":"IF(A124=\"\",\"\",VLOOKUP(A124,'RIDOT STU History (inputs)'!$A$5:$K$300,11,0))","v":""},"",{"$f":"IF(A124=\"\",\"\",VLOOKUP(A124,'RIDOT STU History (inputs)'!$A$5:$K$79,10,0))","v":""},"","",{"$f":"IF(ISBLANK(B124),\"\",IF(ISBLANK(G124),\"\",RowFunc(B124,G124)))","v":0},{"$f":"IF(A124=\"\",\"\",SUMIF(Catchment!$K$5:$K$300,A124,Catchment!$X$5:$X$300))","v":""},{"$f":"IFERROR(IF(I124>=0.5,INTERPRNG_h($F124,'STU Treatment Values'!$B$5:$K$27,0,1,$J124),INTERPRNG_h($F124,'STU Treatment Values'!$B$29:$K$51,0,1,$J124)),\"\")","v":""},"",{"$f":"IF(A124=\"\",\"\",SUMIF(Catchment!$K$5:$K$300,A124,Catchment!$Y$5:$Y$300))","v":""},{"$f":"IFERROR(IF(I124>=0.5,INTERPRNG_h($F124,'STU Treatment Values'!$N$5:$W$27,0,1,$J124),INTERPRNG_h($F124,'STU Treatment Values'!$N$29:$W$51,0,1,$J124)),\"\")","v":""},"",{"$f":"IF(A124=\"\",\"\",SUMIF(Catchment!$K$5:$K$300,A124,Catchment!$Z$5:$Z$300))","v":""},{"$f":"IFERROR(IF(I124>=0.5,INTERPRNG_h($F124,'STU Treatment Values'!$Z$5:$AI$27,0,1,$J124),INTERPRNG_h($F124,'STU Treatment Values'!$Z$29:$AI$51,0,1,$J124)),\"\")","v":""},"",{"$f":"IF(A124=\"\",\"\",SUMIF(Catchment!$K$5:$K$300,A124,Catchment!$AA$5:$AA$300))","v":""},{"$f":"IFERROR(IF(I124>=0.5,INTERPRNG_h($F124,'STU Treatment Values'!$AL$5:$AU$27,0,1,$J124),INTERPRNG_h($F124,'STU Treatment Values'!$AL$29:$AU$51,0,1,$J124)),\"\")","v":""},"","","","",{"$f":"IFERROR(INTERPRNG_h($F124,'STU Treatment Values'!$B$79:$K$101,0,1,$J124),\"\")","v":""},{"$f":"IFERROR(INTERPRNG_h($F124,'STU Treatment Values'!$B$54:$K$76,0,1,$J124),\"\")","v":""},"","",{"$f":"IFERROR(INTERPRNG_h($F124,'STU Treatment Values'!$B$104:$K$126,0,1,$J124),\"\")","v":""},""]
[null,{"$f":"IF(A125=\"\",\"\",VLOOKUP(A125,STU!$A$5:$G$300,7,0))","v":""},{"$f":"IF(A125=\"\",\"\",SUMIF(Catchment!$K$5:$K$300,A125,Catchment!$V$5:$V$300))","v":""},{"$f":"IF(A125=\"\",\"\",SUMIF(Catchment!$K$5:$K$300,A125,Catchment!$L$5:$L$300))","v":""},{"$f":"IF(A125=\"\",\"\",VLOOKUP(A125,'RIDOT STU History (inputs)'!$A$5:$K$300,11,0))","v":""},"",{"$f":"IF(A125=\"\",\"\",VLOOKUP(A125,'RIDOT STU History (inputs)'!$A$5:$K$79,10,0))","v":""},"","",{"$f":"IF(ISBLANK(B125),\"\",IF(ISBLANK(G125),\"\",RowFunc(B125,G125)))","v":0},{"$f":"IF(A125=\"\",\"\",SUMIF(Catchment!$K$5:$K$300,A125,Catchment!$X$5:$X$300))","v":""},{"$f":"IFERROR(IF(I125>=0.5,INTERPRNG_h($F125,'STU Treatment Values'!$B$5:$K$27,0,1,$J125),INTERPRNG_h($F125,'STU Treatment Values'!$B$29:$K$51,0,1,$J125)),\"\")","v":""},"",{"$f":"IF(A125=\"\",\"\",SUMIF(Catchment!$K$5:$K$300,A125,Catchment!$Y$5:$Y$300))","v":""},{"$f":"IFERROR(IF(I125>=0.5,INTERPRNG_h($F125,'STU Treatment Values'!$N$5:$W$27,0,1,$J125),INTERPRNG_h($F125,'STU Treatment Values'!$N$29:$W$51,0,1,$J125)),\"\")","v":""},"",{"$f":"IF(A125=\"\",\"\",SUMIF(Catchment!$K$5:$K$300,A125,Catchment!$Z$5:$Z$300))","v":""},{"$f":"IFERROR(IF(I125>=0.5,INTERPRNG_h($F125,'STU Treatment Values'!$Z$5:$AI$27,0,1,$J125),INTERPRNG_h($F125,'STU Treatment Values'!$Z$29:$AI$51,0,1,$J125)),\"\")","v":""},"",{"$f":"IF(A125=\"\",\"\",SUMIF(Catchment!$K$5:$K$300,A125,Catchment!$AA$5:$AA$300))","v":""},{"$f":"IFERROR(IF(I125>=0.5,INTERPRNG_h($F125,'STU Treatment Values'!$AL$5:$AU$27,0,1,$J125),INTERPRNG_h($F125,'STU Treatment Values'!$AL$29:$AU$51,0,1,$J125)),\"\")","v":""},"","","","",{"$f":"IFERROR(INTERPRNG_h($F125,'STU Treatment Values'!$B$79:$K$101,0,1,$J125),\"\")","v":""},{"$f":"IFERROR(INTERPRNG_h($F125,'STU Treatment Values'!$B$54:$K$76,0,1,$J125),\"\")","v":""},"","",{"$f":"IFERROR(INTERPRNG_h($F125,'STU Treatment Values'!$B$104:$K$126,0,1,$J125),\"\")","v":""},""]
[null,{"$f":"IF(A126=\"\",\"\",VLOOKUP(A126,STU!$A$5:$G$300,7,0))","v":""},{"$f":"IF(A126=\"\",\"\",SUMIF(Catchment!$K$5:$K$300,A126,Catchment!$V$5:$V$300))","v":""},{"$f":"IF(A126=\"\",\"\",SUMIF(Catchment!$K$5:$K$300,A126,Catchment!$L$5:$L$300))","v":""},{"$f":"IF(A126=\"\",\"\",VLOOKUP(A126,'RIDOT STU History (inputs)'!$A$5:$K$300,11,0))","v":""},"",{"$f":"IF(A126=\"\",\"\",VLOOKUP(A126,'RIDOT STU History (inputs)'!$A$5:$K$79,10,0))","v":""},"","",{"$f":"IF(ISBLANK(B126),\"\",IF(ISBLANK(G126),\"\",RowFunc(B126,G126)))","v":0},{"$f":"IF(A126=\"\",\"\",SUMIF(Catchment!$K$5:$K$300,A126,Catchment!$X$5:$X$300))","v":""},{"$f":"IFERROR(IF(I126>=0.5,INTERPRNG_h($F126,'STU Treatment Values'!$B$5:$K$27,0,1,$J126),INTERPRNG_h($F126,'STU Treatment Values'!$B$29:$K$51,0,1,$J126)),\"\")","v":""},"",{"$f":"IF(A126=\"\",\"\",SUMIF(Catchment!$K$5:$K$300,A126,Catchment!$Y$5:$Y$300))","v":""},{"$f":"IFERROR(IF(I126>=0.5,INTERPRNG_h($F126,'STU Treatment Values'!$N$5:$W$27,0,1,$J126),INTERPRNG_h($F126,'STU Treatment Values'!$N$29:$W$51,0,1,$J126)),\"\")","v":""},"",{"$f":"IF(A126=\"\",\"\",SUMIF(Catchment!$K$5:$K$300,A126,Catchment!$Z$5:$Z$300))","v":""},{"$f":"IFERROR(IF(I126>=0.5,INTERPRNG_h($F126,'STU Treatment Values'!$Z$5:$AI$27,0,1,$J126),INTERPRNG_h($F126,'STU Treatment Values'!$Z$29:$AI$51,0,1,$J126)),\"\")","v":""},"",{"$f":"IF(A126=\"\",\"\",SUMIF(Catchment!$K$5:$K$300,A126,Catchment!$AA$5:$AA$300))","v":""},{"$f":"IFERROR(IF(I126>=0.5,INTERPRNG_h($F126,'STU Treatment Values'!$AL$5:$AU$27,0,1,$J126),INTERPRNG_h($F126,'STU Treatment Values'!$AL$29:$AU$51,0,1,$J126)),\"\")","v":""},"","","","",{"$f":"IFERROR(INTERPRNG_h($F126,'STU Treatment Values'!$B$79:$K$101,0,1,$J126),\"\")","v":""},{"$f":"IFERROR(INTERPRNG_h($F126,'STU Treatment Values'!$B$54:$K$76,0,1,$J126),\"\")","v":""},"","",{"$f":"IFERROR(INTERPRNG_h($F126,'STU Treatment Values'!$B$104:$K$126,0,1,$J126),\"\")","v":""},""]
[null,{"$f":"IF(A127=\"\",\"\",VLOOKUP(A127,STU!$A$5:$G$300,7,0))","v":""},{"$f":"IF(A127=\"\",\"\",SUMIF(Catchment!$K$5:$K$300,A127,Catchment!$V$5:$V$300))","v":""},{"$f":"IF(A127=\"\",\"\",SUMIF(Catchment!$K$5:$K$300,A127,Catchment!$L$5:$L$300))","v":""},{"$f":"IF(A127=\"\",\"\",VLOOKUP(A127,'RIDOT STU History (inputs)'!$A$5:$K$300,11,0))","v":""},"",{"$f":"IF(A127=\"\",\"\",VLOOKUP(A127,'RIDOT STU History (inputs)'!$A$5:$K$79,10,0))","v":""},"","",{"$f":"IF(ISBLANK(B127),\"\",IF(ISBLANK(G127),\"\",RowFunc(B127,G127)))","v":0},{"$f":"IF(A127=\"\",\"\",SUMIF(Catchment!$K$5:$K$300,A127,Catchment!$X$5:$X$300))","v":""},{"$f":"IFERROR(IF(I127>=0.5,INTERPRNG_h($F127,'STU Treatment Values'!$B$5:$K$27,0,1,$J127),INTERPRNG_h($F127,'STU Treatment Values'!$B$29:$K$51,0,1,$J127)),\"\")","v":""},"",{"$f":"IF(A127=\"\",\"\",SUMIF(Catchment!$K$5:$K$300,A127,Catchment!$Y$5:$Y$300))","v":""},{"$f":"IFERROR(IF(I127>=0.5,INTERPRNG_h($F127,'STU Treatment Values'!$N$5:$W$27,0,1,$J127),INTERPRNG_h($F127,'STU Treatment Values'!$N$29:$W$51,0,1,$J127)),\"\")","v":""},"",{"$f":"IF(A127=\"\",\"\",SUMIF(Catchment!$K$5:$K$300,A127,Catchment!$Z$5:$Z$300))","v":""},{"$f":"IFERROR(IF(I127>=0.5,INTERPRNG_h($F127,'STU Treatment Values'!$Z$5:$AI$27,0,1,$J127),INTERPRNG_h($F127,'STU Treatment Values'!$Z$29:$AI$51,0,1,$J127)),\"\")","v":""},"",{"$f":"IF(A127=\"\",\"\",SUMIF(Catchment!$K$5:$K$300,A127,Catchment!$AA$5:$AA$300))","v":""},{"$f":"IFERROR(IF(I127>=0.5,INTERPRNG_h($F127,'STU Treatment Values'!$AL$5:$AU$27,0,1,$J127),INTERPRNG_h($F127,'STU Treatment Values'!$AL$29:$AU$51,0,1,$J127)),\"\")","v":""},"","","","",{"$f":"IFERROR(INTERPRNG_h($F127,'STU Treatment Values'!$B$79:$K$101,0,1,$J127),\"\")","v":""},{"$f":"IFERROR(INTERPRNG_h($F127,'STU Treatment Values'!$B$54:$K$76,0,1,$J127),\"\")","v":""},"","",{"$f":"IFERROR(INTERPRNG_h($F127,'STU Treatment Values'!$B$104:$K$126,0,1,$J127),\"\")","v":""},""]
[null,{"$f":"IF(A128=\"\",\"\",VLOOKUP(A128,STU!$A$5:$G$300,7,0))","v":""},{"$f":"IF(A128=\"\",\"\",SUMIF(Catchment!$K$5:$K$300,A128,Catchment!$V$5:$V$300))","v":""},{"$f":"IF(A128=\"\",\"\",SUMIF(Catchment!$K$5:$K$300,A128,Catchment!$L$5:$L$300))","v":""},{"$f":"IF(A128=\"\",\"\",VLOOKUP(A128,'RIDOT STU History (inputs)'!$A$5:$K$300,11,0))","v":""},"",{"$f":"IF(A128=\"\",\"\",VLOOKUP(A128,'RIDOT STU History (inputs)'!$A$5:$K$79,10,0))","v":""},"","",{"$f":"IF(ISBLANK(B128),\"\",IF(ISBLANK(G128),\"\",RowFunc(B128,G128)))","v":0},{"$f":"IF(A128=\"\",\"\",SUMIF(Catchment!$K$5:$K$300,A128,Catchment!$X$5:$X$300))","v":""},{"$f":"IFERROR(IF(I128>=0.5,INTERPRNG_h($F128,'STU Treatment Values'!$B$5:$K$27,0,1,$J128),INTERPRNG_h($F128,'STU Treatment Values'!$B$29:$K$51,0,1,$J128)),\"\")","v":""},"",{"$f":"IF(A128=\"\",\"\",SUMIF(Catchment!$K$5:$K$300,A128,Catchment!$Y$5:$Y$300))","v":""},{"$f":"IFERROR(IF(I128>=0.5,INTERPRNG_h($F128,'STU Treatment Values'!$N$5:$W$27,0,1,$J128),INTERPRNG_h($F128,'STU Treatment Values'!$N$29:$W$51,0,1,$J128)),\"\")","v":""},"",{"$f":"IF(A128=\"\",\"\",SUMIF(Catchment!$K$5:$K$300,A128,Catchment!$Z$5:$Z$300))","v":""},{"$f":"IFERROR(IF(I128>=0.5,INTERPRNG_h($F128,'STU Treatment Values'!$Z$5:$AI$27,0,1,$J128),INTERPRNG_h($F128,'STU Treatment Values'!$Z$29:$AI$51,0,1,$J128)),\"\")","v":""},"",{"$f":"IF(A128=\"\",\"\",SUMIF(Catchment!$K$5:$K$300,A128,Catchment!$AA$5:$AA$300))","v":""},{"$f":"IFERROR(IF(I128>=0.5,INTERPRNG_h($F128,'STU Treatment Values'!$AL$5:$AU$27,0,1,$J128),INTERPRNG_h($F128,'STU Treatment Values'!$AL$29:$AU$51,0,1,$J128)),\"\")","v":""},"","","","",{"$f":"IFERROR(INTERPRNG_h($F128,'STU Treatment Values'!$B$79:$K$101,0,1,$J128),\"\")","v":""},{"$f":"IFERROR(INTERPRNG_h($F128,'STU Treatment Values'!$B$54:$K$76,0,1,$J128),\"\")","v":""},"","",{"$f":"IFERROR(INTERPRNG_h($F128,'STU Treatment Values'!$B$104:$K$126,0,1,$J128),\"\")","v":""},""]
[null,{"$f":"IF(A129=\"\",\"\",VLOOKUP(A129,STU!$A$5:$G$300,7,0))","v":""},{"$f":"IF(A129=\"\",\"\",SUMIF(Catchment!$K$5:$K$300,A129,Catchment!$V$5:$V$300))","v":""},{"$f":"IF(A129=\"\",\"\",SUMIF(Catchment!$K$5:$K$300,A129,Catchment!$L$5:$L$300))","v":""},{"$f":"IF(A129=\"\",\"\",VLOOKUP(A129,'RIDOT STU History (inputs)'!$A$5:$K$300,11,0))","v":""},"",{"$f":"IF(A129=\"\",\"\",VLOOKUP(A129,'RIDOT STU History (inputs)'!$A$5:$K$79,10,0))","v":""},"","",{"$f":"IF(ISBLANK(B129),\"\",IF(ISBLANK(G129),\"\",RowFunc(B129,G129)))","v":0},{"$f":"IF(A129=\"\",\"\",SUMIF(Catchment!$K$5:$K$300,A129,Catchment!$X$5:$X$300))","v":""},{"$f":"IFERROR(IF(I129>=0.5,INTERPRNG_h($F129,'STU Treatment Values'!$B$5:$K$27,0,1,$J129),INTERPRNG_h($F129,'STU Treatment Values'!$B$29:$K$51,0,1,$J129)),\"\")","v":""},"",{"$f":"IF(A129=\"\",\"\",SUMIF(Catchment!$K$5:$K$300,A129,Catchment!$Y$5:$Y$300))","v":""},{"$f":"IFERROR(IF(I129>=0.5,INTERPRNG_h($F129,'STU Treatment Values'!$N$5:$W$27,0,1,$J129),INTERPRNG_h($F129,'STU Treatment Values'!$N$29:$W$51,0,1,$J129)),\"\")","v":""},"",{"$f":"IF(A129=\"\",\"\",SUMIF(Catchment!$K$5:$K$300,A129,Catchment!$Z$5:$Z$300))","v":""},{"$f":"IFERROR(IF(I129>=0.5,INTERPRNG_h($F129,'STU Treatment Values'!$Z$5:$AI$27,0,1,$J129),INTERPRNG_h($F129,'STU Treatment Values'!$Z$29:$AI$51,0,1,$J129)),\"\")","v":""},"",{"$f":"IF(A129=\"\",\"\",SUMIF(Catchment!$K$5:$K$300,A129,Catchment!$AA$5:$AA$300))","v":""},{"$f":"IFERROR(IF(I129>=0.5,INTERPRNG_h($F129,'STU Treatment Values'!$AL$5:$AU$27,0,1,$J129),INTERPRNG_h($F129,'STU Treatment Values'!$AL$29:$AU$51,0,1,$J129)),\"\")","v":""},"","","","",{"$f":"IFERROR(INTERPRNG_h($F129,'STU Treatment Values'!$B$79:$K$101,0,1,$J129),\"\")","v":""},{"$f":"IFERROR(INTERPRNG_h($F129,'STU Treatment Values'!$B$54:$K$76,0,1,$J129),\"\")","v":""},"","",{"$f":"IFERROR(INTERPRNG_h($F129,'STU Treatment Values'!$B$104:$K$126,0,1,$J129),\"\")","v":""},""]
[null,{"$f":"IF(A130=\"\",\"\",VLOOKUP(A130,STU!$A$5:$G$300,7,0))","v":""},{"$f":"IF(A130=\"\",\"\",SUMIF(Catchment!$K$5:$K$300,A130,Catchment!$V$5:$V$300))","v":""},{"$f":"IF(A130=\"\",\"\",SUMIF(Catchment!$K$5:$K$300,A130,Catchment!$L$5:$L$300))","v":""},{"$f":"IF(A130=\"\",\"\",VLOOKUP(A130,'RIDOT STU History (inputs)'!$A$5:$K$300,11,0))","v":""},"",{"$f":"IF(A130=\"\",\"\",VLOOKUP(A130,'RIDOT STU History (inputs)'!$A$5:$K$79,10,0))","v":""},"","",{"$f":"IF(ISBLANK(B130),\"\",IF(ISBLANK(G130),\"\",RowFunc(B130,G130)))","v":0},{"$f":"IF(A130=\"\",\"\",SUMIF(Catchment!$K$5:$K$300,A130,Catchment!$X$5:$X$300))","v":""},{"$f":"IFERROR(IF(I130>=0.5,INTERPRNG_h($F130,'STU Treatment Values'!$B$5:$K$27,0,1,$J130),INTERPRNG_h($F130,'STU Treatment Values'!$B$29:$K$51,0,1,$J130)),\"\")","v":""},"",{"$f":"IF(A130=\"\",\"\",SUMIF(Catchment!$K$5:$K$300,A130,Catchment!$Y$5:$Y$300))","v":""},{"$f":"IFERROR(IF(I130>=0.5,INTERPRNG_h($F130,'STU Treatment Values'!$N$5:$W$27,0,1,$J130),INTERPRNG_h($F130,'STU Treatment Values'!$N$29:$W$51,0,1,$J130)),\"\")","v":""},"",{"$f":"IF(A130=\"\",\"\",SUMIF(Catchment!$K$5:$K$300,A130,Catchment!$Z$5:$Z$300))","v":""},{"$f":"IFERROR(IF(I130>=0.5,INTERPRNG_h($F130,'STU Treatment Values'!$Z$5:$AI$27,0,1,$J130),INTERPRNG_h($F130,'STU Treatment Values'!$Z$29:$AI$51,0,1,$J130)),\"\")","v":""},"",{"$f":"IF(A130=\"\",\"\",SUMIF(Catchment!$K$5:$K$300,A130,Catchment!$AA$5:$AA$300))","v":""},{"$f":"IFERROR(IF(I130>=0.5,INTERPRNG_h($F130,'STU Treatment Values'!$AL$5:$AU$27,0,1,$J130),INTERPRNG_h($F130,'STU Treatment Values'!$AL$29:$AU$51,0,1,$J130)),\"\")","v":""},"","","","",{"$f":"IFERROR(INTERPRNG_h($F130,'STU Treatment Values'!$B$79:$K$101,0,1,$J130),\"\")","v":""},{"$f":"IFERROR(INTERPRNG_h($F130,'STU Treatment Values'!$B$54:$K$76,0,1,$J130),\"\")","v":""},"","",{"$f":"IFERROR(INTERPRNG_h($F130,'STU Treatment Values'!$B$104:$K$126,0,1,$J130),\"\")","v":""},""]
[null,{"$f":"IF(A131=\"\",\"\",VLOOKUP(A131,STU!$A$5:$G$300,7,0))","v":""},{"$f":"IF(A131=\"\",\"\",SUMIF(Catchment!$K$5:$K$300,A131,Catchment!$V$5:$V$300))","v":""},{"$f":"IF(A131=\"\",\"\",SUMIF(Catchment!$K$5:$K$300,A131,Catchment!$L$5:$L$300))","v":""},{"$f":"IF(A131=\"\",\"\",VLOOKUP(A131,'RIDOT STU History (inputs)'!$A$5:$K$300,11,0))","v":""},"",{"$f":"IF(A131=\"\",\"\",VLOOKUP(A131,'RIDOT STU History (inputs)'!$A$5:$K$79,10,0))","v":""},"","",{"$f":"IF(ISBLANK(B131),\"\",IF(ISBLANK(G131),\"\",RowFunc(B131,G131)))","v":0},{"$f":"IF(A131=\"\",\"\",SUMIF(Catchment!$K$5:$K$300,A131,Catchment!$X$5:$X$300))","v":""},{"$f":"IFERROR(IF(I131>=0.5,INTERPRNG_h($F131,'STU Treatment Values'!$B$5:$K$27,0,1,$J131),INTERPRNG_h($F131,'STU Treatment Values'!$B$29:$K$51,0,1,$J131)),\"\")","v":""},"",{"$f":"IF(A131=\"\",\"\",SUMIF(Catchment!$K$5:$K$300,A131,Catchment!$Y$5:$Y$300))","v":""},{"$f":"IFERROR(IF(I131>=0.5,INTERPRNG_h($F131,'STU Treatment Values'!$N$5:$W$27,0,1,$J131),INTERPRNG_h($F131,'STU Treatment Values'!$N$29:$W$51,0,1,$J131)),\"\")","v":""},"",{"$f":"IF(A131=\"\",\"\",SUMIF(Catchment!$K$5:$K$300,A131,Catchment!$Z$5:$Z$300))","v":""},{"$f":"IFERROR(IF(I131>=0.5,INTERPRNG_h($F131,'STU Treatment Values'!$Z$5:$AI$27,0,1,$J131),INTERPRNG_h($F131,'STU Treatment Values'!$Z$29:$AI$51,0,1,$J131)),\"\")","v":""},"",{"$f":"IF(A131=\"\",\"\",SUMIF(Catchment!$K$5:$K$300,A131,Catchment!$AA$5:$AA$300))","v":""},{"$f":"IFERROR(IF(I131>=0.5,INTERPRNG_h($F131,'STU Treatment Values'!$AL$5:$AU$27,0,1,$J131),INTERPRNG_h($F131,'STU Treatment Values'!$AL$29:$AU$51,0,1,$J131)),\"\")","v":""},"","","","",{"$f":"IFERROR(INTERPRNG_h($F131,'STU Treatment Values'!$B$79:$K$101,0,1,$J131),\"\")","v":""},{"$f":"IFERROR(INTERPRNG_h($F131,'STU Treatment Values'!$B$54:$K$76,0,1,$J131),\"\")","v":""},"","",{"$f":"IFERROR(INTERPRNG_h($F131,'STU Treatment Values'!$B$104:$K$126,0,1,$J131),\"\")","v":""},""]
[null,{"$f":"IF(A132=\"\",\"\",VLOOKUP(A132,STU!$A$5:$G$300,7,0))","v":""},{"$f":"IF(A132=\"\",\"\",SUMIF(Catchment!$K$5:$K$300,A132,Catchment!$V$5:$V$300))","v":""},{"$f":"IF(A132=\"\",\"\",SUMIF(Catchment!$K$5:$K$300,A132,Catchment!$L$5:$L$300))","v":""},{"$f":"IF(A132=\"\",\"\",VLOOKUP(A132,'RIDOT STU History (inputs)'!$A$5:$K$300,11,0))","v":""},"",{"$f":"IF(A132=\"\",\"\",VLOOKUP(A132,'RIDOT STU History (inputs)'!$A$5:$K$79,10,0))","v":""},"","",{"$f":"IF(ISBLANK(B132),\"\",IF(ISBLANK(G132),\"\",RowFunc(B132,G132)))","v":0},{"$f":"IF(A132=\"\",\"\",SUMIF(Catchment!$K$5:$K$300,A132,Catchment!$X$5:$X$300))","v":""},{"$f":"IFERROR(IF(I132>=0.5,INTERPRNG_h($F132,'STU Treatment Values'!$B$5:$K$27,0,1,$J132),INTERPRNG_h($F132,'STU Treatment Values'!$B$29:$K$51,0,1,$J132)),\"\")","v":""},"",{"$f":"IF(A132=\"\",\"\",SUMIF(Catchment!$K$5:$K$300,A132,Catchment!$Y$5:$Y$300))","v":""},{"$f":"IFERROR(IF(I132>=0.5,INTERPRNG_h($F132,'STU Treatment Values'!$N$5:$W$27,0,1,$J132),INTERPRNG_h($F132,'STU Treatment Values'!$N$29:$W$51,0,1,$J132)),\"\")","v":""},"",{"$f":"IF(A132=\"\",\"\",SUMIF(Catchment!$K$5:$K$300,A132,Catchment!$Z$5:$Z$300))","v":""},{"$f":"IFERROR(IF(I132>=0.5,INTERPRNG_h($F132,'STU Treatment Values'!$Z$5:$AI$27,0,1,$J132),INTERPRNG_h($F132,'STU Treatment Values'!$Z$29:$AI$51,0,1,$J132)),\"\")","v":""},"",{"$f":"IF(A132=\"\",\"\",SUMIF(Catchment!$K$5:$K$300,A132,Catchment!$AA$5:$AA$300))","v":""},{"$f":"IFERROR(IF(I132>=0.5,INTERPRNG_h($F132,'STU Treatment Values'!$AL$5:$AU$27,0,1,$J132),INTERPRNG_h($F132,'STU Treatment Values'!$AL$29:$AU$51,0,1,$J132)),\"\")","v":""},"","","","",{"$f":"IFERROR(INTERPRNG_h($F132,'STU Treatment Values'!$B$79:$K$101,0,1,$J132),\"\")","v":""},{"$f":"IFERROR(INTERPRNG_h($F132,'STU Treatment Values'!$B$54:$K$76,0,1,$J132),\"\")","v":""},"","",{"$f":"IFERROR(INTERPRNG_h($F132,'STU Treatment Values'!$B$104:$K$126,0,1,$J132),\"\")","v":""},""]
[null,{"$f":"IF(A133=\"\",\"\",VLOOKUP(A133,STU!$A$5:$G$300,7,0))","v":""},{"$f":"IF(A133=\"\",\"\",SUMIF(Catchment!$K$5:$K$300,A133,Catchment!$V$5:$V$300))","v":""},{"$f":"IF(A133=\"\",\"\",SUMIF(Catchment!$K$5:$K$300,A133,Catchment!$L$5:$L$300))","v":""},{"$f":"IF(A133=\"\",\"\",VLOOKUP(A133,'RIDOT STU History (inputs)'!$A$5:$K$300,11,0))","v":""},"",{"$f":"IF(A133=\"\",\"\",VLOOKUP(A133,'RIDOT STU History (inputs)'!$A$5:$K$79,10,0))","v":""},"","",{"$f":"IF(ISBLANK(B133),\"\",IF(ISBLANK(G133),\"\",RowFunc(B133,G133)))","v":0},{"$f":"IF(A133=\"\",\"\",SUMIF(Catchment!$K$5:$K$300,A133,Catchment!$X$5:$X$300))","v":""},{"$f":"IFERROR(IF(I133>=0.5,INTERPRNG_h($F133,'STU Treatment Values'!$B$5:$K$27,0,1,$J133),INTERPRNG_h($F133,'STU Treatment Values'!$B$29:$K$51,0,1,$J133)),\"\")","v":""},"",{"$f":"IF(A133=\"\",\"\",SUMIF(Catchment!$K$5:$K$300,A133,Catchment!$Y$5:$Y$300))","v":""},{"$f":"IFERROR(IF(I133>=0.5,INTERPRNG_h($F133,'STU Treatment Values'!$N$5:$W$27,0,1,$J133),INTERPRNG_h($F133,'STU Treatment Values'!$N$29:$W$51,0,1,$J133)),\"\")","v":""},"",{"$f":"IF(A133=\"\",\"\",SUMIF(Catchment!$K$5:$K$300,A133,Catchment!$Z$5:$Z$300))","v":""},{"$f":"IFERROR(IF(I133>=0.5,INTERPRNG_h($F133,'STU Treatment Values'!$Z$5:$AI$27,0,1,$J133),INTERPRNG_h($F133,'STU Treatment Values'!$Z$29:$AI$51,0,1,$J133)),\"\")","v":""},"",{"$f":"IF(A133=\"\",\"\",SUMIF(Catchment!$K$5:$K$300,A133,Catchment!$AA$5:$AA$300))","v":""},{"$f":"IFERROR(IF(I133>=0.5,INTERPRNG_h($F133,'STU Treatment Values'!$AL$5:$AU$27,0,1,$J133),INTERPRNG_h($F133,'STU Treatment Values'!$AL$29:$AU$51,0,1,$J133)),\"\")","v":""},"","","","",{"$f":"IFERROR(INTERPRNG_h($F133,'STU Treatment Values'!$B$79:$K$101,0,1,$J133),\"\")","v":""},{"$f":"IFERROR(INTERPRNG_h($F133,'STU Treatment Values'!$B$54:$K$76,0,1,$J133),\"\")","v":""},"","",{"$f":"IFERROR(INTERPRNG_h($F133,'STU Treatment Values'!$B$104:$K$126,0,1,$J133),\"\")","v":""},""]
[null,{"$f":"IF(A134=\"\",\"\",VLOOKUP(A134,STU!$A$5:$G$300,7,0))","v":""},{"$f":"IF(A134=\"\",\"\",SUMIF(Catchment!$K$5:$K$300,A134,Catchment!$V$5:$V$300))","v":""},{"$f":"IF(A134=\"\",\"\",SUMIF(Catchment!$K$5:$K$300,A134,Catchment!$L$5:$L$300))","v":""},{"$f":"IF(A134=\"\",\"\",VLOOKUP(A134,'RIDOT STU History (inputs)'!$A$5:$K$300,11,0))","v":""},"",{"$f":"IF(A134=\"\",\"\",VLOOKUP(A134,'RIDOT STU History (inputs)'!$A$5:$K$79,10,0))","v":""},"","",{"$f":"IF(ISBLANK(B134),\"\",IF(ISBLANK(G134),\"\",RowFunc(B134,G134)))","v":0},{"$f":"IF(A134=\"\",\"\",SUMIF(Catchment!$K$5:$K$300,A134,Catchment!$X$5:$X$300))","v":""},{"$f":"IFERROR(IF(I134>=0.5,INTERPRNG_h($F134,'STU Treatment Values'!$B$5:$K$27,0,1,$J134),INTERPRNG_h($F134,'STU Treatment Values'!$B$29:$K$51,0,1,$J134)),\"\")","v":""},"",{"$f":"IF(A134=\"\",\"\",SUMIF(Catchment!$K$5:$K$300,A134,Catchment!$Y$5:$Y$300))","v":""},{"$f":"IFERROR(IF(I134>=0.5,INTERPRNG_h($F134,'STU Treatment Values'!$N$5:$W$27,0,1,$J134),INTERPRNG_h($F134,'STU Treatment Values'!$N$29:$W$51,0,1,$J134)),\"\")","v":""},"",{"$f":"IF(A134=\"\",\"\",SUMIF(Catchment!$K$5:$K$300,A134,Catchment!$Z$5:$Z$300))","v":""},{"$f":"IFERROR(IF(I134>=0.5,INTERPRNG_h($F134,'STU Treatment Values'!$Z$5:$AI$27,0,1,$J134),INTERPRNG_h($F134,'STU Treatment Values'!$Z$29:$AI$51,0,1,$J134)),\"\")","v":""},"",{"$f":"IF(A134=\"\",\"\",SUMIF(Catchment!$K$5:$K$300,A134,Catchment!$AA$5:$AA$300))","v":""},{"$f":"IFERROR(IF(I134>=0.5,INTERPRNG_h($F134,'STU Treatment Values'!$AL$5:$AU$27,0,1,$J134),INTERPRNG_h($F134,'STU Treatment Values'!$AL$29:$AU$51,0,1,$J134)),\"\")","v":""},"","","","",{"$f":"IFERROR(INTERPRNG_h($F134,'STU Treatment Values'!$B$79:$K$101,0,1,$J134),\"\")","v":""},{"$f":"IFERROR(INTERPRNG_h($F134,'STU Treatment Values'!$B$54:$K$76,0,1,$J134),\"\")","v":""},"","",{"$f":"IFERROR(INTERPRNG_h($F134,'STU Treatment Values'!$B$104:$K$126,0,1,$J134),\"\")","v":""},""]
[null,{"$f":"IF(A135=\"\",\"\",VLOOKUP(A135,STU!$A$5:$G$300,7,0))","v":""},{"$f":"IF(A135=\"\",\"\",SUMIF(Catchment!$K$5:$K$300,A135,Catchment!$V$5:$V$300))","v":""},{"$f":"IF(A135=\"\",\"\",SUMIF(Catchment!$K$5:$K$300,A135,Catchment!$L$5:$L$300))","v":""},{"$f":"IF(A135=\"\",\"\",VLOOKUP(A135,'RIDOT STU History (inputs)'!$A$5:$K$300,11,0))","v":""},"",{"$f":"IF(A135=\"\",\"\",VLOOKUP(A135,'RIDOT STU History (inputs)'!$A$5:$K$79,10,0))","v":""},"","",{"$f":"IF(ISBLANK(B135),\"\",IF(ISBLANK(G135),\"\",RowFunc(B135,G135)))","v":0},{"$f":"IF(A135=\"\",\"\",SUMIF(Catchment!$K$5:$K$300,A135,Catchment!$X$5:$X$300))","v":""},{"$f":"IFERROR(IF(I135>=0.5,INTERPRNG_h($F135,'STU Treatment Values'!$B$5:$K$27,0,1,$J135),INTERPRNG_h($F135,'STU Treatment Values'!$B$29:$K$51,0,1,$J135)),\"\")","v":""},"",{"$f":"IF(A135=\"\",\"\",SUMIF(Catchment!$K$5:$K$300,A135,Catchment!$Y$5:$Y$300))","v":""},{"$f":"IFERROR(IF(I135>=0.5,INTERPRNG_h($F135,'STU Treatment Values'!$N$5:$W$27,0,1,$J135),INTERPRNG_h($F135,'STU Treatment Values'!$N$29:$W$51,0,1,$J135)),\"\")","v":""},"",{"$f":"IF(A135=\"\",\"\",SUMIF(Catchment!$K$5:$K$300,A135,Catchment!$Z$5:$Z$300))","v":""},{"$f":"IFERROR(IF(I135>=0.5,INTERPRNG_h($F135,'STU Treatment Values'!$Z$5:$AI$27,0,1,$J135),INTERPRNG_h($F135,'STU Treatment Values'!$Z$29:$AI$51,0,1,$J135)),\"\")","v":""},"",{"$f":"IF(A135=\"\",\"\",SUMIF(Catchment!$K$5:$K$300,A135,Catchment!$AA$5:$AA$300))","v":""},{"$f":"IFERROR(IF(I135>=0.5,INTERPRNG_h($F135,'STU Treatment Values'!$AL$5:$AU$27,0,1,$J135),INTERPRNG_h($F135,'STU Treatment Values'!$AL$29:$AU$51,0,1,$J135)),\"\")","v":""},"","","","",{"$f":"IFERROR(INTERPRNG_h($F135,'STU Treatment Values'!$B$79:$K$101,0,1,$J135),\"\")","v":""},{"$f":"IFERROR(INTERPRNG_h($F135,'STU Treatment Values'!$B$54:$K$76,0,1,$J135),\"\")","v":""},"","",{"$f":"IFERROR(INTERPRNG_h($F135,'STU Treatment Values'!$B$104:$K$126,0,1,$J135),\"\")","v":""},""]
[null,{"$f":"IF(A136=\"\",\"\",VLOOKUP(A136,STU!$A$5:$G$300,7,0))","v":""},{"$f":"IF(A136=\"\",\"\",SUMIF(Catchment!$K$5:$K$300,A136,Catchment!$V$5:$V$300))","v":""},{"$f":"IF(A136=\"\",\"\",SUMIF(Catchment!$K$5:$K$300,A136,Catchment!$L$5:$L$300))","v":""},{"$f":"IF(A136=\"\",\"\",VLOOKUP(A136,'RIDOT STU History (inputs)'!$A$5:$K$300,11,0))","v":""},"",{"$f":"IF(A136=\"\",\"\",VLOOKUP(A136,'RIDOT STU History (inputs)'!$A$5:$K$79,10,0))","v":""},"","",{"$f":"IF(ISBLANK(B136),\"\",IF(ISBLANK(G136),\"\",RowFunc(B136,G136)))","v":0},{"$f":"IF(A136=\"\",\"\",SUMIF(Catchment!$K$5:$K$300,A136,Catchment!$X$5:$X$300))","v":""},{"$f":"IFERROR(IF(I136>=0.5,INTERPRNG_h($F136,'STU Treatment Values'!$B$5:$K$27,0,1,$J136),INTERPRNG_h($F136,'STU Treatment Values'!$B$29:$K$51,0,1,$J136)),\"\")","v":""},"",{"$f":"IF(A136=\"\",\"\",SUMIF(Catchment!$K$5:$K$300,A136,Catchment!$Y$5:$Y$300))","v":""},{"$f":"IFERROR(IF(I136>=0.5,INTERPRNG_h($F136,'STU Treatment Values'!$N$5:$W$27,0,1,$J136),INTERPRNG_h($F136,'STU Treatment Values'!$N$29:$W$51,0,1,$J136)),\"\")","v":""},"",{"$f":"IF(A136=\"\",\"\",SUMIF(Catchment!$K$5:$K$300,A136,Catchment!$Z$5:$Z$300))","v":""},{"$f":"IFERROR(IF(I136>=0.5,INTERPRNG_h($F136,'STU Treatment Values'!$Z$5:$AI$27,0,1,$J136),INTERPRNG_h($F136,'STU Treatment Values'!$Z$29:$AI$51,0,1,$J136)),\"\")","v":""},"",{"$f":"IF(A136=\"\",\"\",SUMIF(Catchment!$K$5:$K$300,A136,Catchment!$AA$5:$AA$300))","v":""},{"$f":"IFERROR(IF(I136>=0.5,INTERPRNG_h($F136,'STU Treatment Values'!$AL$5:$AU$27,0,1,$J136),INTERPRNG_h($F136,'STU Treatment Values'!$AL$29:$AU$51,0,1,$J136)),\"\")","v":""},"","","","",{"$f":"IFERROR(INTERPRNG_h($F136,'STU Treatment Values'!$B$79:$K$101,0,1,$J136),\"\")","v":""},{"$f":"IFERROR(INTERPRNG_h($F136,'STU Treatment Values'!$B$54:$K$76,0,1,$J136),\"\")","v":""},"","",{"$f":"IFERROR(INTERPRNG_h($F136,'STU Treatment Values'!$B$104:$K$126,0,1,$J136),\"\")","v":""},""]
[null,{"$f":"IF(A137=\"\",\"\",VLOOKUP(A137,STU!$A$5:$G$300,7,0))","v":""},{"$f":"IF(A137=\"\",\"\",SUMIF(Catchment!$K$5:$K$300,A137,Catchment!$V$5:$V$300))","v":""},{"$f":"IF(A137=\"\",\"\",SUMIF(Catchment!$K$5:$K$300,A137,Catchment!$L$5:$L$300))","v":""},{"$f":"IF(A137=\"\",\"\",VLOOKUP(A137,'RIDOT STU History (inputs)'!$A$5:$K$300,11,0))","v":""},"",{"$f":"IF(A137=\"\",\"\",VLOOKUP(A137,'RIDOT STU History (inputs)'!$A$5:$K$79,10,0))","v":""},"","",{"$f":"IF(ISBLANK(B137),\"\",IF(ISBLANK(G137),\"\",RowFunc(B137,G137)))","v":0},{"$f":"IF(A137=\"\",\"\",SUMIF(Catchment!$K$5:$K$300,A137,Catchment!$X$5:$X$300))","v":""},{"$f":"IFERROR(IF(I137>=0.5,INTERPRNG_h($F137,'STU Treatment Values'!$B$5:$K$27,0,1,$J137),INTERPRNG_h($F137,'STU Treatment Values'!$B$29:$K$51,0,1,$J137)),\"\")","v":""},"",{"$f":"IF(A137=\"\",\"\",SUMIF(Catchment!$K$5:$K$300,A137,Catchment!$Y$5:$Y$300))","v":""},{"$f":"IFERROR(IF(I137>=0.5,INTERPRNG_h($F137,'STU Treatment Values'!$N$5:$W$27,0,1,$J137),INTERPRNG_h($F137,'STU Treatment Values'!$N$29:$W$51,0,1,$J137)),\"\")","v":""},"",{"$f":"IF(A137=\"\",\"\",SUMIF(Catchment!$K$5:$K$300,A137,Catchment!$Z$5:$Z$300))","v":""},{"$f":"IFERROR(IF(I137>=0.5,INTERPRNG_h($F137,'STU Treatment Values'!$Z$5:$AI$27,0,1,$J137),INTERPRNG_h($F137,'STU Treatment Values'!$Z$29:$AI$51,0,1,$J137)),\"\")","v":""},"",{"$f":"IF(A137=\"\",\"\",SUMIF(Catchment!$K$5:$K$300,A137,Catchment!$AA$5:$AA$300))","v":""},{"$f":"IFERROR(IF(I137>=0.5,INTERPRNG_h($F137,'STU Treatment Values'!$AL$5:$AU$27,0,1,$J137),INTERPRNG_h($F137,'STU Treatment Values'!$AL$29:$AU$51,0,1,$J137)),\"\")","v":""},"","","","",{"$f":"IFERROR(INTERPRNG_h($F137,'STU Treatment Values'!$B$79:$K$101,0,1,$J137),\"\")","v":""},{"$f":"IFERROR(INTERPRNG_h($F137,'STU Treatment Values'!$B$54:$K$76,0,1,$J137),\"\")","v":""},"","",{"$f":"IFERROR(INTERPRNG_h($F137,'STU Treatment Values'!$B$104:$K$126,0,1,$J137),\"\")","v":""},""]
[null,{"$f":"IF(A138=\"\",\"\",VLOOKUP(A138,STU!$A$5:$G$300,7,0))","v":""},{"$f":"IF(A138=\"\",\"\",SUMIF(Catchment!$K$5:$K$300,A138,Catchment!$V$5:$V$300))","v":""},{"$f":"IF(A138=\"\",\"\",SUMIF(Catchment!$K$5:$K$300,A138,Catchment!$L$5:$L$300))","v":""},{"$f":"IF(A138=\"\",\"\",VLOOKUP(A138,'RIDOT STU History (inputs)'!$A$5:$K$300,11,0))","v":""},{"$f":"IF(A138=\"\",\"\",IF(B138=\"Limited ROW\",0.25,E138/D138*12))","v":""},{"$f":"IF(A138=\"\",\"\",VLOOKUP(A138,'RIDOT STU History (inputs)'!$A$5:$K$79,10,0))","v":""},{"$f":"IF(A138=\"\",\"\",C138-D138)","v":""},"",{"$f":"IF(ISBLANK(B138),\"\",IF(ISBLANK(G138),\"\",RowFunc(B138,G138)))","v":0},{"$f":"IF(A138=\"\",\"\",SUMIF(Catchment!$K$5:$K$300,A138,Catchment!$X$5:$X$300))","v":""},{"$f":"IFERROR(IF(I138>=0.5,INTERPRNG_h($F138,'STU Treatment Values'!$B$5:$K$27,0,1,$J138),INTERPRNG_h($F138,'STU Treatment Values'!$B$29:$K$51,0,1,$J138)),\"\")","v":""},"",{"$f":"IF(A138=\"\",\"\",SUMIF(Catchment!$K$5:$K$300,A138,Catchment!$Y$5:$Y$300))","v":""},{"$f":"IFERROR(IF(I138>=0.5,INTERPRNG_h($F138,'STU Treatment Values'!$N$5:$W$27,0,1,$J138),INTERPRNG_h($F138,'STU Treatment Values'!$N$29:$W$51,0,1,$J138)),\"\")","v":""},"",{"$f":"IF(A138=\"\",\"\",SUMIF(Catchment!$K$5:$K$300,A138,Catchment!$Z$5:$Z$300))","v":""},{"$f":"IFERROR(IF(I138>=0.5,INTERPRNG_h($F138,'STU Treatment Values'!$Z$5:$AI$27,0,1,$J138),INTERPRNG_h($F138,'STU Treatment Values'!$Z$29:$AI$51,0,1,$J138)),\"\")","v":""},"",{"$f":"IF(A138=\"\",\"\",SUMIF(Catchment!$K$5:$K$300,A138,Catchment!$AA$5:$AA$300))","v":""},{"$f":"IFERROR(IF(I138>=0.5,INTERPRNG_h($F138,'STU Treatment Values'!$AL$5:$AU$27,0,1,$J138),INTERPRNG_h($F138,'STU Treatment Values'!$AL$29:$AU$51,0,1,$J138)),\"\")","v":""},{"$f":"IF(B138=\"Limited ROW\",U138*T138*0.1,IFERROR(U138*T138,\"\"))","v":""},{"$f":"IF(A138=\"\",\"\",D138/43560)","v":""},{"$f":"IFERROR(IF(O138/0.9>1,1,O138/0.9),\"\")","v":""},{"$f":"IFERROR(IF(L138/0.9>1,1,L138/0.9),\"\")","v":""},{"$f":"IFERROR(INTERPRNG_h($F138,'STU Treatment Values'!$B$79:$K$101,0,1,$J138),\"\")","v":""},{"$f":"IFERROR(INTERPRNG_h($F138,'STU Treatment Values'!$B$54:$K$76,0,1,$J138),\"\")","v":""},{"$f":"IFERROR((X138+Y138+Z138+AA138)/4,\"\")","v":""},{"$f":"IF(B138=\"Limited ROW\",W138*AB138*0.1,IFERROR(AB138*W138,\"\"))","v":""},{"$f":"IFERROR(INTERPRNG_h($F138,'STU Treatment Values'!$B$104:$K$126,0,1,$J138),\"\")","v":""},{"$f":"IF(B138=\"Limited ROW\",AD138*(D138*0.1/43560*3.559+H138*0.1/43560*0.239),IFERROR(AD138*(D138/43560*3.559+H138/43560*0.239),\"\"))","v":""}]
[null,{"$f":"IF(A139=\"\",\"\",VLOOKUP(A139,STU!$A$5:$G$300,7,0))","v":""},{"$f":"IF(A139=\"\",\"\",SUMIF(Catchment!$K$5:$K$300,A139,Catchment!$V$5:$V$300))","v":""},{"$f":"IF(A139=\"\",\"\",SUMIF(Catchment!$K$5:$K$300,A139,Catchment!$L$5:$L$300))","v":""},{"$f":"IF(A139=\"\",\"\",VLOOKUP(A139,'RIDOT STU History (inputs)'!$A$5:$K$300,11,0))","v":""},"",{"$f":"IF(A139=\"\",\"\",VLOOKUP(A139,'RIDOT STU History (inputs)'!$A$5:$K$79,10,0))","v":""},"","",{"$f":"IF(ISBLANK(B139),\"\",IF(ISBLANK(G139),\"\",RowFunc(B139,G139)))","v":0},{"$f":"IF(A139=\"\",\"\",SUMIF(Catchment!$K$5:$K$300,A139,Catchment!$X$5:$X$300))","v":""},{"$f":"IFERROR(IF(I139>=0.5,INTERPRNG_h($F139,'STU Treatment Values'!$B$5:$K$27,0,1,$J139),INTERPRNG_h($F139,'STU Treatment Values'!$B$29:$K$51,0,1,$J139)),\"\")","v":""},"",{"$f":"IF(A139=\"\",\"\",SUMIF(Catchment!$K$5:$K$300,A139,Catchment!$Y$5:$Y$300))","v":""},{"$f":"IFERROR(IF(I139>=0.5,INTERPRNG_h($F139,'STU Treatment Values'!$N$5:$W$27,0,1,$J139),INTERPRNG_h($F139,'STU Treatment Values'!$N$29:$W$51,0,1,$J139)),\"\")","v":""},"",{"$f":"IF(A139=\"\",\"\",SUMIF(Catchment!$K$5:$K$300,A139,Catchment!$Z$5:$Z$300))","v":""},{"$f":"IFERROR(IF(I139>=0.5,INTERPRNG_h($F139,'STU Treatment Values'!$Z$5:$AI$27,0,1,$J139),INTERPRNG_h($F139,'STU Treatment Values'!$Z$29:$AI$51,0,1,$J139)),\"\")","v":""},"",{"$f":"IF(A139=\"\",\"\",SUMIF(Catchment!$K$5:$K$300,A139,Catchment!$AA$5:$AA$300))","v":""},{"$f":"IFERROR(IF(I139>=0.5,INTERPRNG_h($F139,'STU Treatment Values'!$AL$5:$AU$27,0,1,$J139),INTERPRNG_h($F139,'STU Treatment Values'!$AL$29:$AU$51,0,1,$J139)),\"\")","v":""},"","","","",{"$f":"IFERROR(INTERPRNG_h($F139,'STU Treatment Values'!$B$79:$K$101,0,1,$J139),\"\")","v":""},{"$f":"IFERROR(INTERPRNG_h($F139,'STU Treatment Values'!$B$54:$K$76,0,1,$J139),\"\")","v":""},"","",{"$f":"IFERROR(INTERPRNG_h($F139,'STU Treatment Values'!$B$104:$K$126,0,1,$J139),\"\")","v":""},""]
[null,{"$f":"IF(A140=\"\",\"\",VLOOKUP(A140,STU!$A$5:$G$300,7,0))","v":""},{"$f":"IF(A140=\"\",\"\",SUMIF(Catchment!$K$5:$K$300,A140,Catchment!$V$5:$V$300))","v":""},{"$f":"IF(A140=\"\",\"\",SUMIF(Catchment!$K$5:$K$300,A140,Catchment!$L$5:$L$300))","v":""},{"$f":"IF(A140=\"\",\"\",VLOOKUP(A140,'RIDOT STU History (inputs)'!$A$5:$K$300,11,0))","v":""},"",{"$f":"IF(A140=\"\",\"\",VLOOKUP(A140,'RIDOT STU History (inputs)'!$A$5:$K$79,10,0))","v":""},"","",{"$f":"IF(ISBLANK(B140),\"\",IF(ISBLANK(G140),\"\",RowFunc(B140,G140)))","v":0},{"$f":"IF(A140=\"\",\"\",SUMIF(Catchment!$K$5:$K$300,A140,Catchment!$X$5:$X$300))","v":""},{"$f":"IFERROR(IF(I140>=0.5,INTERPRNG_h($F140,'STU Treatment Values'!$B$5:$K$27,0,1,$J140),INTERPRNG_h($F140,'STU Treatment Values'!$B$29:$K$51,0,1,$J140)),\"\")","v":""},"",{"$f":"IF(A140=\"\",\"\",SUMIF(Catchment!$K$5:$K$300,A140,Catchment!$Y$5:$Y$300))","v":""},{"$f":"IFERROR(IF(I140>=0.5,INTERPRNG_h($F140,'STU Treatment Values'!$N$5:$W$27,0,1,$J140),INTERPRNG_h($F140,'STU Treatment Values'!$N$29:$W$51,0,1,$J140)),\"\")","v":""},"",{"$f":"IF(A140=\"\",\"\",SUMIF(Catchment!$K$5:$K$300,A140,Catchment!$Z$5:$Z$300))","v":""},{"$f":"IFERROR(IF(I140>=0.5,INTERPRNG_h($F140,'STU Treatment Values'!$Z$5:$AI$27,0,1,$J140),INTERPRNG_h($F140,'STU Treatment Values'!$Z$29:$AI$51,0,1,$J140)),\"\")","v":""},"",{"$f":"IF(A140=\"\",\"\",SUMIF(Catchment!$K$5:$K$300,A140,Catchment!$AA$5:$AA$300))","v":""},{"$f":"IFERROR(IF(I140>=0.5,INTERPRNG_h($F140,'STU Treatment Values'!$AL$5:$AU$27,0,1,$J140),INTERPRNG_h($F140,'STU Treatment Values'!$AL$29:$AU$51,0,1,$J140)),\"\")","v":""},"","","","",{"$f":"IFERROR(INTERPRNG_h($F140,'STU Treatment Values'!$B$79:$K$101,0,1,$J140),\"\")","v":""},{"$f":"IFERROR(INTERPRNG_h($F140,'STU Treatment Values'!$B$54:$K$76,0,1,$J140),\"\")","v":""},"","",{"$f":"IFERROR(INTERPRNG_h($F140,'STU Treatment Values'!$B$104:$K$126,0,1,$J140),\"\")","v":""},""]
[null,{"$f":"IF(A141=\"\",\"\",VLOOKUP(A141,STU!$A$5:$G$300,7,0))","v":""},{"$f":"IF(A141=\"\",\"\",SUMIF(Catchment!$K$5:$K$300,A141,Catchment!$V$5:$V$300))","v":""},{"$f":"IF(A141=\"\",\"\",SUMIF(Catchment!$K$5:$K$300,A141,Catchment!$L$5:$L$300))","v":""},{"$f":"IF(A141=\"\",\"\",VLOOKUP(A141,'RIDOT STU History (inputs)'!$A$5:$K$300,11,0))","v":""},"",{"$f":"IF(A141=\"\",\"\",VLOOKUP(A141,'RIDOT STU History (inputs)'!$A$5:$K$79,10,0))","v":""},"","",{"$f":"IF(ISBLANK(B141),\"\",IF(ISBLANK(G141),\"\",RowFunc(B141,G141)))","v":0},{"$f":"IF(A141=\"\",\"\",SUMIF(Catchment!$K$5:$K$300,A141,Catchment!$X$5:$X$300))","v":""},{"$f":"IFERROR(IF(I141>=0.5,INTERPRNG_h($F141,'STU Treatment Values'!$B$5:$K$27,0,1,$J141),INTERPRNG_h($F141,'STU Treatment Values'!$B$29:$K$51,0,1,$J141)),\"\")","v":""},"",{"$f":"IF(A141=\"\",\"\",SUMIF(Catchment!$K$5:$K$300,A141,Catchment!$Y$5:$Y$300))","v":""},{"$f":"IFERROR(IF(I141>=0.5,INTERPRNG_h($F141,'STU Treatment Values'!$N$5:$W$27,0,1,$J141),INTERPRNG_h($F141,'STU Treatment Values'!$N$29:$W$51,0,1,$J141)),\"\")","v":""},"",{"$f":"IF(A141=\"\",\"\",SUMIF(Catchment!$K$5:$K$300,A141,Catchment!$Z$5:$Z$300))","v":""},{"$f":"IFERROR(IF(I141>=0.5,INTERPRNG_h($F141,'STU Treatment Values'!$Z$5:$AI$27,0,1,$J141),INTERPRNG_h($F141,'STU Treatment Values'!$Z$29:$AI$51,0,1,$J141)),\"\")","v":""},"",{"$f":"IF(A141=\"\",\"\",SUMIF(Catchment!$K$5:$K$300,A141,Catchment!$AA$5:$AA$300))","v":""},{"$f":"IFERROR(IF(I141>=0.5,INTERPRNG_h($F141,'STU Treatment Values'!$AL$5:$AU$27,0,1,$J141),INTERPRNG_h($F141,'STU Treatment Values'!$AL$29:$AU$51,0,1,$J141)),\"\")","v":""},"","","","",{"$f":"IFERROR(INTERPRNG_h($F141,'STU Treatment Values'!$B$79:$K$101,0,1,$J141),\"\")","v":""},{"$f":"IFERROR(INTERPRNG_h($F141,'STU Treatment Values'!$B$54:$K$76,0,1,$J141),\"\")","v":""},"","",{"$f":"IFERROR(INTERPRNG_h($F141,'STU Treatment Values'!$B$104:$K$126,0,1,$J141),\"\")","v":""},""]
[null,{"$f":"IF(A142=\"\",\"\",VLOOKUP(A142,STU!$A$5:$G$300,7,0))","v":""},{"$f":"IF(A142=\"\",\"\",SUMIF(Catchment!$K$5:$K$300,A142,Catchment!$V$5:$V$300))","v":""},{"$f":"IF(A142=\"\",\"\",SUMIF(Catchment!$K$5:$K$300,A142,Catchment!$L$5:$L$300))","v":""},{"$f":"IF(A142=\"\",\"\",VLOOKUP(A142,'RIDOT STU History (inputs)'!$A$5:$K$300,11,0))","v":""},"",{"$f":"IF(A142=\"\",\"\",VLOOKUP(A142,'RIDOT STU History (inputs)'!$A$5:$K$79,10,0))","v":""},"","",{"$f":"IF(ISBLANK(B142),\"\",IF(ISBLANK(G142),\"\",RowFunc(B142,G142)))","v":0},{"$f":"IF(A142=\"\",\"\",SUMIF(Catchment!$K$5:$K$300,A142,Catchment!$X$5:$X$300))","v":""},{"$f":"IFERROR(IF(I142>=0.5,INTERPRNG_h($F142,'STU Treatment Values'!$B$5:$K$27,0,1,$J142),INTERPRNG_h($F142,'STU Treatment Values'!$B$29:$K$51,0,1,$J142)),\"\")","v":""},"",{"$f":"IF(A142=\"\",\"\",SUMIF(Catchment!$K$5:$K$300,A142,Catchment!$Y$5:$Y$300))","v":""},{"$f":"IFERROR(IF(I142>=0.5,INTERPRNG_h($F142,'STU Treatment Values'!$N$5:$W$27,0,1,$J142),INTERPRNG_h($F142,'STU Treatment Values'!$N$29:$W$51,0,1,$J142)),\"\")","v":""},"",{"$f":"IF(A142=\"\",\"\",SUMIF(Catchment!$K$5:$K$300,A142,Catchment!$Z$5:$Z$300))","v":""},{"$f":"IFERROR(IF(I142>=0.5,INTERPRNG_h($F142,'STU Treatment Values'!$Z$5:$AI$27,0,1,$J142),INTERPRNG_h($F142,'STU Treatment Values'!$Z$29:$AI$51,0,1,$J142)),\"\")","v":""},"",{"$f":"IF(A142=\"\",\"\",SUMIF(Catchment!$K$5:$K$300,A142,Catchment!$AA$5:$AA$300))","v":""},{"$f":"IFERROR(IF(I142>=0.5,INTERPRNG_h($F142,'STU Treatment Values'!$AL$5:$AU$27,0,1,$J142),INTERPRNG_h($F142,'STU Treatment Values'!$AL$29:$AU$51,0,1,$J142)),\"\")","v":""},"","","","",{"$f":"IFERROR(INTERPRNG_h($F142,'STU Treatment Values'!$B$79:$K$101,0,1,$J142),\"\")","v":""},{"$f":"IFERROR(INTERPRNG_h($F142,'STU Treatment Values'!$B$54:$K$76,0,1,$J142),\"\")","v":""},"","",{"$f":"IFERROR(INTERPRNG_h($F142,'STU Treatment Values'!$B$104:$K$126,0,1,$J142),\"\")","v":""},""]
[null,{"$f":"IF(A143=\"\",\"\",VLOOKUP(A143,STU!$A$5:$G$300,7,0))","v":""},{"$f":"IF(A143=\"\",\"\",SUMIF(Catchment!$K$5:$K$300,A143,Catchment!$V$5:$V$300))","v":""},{"$f":"IF(A143=\"\",\"\",SUMIF(Catchment!$K$5:$K$300,A143,Catchment!$L$5:$L$300))","v":""},{"$f":"IF(A143=\"\",\"\",VLOOKUP(A143,'RIDOT STU History (inputs)'!$A$5:$K$300,11,0))","v":""},"",{"$f":"IF(A143=\"\",\"\",VLOOKUP(A143,'RIDOT STU History (inputs)'!$A$5:$K$79,10,0))","v":""},"","",{"$f":"IF(ISBLANK(B143),\"\",IF(ISBLANK(G143),\"\",RowFunc(B143,G143)))","v":0},{"$f":"IF(A143=\"\",\"\",SUMIF(Catchment!$K$5:$K$300,A143,Catchment!$X$5:$X$300))","v":""},{"$f":"IFERROR(IF(I143>=0.5,INTERPRNG_h($F143,'STU Treatment Values'!$B$5:$K$27,0,1,$J143),INTERPRNG_h($F143,'STU Treatment Values'!$B$29:$K$51,0,1,$J143)),\"\")","v":""},"",{"$f":"IF(A143=\"\",\"\",SUMIF(Catchment!$K$5:$K$300,A143,Catchment!$Y$5:$Y$300))","v":""},{"$f":"IFERROR(IF(I143>=0.5,INTERPRNG_h($F143,'STU Treatment Values'!$N$5:$W$27,0,1,$J143),INTERPRNG_h($F143,'STU Treatment Values'!$N$29:$W$51,0,1,$J143)),\"\")","v":""},"",{"$f":"IF(A143=\"\",\"\",SUMIF(Catchment!$K$5:$K$300,A143,Catchment!$Z$5:$Z$300))","v":""},{"$f":"IFERROR(IF(I143>=0.5,INTERPRNG_h($F143,'STU Treatment Values'!$Z$5:$AI$27,0,1,$J143),INTERPRNG_h($F143,'STU Treatment Values'!$Z$29:$AI$51,0,1,$J143)),\"\")","v":""},"",{"$f":"IF(A143=\"\",\"\",SUMIF(Catchment!$K$5:$K$300,A143,Catchment!$AA$5:$AA$300))","v":""},{"$f":"IFERROR(IF(I143>=0.5,INTERPRNG_h($F143,'STU Treatment Values'!$AL$5:$AU$27,0,1,$J143),INTERPRNG_h($F143,'STU Treatment Values'!$AL$29:$AU$51,0,1,$J143)),\"\")","v":""},"","","","",{"$f":"IFERROR(INTERPRNG_h($F143,'STU Treatment Values'!$B$79:$K$101,0,1,$J143),\"\")","v":""},{"$f":"IFERROR(INTERPRNG_h($F143,'STU Treatment Values'!$B$54:$K$76,0,1,$J143),\"\")","v":""},"","",{"$f":"IFERROR(INTERPRNG_h($F143,'STU Treatment Values'!$B$104:$K$126,0,1,$J143),\"\")","v":""},""]
[null,{"$f":"IF(A144=\"\",\"\",VLOOKUP(A144,STU!$A$5:$G$300,7,0))","v":""},{"$f":"IF(A144=\"\",\"\",SUMIF(Catchment!$K$5:$K$300,A144,Catchment!$V$5:$V$300))","v":""},{"$f":"IF(A144=\"\",\"\",SUMIF(Catchment!$K$5:$K$300,A144,Catchment!$L$5:$L$300))","v":""},{"$f":"IF(A144=\"\",\"\",VLOOKUP(A144,'RIDOT STU History (inputs)'!$A$5:$K$300,11,0))","v":""},"",{"$f":"IF(A144=\"\",\"\",VLOOKUP(A144,'RIDOT STU History (inputs)'!$A$5:$K$79,10,0))","v":""},"","",{"$f":"IF(ISBLANK(B144),\"\",IF(ISBLANK(G144),\"\",RowFunc(B144,G144)))","v":0},{"$f":"IF(A144=\"\",\"\",SUMIF(Catchment!$K$5:$K$300,A144,Catchment!$X$5:$X$300))","v":""},{"$f":"IFERROR(IF(I144>=0.5,INTERPRNG_h($F144,'STU Treatment Values'!$B$5:$K$27,0,1,$J144),INTERPRNG_h($F144,'STU Treatment Values'!$B$29:$K$51,0,1,$J144)),\"\")","v":""},"",{"$f":"IF(A144=\"\",\"\",SUMIF(Catchment!$K$5:$K$300,A144,Catchment!$Y$5:$Y$300))","v":""},{"$f":"IFERROR(IF(I144>=0.5,INTERPRNG_h($F144,'STU Treatment Values'!$N$5:$W$27,0,1,$J144),INTERPRNG_h($F144,'STU Treatment Values'!$N$29:$W$51,0,1,$J144)),\"\")","v":""},"",{"$f":"IF(A144=\"\",\"\",SUMIF(Catchment!$K$5:$K$300,A144,Catchment!$Z$5:$Z$300))","v":""},{"$f":"IFERROR(IF(I144>=0.5,INTERPRNG_h($F144,'STU Treatment Values'!$Z$5:$AI$27,0,1,$J144),INTERPRNG_h($F144,'STU Treatment Values'!$Z$29:$AI$51,0,1,$J144)),\"\")","v":""},"",{"$f":"IF(A144=\"\",\"\",SUMIF(Catchment!$K$5:$K$300,A144,Catchment!$AA$5:$AA$300))","v":""},{"$f":"IFERROR(IF(I144>=0.5,INTERPRNG_h($F144,'STU Treatment Values'!$AL$5:$AU$27,0,1,$J144),INTERPRNG_h($F144,'STU Treatment Values'!$AL$29:$AU$51,0,1,$J144)),\"\")","v":""},"","","","",{"$f":"IFERROR(INTERPRNG_h($F144,'STU Treatment Values'!$B$79:$K$101,0,1,$J144),\"\")","v":""},{"$f":"IFERROR(INTERPRNG_h($F144,'STU Treatment Values'!$B$54:$K$76,0,1,$J144),\"\")","v":""},"","",{"$f":"IFERROR(INTERPRNG_h($F144,'STU Treatment Values'!$B$104:$K$126,0,1,$J144),\"\")","v":""},""]
[null,{"$f":"IF(A145=\"\",\"\",VLOOKUP(A145,STU!$A$5:$G$300,7,0))","v":""},{"$f":"IF(A145=\"\",\"\",SUMIF(Catchment!$K$5:$K$300,A145,Catchment!$V$5:$V$300))","v":""},{"$f":"IF(A145=\"\",\"\",SUMIF(Catchment!$K$5:$K$300,A145,Catchment!$L$5:$L$300))","v":""},{"$f":"IF(A145=\"\",\"\",VLOOKUP(A145,'RIDOT STU History (inputs)'!$A$5:$K$300,11,0))","v":""},"",{"$f":"IF(A145=\"\",\"\",VLOOKUP(A145,'RIDOT STU History (inputs)'!$A$5:$K$79,10,0))","v":""},"","",{"$f":"IF(ISBLANK(B145),\"\",IF(ISBLANK(G145),\"\",RowFunc(B145,G145)))","v":0},{"$f":"IF(A145=\"\",\"\",SUMIF(Catchment!$K$5:$K$300,A145,Catchment!$X$5:$X$300))","v":""},{"$f":"IFERROR(IF(I145>=0.5,INTERPRNG_h($F145,'STU Treatment Values'!$B$5:$K$27,0,1,$J145),INTERPRNG_h($F145,'STU Treatment Values'!$B$29:$K$51,0,1,$J145)),\"\")","v":""},"",{"$f":"IF(A145=\"\",\"\",SUMIF(Catchment!$K$5:$K$300,A145,Catchment!$Y$5:$Y$300))","v":""},{"$f":"IFERROR(IF(I145>=0.5,INTERPRNG_h($F145,'STU Treatment Values'!$N$5:$W$27,0,1,$J145),INTERPRNG_h($F145,'STU Treatment Values'!$N$29:$W$51,0,1,$J145)),\"\")","v":""},"",{"$f":"IF(A145=\"\",\"\",SUMIF(Catchment!$K$5:$K$300,A145,Catchment!$Z$5:$Z$300))","v":""},{"$f":"IFERROR(IF(I145>=0.5,INTERPRNG_h($F145,'STU Treatment Values'!$Z$5:$AI$27,0,1,$J145),INTERPRNG_h($F145,'STU Treatment Values'!$Z$29:$AI$51,0,1,$J145)),\"\")","v":""},"",{"$f":"IF(A145=\"\",\"\",SUMIF(Catchment!$K$5:$K$300,A145,Catchment!$AA$5:$AA$300))","v":""},{"$f":"IFERROR(IF(I145>=0.5,INTERPRNG_h($F145,'STU Treatment Values'!$AL$5:$AU$27,0,1,$J145),INTERPRNG_h($F145,'STU Treatment Values'!$AL$29:$AU$51,0,1,$J145)),\"\")","v":""},"","","","",{"$f":"IFERROR(INTERPRNG_h($F145,'STU Treatment Values'!$B$79:$K$101,0,1,$J145),\"\")","v":""},{"$f":"IFERROR(INTERPRNG_h($F145,'STU Treatment Values'!$B$54:$K$76,0,1,$J145),\"\")","v":""},"","",{"$f":"IFERROR(INTERPRNG_h($F145,'STU Treatment Values'!$B$104:$K$126,0,1,$J145),\"\")","v":""},""]
[null,{"$f":"IF(A146=\"\",\"\",VLOOKUP(A146,STU!$A$5:$G$300,7,0))","v":""},{"$f":"IF(A146=\"\",\"\",SUMIF(Catchment!$K$5:$K$300,A146,Catchment!$V$5:$V$300))","v":""},{"$f":"IF(A146=\"\",\"\",SUMIF(Catchment!$K$5:$K$300,A146,Catchment!$L$5:$L$300))","v":""},{"$f":"IF(A146=\"\",\"\",VLOOKUP(A146,'RIDOT STU History (inputs)'!$A$5:$K$300,11,0))","v":""},"",{"$f":"IF(A146=\"\",\"\",VLOOKUP(A146,'RIDOT STU History (inputs)'!$A$5:$K$79,10,0))","v":""},"","",{"$f":"IF(ISBLANK(B146),\"\",IF(ISBLANK(G146),\"\",RowFunc(B146,G146)))","v":0},{"$f":"IF(A146=\"\",\"\",SUMIF(Catchment!$K$5:$K$300,A146,Catchment!$X$5:$X$300))","v":""},{"$f":"IFERROR(IF(I146>=0.5,INTERPRNG_h($F146,'STU Treatment Values'!$B$5:$K$27,0,1,$J146),INTERPRNG_h($F146,'STU Treatment Values'!$B$29:$K$51,0,1,$J146)),\"\")","v":""},"",{"$f":"IF(A146=\"\",\"\",SUMIF(Catchment!$K$5:$K$300,A146,Catchment!$Y$5:$Y$300))","v":""},{"$f":"IFERROR(IF(I146>=0.5,INTERPRNG_h($F146,'STU Treatment Values'!$N$5:$W$27,0,1,$J146),INTERPRNG_h($F146,'STU Treatment Values'!$N$29:$W$51,0,1,$J146)),\"\")","v":""},"",{"$f":"IF(A146=\"\",\"\",SUMIF(Catchment!$K$5:$K$300,A146,Catchment!$Z$5:$Z$300))","v":""},{"$f":"IFERROR(IF(I146>=0.5,INTERPRNG_h($F146,'STU Treatment Values'!$Z$5:$AI$27,0,1,$J146),INTERPRNG_h($F146,'STU Treatment Values'!$Z$29:$AI$51,0,1,$J146)),\"\")","v":""},"",{"$f":"IF(A146=\"\",\"\",SUMIF(Catchment!$K$5:$K$300,A146,Catchment!$AA$5:$AA$300))","v":""},{"$f":"IFERROR(IF(I146>=0.5,INTERPRNG_h($F146,'STU Treatment Values'!$AL$5:$AU$27,0,1,$J146),INTERPRNG_h($F146,'STU Treatment Values'!$AL$29:$AU$51,0,1,$J146)),\"\")","v":""},"","","","",{"$f":"IFERROR(INTERPRNG_h($F146,'STU Treatment Values'!$B$79:$K$101,0,1,$J146),\"\")","v":""},{"$f":"IFERROR(INTERPRNG_h($F146,'STU Treatment Values'!$B$54:$K$76,0,1,$J146),\"\")","v":""},"","",{"$f":"IFERROR(INTERPRNG_h($F146,'STU Treatment Values'!$B$104:$K$126,0,1,$J146),\"\")","v":""},""]
[null,{"$f":"IF(A147=\"\",\"\",VLOOKUP(A147,STU!$A$5:$G$300,7,0))","v":""},{"$f":"IF(A147=\"\",\"\",SUMIF(Catchment!$K$5:$K$300,A147,Catchment!$V$5:$V$300))","v":""},{"$f":"IF(A147=\"\",\"\",SUMIF(Catchment!$K$5:$K$300,A147,Catchment!$L$5:$L$300))","v":""},{"$f":"IF(A147=\"\",\"\",VLOOKUP(A147,'RIDOT STU History (inputs)'!$A$5:$K$300,11,0))","v":""},"",{"$f":"IF(A147=\"\",\"\",VLOOKUP(A147,'RIDOT STU History (inputs)'!$A$5:$K$79,10,0))","v":""},"","",{"$f":"IF(ISBLANK(B147),\"\",IF(ISBLANK(G147),\"\",RowFunc(B147,G147)))","v":0},{"$f":"IF(A147=\"\",\"\",SUMIF(Catchment!$K$5:$K$300,A147,Catchment!$X$5:$X$300))","v":""},{"$f":"IFERROR(IF(I147>=0.5,INTERPRNG_h($F147,'STU Treatment Values'!$B$5:$K$27,0,1,$J147),INTERPRNG_h($F147,'STU Treatment Values'!$B$29:$K$51,0,1,$J147)),\"\")","v":""},"",{"$f":"IF(A147=\"\",\"\",SUMIF(Catchment!$K$5:$K$300,A147,Catchment!$Y$5:$Y$300))","v":""},{"$f":"IFERROR(IF(I147>=0.5,INTERPRNG_h($F147,'STU Treatment Values'!$N$5:$W$27,0,1,$J147),INTERPRNG_h($F147,'STU Treatment Values'!$N$29:$W$51,0,1,$J147)),\"\")","v":""},"",{"$f":"IF(A147=\"\",\"\",SUMIF(Catchment!$K$5:$K$300,A147,Catchment!$Z$5:$Z$300))","v":""},{"$f":"IFERROR(IF(I147>=0.5,INTERPRNG_h($F147,'STU Treatment Values'!$Z$5:$AI$27,0,1,$J147),INTERPRNG_h($F147,'STU Treatment Values'!$Z$29:$AI$51,0,1,$J147)),\"\")","v":""},"",{"$f":"IF(A147=\"\",\"\",SUMIF(Catchment!$K$5:$K$300,A147,Catchment!$AA$5:$AA$300))","v":""},{"$f":"IFERROR(IF(I147>=0.5,INTERPRNG_h($F147,'STU Treatment Values'!$AL$5:$AU$27,0,1,$J147),INTERPRNG_h($F147,'STU Treatment Values'!$AL$29:$AU$51,0,1,$J147)),\"\")","v":""},"","","","",{"$f":"IFERROR(INTERPRNG_h($F147,'STU Treatment Values'!$B$79:$K$101,0,1,$J147),\"\")","v":""},{"$f":"IFERROR(INTERPRNG_h($F147,'STU Treatment Values'!$B$54:$K$76,0,1,$J147),\"\")","v":""},"","",{"$f":"IFERROR(INTERPRNG_h($F147,'STU Treatment Values'!$B$104:$K$126,0,1,$J147),\"\")","v":""},""]
[null,{"$f":"IF(A148=\"\",\"\",VLOOKUP(A148,STU!$A$5:$G$300,7,0))","v":""},{"$f":"IF(A148=\"\",\"\",SUMIF(Catchment!$K$5:$K$300,A148,Catchment!$V$5:$V$300))","v":""},{"$f":"IF(A148=\"\",\"\",SUMIF(Catchment!$K$5:$K$300,A148,Catchment!$L$5:$L$300))","v":""},{"$f":"IF(A148=\"\",\"\",VLOOKUP(A148,'RIDOT STU History (inputs)'!$A$5:$K$300,11,0))","v":""},"",{"$f":"IF(A148=\"\",\"\",VLOOKUP(A148,'RIDOT STU History (inputs)'!$A$5:$K$79,10,0))","v":""},"","",{"$f":"IF(ISBLANK(B148),\"\",IF(ISBLANK(G148),\"\",RowFunc(B148,G148)))","v":0},{"$f":"IF(A148=\"\",\"\",SUMIF(Catchment!$K$5:$K$300,A148,Catchment!$X$5:$X$300))","v":""},{"$f":"IFERROR(IF(I148>=0.5,INTERPRNG_h($F148,'STU Treatment Values'!$B$5:$K$27,0,1,$J148),INTERPRNG_h($F148,'STU Treatment Values'!$B$29:$K$51,0,1,$J148)),\"\")","v":""},"",{"$f":"IF(A148=\"\",\"\",SUMIF(Catchment!$K$5:$K$300,A148,Catchment!$Y$5:$Y$300))","v":""},{"$f":"IFERROR(IF(I148>=0.5,INTERPRNG_h($F148,'STU Treatment Values'!$N$5:$W$27,0,1,$J148),INTERPRNG_h($F148,'STU Treatment Values'!$N$29:$W$51,0,1,$J148)),\"\")","v":""},"",{"$f":"IF(A148=\"\",\"\",SUMIF(Catchment!$K$5:$K$300,A148,Catchment!$Z$5:$Z$300))","v":""},{"$f":"IFERROR(IF(I148>=0.5,INTERPRNG_h($F148,'STU Treatment Values'!$Z$5:$AI$27,0,1,$J148),INTERPRNG_h($F148,'STU Treatment Values'!$Z$29:$AI$51,0,1,$J148)),\"\")","v":""},"",{"$f":"IF(A148=\"\",\"\",SUMIF(Catchment!$K$5:$K$300,A148,Catchment!$AA$5:$AA$300))","v":""},{"$f":"IFERROR(IF(I148>=0.5,INTERPRNG_h($F148,'STU Treatment Values'!$AL$5:$AU$27,0,1,$J148),INTERPRNG_h($F148,'STU Treatment Values'!$AL$29:$AU$51,0,1,$J148)),\"\")","v":""},"","","","",{"$f":"IFERROR(INTERPRNG_h($F148,'STU Treatment Values'!$B$79:$K$101,0,1,$J148),\"\")","v":""},{"$f":"IFERROR(INTERPRNG_h($F148,'STU Treatment Values'!$B$54:$K$76,0,1,$J148),\"\")","v":""},"","",{"$f":"IFERROR(INTERPRNG_h($F148,'STU Treatment Values'!$B$104:$K$126,0,1,$J148),\"\")","v":""},""]
[null,{"$f":"IF(A149=\"\",\"\",VLOOKUP(A149,STU!$A$5:$G$300,7,0))","v":""},{"$f":"IF(A149=\"\",\"\",SUMIF(Catchment!$K$5:$K$300,A149,Catchment!$V$5:$V$300))","v":""},{"$f":"IF(A149=\"\",\"\",SUMIF(Catchment!$K$5:$K$300,A149,Catchment!$L$5:$L$300))","v":""},{"$f":"IF(A149=\"\",\"\",VLOOKUP(A149,'RIDOT STU History (inputs)'!$A$5:$K$300,11,0))","v":""},"",{"$f":"IF(A149=\"\",\"\",VLOOKUP(A149,'RIDOT STU History (inputs)'!$A$5:$K$79,10,0))","v":""},"","",{"$f":"IF(ISBLANK(B149),\"\",IF(ISBLANK(G149),\"\",RowFunc(B149,G149)))","v":0},{"$f":"IF(A149=\"\",\"\",SUMIF(Catchment!$K$5:$K$300,A149,Catchment!$X$5:$X$300))","v":""},{"$f":"IFERROR(IF(I149>=0.5,INTERPRNG_h($F149,'STU Treatment Values'!$B$5:$K$27,0,1,$J149),INTERPRNG_h($F149,'STU Treatment Values'!$B$29:$K$51,0,1,$J149)),\"\")","v":""},"",{"$f":"IF(A149=\"\",\"\",SUMIF(Catchment!$K$5:$K$300,A149,Catchment!$Y$5:$Y$300))","v":""},{"$f":"IFERROR(IF(I149>=0.5,INTERPRNG_h($F149,'STU Treatment Values'!$N$5:$W$27,0,1,$J149),INTERPRNG_h($F149,'STU Treatment Values'!$N$29:$W$51,0,1,$J149)),\"\")","v":""},"",{"$f":"IF(A149=\"\",\"\",SUMIF(Catchment!$K$5:$K$300,A149,Catchment!$Z$5:$Z$300))","v":""},{"$f":"IFERROR(IF(I149>=0.5,INTERPRNG_h($F149,'STU Treatment Values'!$Z$5:$AI$27,0,1,$J149),INTERPRNG_h($F149,'STU Treatment Values'!$Z$29:$AI$51,0,1,$J149)),\"\")","v":""},"",{"$f":"IF(A149=\"\",\"\",SUMIF(Catchment!$K$5:$K$300,A149,Catchment!$AA$5:$AA$300))","v":""},{"$f":"IFERROR(IF(I149>=0.5,INTERPRNG_h($F149,'STU Treatment Values'!$AL$5:$AU$27,0,1,$J149),INTERPRNG_h($F149,'STU Treatment Values'!$AL$29:$AU$51,0,1,$J149)),\"\")","v":""},"","","","",{"$f":"IFERROR(INTERPRNG_h($F149,'STU Treatment Values'!$B$79:$K$101,0,1,$J149),\"\")","v":""},{"$f":"IFERROR(INTERPRNG_h($F149,'STU Treatment Values'!$B$54:$K$76,0,1,$J149),\"\")","v":""},"","",{"$f":"IFERROR(INTERPRNG_h($F149,'STU Treatment Values'!$B$104:$K$126,0,1,$J149),\"\")","v":""},""]

{"sheet":"Porous Pavement (underdrained)","index":8,"n_rows":27,"n_cols":30,"rows_kept":27,"cut":false,"hidden":true,"merged":[[13,1,13,4],[20,1,20,4],[4,0,5,8],[5,9,5,29],[6,9,6,11],[6,12,6,14],[6,15,6,17],[6,18,6,20],[6,21,6,27],[6,28,6,29]]}
["This sheet performs water quality calculations for porous pavement (with underdrain) treatment credits."]
["Note to user: These treatment credits only apply to STU Type \"porous pavement w/ underdrain\".  For porous pavement without an underdrain, use the Structural Water Quality Calcs sheet with an STU type of \"porous pavement\"."]
[]
[]
["Porous Pavement (w/ underdrain)"]
[null,null,null,null,null,null,null,null,null,"Water Quality Results"]
[null,null,null,null,null,null,null,null,null,"Phosphorous",null,null,"TSS",null,null,"Nitrogen",null,null,"Zinc",null,null,"Impervious Cover",null,null,null,null,null,null,"Runoff Reduction"]
["STU Name","STU Type*","Catchment Area (sq. ft.)","Impervious Area (Sq. Ft.)","STU Volume definitions  (ft³)","Filter Depth* (in.)","STU Soil Type*","Pervious Area (sq. ft.)","Catchment % Impervious","P Load (lb/yr)","P Removal Credit (%)","P Reduction (lb/yr)","TSS Load (lb/yr)","TSS Removal Credit (%)","TSS Reduction (lb/yr)","Nitrogen Load (lb/yr)","Nitrogen Removal Credit (%)","Nitrogen Reduction (lb/yr)","Zinc Load (lb/yr)","Zinc Removal Credit (%)","Zinc Reduction (lb/yr)","Impervious WS (Acres)","TSS Reduction Factor","Phosphorus Reduction Factor","Runoff Reduction Factor","Flow Factor","Effective IC Reduction (%)","Effective IC Reduction (acres)","Runoff Reduction %","Runoff Reduction (ac-ft)"]
[null,{"$f":"IF(A9=\"\",\"\",VLOOKUP(A9,STU!$A$5:$S$36,7,0))","v":""},{"$f":"IF(A10=\"\",\"\",SUMIF(Catchment!$K$5:$K$39,A9,Catchment!$V$5:$V$39))","v":""},{"$f":"IF(A9=\"\",\"\",SUMIF(Catchment!$K$5:$K$300,A9,Catchment!$L$5:$L$300))","v":""},{"$f":"IF(A9=\"\",\"\",VLOOKUP(A9,'RIDOT STU History (inputs)'!$A$5:$K$56,11,0))","v":""},null,{"$f":"IF(A9=\"\",\"\",VLOOKUP(A9,'RIDOT STU History (inputs)'!$A$5:$K$92,10,0))","v":""},{"$f":"IF(A9=\"\",\"\",C9-D9)","v":""},{"$f":"IF(A9=\"\",\"\",D9/C9)","v":""},{"$f":"IF(A9=\"\",\"\",SUMIF(Catchment!$K$5:$K$300,A9,Catchment!$X$5:$X$300))","v":""},{"$f":"IF(A9=\"\",\"\",HLOOKUP(F9,'Porous Pavement (underdrained)'!$A$15:$E$19,2,0))","v":""},{"$f":"IFERROR(K9*J9,\"\")","v":""},{"$f":"IF(A9=\"\",\"\",SUMIF(Catchment!$K$5:$K$300,A9,Catchment!$Y$5:$Y$300))","v":""},{"$f":"IF(A9=\"\",\"\",HLOOKUP(F9,'Porous Pavement (underdrained)'!$A$15:$E$19,3,0))","v":""},{"$f":"IFERROR(M9*N9,\"\")","v":""},{"$f":"IF(A9=\"\",\"\",SUMIF(Catchment!$K$5:$K$300,A9,Catchment!$Z$5:$Z$300))","v":""},{"$f":"IF(A9=\"\",\"\",HLOOKUP(F9,'Porous Pavement (underdrained)'!$A$15:$E$19,4,0))","v":""},{"$f":"IFERROR(P9*Q9,\"\")","v":""},{"$f":"IF(A9=\"\",\"\",SUMIF(Catchment!$K$5:$K$300,A9,Catchment!$AA$5:$AA$300))","v":""},{"$f":"IF(A9=\"\",\"\",HLOOKUP(F9,'Porous Pavement (underdrained)'!$A$15:$E$19,5,0))","v":""},{"$f":"IFERROR(T9*S9,\"\")","v":""},{"$f":"IF(A9=\"\",\"\",D9/43560)","v":""},{"$f":"IFERROR(IF(N9/0.9>1,1,N9/0.9),\"\")","v":""},{"$f":"IFERROR(IF(K9/0.9>1,1,K9/0.9),\"\")","v":""},{"$f":"IF(A9=\"\",\"\",HLOOKUP(F9,'Porous Pavement (underdrained)'!$A$22:$E$27,5,0))","v":""},{"$f":"IF(A9=\"\",\"\",HLOOKUP(F9,'Porous Pavement (underdrained)'!$A$22:$E$27,4,0))","v":""},{"$f":"IFERROR((W9+X9+Y9+Z9)/4,\"\")","v":""},{"$f":"IFERROR(AA9*V9,\"\")","v":""},{"$f":"IF(A9=\"\",\"\",Y9/1.1)","v":""},{"$f":"IFERROR(AC9*(D9/43560*3.559+H9/43560*0.239),\"\")","v":""}]
[null,{"$f":"IF(A10=\"\",\"\",VLOOKUP(A10,STU!$A$5:$S$36,7,0))","v":""},{"$f":"IF(A11=\"\",\"\",SUMIF(Catchment!$K$5:$K$39,A10,Catchment!$V$5:$V$39))","v":""},{"$f":"IF(A10=\"\",\"\",SUMIF(Catchment!$K$5:$K$300,A10,Catchment!$L$5:$L$300))","v":""},{"$f":"IF(A10=\"\",\"\",VLOOKUP(A10,'RIDOT STU History (inputs)'!$A$5:$K$56,11,0))","v":""},null,{"$f":"IF(A10=\"\",\"\",VLOOKUP(A10,'RIDOT STU History (inputs)'!$A$5:$K$92,10,0))","v":""},{"$f":"IF(A10=\"\",\"\",C10-D10)","v":""},{"$f":"IF(A10=\"\",\"\",D10/C10)","v":""},{"$f":"IF(A10=\"\",\"\",SUMIF(Catchment!$K$5:$K$300,A10,Catchment!$X$5:$X$300))","v":""},{"$f":"IF(A10=\"\",\"\",HLOOKUP(F10,'Porous Pavement (underdrained)'!$A$15:$E$19,2,0))","v":""},{"$f":"IFERROR(K10*J10,\"\")","v":""},{"$f":"IF(A10=\"\",\"\",SUMIF(Catchment!$K$5:$K$300,A10,Catchment!$Y$5:$Y$300))","v":""},{"$f":"IF(A10=\"\",\"\",HLOOKUP(F10,'Porous Pavement (underdrained)'!$A$15:$E$19,3,0))","v":""},{"$f":"IFERROR(M10*N10,\"\")","v":""},{"$f":"IF(A10=\"\",\"\",SUMIF(Catchment!$K$5:$K$300,A10,Catchment!$Z$5:$Z$300))","v":""},{"$f":"IF(A10=\"\",\"\",HLOOKUP(F10,'Porous Pavement (underdrained)'!$A$15:$E$19,4,0))","v":""},{"$f":"IFERROR(P10*Q10,\"\")","v":""},{"$f":"IF(A10=\"\",\"\",SUMIF(Catchment!$K$5:$K$300,A10,Catchment!$AA$5:$AA$300))","v":""},{"$f":"IF(A10=\"\",\"\",HLOOKUP(F10,'Porous Pavement (underdrained)'!$A$15:$E$19,5,0))","v":""},{"$f":"IFERROR(T10*S10,\"\")","v":""},{"$f":"IF(A10=\"\",\"\",D10/43560)","v":""},{"$f":"IFERROR(IF(N10/0.9>1,1,N10/0.9),\"\")","v":""},{"$f":"IFERROR(IF(K10/0.9>1,1,K10/0.9),\"\")","v":""},{"$f":"IF(A10=\"\",\"\",HLOOKUP(F10,'Porous Pavement (underdrained)'!$A$22:$E$27,5,0))","v":""},{"$f":"IF(A10=\"\",\"\",HLOOKUP(F10,'Porous Pavement (underdrained)'!$A$22:$E$27,4,0))","v":""},{"$f":"IFERROR((W10+X10+Y10+Z10)/4,\"\")","v":""},{"$f":"IFERROR(AA10*V10,\"\")","v":""},{"$f":"IF(A10=\"\",\"\",Y10/1.1)","v":""},{"$f":"IFERROR(AC10*(D10/43560*3.559+H10/43560*0.239),\"\")","v":""}]
[null,{"$f":"IF(A11=\"\",\"\",VLOOKUP(A11,STU!$A$5:$S$36,7,0))","v":""},{"$f":"IF(A12=\"\",\"\",SUMIF(Catchment!$K$5:$K$39,A11,Catchment!$V$5:$V$39))","v":""},{"$f":"IF(A11=\"\",\"\",SUMIF(Catchment!$K$5:$K$300,A11,Catchment!$L$5:$L$300))","v":""},{"$f":"IF(A11=\"\",\"\",VLOOKUP(A11,'RIDOT STU History (inputs)'!$A$5:$K$56,11,0))","v":""},null,{"$f":"IF(A11=\"\",\"\",VLOOKUP(A11,'RIDOT STU History (inputs)'!$A$5:$K$92,10,0))","v":""},{"$f":"IF(A11=\"\",\"\",C11-D11)","v":""},{"$f":"IF(A11=\"\",\"\",D11/C11)","v":""},{"$f":"IF(A11=\"\",\"\",SUMIF(Catchment!$K$5:$K$300,A11,Catchment!$X$5:$X$300))","v":""},{"$f":"IF(A11=\"\",\"\",HLOOKUP(F11,'Porous Pavement (underdrained)'!$A$15:$E$19,2,0))","v":""},{"$f":"IFERROR(K11*J11,\"\")","v":""},{"$f":"IF(A11=\"\",\"\",SUMIF(Catchment!$K$5:$K$300,A11,Catchment!$Y$5:$Y$300))","v":""},{"$f":"IF(A11=\"\",\"\",HLOOKUP(F11,'Porous Pavement (underdrained)'!$A$15:$E$19,3,0))","v":""},{"$f":"IFERROR(M11*N11,\"\")","v":""},{"$f":"IF(A11=\"\",\"\",SUMIF(Catchment!$K$5:$K$300,A11,Catchment!$Z$5:$Z$300))","v":""},{"$f":"IF(A11=\"\",\"\",HLOOKUP(F11,'Porous Pavement (underdrained)'!$A$15:$E$19,4,0))","v":""},{"$f":"IFERROR(P11*Q11,\"\")","v":""},{"$f":"IF(A11=\"\",\"\",SUMIF(Catchment!$K$5:$K$300,A11,Catchment!$AA$5:$AA$300))","v":""},{"$f":"IF(A11=\"\",\"\",HLOOKUP(F11,'Porous Pavement (underdrained)'!$A$15:$E$19,5,0))","v":""},{"$f":"IFERROR(T11*S11,\"\")","v":""},{"$f":"IF(A11=\"\",\"\",D11/43560)","v":""},{"$f":"IFERROR(IF(N11/0.9>1,1,N11/0.9),\"\")","v":""},{"$f":"IFERROR(IF(K11/0.9>1,1,K11/0.9),\"\")","v":""},{"$f":"IF(A11=\"\",\"\",HLOOKUP(F11,'Porous Pavement (underdrained)'!$A$22:$E$27,5,0))","v":""},{"$f":"IF(A11=\"\",\"\",HLOOKUP(F11,'Porous Pavement (underdrained)'!$A$22:$E$27,4,0))","v":""},{"$f":"IFERROR((W11+X11+Y11+Z11)/4,\"\")","v":""},{"$f":"IFERROR(AA11*V11,\"\")","v":""},{"$f":"IF(A11=\"\",\"\",Y11/1.1)","v":""},{"$f":"IFERROR(AC11*(D11/43560*3.559+H11/43560*0.239),\"\")","v":""}]
[]
[]
["Porous Pavement","Filter Course Depth (inches) (>50% IC)"]
[null,12,18,24,32]
["TP Removal",0.62,0.7,0.75,0.78]
["TSS Removal",0.92,0.94,0.96,0.97]
["TN Removal",0.76,0.77,0.77,0.79]
["Zinc Removal",0.85,0.97,0.97,0.98]
[]
["Porous Pavement","Filter Course Depth (inches) (>50% IC)"]
[null,12,18,24,32]
["Phosphorus Factor",{"$f":"B16/0.9","v":0.68888888888888888},{"$f":"C16/0.9","v":0.77777777777777768},{"$f":"D16/0.9","v":0.83333333333333326},{"$f":"E16/0.9","v":0.8666666666666667}]
["TSS Factor",{"$f":"IF(B17/0.9>1,1,B17/0.9)","v":1},{"$f":"IF(C17/0.9>1,1,C17/0.9)","v":1},{"$f":"IF(D17/0.9>1,1,D17/0.9)","v":1},{"$f":"IF(E17/0.9>1,1,E17/0.9)","v":1}]
["Flow Factor",1,1,1,1]
["Runoff Factor",1,1,1,1]
["Pervious Cover Factor",{"$f":"SUM(B23:B26)/4","v":0.92222222222222228},{"$f":"SUM(C23:C26)/4","v":0.94444444444444442},{"$f":"SUM(D23:D26)/4","v":0.95833333333333326},{"$f":"SUM(E23:E26)/4","v":0.96666666666666667}]

{"sheet":"Floodplain Reconnection","index":9,"n_rows":10,"n_cols":20,"rows_kept":10,"cut":false,"hidden":true,"merged":[[1,1,1,20],[5,7,5,19]]}
["This sheet outlines the methodology to calculate treatment credit for floodplain reconnection."]
["Note: ","This methodology is under development.  Refer to RIDOT Water Quality Methodology Report for more information. \nConsult with RIDOT and VHB to determine treatment credit for floodplain reconnection projects. "]
[]
[]
[]
[null,null,null,null,null,null,null,"Water Quality Results"]
["STU Name","Activity Type","Watershed Area (ac)","% Impervious","Land Use* ","Treatment Depth (in)","% Annual Rainfall Treated1 ","TP Stream Watershed Load (lb/yr)","TP Reduction (%)","TP Reduction (lb/yr)","TN Stream Watershed Load (lb/yr)","TN Reduction (%)","TN Reduction (lb/yr)","TSS Stream Watershed Load (lb/yr)","TSS Reduction (%)","TSS Reduction (lb/yr)","ZN Stream Watershed Load (lb/yr)","ZN Reduction (%)","ZN Reduction (lb/yr)","Equivalent IC Removal Credit (ac)"]
[null,{"$f":"IF(A8=\"\",\"\",\"Floodplain Reconnection\")","v":""},null,null,null,null,null,null,null,{"$f":"IF(A8=\"\",\"\",G8*I8*H8)","v":""},null,null,{"$f":"IF(A8=\"\",\"\",G8*L8*K8)","v":""},null,null,{"$f":"IF(A8=\"\",\"\",G8*O8*N8)","v":""},null,null,{"$f":"IF(A8=\"\",\"\",G8*R8*Q8)","v":""}]
[null,{"$f":"IF(A9=\"\",\"\",\"Floodplain Reconnection\")","v":""},null,null,null,null,null,null,null,{"$f":"IF(A9=\"\",\"\",G9*I9*H9)","v":""},null,null,{"$f":"IF(A9=\"\",\"\",G9*L9*K9)","v":""},null,null,{"$f":"IF(A9=\"\",\"\",G9*O9*N9)","v":""},null,null,{"$f":"IF(A9=\"\",\"\",G9*R9*Q9)","v":""}]
["1 Requires development of site-specific curves.  Modeling (such as HEC-RAS) required to determine the rainfall event that will overflow into the floodplain. "]

{"sheet":"Urban Tree Canopy","index":10,"n_rows":58,"n_cols":9,"rows_kept":58,"cut":false,"hidden":true,"merged":[[30,1,30,3],[1,0,1,8],[3,5,3,8],[12,0,12,8],[14,1,14,3],[23,1,23,3]]}
["This sheet outlines the methodology to calculate treatment credit for urban tree canopies."]
["Note: This methodology is under development.  Refer to the RIDOT Water Quality Methodology Report for more information. "]
["Consult with RIDOT and VHB to determine treatment credit for urban tree canopies. "]
[null,null,null,null,null,"Water Quality Results"]
["STU Name","Activity Type","Tree Type","Soil Type/Land Cover","Qualifying Conditions Met?1","TN Reduction (lb/yr)","TP Reduction (lb/yr)","TSS Reduction (lb/yr)","Equivalent IC Removal Credit (ac)"]
[null,{"$f":"IF(A6=\"\",\"\",\"Urban Tree Canopy\")","v":""}]
[null,""]
[null,""]
[null,""]
[null,""]
[null,""]
[null,""]
["1Qualifying Conditions include the development of a maintenance plan and leaf litter pickup program, and the consultation of a qualified professional on the selection of appropriate species, site preparation, and siting to provide sufficient soil volume."]
[]
["Soil Type/Land Cover","Load Reduction   (lb/year)"]
[null,"TN","TP","TSS"]
["Broadleaf Deciduous - Large"]
["HSG-A, pervious",1.9962650547058433E-3,3.4418363012169714E-4,0.19274283286815042]
["HSG-B, pervious ",6.7433366209150867E-3,1.1626442449853597E-3,0.65108077719180146]
["HSG-C, pervious",1.163165438745882E-2,2.0054576530101416E-3,1.1230562856856792]
["HSG-D, pervious",1.5318216307814799E-2,2.6410717772094479E-3,1.4790001952372913]
["Unknown soil type, pervious",1.163165438745882E-2,2.0054576530101416E-3,1.1230562856856792]
["Impervious cover",9.4111037491674526E-3,1.6226040946840437E-3,0.90865829302306445]
["Broadleaf Deciduous - Medium"]
["HSG-A, pervious",3.8879731789960735E-3,6.7034020327518516E-4,0.37539051383410371]
["HSG-B, pervious ",1.3282189145148716E-2,2.2900326112325372E-3,1.2824182622902209]
["HSG-C, pervious",2.2884077662290149E-2,3.9455306314293359E-3,2.2094971536004282]
["HSG-D, pervious",3.0086600674344426E-2,5.1873449438524875E-3,2.9049131685573935]
["Unknown soil type, pervious",2.2884077662290149E-2,3.9455306314293359E-3,2.2094971536004282]
["Impervious cover",1.8699279293902794E-2,3.224013671362551E-3,1.8054476559630281]
["Broadleaf Deciduous - Small"]
["HSG-A, pervious",8.1120053511765644E-4,1.3986216122718214E-4,7.8322810287222003E-2]
["HSG-B, pervious ",2.5629958123070447E-3,4.4189582970811123E-4,0.24746166463654229]
["HSG-C, pervious",4.2669989024779189E-3,7.3568946594446875E-4,0.41198610092890253]
["HSG-D, pervious",5.5222303164460989E-3,9.5210867524932739E-4,0.53318085813962335]
["Unknown soil type, pervious",4.2669989024779189E-3,7.3568946594446875E-4,0.41198610092890253]
["Impervious cover",3.253109707054393E-3,5.6088098397489542E-4,0.31409335102594144]
["Coniferous Evergreen - Large"]
["HSG-A, pervious",3.3999999999999998E-3,5.9999999999999995E-4,0.32]
["HSG-B, pervious ",1.12E-2,1.9E-3,1.08]
["HSG-C, pervious",1.8700000000000001E-2,3.2000000000000002E-3,1.81]
["HSG-D, pervious",2.4299999999999999E-2,4.1999999999999997E-3,2.34]
["Unknown soil type, pervious",1.8700000000000001E-2,3.2000000000000002E-3,1.81]
["Impervious cover",1.78E-2,3.0999999999999999E-3,1.72]
["Coniferous Evergreen - Small"]
["HSG-A, pervious",1.1623310814120895E-3,2.004019105882913E-4,0.11222506992944312]
["HSG-B, pervious ",4.3393735604305445E-3,7.4816785524664563E-4,0.41897399893812159]
["HSG-C, pervious",7.6681673217005031E-3,1.3220978140862938E-3,0.74037477588832445]
["HSG-D, pervious",1.0186634427744609E-2,1.7563162806456226E-3,0.98353711716154868]
["Unknown soil type, pervious",7.6681673217005031E-3,1.3220978140862938E-3,0.74037477588832445]
["Impervious cover",9.9831048813611347E-3,1.7212249795450234E-3,0.96388598854521312]
["Unknown Tree Type"]
["HSG-A, pervious",3.8879731789960735E-3,6.7034020327518516E-4,0.37539051383410371]
["HSG-B, pervious ",1.3282189145148716E-2,2.2900326112325372E-3,1.2824182622902209]
["HSG-C, pervious",2.2884077662290149E-2,3.9455306314293359E-3,2.2094971536004282]
["HSG-D, pervious",3.0086600674344426E-2,5.1873449438524875E-3,2.9049131685573935]
["Unknown soil type, pervious",2.2884077662290149E-2,3.9455306314293359E-3,2.2094971536004282]
["Impervious cover",1.8699279293902794E-2,3.224013671362551E-3,1.8054476559630281]

{"sheet":"Agriculture Buffers","index":11,"n_rows":25,"n_cols":14,"rows_kept":25,"cut":false,"hidden":true,"merged":[[1,0,1,19],[4,7,4,13],[13,0,15,0],[13,1,13,3],[14,1,14,3],[13,4,14,6]]}
["This sheet outlines the methodology to calculate treatment credit for agriculture buffers."]
["Note: This methodology is under development.  Refer to the RIDOT Water Quality Methodology Report for more information. "]
["Consult with RIDOT and VHB to determine treatment credit for agriculture buffers."]
[]
[null,null,null,null,null,null,null,"Water Quality Results"]
["STU Name","Activity Type","Buffer Type","Annual Runoff Volume (volume/yr)","TP Concentration (lb/volume)","TN Concentration (lb/volume)","TSS Concentration (lb/volume)","TP Reduction (%)","TP Reduction (lb/yr)","TN Reduction (%)","TN Reduction (lb/yr)","TSS Reduction (%)","TSS Reduction (lb/yr)","Equivalent IC Removal Credit (ac)"]
[null,{"$f":"IF(A7=\"\",\"\",\"Agricultural Buffer\")","v":""}]
[null,{"$f":"IF(A8=\"\",\"\",\"Agricultural Buffer\")","v":""}]
[null,{"$f":"IF(A9=\"\",\"\",\"Agricultural Buffer\")","v":""}]
[]
[]
[]
[]
["Geographic Setting ","Forest (One Side)",null,null,"Grass (One or Both Sides) (%)"]
[null,"(%)"]
[null,"TN","TP","TSS","TN","TP","TSS"]
["Inner Coastal Plain",65,42,56,46,42,56]
["Outer Coastal Plain (well-drained)",31,45,60,21,45,60]
["Outer Coastal Plain (poorly-drained)",56,39,52,39,39,52]
["Tidal Influenced",19,45,60,13,45,60]
["Piedmont (schist/gneiss)",46,36,48,32,36,48]
["Piedmont (sandstone)",56,42,56,39,42,56]
["Valley and Ridge (karst)",34,30,40,24,30,40]
["Valley and Ridge (sandstone/shale)",46,39,52,32,39,52]
["Appalachian Plateau",54,42,56,38,42,56]

{"sheet":"Pervious Land Enhancement","index":12,"n_rows":9,"n_cols":21,"rows_kept":9,"cut":false,"hidden":true,"merged":[[1,0,1,26],[4,14,4,20],[4,4,4,8],[4,9,4,13]]}
["This sheet outlines the methodology to calculate treatment credit for pervious land enhancement. "]
["Note: This methodology is under development.  Refer to the RIDOT Water Quality Methodology Report for more information. "]
["Consult with RIDOT and VHB to determine treatment credit for pervious land enhancement. "]
[]
[null,null,null,null,"Existing Conditions",null,null,null,null,"Enhanced Conditions",null,null,null,null,"Water Quality Results"]
["STU Name","Activity Type","Area (ac)","Land Use*","TP Load (lb/yr)","TN Load (lb/yr)","TSS Load (lb/yr)","Runoff Factor","Flow Factor","TP Load (lb/yr)","TN Load (lb/yr)","TSS Load (lb/yr)","Runoff Factor","Flow Factor","TP Reduction (%)","TP Reduction (lb/yr)","TN Reduction (%)","TN Reduction (lb/yr)","TSS Reduction (%)","TSS Reduction (lb/yr)","Equivalent IC Removal Credit (ac)"]
[null,{"$f":"IF(A7=\"\",\"\",\"Pervious Land Enhancement\")","v":""}]
[null,{"$f":"IF(A8=\"\",\"\",\"Pervious Land Enhancement\")","v":""}]
[null,{"$f":"IF(A9=\"\",\"\",\"Pervious Land Enhancement\")","v":""}]

{"sheet":"Proprietary Technologies","index":13,"n_rows":17,"n_cols":16,"rows_kept":17,"cut":false,"hidden":true,"merged":[[1,0,1,33],[4,3,4,15]]}
["This sheet outlines the methodology to calculate treatment credit for proprietary technologies. "]
["Note: This methodology is under development.  Refer to the RIDOT Water Quality Methodology Report for more information. "]
["Consult with RIDOT and VHB to determine treatment credit for proprietary technologies. "]
[]
[null,null,null,"Water Quality Results"]
["STU Name","STU Type","Impervious Area (sq ft)","TP Load (lb/yr)","TP Reduction (%)","TP Reduction (lb/yr)","TN Load (lb/yr)","TN Reduction (%)","TN Reduction (lb/yr)","TSS Load (lb/yr)","TSS Reduction (%)","TSS Reduction (lb/yr)","Flow Factor","Runoff Factor","Effective IC Reduction (%","Equivalent IC Removal Credit (ac)"]
[null,null,null,{"$f":"IF(A7=\"\",\"\",SUMIF(Catchment!$K$5:$K$39,A7,Catchment!$X$5:$X$39)+SUMIF(#REF!,A7,#REF!))","v":""},{"$f":"IF(B7=\"\",\"\",VLOOKUP(B7,$A$13:$F$17,3,0))","v":""},{"$f":"IFERROR(E7*D7,\"\")","v":""},{"$f":"IF(A7=\"\",\"\",SUMIF(Catchment!$K$5:$K$39,A7,Catchment!$Z$5:$Z$39)+SUMIF(#REF!,A7,#REF!))","v":""},{"$f":"IF(B7=\"\",\"\",VLOOKUP(B7,$A$13:$F$17,4,0))","v":""},{"$f":"IFERROR(H7*G7,\"\")","v":""},{"$f":"IF(A7=\"\",\"\",SUMIF(Catchment!$K$5:$K$39,A7,Catchment!$Y$5:$Y$39)+SUMIF(#REF!,A7,#REF!))","v":""},{"$f":"IF(B7=\"\",\"\",VLOOKUP(B7,$A$13:$F$17,2,0))","v":""},{"$f":"IFERROR(K7*J7,\"\")","v":""},{"$f":"IF(B7=\"\",\"\",VLOOKUP(B7,$A$13:$F$17,6,0))","v":""},{"$f":"IF(B7=\"\",\"\",VLOOKUP(B7,$A$13:$F$17,5,0))","v":""},{"$f":"IFERROR((K7/0.9+E7/0.9+M7+N7)/4,\"\")","v":""},{"$f":"IFERROR(O7*C7,\"\")","v":""}]
[null,null,null,{"$f":"IF(A8=\"\",\"\",SUMIF(Catchment!$K$5:$K$39,A8,Catchment!$X$5:$X$39)+SUMIF(#REF!,A8,#REF!))","v":""},{"$f":"IF(B8=\"\",\"\",VLOOKUP(B8,$A$13:$F$17,3,0))","v":""},{"$f":"IFERROR(E8*D8,\"\")","v":""},{"$f":"IF(A8=\"\",\"\",SUMIF(Catchment!$K$5:$K$39,A8,Catchment!$Z$5:$Z$39)+SUMIF(#REF!,A8,#REF!))","v":""},{"$f":"IF(B8=\"\",\"\",VLOOKUP(B8,$A$13:$F$17,4,0))","v":""},{"$f":"IFERROR(H8*G8,\"\")","v":""},{"$f":"IF(A8=\"\",\"\",SUMIF(Catchment!$K$5:$K$39,A8,Catchment!$Y$5:$Y$39)+SUMIF(#REF!,A8,#REF!))","v":""},{"$f":"IF(B8=\"\",\"\",VLOOKUP(B8,$A$13:$F$17,2,0))","v":""},{"$f":"IFERROR(E8*D8,\"\")","v":""},{"$f":"IF(B8=\"\",\"\",VLOOKUP(B8,$A$13:$F$17,6,0))","v":""},{"$f":"IF(B8=\"\",\"\",VLOOKUP(B8,$A$13:$F$17,5,0))","v":""},{"$f":"IFERROR((K8/0.9+E8/0.9+M8+N8)/4,\"\")","v":""},{"$f":"IFERROR(O8*C8,\"\")","v":""}]
[null,null,null,{"$f":"IF(A9=\"\",\"\",SUMIF(Catchment!$K$5:$K$39,A9,Catchment!$X$5:$X$39)+SUMIF(#REF!,A9,#REF!))","v":""},{"$f":"IF(B9=\"\",\"\",VLOOKUP(B9,$A$13:$F$17,3,0))","v":""},{"$f":"IFERROR(E9*D9,\"\")","v":""},{"$f":"IF(A9=\"\",\"\",SUMIF(Catchment!$K$5:$K$39,A9,Catchment!$Z$5:$Z$39)+SUMIF(#REF!,A9,#REF!))","v":""},{"$f":"IF(B9=\"\",\"\",VLOOKUP(B9,$A$13:$F$17,4,0))","v":""},{"$f":"IFERROR(H9*G9,\"\")","v":""},{"$f":"IF(A9=\"\",\"\",SUMIF(Catchment!$K$5:$K$39,A9,Catchment!$Y$5:$Y$39)+SUMIF(#REF!,A9,#REF!))","v":""},{"$f":"IF(B9=\"\",\"\",VLOOKUP(B9,$A$13:$F$17,2,0))","v":""},{"$f":"IFERROR(E9*D9,\"\")","v":""},{"$f":"IF(B9=\"\",\"\",VLOOKUP(B9,$A$13:$F$17,6,0))","v":""},{"$f":"IF(B9=\"\",\"\",VLOOKUP(B9,$A$13:$F$17,5,0))","v":""},{"$f":"IFERROR((K9/0.9+E9/0.9+M9+N9)/4,\"\")","v":""},{"$f":"IFERROR(O9*C9,\"\")","v":""}]
[null,null,null,{"$f":"IF(A10=\"\",\"\",SUMIF(Catchment!$K$5:$K$39,A10,Catchment!$X$5:$X$39)+SUMIF(#REF!,A10,#REF!))","v":""},{"$f":"IF(B10=\"\",\"\",VLOOKUP(B10,$A$13:$F$17,3,0))","v":""},{"$f":"IFERROR(E10*D10,\"\")","v":""},{"$f":"IF(A10=\"\",\"\",SUMIF(Catchment!$K$5:$K$39,A10,Catchment!$Z$5:$Z$39)+SUMIF(#REF!,A10,#REF!))","v":""},{"$f":"IF(B10=\"\",\"\",VLOOKUP(B10,$A$13:$F$17,4,0))","v":""},{"$f":"IFERROR(H10*G10,\"\")","v":""},{"$f":"IF(A10=\"\",\"\",SUMIF(Catchment!$K$5:$K$39,A10,Catchment!$Y$5:$Y$39)+SUMIF(#REF!,A10,#REF!))","v":""},{"$f":"IF(B10=\"\",\"\",VLOOKUP(B10,$A$13:$F$17,2,0))","v":""},{"$f":"IFERROR(E10*D10,\"\")","v":""},{"$f":"IF(B10=\"\",\"\",VLOOKUP(B10,$A$13:$F$17,6,0))","v":""},{"$f":"IF(B10=\"\",\"\",VLOOKUP(B10,$A$13:$F$17,5,0))","v":""},{"$f":"IFERROR((K10/0.9+E10/0.9+M10+N10)/4,\"\")","v":""},{"$f":"IFERROR(O10*C10,\"\")","v":""}]
[null,null,null,{"$f":"IF(A11=\"\",\"\",SUMIF(Catchment!$K$5:$K$39,A11,Catchment!$X$5:$X$39)+SUMIF(#REF!,A11,#REF!))","v":""},{"$f":"IF(B11=\"\",\"\",VLOOKUP(B11,$A$13:$F$17,3,0))","v":""},{"$f":"IFERROR(E11*D11,\"\")","v":""},{"$f":"IF(A11=\"\",\"\",SUMIF(Catchment!$K$5:$K$39,A11,Catchment!$Z$5:$Z$39)+SUMIF(#REF!,A11,#REF!))","v":""},{"$f":"IF(B11=\"\",\"\",VLOOKUP(B11,$A$13:$F$17,4,0))","v":""},{"$f":"IFERROR(H11*G11,\"\")","v":""},{"$f":"IF(A11=\"\",\"\",SUMIF(Catchment!$K$5:$K$39,A11,Catchment!$Y$5:$Y$39)+SUMIF(#REF!,A11,#REF!))","v":""},{"$f":"IF(B11=\"\",\"\",VLOOKUP(B11,$A$13:$F$17,2,0))","v":""},{"$f":"IFERROR(E11*D11,\"\")","v":""},{"$f":"IF(B11=\"\",\"\",VLOOKUP(B11,$A$13:$F$17,6,0))","v":""},{"$f":"IF(B11=\"\",\"\",VLOOKUP(B11,$A$13:$F$17,5,0))","v":""},{"$f":"IFERROR((K11/0.9+E11/0.9+M11+N11)/4,\"\")","v":""},{"$f":"IFERROR(O11*C11,\"\")","v":""}]
[]
["Type","TSS Reduction (%)","TP Reduction (%)","TN Reduction (%)","Runoff Factor","Flow Factor"]
["Hydrodynamic Devices",25,10,0,0,0]
["Jellyfish Filter",85,50,50,0,0]
["MWS-Linear",85,64,45,0,0]
["Stormceptor",75,0,0,0,0]

{"sheet":"Street Sweeping and CB Cleaning","index":14,"n_rows":15,"n_cols":12,"rows_kept":15,"cut":false,"hidden":true,"merged":[[1,1,1,11],[2,6,2,11],[9,0,9,11],[30,0,31,0],[16,0,16,4],[17,0,17,4],[18,0,18,4],[24,0,25,0],[26,0,27,0],[28,0,29,0],[11,0,11,2],[14,0,14,9]]}
["This sheet calculates treatment credit for enhanced street sweeping and catch basin cleaning."]
["Notes to user:","Per consent decree, \"enhanced\" non-structural STUs shall mean a non-structural STU that exceeds the scope of the required six minimum control measures.\nThis methodology is under development. Consult with RIDOT and VHB."]
[null,null,null,null,null,null,"Water Quality Results"]
["STU Name","Activity Type*","Contributing Area (ac)","Impervious Cover (ac)","Volume of Solids Collected Per Event (ft3)","Annual Sweeping or Cleaning Frequency*","Annual Volume of Solids (ft3)","Phosphorus Reduction (lb/year)","Nitrogen Reduction (lb/year)","TSS Reduction (lb/yr)","Zinc Reduction (lb/yr)","Equivalent IC Removal Credit (ac)"]
[null,null,null,null,null,null,{"$f":"IF(A5=\"\",\"\",E5*F5)","v":""},{"$f":"IF(A5=\"\",\"\",G5*85*$A$14)","v":""},{"$f":"IF(A5=\"\",\"\",G5*85*$B$14)","v":""},{"$f":"IF(A5=\"\",\"\",G5*85)","v":""},{"$f":"IF(A5=\"\",\"\",G5*85*$C$14)","v":""},{"$f":"IF(A5=\"\",\"\",H5/'Pollutant Loading Rates'!$C$9)","v":""}]
[null,null,null,null,null,null,{"$f":"IF(A6=\"\",\"\",E6*F6)","v":""},{"$f":"IF(A6=\"\",\"\",G6*85*$A$14)","v":""},{"$f":"IF(A6=\"\",\"\",G6*85*$B$14)","v":""},{"$f":"IF(A6=\"\",\"\",G6*85)","v":""},{"$f":"IF(A6=\"\",\"\",G6*85*$C$14)","v":""},{"$f":"IF(A6=\"\",\"\",H6/'Pollutant Loading Rates'!$C$9)","v":""}]
[null,null,null,null,null,null,{"$f":"IF(A7=\"\",\"\",E7*F7)","v":""},{"$f":"IF(A7=\"\",\"\",G7*85*$A$14)","v":""},{"$f":"IF(A7=\"\",\"\",G7*85*$B$14)","v":""},{"$f":"IF(A7=\"\",\"\",G7*85)","v":""},{"$f":"IF(A7=\"\",\"\",G7*85*$C$14)","v":""},{"$f":"IF(A7=\"\",\"\",H7/'Pollutant Loading Rates'!$C$9)","v":""}]
[null,null,null,null,null,null,{"$f":"IF(A8=\"\",\"\",E8*F8)","v":""},{"$f":"IF(A8=\"\",\"\",G8*85*$A$14)","v":""},{"$f":"IF(A8=\"\",\"\",G8*85*$B$14)","v":""},{"$f":"IF(A8=\"\",\"\",G8*85)","v":""},{"$f":"IF(A8=\"\",\"\",G8*85*$C$14)","v":""},{"$f":"IF(A8=\"\",\"\",H8/'Pollutant Loading Rates'!$C$9)","v":""}]
[null,null,null,null,null,null,{"$f":"IF(A9=\"\",\"\",E9*F9)","v":""},{"$f":"IF(A9=\"\",\"\",G9*85*$A$14)","v":""},{"$f":"IF(A9=\"\",\"\",G9*85*$B$14)","v":""},{"$f":"IF(A9=\"\",\"\",G9*85)","v":""},{"$f":"IF(A9=\"\",\"\",G9*85*$C$14)","v":""},{"$f":"IF(A9=\"\",\"\",H9/'Pollutant Loading Rates'!$C$9)","v":""}]
[]
[]
["Pollutant to TSS Ratio1"]
["lbs P/ lbs TSS","lbs N/ lbs TSS","lbs Zn/ lbs TSS"]
[6.9999999999999999E-4,7.0000000000000001E-3,1.1999999999999999E-3]
["1 calculated from Table 16 of the USGS Report Quality of Stormwater Runoff Discharged from Massachusetts Highways, 2005-2007. \n"]

{"sheet":"Leaf Litter Removal","index":15,"n_rows":12,"n_cols":6,"rows_kept":12,"cut":false,"hidden":true,"merged":[[1,1,1,10],[3,4,3,5]]}
["This sheet calculates treatment credit for leaf litter removal."]
["Notes to user:","There is currently no method for crediting pollutants other than phosphorus. \nThis methodology is under development. Consult with RIDOT and VHB. "]
[]
[null,null,null,null,"Water Quality Results"]
["STU Name","Activity Type","Contributing Area (ac)","Impervious Cover (ac)","TP Reduction (lb/yr)","Equivalent IC Removal Credit (ac)"]
[null,{"$f":"IF(A6=\"\",\"\",\"Leaf Litter Removal\")","v":""},null,null,{"$f":"IF(A6=\"\",\"\",D6*'Pollutant Loading Rates'!$C$9*B12/100)","v":""},{"$f":"IF(A6=\"\",\"\",E6/'Pollutant Loading Rates'!$C$9)","v":""}]
[null,{"$f":"IF(A7=\"\",\"\",\"Leaf Litter Removal\")","v":""},null,null,{"$f":"IF(A7=\"\",\"\",D7*'Pollutant Loading Rates'!$C$9*B13/100)","v":""},{"$f":"IF(A7=\"\",\"\",E7/'Pollutant Loading Rates'!$C$9)","v":""}]
[null,{"$f":"IF(A8=\"\",\"\",\"Leaf Litter Removal\")","v":""},null,null,{"$f":"IF(A8=\"\",\"\",D8*'Pollutant Loading Rates'!$C$9*B14/100)","v":""},{"$f":"IF(A8=\"\",\"\",E8/'Pollutant Loading Rates'!$C$9)","v":""}]
["1Massachusetts MS4 General Permit. Appendix F Attachment 2. https://www3.epa.gov/region1/npdes/stormwater/ma/2016fpd/appendix-f-2016-ma-sms4-gp.pdf"]
[]
[null,"TP Reduction Factor (%)"]
["Leaf Litter Removal",5]

{"sheet":"Animal Waste Reduction","index":16,"n_rows":16,"n_cols":12,"rows_kept":16,"cut":false,"hidden":true,"merged":[[3,8,3,11],[1,1,1,11]]}
["This sheet outlines the methodology to calculate treatment credit for animal waste reduction for direct removal (e.g., bird or pet wastes) or indirect removal (e.g., manure piles)."]
["Notes to user:","This methodology is under development. Consult with RIDOT and VHB to calculate treatment credit for animal waste projects. \nThere is currently no method for crediting pollutants besides phosphorus. \nFor animal waste removal, IC removal credit is equivalent to annual bacteria removal divided by the existing bacteria loading rate. "]
[]
[null,null,null,null,null,null,null,null,"Water Quality Results "]
["STU Name","Activity Type","Type of Removal*","Type of Animal*","Number of Animals","Contributing Area (ac)","% Impervious","Land Use*","P Removal Credit (lb/yr)","Bacteria Loading (# col/ac/yr)","Bacteria Removal Credit (# col/yr)","Equivalent IC Removal Credit (ac)"]
[null,null,null,null,null,null,null,null,{"$f":"IF(A6=\"\",\"\",IF(C6=\"Direct (Dog or Bird)\",E6*VLOOKUP(D6,$A$12:$C$16,2,0)*VLOOKUP(D6,$A$12:$C$16,3,0),\"Indirect TBD\"))","v":""},{"$f":"IF(A6=\"\",\"\",0.00103*48*0.9*(0.05+0.009*G6)*VLOOKUP(H6,'Pollutant Loading Rates'!$A$4:$G$15,7,0))","v":""},{"$f":"IF(A6=\"\",\"\",\"TBD\")","v":""},{"$f":"IF(A6=\"\",\"\",\"TBD\")","v":""}]
[null,null,null,null,null,null,null,null,{"$f":"IF(A7=\"\",\"\",IF(C7=\"Direct (Dog or Bird)\",E7*VLOOKUP(D7,$A$12:$C$16,2,0)*VLOOKUP(D7,$A$12:$C$16,3,0),\"Indirect TBD\"))","v":""},{"$f":"IF(A7=\"\",\"\",0.00103*48*0.9*(0.05+0.009*G7)*VLOOKUP(H7,'Pollutant Loading Rates'!$A$4:$G$15,7,0))","v":""},{"$f":"IF(A7=\"\",\"\",\"TBD\")","v":""},{"$f":"IF(A7=\"\",\"\",\"TBD\")","v":""}]
[null,null,null,null,null,null,null,null,{"$f":"IF(A8=\"\",\"\",IF(C8=\"Direct (Dog or Bird)\",E8*VLOOKUP(D8,$A$12:$C$16,2,0)*VLOOKUP(D8,$A$12:$C$16,3,0),\"Indirect TBD\"))","v":""},{"$f":"IF(A8=\"\",\"\",0.00103*48*0.9*(0.05+0.009*G8)*VLOOKUP(H8,'Pollutant Loading Rates'!$A$4:$G$15,7,0))","v":""},{"$f":"IF(A8=\"\",\"\",\"TBD\")","v":""},{"$f":"IF(A8=\"\",\"\",\"TBD\")","v":""}]
[null,null,null,null,null,null,null,null,{"$f":"IF(A9=\"\",\"\",IF(C9=\"Direct (Dog or Bird)\",E9*VLOOKUP(D9,$A$12:$C$16,2,0)*VLOOKUP(D9,$A$12:$C$16,3,0),\"Indirect TBD\"))","v":""},{"$f":"IF(A9=\"\",\"\",0.00103*48*0.9*(0.05+0.009*G9)*VLOOKUP(H9,'Pollutant Loading Rates'!$A$4:$G$15,7,0))","v":""},{"$f":"IF(A9=\"\",\"\",\"TBD\")","v":""},{"$f":"IF(A9=\"\",\"\",\"TBD\")","v":""}]
[]
[]
["Animal","lb/animal/yr","lbs P/lb waste","# col bacteria/lb waste"]
["Dog",273.8,2.5000000000000001E-3,"TBD"]
["Geese/large bird",65.7,1.8700000000000001E-2,"TBD"]
["Duck/medium bird",17,1.8700000000000001E-2,"TBD"]
["Pigeon/small bird",6.7,1.8700000000000001E-2,"TBD"]

{"sheet":"Dredging","index":17,"n_rows":20,"n_cols":9,"rows_kept":20,"cut":false,"hidden":true,"merged":[[3,4,3,8],[16,0,16,2],[19,0,19,9],[20,0,20,6]]}
["This sheet outlines the methodology to calculate treatment credit for dredging projects."]
["Notes to user:","This methodology is under development. Consult with RIDOT and VHB to calculate treatment credit for dredging projects. "]
[]
[null,null,null,null,"Water Quality Results "]
["STU Name","Activity Type","Land Use*","Dry TSS Removed (lb/yr)","P Removal Credit (lb/yr)","N Removal Credit (lb/yr)","TSS Removal Credit (lb/yr)","Zinc Removal Credit (lb/yr)","Effective IC Removal Credit (ac)"]
[null,{"$f":"IF(A6=\"\",\"\",\"Dredging\")","v":""},null,null,{"$f":"IF(A6=\"\",\"\",D6*$A$19)","v":""},{"$f":"IF(A6=\"\",\"\",D6*$B$19)","v":""},{"$f":"IF(A6=\"\",\"\",D6)","v":""},{"$f":"IF(A6=\"\",\"\",D6*$C$19)","v":""},{"$f":"IF(A6=\"\",\"\",E6/VLOOKUP(C6,'Pollutant Loading Rates'!$A$4:$G$12,3,0))","v":""}]
[null,{"$f":"IF(A7=\"\",\"\",\"Dredging\")","v":""},null,null,{"$f":"IF(A7=\"\",\"\",D7*$A$19)","v":""},{"$f":"IF(A7=\"\",\"\",D7*$B$19)","v":""},{"$f":"IF(A7=\"\",\"\",D7)","v":""},"",{"$f":"IF(A7=\"\",\"\",E7/VLOOKUP(C7,'Pollutant Loading Rates'!$A$4:$G$12,3,0))","v":""}]
[null,"",null,null,"","","","",{"$f":"IF(A8=\"\",\"\",E8/VLOOKUP(C8,'Pollutant Loading Rates'!$A$4:$G$12,3,0))","v":""}]
[null,"",null,null,"","","","",{"$f":"IF(A9=\"\",\"\",E9/VLOOKUP(C9,'Pollutant Loading Rates'!$A$4:$G$12,3,0))","v":""}]
[null,"",null,null,"","","","",{"$f":"IF(A10=\"\",\"\",E10/VLOOKUP(C10,'Pollutant Loading Rates'!$A$4:$G$12,3,0))","v":""}]
[null,"",null,null,"","","","",{"$f":"IF(A11=\"\",\"\",E11/VLOOKUP(C11,'Pollutant Loading Rates'!$A$4:$G$12,3,0))","v":""}]
[null,"",null,null,"","","","",{"$f":"IF(A12=\"\",\"\",E12/VLOOKUP(C12,'Pollutant Loading Rates'!$A$4:$G$12,3,0))","v":""}]
[null,"",null,null,"","","","",{"$f":"IF(A13=\"\",\"\",E13/VLOOKUP(C13,'Pollutant Loading Rates'!$A$4:$G$12,3,0))","v":""}]
[null,"",null,null,"","","","",{"$f":"IF(A14=\"\",\"\",E14/VLOOKUP(C14,'Pollutant Loading Rates'!$A$4:$G$12,3,0))","v":""}]
[null,"",null,null,"","","","",{"$f":"IF(A15=\"\",\"\",E15/VLOOKUP(C15,'Pollutant Loading Rates'!$A$4:$G$12,3,0))","v":""}]
[]
["Pollutant to TSS Ratio1"]
["lbs P/ lbs TSS","lbs N/ lbs TSS","lbs Zn/ lbs TSS"]
[6.9999999999999999E-4,7.0000000000000001E-3,1.1999999999999999E-3]
["1 calculated from Table 16 of the USGS Report Quality of Stormwater Runoff Discharged from Massachusetts Highways, 2005-2007. \n"]

{"sheet":"Illicit Discharge Elimination","index":18,"n_rows":8,"n_cols":10,"rows_kept":8,"cut":false,"hidden":true,"merged":[[3,6,3,9]]}
["This sheet outlines the methodology to calculate treatment credit for illicit discharge elimination."]
["Notes to user:","This methodology is under development. Consult with RIDOT and VHB for treatment credit for illicit discharge elimination projects. "]
[]
[null,null,null,null,null,null,"Water Quality Results"]
["STU Name","Activity Type","Annual Runoff Volume (volume/yr)","TP Concentration (lb/volume)","TN Concentration (lb/volume)","Zn Concentration (lb/volume)","TP Reduction (lb/yr)","TN Reduction (lb/yr)","Zn Reduction (lb/yr)","Equivalent IC Removal Credit (ac)"]
[null,{"$f":"IF(A6=\"\",\"\",\"Illicit Discharge Elimination\")","v":""},null,null,null,null,{"$f":"IF(A6=\"\",\"\",$D6*C6)","v":""},{"$f":"IF(A6=\"\",\"\",E6*C6)","v":""},{"$f":"IF(A6=\"\",\"\",F6*C6)","v":""}]
[null,{"$f":"IF(A7=\"\",\"\",\"Illicit Discharge Elimination\")","v":""},null,null,null,null,{"$f":"IF(A7=\"\",\"\",D7*C7)","v":""},{"$f":"IF(A7=\"\",\"\",E7*C7)","v":""},{"$f":"IF(A7=\"\",\"\",F7*C7)","v":""}]
[null,{"$f":"IF(A8=\"\",\"\",\"Illicit Discharge Elimination\")","v":""},null,null,null,null,{"$f":"IF(A8=\"\",\"\",D8*C8)","v":""},{"$f":"IF(A8=\"\",\"\",E8*C8)","v":""},{"$f":"IF(A8=\"\",\"\",F8*C8)","v":""}]

{"sheet":"Streambank Restoration","index":19,"n_rows":34,"n_cols":11,"rows_kept":34,"cut":false,"hidden":true,"merged":[[22,0,22,9],[10,0,10,2],[24,3,24,4],[23,0,23,4],[1,1,1,11],[3,6,3,10],[24,8,24,9],[23,5,23,9],[33,0,33,9],[30,0,30,2],[25,3,25,4],[26,3,26,4],[27,3,27,4],[28,3,28,4],[25,8,25,9],[26,8,26,9],[27,8,27,9],[28,8,28,9]]}
["This sheet outlines the methodology to calculate treatment credit for streambank restoration."]
["Notes:","This methodology is under development.  Consult with RIDOT and VHB to calculate treatment credit for streambank restoration projects. "]
[]
[null,null,null,null,null,null,"Water Quality Results "]
["STU Name","Activity Type","Land Use*","Soil Bulk Density (lbs/ft3)1","Eroding Bank Area (ft2)","Bank Erosion Rate (ft/yr)2","P Removal Credit (lb/yr)","N Removal Credit (lb/yr)","TSS Removal Credit (lb/yr)","Zinc Removal Credit (lb/yr)","Effective IC Removal Credit (ac)"]
[null,{"$f":"IF(A6=\"\",\"\",\"Erosion and Gully Repair\")","v":""},null,null,null,null,{"$f":"IF(A6=\"\",\"\",D6*E6*F6*$A$33)","v":""},{"$f":"IF(A6=\"\",\"\",D6*E6*F6*$B$33)","v":""},{"$f":"IF(A6=\"\",\"\",D6*E6*F6)","v":""},{"$f":"IF(A6=\"\",\"\",D6*E6*F6*$C$33)","v":""},{"$f":"IF(A6=\"\",\"\",G6/VLOOKUP(C6,'Pollutant Loading Rates'!$A$4:$G$12,3,0))","v":""}]
[null,{"$f":"IF(A7=\"\",\"\",\"Erosion and Gully Repair\")","v":""},null,null,null,null,{"$f":"IF(A7=\"\",\"\",D7*E7*F7*$A$33)","v":""},{"$f":"IF(A7=\"\",\"\",D7*E7*F7*$B$33)","v":""},{"$f":"IF(A7=\"\",\"\",D7*E7*F7)","v":""},{"$f":"IF(A7=\"\",\"\",D7*E7*F7*$C$33)","v":""},{"$f":"IF(A7=\"\",\"\",G7/VLOOKUP(C7,'Pollutant Loading Rates'!$A$4:$G$12,3,0))","v":""}]
["1 See reference soil bulk densities in table below. "]
["2 See reference bank erosion rates in table below. "]
[]
["Reference Soil Bulk Densities3 "]
["Soil Type","gm/cc","lb/ft3"]
["Sand",1.65,{"$f":"B13*62.428","v":103.00619999999999}]
["Loamy Sand",1.6,99.884799999999998]
["Sandy Loam",1.55,96.763400000000004]
["Loam",1.5,93.641999999999996]
["Silt Loam",1.5,93.641999999999996]
["Silty Clay Loam",1.5,93.641999999999996]
["Clay Loam",1.45,90.520599999999988]
["Clay",1.3,81.156400000000005]
["3https://www.nrcs.usda.gov/wps/portal/nrcs/detail/soils/survey/office/ssr10/tr/?cid=nrcs144p2_074844"]
[]
["Reference Bank Erosion Rates"]
["Stream/Ditch Banks",null,null,null,null,"Roadbanks"]
["LRR (ft/yr)","LRR (ft/yr) Midpoint","Category","Description",null,"LRR (ft/yr)","LRR (ft/yr) Midpoint","Category","Description"]
["0.01 - 0.05",0.03,"Slight","Some bare bank but active erosion not readily apparent. Some rills but no vegetative overhang. No exposed tree roots.",null,"0.01 - 0.05",0.03,"Slight","Some bare roadbank but active erosion not readily apparent. Some rills but no vegetative overhang. Ditch bottom is grass or noneroding."]
["0.06 - 0.2",0.13,"Moderate","Bank is predominantly bare with some rills and vegetative overhang.",null,"0.06 - 0.15",0.105,"Moderate","Roadbank is bare with obvious rills and some vegetative overhang. Minor erosion or sedimentation in ditch bottom."]
["0.3 - 0.5",0.4,"Severe","Bank is bare with rills and severe vegetative overhang. Many exposed tree roots and some fallen trees and slumps or slips. Some changes in cultural features such as fence corners missing and realignment of roads or trails. Channel cross section becomes more U-shaped as opposed to V-shaped.",null,"0.16 - 0.3",0.23,"Severe","Roadbank is bare with rills approaching one foot in depth. Some gullies and overhanging vegetation. Active erosion or sedimentation in ditch bottom. Some fenceposts, tree roots, or culverts eroding out."]
["0.5+",0.5,"Very Severe","Bank is bare with gullies and severe vegetative overhang. Many fallen trees, drains and culverts eroding out and changes in cultural features as above. Massive slips or washouts common. Channel cross-section is U-shaped and streamcourse or gully may be meandering.",null,"0.3+",0.3,"Very Severe","Roadbank is bare with gullies, washouts, and slips. Severe vegetative overhang; fenceposts, powerlines, trees and culverts eroded out. Active erosion or sedimentation in ditch bottoms."]
[]
["Pollutant to TSS Ratio4"]
["lbs P/ lbs TSS","lbs N/ lbs TSS","lbs Zn/ lbs TSS"]
[6.9999999999999999E-4,7.0000000000000001E-3,1.1999999999999999E-3]
["4calculated from Table 16 of the USGS Report Quality of Stormwater Runoff Discharged from Massachusetts Highways, 2005-2007. \n"]

{"sheet":"STU_Cost","index":20,"n_rows":153,"n_cols":10,"rows_kept":153,"cut":false,"hidden":false,"merged":[[0,0,0,9],[1,0,1,9]]}
["This sheet can be used to estimate construction costs for typical structural STUs."]
["Notes to user: \nCalculated cost estimates are base costs and can be adjusted for individual STUs based on judgement or site specific conditions as needed. \nBlank cells in Column D indicate site specific costs estimates are required for the selected STU type.  \nSTUs with a status of active are assumed to have no construction cost and should not be assigned a retrofit priority. \nCurrently this tab only pulls data from the Structural Water Quality Calcs tab.  As non-typical and non-structural STUs are further developed this tab will be updated.  "]
[]
["STU Name","STU Type*","Effective IC Reduction (ac)","Estimated Cost1","Cost per IC Reduction Acre ($/ac)","Cost Per lb P Removed ($/lb P)","Retrofit Priority",null,null,"Annual Inspection & Maintenance Cost"]
["Construction & Design "]
[null,{"$f":"IF(A6=\"\",\"\",IFERROR(VLOOKUP(A6,'Structural Water Quality Calcs'!$A$9:$AC$149,2,0),\"\"))","v":""},{"$f":"IF(A6=\"\",\"\",IFERROR(ROUND(VLOOKUP(A6,'Structural Water Quality Calcs'!$A$9:$AC$149,29,0),2),\"\"))","v":""},{"$f":"IF(A6=\"\",\"\",IF(VLOOKUP(A6,STU!A5:R300,5,0)=\"Active\",0,IF(B6=\"Leaching basin\",E6/C6,IFERROR(ROUND(VLOOKUP(A6,'Structural Water Quality Calcs'!$A$9:$AC$149,5,0)*VLOOKUP(B6,'STU Cost Estimates'!$A$6:$C$27,2,0),-2),\"\"))))","v":""},{"$f":"IF(A6=\"\",\"\",IF(B6=\"Leaching Basin\",508200,IFERROR(ROUND(D6/C6,-2),\"\")))","v":""},{"$f":"IF(A6=\"\",\"\",IFERROR(D6/VLOOKUP(A6,'Structural Water Quality Calcs'!$A$9:$AE$149,13,0),\"\"))","v":""},null,null,null,{"$f":"IF(A6=\"\",\"\",IFERROR(VLOOKUP(B6,'STU Cost Estimates'!$A$6:$C$27,3,0),\"\"))","v":""}]
[null,{"$f":"IF(A7=\"\",\"\",IFERROR(VLOOKUP(A7,'Structural Water Quality Calcs'!$A$9:$AC$149,2,0),\"\"))","v":""},{"$f":"IF(A7=\"\",\"\",IFERROR(ROUND(VLOOKUP(A7,'Structural Water Quality Calcs'!$A$9:$AC$149,29,0),2),\"\"))","v":""},{"$f":"IF(A7=\"\",\"\",IF(B7=\"Leaching basin\",E7/C7,IFERROR(ROUND(VLOOKUP(A7,'Structural Water Quality Calcs'!$A$9:$AC$149,5,0)*VLOOKUP(B7,'STU Cost Estimates'!$A$6:$C$27,2,0),-2),\"\")))","v":""},{"$f":"IF(A7=\"\",\"\",IF(B7=\"Leaching Basin\",508200,IFERROR(ROUND(D7/C7,-2),\"\")))","v":""},{"$f":"IF(A7=\"\",\"\",IFERROR(D7/VLOOKUP(A7,'Structural Water Quality Calcs'!$A$9:$AE$149,13,0),\"\"))","v":""},null,null,null,{"$f":"IF(A7=\"\",\"\",IFERROR(VLOOKUP(B7,'STU Cost Estimates'!$A$6:$C$27,3,0),\"\"))","v":""}]
[null,{"$f":"IF(A8=\"\",\"\",IFERROR(VLOOKUP(A8,'Structural Water Quality Calcs'!$A$9:$AC$149,2,0),\"\"))","v":""},{"$f":"IF(A8=\"\",\"\",IFERROR(ROUND(VLOOKUP(A8,'Structural Water Quality Calcs'!$A$9:$AC$149,29,0),2),\"\"))","v":""},{"$f":"IF(A8=\"\",\"\",IF(B8=\"Leaching basin\",E8/C8,IFERROR(ROUND(VLOOKUP(A8,'Structural Water Quality Calcs'!$A$9:$AC$149,5,0)*VLOOKUP(B8,'STU Cost Estimates'!$A$6:$C$27,2,0),-2),\"\")))","v":""},"",{"$f":"IF(A8=\"\",\"\",IFERROR(D8/VLOOKUP(A8,'Structural Water Quality Calcs'!$A$9:$AE$149,13,0),\"\"))","v":""},null,null,null,{"$f":"IF(A8=\"\",\"\",IFERROR(VLOOKUP(B8,'STU Cost Estimates'!$A$6:$C$27,3,0),\"\"))","v":""}]
[null,{"$f":"IF(A9=\"\",\"\",IFERROR(VLOOKUP(A9,'Structural Water Quality Calcs'!$A$9:$AC$149,2,0),\"\"))","v":""},{"$f":"IF(A9=\"\",\"\",IFERROR(ROUND(VLOOKUP(A9,'Structural Water Quality Calcs'!$A$9:$AC$149,29,0),2),\"\"))","v":""},{"$f":"IF(A9=\"\",\"\",IF(B9=\"Leaching basin\",E9/C9,IFERROR(ROUND(VLOOKUP(A9,'Structural Water Quality Calcs'!$A$9:$AC$149,5,0)*VLOOKUP(B9,'STU Cost Estimates'!$A$6:$C$27,2,0),-2),\"\")))","v":""},"",{"$f":"IF(A9=\"\",\"\",IFERROR(D9/VLOOKUP(A9,'Structural Water Quality Calcs'!$A$9:$AE$149,13,0),\"\"))","v":""},null,null,null,{"$f":"IF(A9=\"\",\"\",IFERROR(VLOOKUP(B9,'STU Cost Estimates'!$A$6:$C$27,3,0),\"\"))","v":""}]
[null,{"$f":"IF(A10=\"\",\"\",IFERROR(VLOOKUP(A10,'Structural Water Quality Calcs'!$A$9:$AC$149,2,0),\"\"))","v":""},{"$f":"IF(A10=\"\",\"\",IFERROR(ROUND(VLOOKUP(A10,'Structural Water Quality Calcs'!$A$9:$AC$149,29,0),2),\"\"))","v":""},{"$f":"IF(A10=\"\",\"\",IF(B10=\"Leaching basin\",E10/C10,IFERROR(ROUND(VLOOKUP(A10,'Structural Water Quality Calcs'!$A$9:$AC$149,5,0)*VLOOKUP(B10,'STU Cost Estimates'!$A$6:$C$27,2,0),-2),\"\")))","v":""},"",{"$f":"IF(A10=\"\",\"\",IFERROR(D10/VLOOKUP(A10,'Structural Water Quality Calcs'!$A$9:$AE$149,13,0),\"\"))","v":""},null,null,null,{"$f":"IF(A10=\"\",\"\",IFERROR(VLOOKUP(B10,'STU Cost Estimates'!$A$6:$C$27,3,0),\"\"))","v":""}]
[null,{"$f":"IF(A11=\"\",\"\",IFERROR(VLOOKUP(A11,'Structural Water Quality Calcs'!$A$9:$AC$149,2,0),\"\"))","v":""},{"$f":"IF(A11=\"\",\"\",IFERROR(ROUND(VLOOKUP(A11,'Structural Water Quality Calcs'!$A$9:$AC$149,29,0),2),\"\"))","v":""},{"$f":"IF(A11=\"\",\"\",IF(B11=\"Leaching basin\",E11/C11,IFERROR(ROUND(VLOOKUP(A11,'Structural Water Quality Calcs'!$A$9:$AC$149,5,0)*VLOOKUP(B11,'STU Cost Estimates'!$A$6:$C$27,2,0),-2),\"\")))","v":""},"",{"$f":"IF(A11=\"\",\"\",IFERROR(D11/VLOOKUP(A11,'Structural Water Quality Calcs'!$A$9:$AE$149,13,0),\"\"))","v":""},null,null,null,{"$f":"IF(A11=\"\",\"\",IFERROR(VLOOKUP(B11,'STU Cost Estimates'!$A$6:$C$27,3,0),\"\"))","v":""}]
[null,{"$f":"IF(A12=\"\",\"\",IFERROR(VLOOKUP(A12,'Structural Water Quality Calcs'!$A$9:$AC$149,2,0),\"\"))","v":""},{"$f":"IF(A12=\"\",\"\",IFERROR(ROUND(VLOOKUP(A12,'Structural Water Quality Calcs'!$A$9:$AC$149,29,0),2),\"\"))","v":""},{"$f":"IF(A12=\"\",\"\",IF(B12=\"Leaching basin\",E12/C12,IFERROR(ROUND(VLOOKUP(A12,'Structural Water Quality Calcs'!$A$9:$AC$149,5,0)*VLOOKUP(B12,'STU Cost Estimates'!$A$6:$C$27,2,0),-2),\"\")))","v":""},"",{"$f":"IF(A12=\"\",\"\",IFERROR(D12/VLOOKUP(A12,'Structural Water Quality Calcs'!$A$9:$AE$149,13,0),\"\"))","v":""},null,null,null,{"$f":"IF(A12=\"\",\"\",IFERROR(VLOOKUP(B12,'STU Cost Estimates'!$A$6:$C$27,3,0),\"\"))","v":""}]
[null,{"$f":"IF(A13=\"\",\"\",IFERROR(VLOOKUP(A13,'Structural Water Quality Calcs'!$A$9:$AC$149,2,0),\"\"))","v":""},{"$f":"IF(A13=\"\",\"\",IFERROR(ROUND(VLOOKUP(A13,'Structural Water Quality Calcs'!$A$9:$AC$149,29,0),2),\"\"))","v":""},{"$f":"IF(A13=\"\",\"\",IF(B13=\"Leaching basin\",E13/C13,IFERROR(ROUND(VLOOKUP(A13,'Structural Water Quality Calcs'!$A$9:$AC$149,5,0)*VLOOKUP(B13,'STU Cost Estimates'!$A$6:$C$27,2,0),-2),\"\")))","v":""},"",{"$f":"IF(A13=\"\",\"\",IFERROR(D13/VLOOKUP(A13,'Structural Water Quality Calcs'!$A$9:$AE$149,13,0),\"\"))","v":""},null,null,null,{"$f":"IF(A13=\"\",\"\",IFERROR(VLOOKUP(B13,'STU Cost Estimates'!$A$6:$C$27,3,0),\"\"))","v":""}]
[null,{"$f":"IF(A14=\"\",\"\",IFERROR(VLOOKUP(A14,'Structural Water Quality Calcs'!$A$9:$AC$149,2,0),\"\"))","v":""},{"$f":"IF(A14=\"\",\"\",IFERROR(ROUND(VLOOKUP(A14,'Structural Water Quality Calcs'!$A$9:$AC$149,29,0),2),\"\"))","v":""},{"$f":"IF(A14=\"\",\"\",IF(B14=\"Leaching basin\",E14/C14,IFERROR(ROUND(VLOOKUP(A14,'Structural Water Quality Calcs'!$A$9:$AC$149,5,0)*VLOOKUP(B14,'STU Cost Estimates'!$A$6:$C$27,2,0),-2),\"\")))","v":""},"",{"$f":"IF(A14=\"\",\"\",IFERROR(D14/VLOOKUP(A14,'Structural Water Quality Calcs'!$A$9:$AE$149,13,0),\"\"))","v":""},null,null,null,{"$f":"IF(A14=\"\",\"\",IFERROR(VLOOKUP(B14,'STU Cost Estimates'!$A$6:$C$27,3,0),\"\"))","v":""}]
[null,{"$f":"IF(A15=\"\",\"\",IFERROR(VLOOKUP(A15,'Structural Water Quality Calcs'!$A$9:$AC$149,2,0),\"\"))","v":""},{"$f":"IF(A15=\"\",\"\",IFERROR(ROUND(VLOOKUP(A15,'Structural Water Quality Calcs'!$A$9:$AC$149,29,0),2),\"\"))","v":""},{"$f":"IF(A15=\"\",\"\",IF(B15=\"Leaching basin\",E15/C15,IFERROR(ROUND(VLOOKUP(A15,'Structural Water Quality Calcs'!$A$9:$AC$149,5,0)*VLOOKUP(B15,'STU Cost Estimates'!$A$6:$C$27,2,0),-2),\"\")))","v":""},"",{"$f":"IF(A15=\"\",\"\",IFERROR(D15/VLOOKUP(A15,'Structural Water Quality Calcs'!$A$9:$AE$149,13,0),\"\"))","v":""},null,null,null,{"$f":"IF(A15=\"\",\"\",IFERROR(VLOOKUP(B15,'STU Cost Estimates'!$A$6:$C$27,3,0),\"\"))","v":""}]
[null,{"$f":"IF(A16=\"\",\"\",IFERROR(VLOOKUP(A16,'Structural Water Quality Calcs'!$A$9:$AC$149,2,0),\"\"))","v":""},{"$f":"IF(A16=\"\",\"\",IFERROR(ROUND(VLOOKUP(A16,'Structural Water Quality Calcs'!$A$9:$AC$149,29,0),2),\"\"))","v":""},{"$f":"IF(A16=\"\",\"\",IF(B16=\"Leaching basin\",E16/C16,IFERROR(ROUND(VLOOKUP(A16,'Structural Water Quality Calcs'!$A$9:$AC$149,5,0)*VLOOKUP(B16,'STU Cost Estimates'!$A$6:$C$27,2,0),-2),\"\")))","v":""},"",{"$f":"IF(A16=\"\",\"\",IFERROR(D16/VLOOKUP(A16,'Structural Water Quality Calcs'!$A$9:$AE$149,13,0),\"\"))","v":""},null,null,null,{"$f":"IF(A16=\"\",\"\",IFERROR(VLOOKUP(B16,'STU Cost Estimates'!$A$6:$C$27,3,0),\"\"))","v":""}]
[null,{"$f":"IF(A17=\"\",\"\",IFERROR(VLOOKUP(A17,'Structural Water Quality Calcs'!$A$9:$AC$149,2,0),\"\"))","v":""},{"$f":"IF(A17=\"\",\"\",IFERROR(ROUND(VLOOKUP(A17,'Structural Water Quality Calcs'!$A$9:$AC$149,29,0),2),\"\"))","v":""},{"$f":"IF(A17=\"\",\"\",IF(B17=\"Leaching basin\",E17/C17,IFERROR(ROUND(VLOOKUP(A17,'Structural Water Quality Calcs'!$A$9:$AC$149,5,0)*VLOOKUP(B17,'STU Cost Estimates'!$A$6:$C$27,2,0),-2),\"\")))","v":""},"",{"$f":"IF(A17=\"\",\"\",IFERROR(D17/VLOOKUP(A17,'Structural Water Quality Calcs'!$A$9:$AE$149,13,0),\"\"))","v":""},null,null,null,{"$f":"IF(A17=\"\",\"\",IFERROR(VLOOKUP(B17,'STU Cost Estimates'!$A$6:$C$27,3,0),\"\"))","v":""}]
[null,{"$f":"IF(A18=\"\",\"\",IFERROR(VLOOKUP(A18,'Structural Water Quality Calcs'!$A$9:$AC$149,2,0),\"\"))","v":""},{"$f":"IF(A18=\"\",\"\",IFERROR(ROUND(VLOOKUP(A18,'Structural Water Quality Calcs'!$A$9:$AC$149,29,0),2),\"\"))","v":""},{"$f":"IF(A18=\"\",\"\",IF(B18=\"Leaching basin\",E18/C18,IFERROR(ROUND(VLOOKUP(A18,'Structural Water Quality Calcs'!$A$9:$AC$149,5,0)*VLOOKUP(B18,'STU Cost Estimates'!$A$6:$C$27,2,0),-2),\"\")))","v":""},"",{"$f":"IF(A18=\"\",\"\",IFERROR(D18/VLOOKUP(A18,'Structural Water Quality Calcs'!$A$9:$AE$149,13,0),\"\"))","v":""},null,null,null,{"$f":"IF(A18=\"\",\"\",IFERROR(VLOOKUP(B18,'STU Cost Estimates'!$A$6:$C$27,3,0),\"\"))","v":""}]
[null,{"$f":"IF(A19=\"\",\"\",IFERROR(VLOOKUP(A19,'Structural Water Quality Calcs'!$A$9:$AC$149,2,0),\"\"))","v":""},{"$f":"IF(A19=\"\",\"\",IFERROR(ROUND(VLOOKUP(A19,'Structural Water Quality Calcs'!$A$9:$AC$149,29,0),2),\"\"))","v":""},{"$f":"IF(A19=\"\",\"\",IF(B19=\"Leaching basin\",E19/C19,IFERROR(ROUND(VLOOKUP(A19,'Structural Water Quality Calcs'!$A$9:$AC$149,5,0)*VLOOKUP(B19,'STU Cost Estimates'!$A$6:$C$27,2,0),-2),\"\")))","v":""},"",{"$f":"IF(A19=\"\",\"\",IFERROR(D19/VLOOKUP(A19,'Structural Water Quality Calcs'!$A$9:$AE$149,13,0),\"\"))","v":""},null,null,null,{"$f":"IF(A19=\"\",\"\",IFERROR(VLOOKUP(B19,'STU Cost Estimates'!$A$6:$C$27,3,0),\"\"))","v":""}]
[null,{"$f":"IF(A20=\"\",\"\",IFERROR(VLOOKUP(A20,'Structural Water Quality Calcs'!$A$9:$AC$149,2,0),\"\"))","v":""},{"$f":"IF(A20=\"\",\"\",IFERROR(ROUND(VLOOKUP(A20,'Structural Water Quality Calcs'!$A$9:$AC$149,29,0),2),\"\"))","v":""},{"$f":"IF(A20=\"\",\"\",IF(B20=\"Leaching basin\",E20/C20,IFERROR(ROUND(VLOOKUP(A20,'Structural Water Quality Calcs'!$A$9:$AC$149,5,0)*VLOOKUP(B20,'STU Cost Estimates'!$A$6:$C$27,2,0),-2),\"\")))","v":""},"",{"$f":"IF(A20=\"\",\"\",IFERROR(D20/VLOOKUP(A20,'Structural Water Quality Calcs'!$A$9:$AE$149,13,0),\"\"))","v":""},null,null,null,{"$f":"IF(A20=\"\",\"\",IFERROR(VLOOKUP(B20,'STU Cost Estimates'!$A$6:$C$27,3,0),\"\"))","v":""}]
[null,{"$f":"IF(A21=\"\",\"\",IFERROR(VLOOKUP(A21,'Structural Water Quality Calcs'!$A$9:$AC$149,2,0),\"\"))","v":""},{"$f":"IF(A21=\"\",\"\",IFERROR(ROUND(VLOOKUP(A21,'Structural Water Quality Calcs'!$A$9:$AC$149,29,0),2),\"\"))","v":""},{"$f":"IF(A21=\"\",\"\",IF(B21=\"Leaching basin\",E21/C21,IFERROR(ROUND(VLOOKUP(A21,'Structural Water Quality Calcs'!$A$9:$AC$149,5,0)*VLOOKUP(B21,'STU Cost Estimates'!$A$6:$C$27,2,0),-2),\"\")))","v":""},"",{"$f":"IF(A21=\"\",\"\",IFERROR(D21/VLOOKUP(A21,'Structural Water Quality Calcs'!$A$9:$AE$149,13,0),\"\"))","v":""},null,null,null,{"$f":"IF(A21=\"\",\"\",IFERROR(VLOOKUP(B21,'STU Cost Estimates'!$A$6:$C$27,3,0),\"\"))","v":""}]
[null,{"$f":"IF(A22=\"\",\"\",IFERROR(VLOOKUP(A22,'Structural Water Quality Calcs'!$A$9:$AC$149,2,0),\"\"))","v":""},{"$f":"IF(A22=\"\",\"\",IFERROR(ROUND(VLOOKUP(A22,'Structural Water Quality Calcs'!$A$9:$AC$149,29,0),2),\"\"))","v":""},{"$f":"IF(A22=\"\",\"\",IF(B22=\"Leaching basin\",E22/C22,IFERROR(ROUND(VLOOKUP(A22,'Structural Water Quality Calcs'!$A$9:$AC$149,5,0)*VLOOKUP(B22,'STU Cost Estimates'!$A$6:$C$27,2,0),-2),\"\")))","v":""},"",{"$f":"IF(A22=\"\",\"\",IFERROR(D22/VLOOKUP(A22,'Structural Water Quality Calcs'!$A$9:$AE$149,13,0),\"\"))","v":""},null,null,null,{"$f":"IF(A22=\"\",\"\",IFERROR(VLOOKUP(B22,'STU Cost Estimates'!$A$6:$C$27,3,0),\"\"))","v":""}]
[null,{"$f":"IF(A23=\"\",\"\",IFERROR(VLOOKUP(A23,'Structural Water Quality Calcs'!$A$9:$AC$149,2,0),\"\"))","v":""},{"$f":"IF(A23=\"\",\"\",IFERROR(ROUND(VLOOKUP(A23,'Structural Water Quality Calcs'!$A$9:$AC$149,29,0),2),\"\"))","v":""},{"$f":"IF(A23=\"\",\"\",IF(B23=\"Leaching basin\",E23/C23,IFERROR(ROUND(VLOOKUP(A23,'Structural Water Quality Calcs'!$A$9:$AC$149,5,0)*VLOOKUP(B23,'STU Cost Estimates'!$A$6:$C$27,2,0),-2),\"\")))","v":""},"",{"$f":"IF(A23=\"\",\"\",IFERROR(D23/VLOOKUP(A23,'Structural Water Quality Calcs'!$A$9:$AE$149,13,0),\"\"))","v":""},null,null,null,{"$f":"IF(A23=\"\",\"\",IFERROR(VLOOKUP(B23,'STU Cost Estimates'!$A$6:$C$27,3,0),\"\"))","v":""}]
[null,{"$f":"IF(A24=\"\",\"\",IFERROR(VLOOKUP(A24,'Structural Water Quality Calcs'!$A$9:$AC$149,2,0),\"\"))","v":""},{"$f":"IF(A24=\"\",\"\",IFERROR(ROUND(VLOOKUP(A24,'Structural Water Quality Calcs'!$A$9:$AC$149,29,0),2),\"\"))","v":""},{"$f":"IF(A24=\"\",\"\",IF(B24=\"Leaching basin\",E24/C24,IFERROR(ROUND(VLOOKUP(A24,'Structural Water Quality Calcs'!$A$9:$AC$149,5,0)*VLOOKUP(B24,'STU Cost Estimates'!$A$6:$C$27,2,0),-2),\"\")))","v":""},"",{"$f":"IF(A24=\"\",\"\",IFERROR(D24/VLOOKUP(A24,'Structural Water Quality Calcs'!$A$9:$AE$149,13,0),\"\"))","v":""},null,null,null,{"$f":"IF(A24=\"\",\"\",IFERROR(VLOOKUP(B24,'STU Cost Estimates'!$A$6:$C$27,3,0),\"\"))","v":""}]
[null,{"$f":"IF(A25=\"\",\"\",IFERROR(VLOOKUP(A25,'Structural Water Quality Calcs'!$A$9:$AC$149,2,0),\"\"))","v":""},{"$f":"IF(A25=\"\",\"\",IFERROR(ROUND(VLOOKUP(A25,'Structural Water Quality Calcs'!$A$9:$AC$149,29,0),2),\"\"))","v":""},{"$f":"IF(A25=\"\",\"\",IF(B25=\"Leaching basin\",E25/C25,IFERROR(ROUND(VLOOKUP(A25,'Structural Water Quality Calcs'!$A$9:$AC$149,5,0)*VLOOKUP(B25,'STU Cost Estimates'!$A$6:$C$27,2,0),-2),\"\")))","v":""},"",{"$f":"IF(A25=\"\",\"\",IFERROR(D25/VLOOKUP(A25,'Structural Water Quality Calcs'!$A$9:$AE$149,13,0),\"\"))","v":""},null,null,null,{"$f":"IF(A25=\"\",\"\",IFERROR(VLOOKUP(B25,'STU Cost Estimates'!$A$6:$C$27,3,0),\"\"))","v":""}]
[null,{"$f":"IF(A26=\"\",\"\",IFERROR(VLOOKUP(A26,'Structural Water Quality Calcs'!$A$9:$AC$149,2,0),\"\"))","v":""},{"$f":"IF(A26=\"\",\"\",IFERROR(ROUND(VLOOKUP(A26,'Structural Water Quality Calcs'!$A$9:$AC$149,29,0),2),\"\"))","v":""},{"$f":"IF(A26=\"\",\"\",IF(B26=\"Leaching basin\",E26/C26,IFERROR(ROUND(VLOOKUP(A26,'Structural Water Quality Calcs'!$A$9:$AC$149,5,0)*VLOOKUP(B26,'STU Cost Estimates'!$A$6:$C$27,2,0),-2),\"\")))","v":""},"",{"$f":"IF(A26=\"\",\"\",IFERROR(D26/VLOOKUP(A26,'Structural Water Quality Calcs'!$A$9:$AE$149,13,0),\"\"))","v":""},null,null,null,{"$f":"IF(A26=\"\",\"\",IFERROR(VLOOKUP(B26,'STU Cost Estimates'!$A$6:$C$27,3,0),\"\"))","v":""}]
[null,{"$f":"IF(A27=\"\",\"\",IFERROR(VLOOKUP(A27,'Structural Water Quality Calcs'!$A$9:$AC$149,2,0),\"\"))","v":""},{"$f":"IF(A27=\"\",\"\",IFERROR(ROUND(VLOOKUP(A27,'Structural Water Quality Calcs'!$A$9:$AC$149,29,0),2),\"\"))","v":""},{"$f":"IF(A27=\"\",\"\",IF(B27=\"Leaching basin\",E27/C27,IFERROR(ROUND(VLOOKUP(A27,'Structural Water Quality Calcs'!$A$9:$AC$149,5,0)*VLOOKUP(B27,'STU Cost Estimates'!$A$6:$C$27,2,0),-2),\"\")))","v":""},"",{"$f":"IF(A27=\"\",\"\",IFERROR(D27/VLOOKUP(A27,'Structural Water Quality Calcs'!$A$9:$AE$149,13,0),\"\"))","v":""},null,null,null,{"$f":"IF(A27=\"\",\"\",IFERROR(VLOOKUP(B27,'STU Cost Estimates'!$A$6:$C$27,3,0),\"\"))","v":""}]
[null,{"$f":"IF(A28=\"\",\"\",IFERROR(VLOOKUP(A28,'Structural Water Quality Calcs'!$A$9:$AC$149,2,0),\"\"))","v":""},{"$f":"IF(A28=\"\",\"\",IFERROR(ROUND(VLOOKUP(A28,'Structural Water Quality Calcs'!$A$9:$AC$149,29,0),2),\"\"))","v":""},{"$f":"IF(A28=\"\",\"\",IF(B28=\"Leaching basin\",E28/C28,IFERROR(ROUND(VLOOKUP(A28,'Structural Water Quality Calcs'!$A$9:$AC$149,5,0)*VLOOKUP(B28,'STU Cost Estimates'!$A$6:$C$27,2,0),-2),\"\")))","v":""},"",{"$f":"IF(A28=\"\",\"\",IFERROR(D28/VLOOKUP(A28,'Structural Water Quality Calcs'!$A$9:$AE$149,13,0),\"\"))","v":""},null,null,null,{"$f":"IF(A28=\"\",\"\",IFERROR(VLOOKUP(B28,'STU Cost Estimates'!$A$6:$C$27,3,0),\"\"))","v":""}]
[null,{"$f":"IF(A29=\"\",\"\",IFERROR(VLOOKUP(A29,'Structural Water Quality Calcs'!$A$9:$AC$149,2,0),\"\"))","v":""},{"$f":"IF(A29=\"\",\"\",IFERROR(ROUND(VLOOKUP(A29,'Structural Water Quality Calcs'!$A$9:$AC$149,29,0),2),\"\"))","v":""},{"$f":"IF(A29=\"\",\"\",IF(B29=\"Leaching basin\",E29/C29,IFERROR(ROUND(VLOOKUP(A29,'Structural Water Quality Calcs'!$A$9:$AC$149,5,0)*VLOOKUP(B29,'STU Cost Estimates'!$A$6:$C$27,2,0),-2),\"\")))","v":""},"",{"$f":"IF(A29=\"\",\"\",IFERROR(D29/VLOOKUP(A29,'Structural Water Quality Calcs'!$A$9:$AE$149,13,0),\"\"))","v":""},null,null,null,{"$f":"IF(A29=\"\",\"\",IFERROR(VLOOKUP(B29,'STU Cost Estimates'!$A$6:$C$27,3,0),\"\"))","v":""}]
[null,{"$f":"IF(A30=\"\",\"\",IFERROR(VLOOKUP(A30,'Structural Water Quality Calcs'!$A$9:$AC$149,2,0),\"\"))","v":""},{"$f":"IF(A30=\"\",\"\",IFERROR(ROUND(VLOOKUP(A30,'Structural Water Quality Calcs'!$A$9:$AC$149,29,0),2),\"\"))","v":""},{"$f":"IF(A30=\"\",\"\",IF(B30=\"Leaching basin\",E30/C30,IFERROR(ROUND(VLOOKUP(A30,'Structural Water Quality Calcs'!$A$9:$AC$149,5,0)*VLOOKUP(B30,'STU Cost Estimates'!$A$6:$C$27,2,0),-2),\"\")))","v":""},"",{"$f":"IF(A30=\"\",\"\",IFERROR(D30/VLOOKUP(A30,'Structural Water Quality Calcs'!$A$9:$AE$149,13,0),\"\"))","v":""},null,null,null,{"$f":"IF(A30=\"\",\"\",IFERROR(VLOOKUP(B30,'STU Cost Estimates'!$A$6:$C$27,3,0),\"\"))","v":""}]
[null,{"$f":"IF(A31=\"\",\"\",IFERROR(VLOOKUP(A31,'Structural Water Quality Calcs'!$A$9:$AC$149,2,0),\"\"))","v":""},{"$f":"IF(A31=\"\",\"\",IFERROR(ROUND(VLOOKUP(A31,'Structural Water Quality Calcs'!$A$9:$AC$149,29,0),2),\"\"))","v":""},{"$f":"IF(A31=\"\",\"\",IF(B31=\"Leaching basin\",E31/C31,IFERROR(ROUND(VLOOKUP(A31,'Structural Water Quality Calcs'!$A$9:$AC$149,5,0)*VLOOKUP(B31,'STU Cost Estimates'!$A$6:$C$27,2,0),-2),\"\")))","v":""},"",{"$f":"IF(A31=\"\",\"\",IFERROR(D31/VLOOKUP(A31,'Structural Water Quality Calcs'!$A$9:$AE$149,13,0),\"\"))","v":""},null,null,null,{"$f":"IF(A31=\"\",\"\",IFERROR(VLOOKUP(B31,'STU Cost Estimates'!$A$6:$C$27,3,0),\"\"))","v":""}]
[null,{"$f":"IF(A32=\"\",\"\",IFERROR(VLOOKUP(A32,'Structural Water Quality Calcs'!$A$9:$AC$149,2,0),\"\"))","v":""},{"$f":"IF(A32=\"\",\"\",IFERROR(ROUND(VLOOKUP(A32,'Structural Water Quality Calcs'!$A$9:$AC$149,29,0),2),\"\"))","v":""},{"$f":"IF(A32=\"\",\"\",IF(B32=\"Leaching basin\",E32/C32,IFERROR(ROUND(VLOOKUP(A32,'Structural Water Quality Calcs'!$A$9:$AC$149,5,0)*VLOOKUP(B32,'STU Cost Estimates'!$A$6:$C$27,2,0),-2),\"\")))","v":""},"",{"$f":"IF(A32=\"\",\"\",IFERROR(D32/VLOOKUP(A32,'Structural Water Quality Calcs'!$A$9:$AE$149,13,0),\"\"))","v":""},null,null,null,{"$f":"IF(A32=\"\",\"\",IFERROR(VLOOKUP(B32,'STU Cost Estimates'!$A$6:$C$27,3,0),\"\"))","v":""}]
[null,{"$f":"IF(A33=\"\",\"\",IFERROR(VLOOKUP(A33,'Structural Water Quality Calcs'!$A$9:$AC$149,2,0),\"\"))","v":""},{"$f":"IF(A33=\"\",\"\",IFERROR(ROUND(VLOOKUP(A33,'Structural Water Quality Calcs'!$A$9:$AC$149,29,0),2),\"\"))","v":""},{"$f":"IF(A33=\"\",\"\",IF(B33=\"Leaching basin\",E33/C33,IFERROR(ROUND(VLOOKUP(A33,'Structural Water Quality Calcs'!$A$9:$AC$149,5,0)*VLOOKUP(B33,'STU Cost Estimates'!$A$6:$C$27,2,0),-2),\"\")))","v":""},"",{"$f":"IF(A33=\"\",\"\",IFERROR(D33/VLOOKUP(A33,'Structural Water Quality Calcs'!$A$9:$AE$149,13,0),\"\"))","v":""},null,null,null,{"$f":"IF(A33=\"\",\"\",IFERROR(VLOOKUP(B33,'STU Cost Estimates'!$A$6:$C$27,3,0),\"\"))","v":""}]
[null,{"$f":"IF(A34=\"\",\"\",IFERROR(VLOOKUP(A34,'Structural Water Quality Calcs'!$A$9:$AC$149,2,0),\"\"))","v":""},{"$f":"IF(A34=\"\",\"\",IFERROR(ROUND(VLOOKUP(A34,'Structural Water Quality Calcs'!$A$9:$AC$149,29,0),2),\"\"))","v":""},{"$f":"IF(A34=\"\",\"\",IF(B34=\"Leaching basin\",E34/C34,IFERROR(ROUND(VLOOKUP(A34,'Structural Water Quality Calcs'!$A$9:$AC$149,5,0)*VLOOKUP(B34,'STU Cost Estimates'!$A$6:$C$27,2,0),-2),\"\")))","v":""},"",{"$f":"IF(A34=\"\",\"\",IFERROR(D34/VLOOKUP(A34,'Structural Water Quality Calcs'!$A$9:$AE$149,13,0),\"\"))","v":""},null,null,null,{"$f":"IF(A34=\"\",\"\",IFERROR(VLOOKUP(B34,'STU Cost Estimates'!$A$6:$C$27,3,0),\"\"))","v":""}]
[null,{"$f":"IF(A35=\"\",\"\",IFERROR(VLOOKUP(A35,'Structural Water Quality Calcs'!$A$9:$AC$149,2,0),\"\"))","v":""},{"$f":"IF(A35=\"\",\"\",IFERROR(ROUND(VLOOKUP(A35,'Structural Water Quality Calcs'!$A$9:$AC$149,29,0),2),\"\"))","v":""},{"$f":"IF(A35=\"\",\"\",IF(B35=\"Leaching basin\",E35/C35,IFERROR(ROUND(VLOOKUP(A35,'Structural Water Quality Calcs'!$A$9:$AC$149,5,0)*VLOOKUP(B35,'STU Cost Estimates'!$A$6:$C$27,2,0),-2),\"\")))","v":""},"",{"$f":"IF(A35=\"\",\"\",IFERROR(D35/VLOOKUP(A35,'Structural Water Quality Calcs'!$A$9:$AE$149,13,0),\"\"))","v":""},null,null,null,{"$f":"IF(A35=\"\",\"\",IFERROR(VLOOKUP(B35,'STU Cost Estimates'!$A$6:$C$27,3,0),\"\"))","v":""}]
[null,{"$f":"IF(A36=\"\",\"\",IFERROR(VLOOKUP(A36,'Structural Water Quality Calcs'!$A$9:$AC$149,2,0),\"\"))","v":""},{"$f":"IF(A36=\"\",\"\",IFERROR(ROUND(VLOOKUP(A36,'Structural Water Quality Calcs'!$A$9:$AC$149,29,0),2),\"\"))","v":""},{"$f":"IF(A36=\"\",\"\",IF(B36=\"Leaching basin\",E36/C36,IFERROR(ROUND(VLOOKUP(A36,'Structural Water Quality Calcs'!$A$9:$AC$149,5,0)*VLOOKUP(B36,'STU Cost Estimates'!$A$6:$C$27,2,0),-2),\"\")))","v":""},"",{"$f":"IF(A36=\"\",\"\",IFERROR(D36/VLOOKUP(A36,'Structural Water Quality Calcs'!$A$9:$AE$149,13,0),\"\"))","v":""},null,null,null,{"$f":"IF(A36=\"\",\"\",IFERROR(VLOOKUP(B36,'STU Cost Estimates'!$A$6:$C$27,3,0),\"\"))","v":""}]
[null,{"$f":"IF(A37=\"\",\"\",IFERROR(VLOOKUP(A37,'Structural Water Quality Calcs'!$A$9:$AC$149,2,0),\"\"))","v":""},{"$f":"IF(A37=\"\",\"\",IFERROR(ROUND(VLOOKUP(A37,'Structural Water Quality Calcs'!$A$9:$AC$149,29,0),2),\"\"))","v":""},{"$f":"IF(A37=\"\",\"\",IF(B37=\"Leaching basin\",E37/C37,IFERROR(ROUND(VLOOKUP(A37,'Structural Water Quality Calcs'!$A$9:$AC$149,5,0)*VLOOKUP(B37,'STU Cost Estimates'!$A$6:$C$27,2,0),-2),\"\")))","v":""},"",{"$f":"IF(A37=\"\",\"\",IFERROR(D37/VLOOKUP(A37,'Structural Water Quality Calcs'!$A$9:$AE$149,13,0),\"\"))","v":""},null,null,null,{"$f":"IF(A37=\"\",\"\",IFERROR(VLOOKUP(B37,'STU Cost Estimates'!$A$6:$C$27,3,0),\"\"))","v":""}]
[null,{"$f":"IF(A38=\"\",\"\",IFERROR(VLOOKUP(A38,'Structural Water Quality Calcs'!$A$9:$AC$149,2,0),\"\"))","v":""},{"$f":"IF(A38=\"\",\"\",IFERROR(ROUND(VLOOKUP(A38,'Structural Water Quality Calcs'!$A$9:$AC$149,29,0),2),\"\"))","v":""},{"$f":"IF(A38=\"\",\"\",IF(B38=\"Leaching basin\",E38/C38,IFERROR(ROUND(VLOOKUP(A38,'Structural Water Quality Calcs'!$A$9:$AC$149,5,0)*VLOOKUP(B38,'STU Cost Estimates'!$A$6:$C$27,2,0),-2),\"\")))","v":""},"",{"$f":"IF(A38=\"\",\"\",IFERROR(D38/VLOOKUP(A38,'Structural Water Quality Calcs'!$A$9:$AE$149,13,0),\"\"))","v":""},null,null,null,{"$f":"IF(A38=\"\",\"\",IFERROR(VLOOKUP(B38,'STU Cost Estimates'!$A$6:$C$27,3,0),\"\"))","v":""}]
[null,{"$f":"IF(A39=\"\",\"\",IFERROR(VLOOKUP(A39,'Structural Water Quality Calcs'!$A$9:$AC$149,2,0),\"\"))","v":""},{"$f":"IF(A39=\"\",\"\",IFERROR(ROUND(VLOOKUP(A39,'Structural Water Quality Calcs'!$A$9:$AC$149,29,0),2),\"\"))","v":""},{"$f":"IF(A39=\"\",\"\",IF(B39=\"Leaching basin\",E39/C39,IFERROR(ROUND(VLOOKUP(A39,'Structural Water Quality Calcs'!$A$9:$AC$149,5,0)*VLOOKUP(B39,'STU Cost Estimates'!$A$6:$C$27,2,0),-2),\"\")))","v":""},"",{"$f":"IF(A39=\"\",\"\",IFERROR(D39/VLOOKUP(A39,'Structural Water Quality Calcs'!$A$9:$AE$149,13,0),\"\"))","v":""},null,null,null,{"$f":"IF(A39=\"\",\"\",IFERROR(VLOOKUP(B39,'STU Cost Estimates'!$A$6:$C$27,3,0),\"\"))","v":""}]
[null,{"$f":"IF(A40=\"\",\"\",IFERROR(VLOOKUP(A40,'Structural Water Quality Calcs'!$A$9:$AC$149,2,0),\"\"))","v":""},{"$f":"IF(A40=\"\",\"\",IFERROR(ROUND(VLOOKUP(A40,'Structural Water Quality Calcs'!$A$9:$AC$149,29,0),2),\"\"))","v":""},{"$f":"IF(A40=\"\",\"\",IF(B40=\"Leaching basin\",E40/C40,IFERROR(ROUND(VLOOKUP(A40,'Structural Water Quality Calcs'!$A$9:$AC$149,5,0)*VLOOKUP(B40,'STU Cost Estimates'!$A$6:$C$27,2,0),-2),\"\")))","v":""},"",{"$f":"IF(A40=\"\",\"\",IFERROR(D40/VLOOKUP(A40,'Structural Water Quality Calcs'!$A$9:$AE$149,13,0),\"\"))","v":""},null,null,null,{"$f":"IF(A40=\"\",\"\",IFERROR(VLOOKUP(B40,'STU Cost Estimates'!$A$6:$C$27,3,0),\"\"))","v":""}]
[null,{"$f":"IF(A41=\"\",\"\",IFERROR(VLOOKUP(A41,'Structural Water Quality Calcs'!$A$9:$AC$149,2,0),\"\"))","v":""},{"$f":"IF(A41=\"\",\"\",IFERROR(ROUND(VLOOKUP(A41,'Structural Water Quality Calcs'!$A$9:$AC$149,29,0),2),\"\"))","v":""},{"$f":"IF(A41=\"\",\"\",IF(B41=\"Leaching basin\",E41/C41,IFERROR(ROUND(VLOOKUP(A41,'Structural Water Quality Calcs'!$A$9:$AC$149,5,0)*VLOOKUP(B41,'STU Cost Estimates'!$A$6:$C$27,2,0),-2),\"\")))","v":""},"",{"$f":"IF(A41=\"\",\"\",IFERROR(D41/VLOOKUP(A41,'Structural Water Quality Calcs'!$A$9:$AE$149,13,0),\"\"))","v":""},null,null,null,{"$f":"IF(A41=\"\",\"\",IFERROR(VLOOKUP(B41,'STU Cost Estimates'!$A$6:$C$27,3,0),\"\"))","v":""}]
[null,{"$f":"IF(A42=\"\",\"\",IFERROR(VLOOKUP(A42,'Structural Water Quality Calcs'!$A$9:$AC$149,2,0),\"\"))","v":""},{"$f":"IF(A42=\"\",\"\",IFERROR(ROUND(VLOOKUP(A42,'Structural Water Quality Calcs'!$A$9:$AC$149,29,0),2),\"\"))","v":""},{"$f":"IF(A42=\"\",\"\",IF(B42=\"Leaching basin\",E42/C42,IFERROR(ROUND(VLOOKUP(A42,'Structural Water Quality Calcs'!$A$9:$AC$149,5,0)*VLOOKUP(B42,'STU Cost Estimates'!$A$6:$C$27,2,0),-2),\"\")))","v":""},"",{"$f":"IF(A42=\"\",\"\",IFERROR(D42/VLOOKUP(A42,'Structural Water Quality Calcs'!$A$9:$AE$149,13,0),\"\"))","v":""},null,null,null,{"$f":"IF(A42=\"\",\"\",IFERROR(VLOOKUP(B42,'STU Cost Estimates'!$A$6:$C$27,3,0),\"\"))","v":""}]
[null,{"$f":"IF(A43=\"\",\"\",IFERROR(VLOOKUP(A43,'Structural Water Quality Calcs'!$A$9:$AC$149,2,0),\"\"))","v":""},{"$f":"IF(A43=\"\",\"\",IFERROR(ROUND(VLOOKUP(A43,'Structural Water Quality Calcs'!$A$9:$AC$149,29,0),2),\"\"))","v":""},{"$f":"IF(A43=\"\",\"\",IF(B43=\"Leaching basin\",E43/C43,IFERROR(ROUND(VLOOKUP(A43,'Structural Water Quality Calcs'!$A$9:$AC$149,5,0)*VLOOKUP(B43,'STU Cost Estimates'!$A$6:$C$27,2,0),-2),\"\")))","v":""},"",{"$f":"IF(A43=\"\",\"\",IFERROR(D43/VLOOKUP(A43,'Structural Water Quality Calcs'!$A$9:$AE$149,13,0),\"\"))","v":""},null,null,null,{"$f":"IF(A43=\"\",\"\",IFERROR(VLOOKUP(B43,'STU Cost Estimates'!$A$6:$C$27,3,0),\"\"))","v":""}]
[null,{"$f":"IF(A44=\"\",\"\",IFERROR(VLOOKUP(A44,'Structural Water Quality Calcs'!$A$9:$AC$149,2,0),\"\"))","v":""},{"$f":"IF(A44=\"\",\"\",IFERROR(ROUND(VLOOKUP(A44,'Structural Water Quality Calcs'!$A$9:$AC$149,29,0),2),\"\"))","v":""},{"$f":"IF(A44=\"\",\"\",IF(B44=\"Leaching basin\",E44/C44,IFERROR(ROUND(VLOOKUP(A44,'Structural Water Quality Calcs'!$A$9:$AC$149,5,0)*VLOOKUP(B44,'STU Cost Estimates'!$A$6:$C$27,2,0),-2),\"\")))","v":""},"",{"$f":"IF(A44=\"\",\"\",IFERROR(D44/VLOOKUP(A44,'Structural Water Quality Calcs'!$A$9:$AE$149,13,0),\"\"))","v":""},null,null,null,{"$f":"IF(A44=\"\",\"\",IFERROR(VLOOKUP(B44,'STU Cost Estimates'!$A$6:$C$27,3,0),\"\"))","v":""}]
[null,{"$f":"IF(A45=\"\",\"\",IFERROR(VLOOKUP(A45,'Structural Water Quality Calcs'!$A$9:$AC$149,2,0),\"\"))","v":""},{"$f":"IF(A45=\"\",\"\",IFERROR(ROUND(VLOOKUP(A45,'Structural Water Quality Calcs'!$A$9:$AC$149,29,0),2),\"\"))","v":""},{"$f":"IF(A45=\"\",\"\",IF(B45=\"Leaching basin\",E45/C45,IFERROR(ROUND(VLOOKUP(A45,'Structural Water Quality Calcs'!$A$9:$AC$149,5,0)*VLOOKUP(B45,'STU Cost Estimates'!$A$6:$C$27,2,0),-2),\"\")))","v":""},"",{"$f":"IF(A45=\"\",\"\",IFERROR(D45/VLOOKUP(A45,'Structural Water Quality Calcs'!$A$9:$AE$149,13,0),\"\"))","v":""},null,null,null,{"$f":"IF(A45=\"\",\"\",IFERROR(VLOOKUP(B45,'STU Cost Estimates'!$A$6:$C$27,3,0),\"\"))","v":""}]
[null,{"$f":"IF(A46=\"\",\"\",IFERROR(VLOOKUP(A46,'Structural Water Quality Calcs'!$A$9:$AC$149,2,0),\"\"))","v":""},{"$f":"IF(A46=\"\",\"\",IFERROR(ROUND(VLOOKUP(A46,'Structural Water Quality Calcs'!$A$9:$AC$149,29,0),2),\"\"))","v":""},{"$f":"IF(A46=\"\",\"\",IF(B46=\"Leaching basin\",E46/C46,IFERROR(ROUND(VLOOKUP(A46,'Structural Water Quality Calcs'!$A$9:$AC$149,5,0)*VLOOKUP(B46,'STU Cost Estimates'!$A$6:$C$27,2,0),-2),\"\")))","v":""},"",{"$f":"IF(A46=\"\",\"\",IFERROR(D46/VLOOKUP(A46,'Structural Water Quality Calcs'!$A$9:$AE$149,13,0),\"\"))","v":""},null,null,null,{"$f":"IF(A46=\"\",\"\",IFERROR(VLOOKUP(B46,'STU Cost Estimates'!$A$6:$C$27,3,0),\"\"))","v":""}]
[null,{"$f":"IF(A47=\"\",\"\",IFERROR(VLOOKUP(A47,'Structural Water Quality Calcs'!$A$9:$AC$149,2,0),\"\"))","v":""},{"$f":"IF(A47=\"\",\"\",IFERROR(ROUND(VLOOKUP(A47,'Structural Water Quality Calcs'!$A$9:$AC$149,29,0),2),\"\"))","v":""},{"$f":"IF(A47=\"\",\"\",IF(B47=\"Leaching basin\",E47/C47,IFERROR(ROUND(VLOOKUP(A47,'Structural Water Quality Calcs'!$A$9:$AC$149,5,0)*VLOOKUP(B47,'STU Cost Estimates'!$A$6:$C$27,2,0),-2),\"\")))","v":""},"",{"$f":"IF(A47=\"\",\"\",IFERROR(D47/VLOOKUP(A47,'Structural Water Quality Calcs'!$A$9:$AE$149,13,0),\"\"))","v":""},null,null,null,{"$f":"IF(A47=\"\",\"\",IFERROR(VLOOKUP(B47,'STU Cost Estimates'!$A$6:$C$27,3,0),\"\"))","v":""}]
[null,{"$f":"IF(A48=\"\",\"\",IFERROR(VLOOKUP(A48,'Structural Water Quality Calcs'!$A$9:$AC$149,2,0),\"\"))","v":""},{"$f":"IF(A48=\"\",\"\",IFERROR(ROUND(VLOOKUP(A48,'Structural Water Quality Calcs'!$A$9:$AC$149,29,0),2),\"\"))","v":""},{"$f":"IF(A48=\"\",\"\",IF(B48=\"Leaching basin\",E48/C48,IFERROR(ROUND(VLOOKUP(A48,'Structural Water Quality Calcs'!$A$9:$AC$149,5,0)*VLOOKUP(B48,'STU Cost Estimates'!$A$6:$C$27,2,0),-2),\"\")))","v":""},"",{"$f":"IF(A48=\"\",\"\",IFERROR(D48/VLOOKUP(A48,'Structural Water Quality Calcs'!$A$9:$AE$149,13,0),\"\"))","v":""},null,null,null,{"$f":"IF(A48=\"\",\"\",IFERROR(VLOOKUP(B48,'STU Cost Estimates'!$A$6:$C$27,3,0),\"\"))","v":""}]
[null,{"$f":"IF(A49=\"\",\"\",IFERROR(VLOOKUP(A49,'Structural Water Quality Calcs'!$A$9:$AC$149,2,0),\"\"))","v":""},{"$f":"IF(A49=\"\",\"\",IFERROR(ROUND(VLOOKUP(A49,'Structural Water Quality Calcs'!$A$9:$AC$149,29,0),2),\"\"))","v":""},{"$f":"IF(A49=\"\",\"\",IF(B49=\"Leaching basin\",E49/C49,IFERROR(ROUND(VLOOKUP(A49,'Structural Water Quality Calcs'!$A$9:$AC$149,5,0)*VLOOKUP(B49,'STU Cost Estimates'!$A$6:$C$27,2,0),-2),\"\")))","v":""},"",{"$f":"IF(A49=\"\",\"\",IFERROR(D49/VLOOKUP(A49,'Structural Water Quality Calcs'!$A$9:$AE$149,13,0),\"\"))","v":""},null,null,null,{"$f":"IF(A49=\"\",\"\",IFERROR(VLOOKUP(B49,'STU Cost Estimates'!$A$6:$C$27,3,0),\"\"))","v":""}]
[null,{"$f":"IF(A50=\"\",\"\",IFERROR(VLOOKUP(A50,'Structural Water Quality Calcs'!$A$9:$AC$149,2,0),\"\"))","v":""},{"$f":"IF(A50=\"\",\"\",IFERROR(ROUND(VLOOKUP(A50,'Structural Water Quality Calcs'!$A$9:$AC$149,29,0),2),\"\"))","v":""},{"$f":"IF(A50=\"\",\"\",IF(B50=\"Leaching basin\",E50/C50,IFERROR(ROUND(VLOOKUP(A50,'Structural Water Quality Calcs'!$A$9:$AC$149,5,0)*VLOOKUP(B50,'STU Cost Estimates'!$A$6:$C$27,2,0),-2),\"\")))","v":""},"",{"$f":"IF(A50=\"\",\"\",IFERROR(D50/VLOOKUP(A50,'Structural Water Quality Calcs'!$A$9:$AE$149,13,0),\"\"))","v":""},null,null,null,{"$f":"IF(A50=\"\",\"\",IFERROR(VLOOKUP(B50,'STU Cost Estimates'!$A$6:$C$27,3,0),\"\"))","v":""}]
[null,{"$f":"IF(A51=\"\",\"\",IFERROR(VLOOKUP(A51,'Structural Water Quality Calcs'!$A$9:$AC$149,2,0),\"\"))","v":""},{"$f":"IF(A51=\"\",\"\",IFERROR(ROUND(VLOOKUP(A51,'Structural Water Quality Calcs'!$A$9:$AC$149,29,0),2),\"\"))","v":""},{"$f":"IF(A51=\"\",\"\",IF(B51=\"Leaching basin\",E51/C51,IFERROR(ROUND(VLOOKUP(A51,'Structural Water Quality Calcs'!$A$9:$AC$149,5,0)*VLOOKUP(B51,'STU Cost Estimates'!$A$6:$C$27,2,0),-2),\"\")))","v":""},"",{"$f":"IF(A51=\"\",\"\",IFERROR(D51/VLOOKUP(A51,'Structural Water Quality Calcs'!$A$9:$AE$149,13,0),\"\"))","v":""},null,null,null,{"$f":"IF(A51=\"\",\"\",IFERROR(VLOOKUP(B51,'STU Cost Estimates'!$A$6:$C$27,3,0),\"\"))","v":""}]
[null,{"$f":"IF(A52=\"\",\"\",IFERROR(VLOOKUP(A52,'Structural Water Quality Calcs'!$A$9:$AC$149,2,0),\"\"))","v":""},{"$f":"IF(A52=\"\",\"\",IFERROR(ROUND(VLOOKUP(A52,'Structural Water Quality Calcs'!$A$9:$AC$149,29,0),2),\"\"))","v":""},{"$f":"IF(A52=\"\",\"\",IF(B52=\"Leaching basin\",E52/C52,IFERROR(ROUND(VLOOKUP(A52,'Structural Water Quality Calcs'!$A$9:$AC$149,5,0)*VLOOKUP(B52,'STU Cost Estimates'!$A$6:$C$27,2,0),-2),\"\")))","v":""},"",{"$f":"IF(A52=\"\",\"\",IFERROR(D52/VLOOKUP(A52,'Structural Water Quality Calcs'!$A$9:$AE$149,13,0),\"\"))","v":""},null,null,null,{"$f":"IF(A52=\"\",\"\",IFERROR(VLOOKUP(B52,'STU Cost Estimates'!$A$6:$C$27,3,0),\"\"))","v":""}]
[null,{"$f":"IF(A53=\"\",\"\",IFERROR(VLOOKUP(A53,'Structural Water Quality Calcs'!$A$9:$AC$149,2,0),\"\"))","v":""},{"$f":"IF(A53=\"\",\"\",IFERROR(ROUND(VLOOKUP(A53,'Structural Water Quality Calcs'!$A$9:$AC$149,29,0),2),\"\"))","v":""},{"$f":"IF(A53=\"\",\"\",IF(B53=\"Leaching basin\",E53/C53,IFERROR(ROUND(VLOOKUP(A53,'Structural Water Quality Calcs'!$A$9:$AC$149,5,0)*VLOOKUP(B53,'STU Cost Estimates'!$A$6:$C$27,2,0),-2),\"\")))","v":""},"",{"$f":"IF(A53=\"\",\"\",IFERROR(D53/VLOOKUP(A53,'Structural Water Quality Calcs'!$A$9:$AE$149,13,0),\"\"))","v":""},null,null,null,{"$f":"IF(A53=\"\",\"\",IFERROR(VLOOKUP(B53,'STU Cost Estimates'!$A$6:$C$27,3,0),\"\"))","v":""}]
[null,{"$f":"IF(A54=\"\",\"\",IFERROR(VLOOKUP(A54,'Structural Water Quality Calcs'!$A$9:$AC$149,2,0),\"\"))","v":""},{"$f":"IF(A54=\"\",\"\",IFERROR(ROUND(VLOOKUP(A54,'Structural Water Quality Calcs'!$A$9:$AC$149,29,0),2),\"\"))","v":""},{"$f":"IF(A54=\"\",\"\",IF(B54=\"Leaching basin\",E54/C54,IFERROR(ROUND(VLOOKUP(A54,'Structural Water Quality Calcs'!$A$9:$AC$149,5,0)*VLOOKUP(B54,'STU Cost Estimates'!$A$6:$C$27,2,0),-2),\"\")))","v":""},"",{"$f":"IF(A54=\"\",\"\",IFERROR(D54/VLOOKUP(A54,'Structural Water Quality Calcs'!$A$9:$AE$149,13,0),\"\"))","v":""},null,null,null,{"$f":"IF(A54=\"\",\"\",IFERROR(VLOOKUP(B54,'STU Cost Estimates'!$A$6:$C$27,3,0),\"\"))","v":""}]
[null,{"$f":"IF(A55=\"\",\"\",IFERROR(VLOOKUP(A55,'Structural Water Quality Calcs'!$A$9:$AC$149,2,0),\"\"))","v":""},{"$f":"IF(A55=\"\",\"\",IFERROR(ROUND(VLOOKUP(A55,'Structural Water Quality Calcs'!$A$9:$AC$149,29,0),2),\"\"))","v":""},{"$f":"IF(A55=\"\",\"\",IF(B55=\"Leaching basin\",E55/C55,IFERROR(ROUND(VLOOKUP(A55,'Structural Water Quality Calcs'!$A$9:$AC$149,5,0)*VLOOKUP(B55,'STU Cost Estimates'!$A$6:$C$27,2,0),-2),\"\")))","v":""},"",{"$f":"IF(A55=\"\",\"\",IFERROR(D55/VLOOKUP(A55,'Structural Water Quality Calcs'!$A$9:$AE$149,13,0),\"\"))","v":""},null,null,null,{"$f":"IF(A55=\"\",\"\",IFERROR(VLOOKUP(B55,'STU Cost Estimates'!$A$6:$C$27,3,0),\"\"))","v":""}]
[null,{"$f":"IF(A56=\"\",\"\",IFERROR(VLOOKUP(A56,'Structural Water Quality Calcs'!$A$9:$AC$149,2,0),\"\"))","v":""},{"$f":"IF(A56=\"\",\"\",IFERROR(ROUND(VLOOKUP(A56,'Structural Water Quality Calcs'!$A$9:$AC$149,29,0),2),\"\"))","v":""},{"$f":"IF(A56=\"\",\"\",IF(B56=\"Leaching basin\",E56/C56,IFERROR(ROUND(VLOOKUP(A56,'Structural Water Quality Calcs'!$A$9:$AC$149,5,0)*VLOOKUP(B56,'STU Cost Estimates'!$A$6:$C$27,2,0),-2),\"\")))","v":""},"",{"$f":"IF(A56=\"\",\"\",IFERROR(D56/VLOOKUP(A56,'Structural Water Quality Calcs'!$A$9:$AE$149,13,0),\"\"))","v":""},null,null,null,{"$f":"IF(A56=\"\",\"\",IFERROR(VLOOKUP(B56,'STU Cost Estimates'!$A$6:$C$27,3,0),\"\"))","v":""}]
[null,{"$f":"IF(A57=\"\",\"\",IFERROR(VLOOKUP(A57,'Structural Water Quality Calcs'!$A$9:$AC$149,2,0),\"\"))","v":""},{"$f":"IF(A57=\"\",\"\",IFERROR(ROUND(VLOOKUP(A57,'Structural Water Quality Calcs'!$A$9:$AC$149,29,0),2),\"\"))","v":""},{"$f":"IF(A57=\"\",\"\",IF(B57=\"Leaching basin\",E57/C57,IFERROR(ROUND(VLOOKUP(A57,'Structural Water Quality Calcs'!$A$9:$AC$149,5,0)*VLOOKUP(B57,'STU Cost Estimates'!$A$6:$C$27,2,0),-2),\"\")))","v":""},"",{"$f":"IF(A57=\"\",\"\",IFERROR(D57/VLOOKUP(A57,'Structural Water Quality Calcs'!$A$9:$AE$149,13,0),\"\"))","v":""},null,null,null,{"$f":"IF(A57=\"\",\"\",IFERROR(VLOOKUP(B57,'STU Cost Estimates'!$A$6:$C$27,3,0),\"\"))","v":""}]
[null,{"$f":"IF(A58=\"\",\"\",IFERROR(VLOOKUP(A58,'Structural Water Quality Calcs'!$A$9:$AC$149,2,0),\"\"))","v":""},{"$f":"IF(A58=\"\",\"\",IFERROR(ROUND(VLOOKUP(A58,'Structural Water Quality Calcs'!$A$9:$AC$149,29,0),2),\"\"))","v":""},{"$f":"IF(A58=\"\",\"\",IF(B58=\"Leaching basin\",E58/C58,IFERROR(ROUND(VLOOKUP(A58,'Structural Water Quality Calcs'!$A$9:$AC$149,5,0)*VLOOKUP(B58,'STU Cost Estimates'!$A$6:$C$27,2,0),-2),\"\")))","v":""},"",{"$f":"IF(A58=\"\",\"\",IFERROR(D58/VLOOKUP(A58,'Structural Water Quality Calcs'!$A$9:$AE$149,13,0),\"\"))","v":""},null,null,null,{"$f":"IF(A58=\"\",\"\",IFERROR(VLOOKUP(B58,'STU Cost Estimates'!$A$6:$C$27,3,0),\"\"))","v":""}]
[null,{"$f":"IF(A59=\"\",\"\",IFERROR(VLOOKUP(A59,'Structural Water Quality Calcs'!$A$9:$AC$149,2,0),\"\"))","v":""},{"$f":"IF(A59=\"\",\"\",IFERROR(ROUND(VLOOKUP(A59,'Structural Water Quality Calcs'!$A$9:$AC$149,29,0),2),\"\"))","v":""},{"$f":"IF(A59=\"\",\"\",IF(B59=\"Leaching basin\",E59/C59,IFERROR(ROUND(VLOOKUP(A59,'Structural Water Quality Calcs'!$A$9:$AC$149,5,0)*VLOOKUP(B59,'STU Cost Estimates'!$A$6:$C$27,2,0),-2),\"\")))","v":""},"",{"$f":"IF(A59=\"\",\"\",IFERROR(D59/VLOOKUP(A59,'Structural Water Quality Calcs'!$A$9:$AE$149,13,0),\"\"))","v":""},null,null,null,{"$f":"IF(A59=\"\",\"\",IFERROR(VLOOKUP(B59,'STU Cost Estimates'!$A$6:$C$27,3,0),\"\"))","v":""}]
[null,{"$f":"IF(A60=\"\",\"\",IFERROR(VLOOKUP(A60,'Structural Water Quality Calcs'!$A$9:$AC$149,2,0),\"\"))","v":""},{"$f":"IF(A60=\"\",\"\",IFERROR(ROUND(VLOOKUP(A60,'Structural Water Quality Calcs'!$A$9:$AC$149,29,0),2),\"\"))","v":""},{"$f":"IF(A60=\"\",\"\",IF(B60=\"Leaching basin\",E60/C60,IFERROR(ROUND(VLOOKUP(A60,'Structural Water Quality Calcs'!$A$9:$AC$149,5,0)*VLOOKUP(B60,'STU Cost Estimates'!$A$6:$C$27,2,0),-2),\"\")))","v":""},"",{"$f":"IF(A60=\"\",\"\",IFERROR(D60/VLOOKUP(A60,'Structural Water Quality Calcs'!$A$9:$AE$149,13,0),\"\"))","v":""},null,null,null,{"$f":"IF(A60=\"\",\"\",IFERROR(VLOOKUP(B60,'STU Cost Estimates'!$A$6:$C$27,3,0),\"\"))","v":""}]
[null,{"$f":"IF(A61=\"\",\"\",IFERROR(VLOOKUP(A61,'Structural Water Quality Calcs'!$A$9:$AC$149,2,0),\"\"))","v":""},{"$f":"IF(A61=\"\",\"\",IFERROR(ROUND(VLOOKUP(A61,'Structural Water Quality Calcs'!$A$9:$AC$149,29,0),2),\"\"))","v":""},{"$f":"IF(A61=\"\",\"\",IF(B61=\"Leaching basin\",E61/C61,IFERROR(ROUND(VLOOKUP(A61,'Structural Water Quality Calcs'!$A$9:$AC$149,5,0)*VLOOKUP(B61,'STU Cost Estimates'!$A$6:$C$27,2,0),-2),\"\")))","v":""},"",{"$f":"IF(A61=\"\",\"\",IFERROR(D61/VLOOKUP(A61,'Structural Water Quality Calcs'!$A$9:$AE$149,13,0),\"\"))","v":""},null,null,null,{"$f":"IF(A61=\"\",\"\",IFERROR(VLOOKUP(B61,'STU Cost Estimates'!$A$6:$C$27,3,0),\"\"))","v":""}]
[null,{"$f":"IF(A62=\"\",\"\",IFERROR(VLOOKUP(A62,'Structural Water Quality Calcs'!$A$9:$AC$149,2,0),\"\"))","v":""},{"$f":"IF(A62=\"\",\"\",IFERROR(ROUND(VLOOKUP(A62,'Structural Water Quality Calcs'!$A$9:$AC$149,29,0),2),\"\"))","v":""},{"$f":"IF(A62=\"\",\"\",IF(B62=\"Leaching basin\",E62/C62,IFERROR(ROUND(VLOOKUP(A62,'Structural Water Quality Calcs'!$A$9:$AC$149,5,0)*VLOOKUP(B62,'STU Cost Estimates'!$A$6:$C$27,2,0),-2),\"\")))","v":""},"",{"$f":"IF(A62=\"\",\"\",IFERROR(D62/VLOOKUP(A62,'Structural Water Quality Calcs'!$A$9:$AE$149,13,0),\"\"))","v":""},null,null,null,{"$f":"IF(A62=\"\",\"\",IFERROR(VLOOKUP(B62,'STU Cost Estimates'!$A$6:$C$27,3,0),\"\"))","v":""}]
[null,{"$f":"IF(A63=\"\",\"\",IFERROR(VLOOKUP(A63,'Structural Water Quality Calcs'!$A$9:$AC$149,2,0),\"\"))","v":""},{"$f":"IF(A63=\"\",\"\",IFERROR(ROUND(VLOOKUP(A63,'Structural Water Quality Calcs'!$A$9:$AC$149,29,0),2),\"\"))","v":""},{"$f":"IF(A63=\"\",\"\",IF(B63=\"Leaching basin\",E63/C63,IFERROR(ROUND(VLOOKUP(A63,'Structural Water Quality Calcs'!$A$9:$AC$149,5,0)*VLOOKUP(B63,'STU Cost Estimates'!$A$6:$C$27,2,0),-2),\"\")))","v":""},"",{"$f":"IF(A63=\"\",\"\",IFERROR(D63/VLOOKUP(A63,'Structural Water Quality Calcs'!$A$9:$AE$149,13,0),\"\"))","v":""},null,null,null,{"$f":"IF(A63=\"\",\"\",IFERROR(VLOOKUP(B63,'STU Cost Estimates'!$A$6:$C$27,3,0),\"\"))","v":""}]
[null,{"$f":"IF(A64=\"\",\"\",IFERROR(VLOOKUP(A64,'Structural Water Quality Calcs'!$A$9:$AC$149,2,0),\"\"))","v":""},{"$f":"IF(A64=\"\",\"\",IFERROR(ROUND(VLOOKUP(A64,'Structural Water Quality Calcs'!$A$9:$AC$149,29,0),2),\"\"))","v":""},{"$f":"IF(A64=\"\",\"\",IF(B64=\"Leaching basin\",E64/C64,IFERROR(ROUND(VLOOKUP(A64,'Structural Water Quality Calcs'!$A$9:$AC$149,5,0)*VLOOKUP(B64,'STU Cost Estimates'!$A$6:$C$27,2,0),-2),\"\")))","v":""},"",{"$f":"IF(A64=\"\",\"\",IFERROR(D64/VLOOKUP(A64,'Structural Water Quality Calcs'!$A$9:$AE$149,13,0),\"\"))","v":""},null,null,null,{"$f":"IF(A64=\"\",\"\",IFERROR(VLOOKUP(B64,'STU Cost Estimates'!$A$6:$C$27,3,0),\"\"))","v":""}]
[null,{"$f":"IF(A65=\"\",\"\",IFERROR(VLOOKUP(A65,'Structural Water Quality Calcs'!$A$9:$AC$149,2,0),\"\"))","v":""},{"$f":"IF(A65=\"\",\"\",IFERROR(ROUND(VLOOKUP(A65,'Structural Water Quality Calcs'!$A$9:$AC$149,29,0),2),\"\"))","v":""},{"$f":"IF(A65=\"\",\"\",IF(B65=\"Leaching basin\",E65/C65,IFERROR(ROUND(VLOOKUP(A65,'Structural Water Quality Calcs'!$A$9:$AC$149,5,0)*VLOOKUP(B65,'STU Cost Estimates'!$A$6:$C$27,2,0),-2),\"\")))","v":""},"",{"$f":"IF(A65=\"\",\"\",IFERROR(D65/VLOOKUP(A65,'Structural Water Quality Calcs'!$A$9:$AE$149,13,0),\"\"))","v":""},null,null,null,{"$f":"IF(A65=\"\",\"\",IFERROR(VLOOKUP(B65,'STU Cost Estimates'!$A$6:$C$27,3,0),\"\"))","v":""}]
[null,{"$f":"IF(A66=\"\",\"\",IFERROR(VLOOKUP(A66,'Structural Water Quality Calcs'!$A$9:$AC$149,2,0),\"\"))","v":""},{"$f":"IF(A66=\"\",\"\",IFERROR(ROUND(VLOOKUP(A66,'Structural Water Quality Calcs'!$A$9:$AC$149,29,0),2),\"\"))","v":""},{"$f":"IF(A66=\"\",\"\",IF(B66=\"Leaching basin\",E66/C66,IFERROR(ROUND(VLOOKUP(A66,'Structural Water Quality Calcs'!$A$9:$AC$149,5,0)*VLOOKUP(B66,'STU Cost Estimates'!$A$6:$C$27,2,0),-2),\"\")))","v":""},"",{"$f":"IF(A66=\"\",\"\",IFERROR(D66/VLOOKUP(A66,'Structural Water Quality Calcs'!$A$9:$AE$149,13,0),\"\"))","v":""},null,null,null,{"$f":"IF(A66=\"\",\"\",IFERROR(VLOOKUP(B66,'STU Cost Estimates'!$A$6:$C$27,3,0),\"\"))","v":""}]
[null,{"$f":"IF(A67=\"\",\"\",IFERROR(VLOOKUP(A67,'Structural Water Quality Calcs'!$A$9:$AC$149,2,0),\"\"))","v":""},{"$f":"IF(A67=\"\",\"\",IFERROR(ROUND(VLOOKUP(A67,'Structural Water Quality Calcs'!$A$9:$AC$149,29,0),2),\"\"))","v":""},{"$f":"IF(A67=\"\",\"\",IF(B67=\"Leaching basin\",E67/C67,IFERROR(ROUND(VLOOKUP(A67,'Structural Water Quality Calcs'!$A$9:$AC$149,5,0)*VLOOKUP(B67,'STU Cost Estimates'!$A$6:$C$27,2,0),-2),\"\")))","v":""},"",{"$f":"IF(A67=\"\",\"\",IFERROR(D67/VLOOKUP(A67,'Structural Water Quality Calcs'!$A$9:$AE$149,13,0),\"\"))","v":""},null,null,null,{"$f":"IF(A67=\"\",\"\",IFERROR(VLOOKUP(B67,'STU Cost Estimates'!$A$6:$C$27,3,0),\"\"))","v":""}]
[null,{"$f":"IF(A68=\"\",\"\",IFERROR(VLOOKUP(A68,'Structural Water Quality Calcs'!$A$9:$AC$149,2,0),\"\"))","v":""},{"$f":"IF(A68=\"\",\"\",IFERROR(ROUND(VLOOKUP(A68,'Structural Water Quality Calcs'!$A$9:$AC$149,29,0),2),\"\"))","v":""},{"$f":"IF(A68=\"\",\"\",IF(B68=\"Leaching basin\",E68/C68,IFERROR(ROUND(VLOOKUP(A68,'Structural Water Quality Calcs'!$A$9:$AC$149,5,0)*VLOOKUP(B68,'STU Cost Estimates'!$A$6:$C$27,2,0),-2),\"\")))","v":""},"",{"$f":"IF(A68=\"\",\"\",IFERROR(D68/VLOOKUP(A68,'Structural Water Quality Calcs'!$A$9:$AE$149,13,0),\"\"))","v":""},null,null,null,{"$f":"IF(A68=\"\",\"\",IFERROR(VLOOKUP(B68,'STU Cost Estimates'!$A$6:$C$27,3,0),\"\"))","v":""}]
[null,{"$f":"IF(A69=\"\",\"\",IFERROR(VLOOKUP(A69,'Structural Water Quality Calcs'!$A$9:$AC$149,2,0),\"\"))","v":""},{"$f":"IF(A69=\"\",\"\",IFERROR(ROUND(VLOOKUP(A69,'Structural Water Quality Calcs'!$A$9:$AC$149,29,0),2),\"\"))","v":""},{"$f":"IF(A69=\"\",\"\",IF(B69=\"Leaching basin\",E69/C69,IFERROR(ROUND(VLOOKUP(A69,'Structural Water Quality Calcs'!$A$9:$AC$149,5,0)*VLOOKUP(B69,'STU Cost Estimates'!$A$6:$C$27,2,0),-2),\"\")))","v":""},"",{"$f":"IF(A69=\"\",\"\",IFERROR(D69/VLOOKUP(A69,'Structural Water Quality Calcs'!$A$9:$AE$149,13,0),\"\"))","v":""},null,null,null,{"$f":"IF(A69=\"\",\"\",IFERROR(VLOOKUP(B69,'STU Cost Estimates'!$A$6:$C$27,3,0),\"\"))","v":""}]
[null,{"$f":"IF(A70=\"\",\"\",IFERROR(VLOOKUP(A70,'Structural Water Quality Calcs'!$A$9:$AC$149,2,0),\"\"))","v":""},{"$f":"IF(A70=\"\",\"\",IFERROR(ROUND(VLOOKUP(A70,'Structural Water Quality Calcs'!$A$9:$AC$149,29,0),2),\"\"))","v":""},{"$f":"IF(A70=\"\",\"\",IF(B70=\"Leaching basin\",E70/C70,IFERROR(ROUND(VLOOKUP(A70,'Structural Water Quality Calcs'!$A$9:$AC$149,5,0)*VLOOKUP(B70,'STU Cost Estimates'!$A$6:$C$27,2,0),-2),\"\")))","v":""},"",{"$f":"IF(A70=\"\",\"\",IFERROR(D70/VLOOKUP(A70,'Structural Water Quality Calcs'!$A$9:$AE$149,13,0),\"\"))","v":""},null,null,null,{"$f":"IF(A70=\"\",\"\",IFERROR(VLOOKUP(B70,'STU Cost Estimates'!$A$6:$C$27,3,0),\"\"))","v":""}]
[null,{"$f":"IF(A71=\"\",\"\",IFERROR(VLOOKUP(A71,'Structural Water Quality Calcs'!$A$9:$AC$149,2,0),\"\"))","v":""},{"$f":"IF(A71=\"\",\"\",IFERROR(ROUND(VLOOKUP(A71,'Structural Water Quality Calcs'!$A$9:$AC$149,29,0),2),\"\"))","v":""},{"$f":"IF(A71=\"\",\"\",IF(B71=\"Leaching basin\",E71/C71,IFERROR(ROUND(VLOOKUP(A71,'Structural Water Quality Calcs'!$A$9:$AC$149,5,0)*VLOOKUP(B71,'STU Cost Estimates'!$A$6:$C$27,2,0),-2),\"\")))","v":""},{"$f":"IF(A71=\"\",\"\",IF(B71=\"Leaching Basin\",508200,IFERROR(ROUND(D71/C71,-2),\"\")))","v":""},{"$f":"IF(A71=\"\",\"\",IFERROR(D71/VLOOKUP(A71,'Structural Water Quality Calcs'!$A$9:$AE$149,13,0),\"\"))","v":""},null,null,null,{"$f":"IF(A71=\"\",\"\",IFERROR(VLOOKUP(B71,'STU Cost Estimates'!$A$6:$C$27,3,0),\"\"))","v":""}]
[null,{"$f":"IF(A72=\"\",\"\",IFERROR(VLOOKUP(A72,'Structural Water Quality Calcs'!$A$9:$AC$149,2,0),\"\"))","v":""},{"$f":"IF(A72=\"\",\"\",IFERROR(ROUND(VLOOKUP(A72,'Structural Water Quality Calcs'!$A$9:$AC$149,29,0),2),\"\"))","v":""},{"$f":"IF(A72=\"\",\"\",IF(B72=\"Leaching basin\",E72/C72,IFERROR(ROUND(VLOOKUP(A72,'Structural Water Quality Calcs'!$A$9:$AC$149,5,0)*VLOOKUP(B72,'STU Cost Estimates'!$A$6:$C$27,2,0),-2),\"\")))","v":""},"",{"$f":"IF(A72=\"\",\"\",IFERROR(D72/VLOOKUP(A72,'Structural Water Quality Calcs'!$A$9:$AE$149,13,0),\"\"))","v":""},null,null,null,{"$f":"IF(A72=\"\",\"\",IFERROR(VLOOKUP(B72,'STU Cost Estimates'!$A$6:$C$27,3,0),\"\"))","v":""}]
[null,{"$f":"IF(A73=\"\",\"\",IFERROR(VLOOKUP(A73,'Structural Water Quality Calcs'!$A$9:$AC$149,2,0),\"\"))","v":""},{"$f":"IF(A73=\"\",\"\",IFERROR(ROUND(VLOOKUP(A73,'Structural Water Quality Calcs'!$A$9:$AC$149,29,0),2),\"\"))","v":""},{"$f":"IF(A73=\"\",\"\",IF(B73=\"Leaching basin\",E73/C73,IFERROR(ROUND(VLOOKUP(A73,'Structural Water Quality Calcs'!$A$9:$AC$149,5,0)*VLOOKUP(B73,'STU Cost Estimates'!$A$6:$C$27,2,0),-2),\"\")))","v":""},"",{"$f":"IF(A73=\"\",\"\",IFERROR(D73/VLOOKUP(A73,'Structural Water Quality Calcs'!$A$9:$AE$149,13,0),\"\"))","v":""},null,null,null,{"$f":"IF(A73=\"\",\"\",IFERROR(VLOOKUP(B73,'STU Cost Estimates'!$A$6:$C$27,3,0),\"\"))","v":""}]
[null,{"$f":"IF(A74=\"\",\"\",IFERROR(VLOOKUP(A74,'Structural Water Quality Calcs'!$A$9:$AC$149,2,0),\"\"))","v":""},{"$f":"IF(A74=\"\",\"\",IFERROR(ROUND(VLOOKUP(A74,'Structural Water Quality Calcs'!$A$9:$AC$149,29,0),2),\"\"))","v":""},{"$f":"IF(A74=\"\",\"\",IF(B74=\"Leaching basin\",E74/C74,IFERROR(ROUND(VLOOKUP(A74,'Structural Water Quality Calcs'!$A$9:$AC$149,5,0)*VLOOKUP(B74,'STU Cost Estimates'!$A$6:$C$27,2,0),-2),\"\")))","v":""},"",{"$f":"IF(A74=\"\",\"\",IFERROR(D74/VLOOKUP(A74,'Structural Water Quality Calcs'!$A$9:$AE$149,13,0),\"\"))","v":""},null,null,null,{"$f":"IF(A74=\"\",\"\",IFERROR(VLOOKUP(B74,'STU Cost Estimates'!$A$6:$C$27,3,0),\"\"))","v":""}]
[null,{"$f":"IF(A75=\"\",\"\",IFERROR(VLOOKUP(A75,'Structural Water Quality Calcs'!$A$9:$AC$149,2,0),\"\"))","v":""},{"$f":"IF(A75=\"\",\"\",IFERROR(ROUND(VLOOKUP(A75,'Structural Water Quality Calcs'!$A$9:$AC$149,29,0),2),\"\"))","v":""},{"$f":"IF(A75=\"\",\"\",IF(B75=\"Leaching basin\",E75/C75,IFERROR(ROUND(VLOOKUP(A75,'Structural Water Quality Calcs'!$A$9:$AC$149,5,0)*VLOOKUP(B75,'STU Cost Estimates'!$A$6:$C$27,2,0),-2),\"\")))","v":""},"",{"$f":"IF(A75=\"\",\"\",IFERROR(D75/VLOOKUP(A75,'Structural Water Quality Calcs'!$A$9:$AE$149,13,0),\"\"))","v":""},null,null,null,{"$f":"IF(A75=\"\",\"\",IFERROR(VLOOKUP(B75,'STU Cost Estimates'!$A$6:$C$27,3,0),\"\"))","v":""}]
[null,{"$f":"IF(A76=\"\",\"\",IFERROR(VLOOKUP(A76,'Structural Water Quality Calcs'!$A$9:$AC$149,2,0),\"\"))","v":""},{"$f":"IF(A76=\"\",\"\",IFERROR(ROUND(VLOOKUP(A76,'Structural Water Quality Calcs'!$A$9:$AC$149,29,0),2),\"\"))","v":""},{"$f":"IF(A76=\"\",\"\",IF(B76=\"Leaching basin\",E76/C76,IFERROR(ROUND(VLOOKUP(A76,'Structural Water Quality Calcs'!$A$9:$AC$149,5,0)*VLOOKUP(B76,'STU Cost Estimates'!$A$6:$C$27,2,0),-2),\"\")))","v":""},"",{"$f":"IF(A76=\"\",\"\",IFERROR(D76/VLOOKUP(A76,'Structural Water Quality Calcs'!$A$9:$AE$149,13,0),\"\"))","v":""},null,null,null,{"$f":"IF(A76=\"\",\"\",IFERROR(VLOOKUP(B76,'STU Cost Estimates'!$A$6:$C$27,3,0),\"\"))","v":""}]
[null,{"$f":"IF(A77=\"\",\"\",IFERROR(VLOOKUP(A77,'Structural Water Quality Calcs'!$A$9:$AC$149,2,0),\"\"))","v":""},{"$f":"IF(A77=\"\",\"\",IFERROR(ROUND(VLOOKUP(A77,'Structural Water Quality Calcs'!$A$9:$AC$149,29,0),2),\"\"))","v":""},{"$f":"IF(A77=\"\",\"\",IF(B77=\"Leaching basin\",E77/C77,IFERROR(ROUND(VLOOKUP(A77,'Structural Water Quality Calcs'!$A$9:$AC$149,5,0)*VLOOKUP(B77,'STU Cost Estimates'!$A$6:$C$27,2,0),-2),\"\")))","v":""},"",{"$f":"IF(A77=\"\",\"\",IFERROR(D77/VLOOKUP(A77,'Structural Water Quality Calcs'!$A$9:$AE$149,13,0),\"\"))","v":""},null,null,null,{"$f":"IF(A77=\"\",\"\",IFERROR(VLOOKUP(B77,'STU Cost Estimates'!$A$6:$C$27,3,0),\"\"))","v":""}]
[null,{"$f":"IF(A78=\"\",\"\",IFERROR(VLOOKUP(A78,'Structural Water Quality Calcs'!$A$9:$AC$149,2,0),\"\"))","v":""},{"$f":"IF(A78=\"\",\"\",IFERROR(ROUND(VLOOKUP(A78,'Structural Water Quality Calcs'!$A$9:$AC$149,29,0),2),\"\"))","v":""},{"$f":"IF(A78=\"\",\"\",IF(B78=\"Leaching basin\",E78/C78,IFERROR(ROUND(VLOOKUP(A78,'Structural Water Quality Calcs'!$A$9:$AC$149,5,0)*VLOOKUP(B78,'STU Cost Estimates'!$A$6:$C$27,2,0),-2),\"\")))","v":""},"",{"$f":"IF(A78=\"\",\"\",IFERROR(D78/VLOOKUP(A78,'Structural Water Quality Calcs'!$A$9:$AE$149,13,0),\"\"))","v":""},null,null,null,{"$f":"IF(A78=\"\",\"\",IFERROR(VLOOKUP(B78,'STU Cost Estimates'!$A$6:$C$27,3,0),\"\"))","v":""}]
[null,{"$f":"IF(A79=\"\",\"\",IFERROR(VLOOKUP(A79,'Structural Water Quality Calcs'!$A$9:$AC$149,2,0),\"\"))","v":""},{"$f":"IF(A79=\"\",\"\",IFERROR(ROUND(VLOOKUP(A79,'Structural Water Quality Calcs'!$A$9:$AC$149,29,0),2),\"\"))","v":""},{"$f":"IF(A79=\"\",\"\",IF(B79=\"Leaching basin\",E79/C79,IFERROR(ROUND(VLOOKUP(A79,'Structural Water Quality Calcs'!$A$9:$AC$149,5,0)*VLOOKUP(B79,'STU Cost Estimates'!$A$6:$C$27,2,0),-2),\"\")))","v":""},"",{"$f":"IF(A79=\"\",\"\",IFERROR(D79/VLOOKUP(A79,'Structural Water Quality Calcs'!$A$9:$AE$149,13,0),\"\"))","v":""},null,null,null,{"$f":"IF(A79=\"\",\"\",IFERROR(VLOOKUP(B79,'STU Cost Estimates'!$A$6:$C$27,3,0),\"\"))","v":""}]
[null,{"$f":"IF(A80=\"\",\"\",IFERROR(VLOOKUP(A80,'Structural Water Quality Calcs'!$A$9:$AC$149,2,0),\"\"))","v":""},{"$f":"IF(A80=\"\",\"\",IFERROR(ROUND(VLOOKUP(A80,'Structural Water Quality Calcs'!$A$9:$AC$149,29,0),2),\"\"))","v":""},{"$f":"IF(A80=\"\",\"\",IF(B80=\"Leaching basin\",E80/C80,IFERROR(ROUND(VLOOKUP(A80,'Structural Water Quality Calcs'!$A$9:$AC$149,5,0)*VLOOKUP(B80,'STU Cost Estimates'!$A$6:$C$27,2,0),-2),\"\")))","v":""},"",{"$f":"IF(A80=\"\",\"\",IFERROR(D80/VLOOKUP(A80,'Structural Water Quality Calcs'!$A$9:$AE$149,13,0),\"\"))","v":""},null,null,null,{"$f":"IF(A80=\"\",\"\",IFERROR(VLOOKUP(B80,'STU Cost Estimates'!$A$6:$C$27,3,0),\"\"))","v":""}]
[null,{"$f":"IF(A81=\"\",\"\",IFERROR(VLOOKUP(A81,'Structural Water Quality Calcs'!$A$9:$AC$149,2,0),\"\"))","v":""},{"$f":"IF(A81=\"\",\"\",IFERROR(ROUND(VLOOKUP(A81,'Structural Water Quality Calcs'!$A$9:$AC$149,29,0),2),\"\"))","v":""},{"$f":"IF(A81=\"\",\"\",IF(B81=\"Leaching basin\",E81/C81,IFERROR(ROUND(VLOOKUP(A81,'Structural Water Quality Calcs'!$A$9:$AC$149,5,0)*VLOOKUP(B81,'STU Cost Estimates'!$A$6:$C$27,2,0),-2),\"\")))","v":""},"",{"$f":"IF(A81=\"\",\"\",IFERROR(D81/VLOOKUP(A81,'Structural Water Quality Calcs'!$A$9:$AE$149,13,0),\"\"))","v":""},null,null,null,{"$f":"IF(A81=\"\",\"\",IFERROR(VLOOKUP(B81,'STU Cost Estimates'!$A$6:$C$27,3,0),\"\"))","v":""}]
[null,{"$f":"IF(A82=\"\",\"\",IFERROR(VLOOKUP(A82,'Structural Water Quality Calcs'!$A$9:$AC$149,2,0),\"\"))","v":""},{"$f":"IF(A82=\"\",\"\",IFERROR(ROUND(VLOOKUP(A82,'Structural Water Quality Calcs'!$A$9:$AC$149,29,0),2),\"\"))","v":""},{"$f":"IF(A82=\"\",\"\",IF(B82=\"Leaching basin\",E82/C82,IFERROR(ROUND(VLOOKUP(A82,'Structural Water Quality Calcs'!$A$9:$AC$149,5,0)*VLOOKUP(B82,'STU Cost Estimates'!$A$6:$C$27,2,0),-2),\"\")))","v":""},"",{"$f":"IF(A82=\"\",\"\",IFERROR(D82/VLOOKUP(A82,'Structural Water Quality Calcs'!$A$9:$AE$149,13,0),\"\"))","v":""},null,null,null,{"$f":"IF(A82=\"\",\"\",IFERROR(VLOOKUP(B82,'STU Cost Estimates'!$A$6:$C$27,3,0),\"\"))","v":""}]
[null,{"$f":"IF(A83=\"\",\"\",IFERROR(VLOOKUP(A83,'Structural Water Quality Calcs'!$A$9:$AC$149,2,0),\"\"))","v":""},{"$f":"IF(A83=\"\",\"\",IFERROR(ROUND(VLOOKUP(A83,'Structural Water Quality Calcs'!$A$9:$AC$149,29,0),2),\"\"))","v":""},{"$f":"IF(A83=\"\",\"\",IF(B83=\"Leaching basin\",E83/C83,IFERROR(ROUND(VLOOKUP(A83,'Structural Water Quality Calcs'!$A$9:$AC$149,5,0)*VLOOKUP(B83,'STU Cost Estimates'!$A$6:$C$27,2,0),-2),\"\")))","v":""},"",{"$f":"IF(A83=\"\",\"\",IFERROR(D83/VLOOKUP(A83,'Structural Water Quality Calcs'!$A$9:$AE$149,13,0),\"\"))","v":""},null,null,null,{"$f":"IF(A83=\"\",\"\",IFERROR(VLOOKUP(B83,'STU Cost Estimates'!$A$6:$C$27,3,0),\"\"))","v":""}]
[null,{"$f":"IF(A84=\"\",\"\",IFERROR(VLOOKUP(A84,'Structural Water Quality Calcs'!$A$9:$AC$149,2,0),\"\"))","v":""},{"$f":"IF(A84=\"\",\"\",IFERROR(ROUND(VLOOKUP(A84,'Structural Water Quality Calcs'!$A$9:$AC$149,29,0),2),\"\"))","v":""},{"$f":"IF(A84=\"\",\"\",IF(B84=\"Leaching basin\",E84/C84,IFERROR(ROUND(VLOOKUP(A84,'Structural Water Quality Calcs'!$A$9:$AC$149,5,0)*VLOOKUP(B84,'STU Cost Estimates'!$A$6:$C$27,2,0),-2),\"\")))","v":""},"",{"$f":"IF(A84=\"\",\"\",IFERROR(D84/VLOOKUP(A84,'Structural Water Quality Calcs'!$A$9:$AE$149,13,0),\"\"))","v":""},null,null,null,{"$f":"IF(A84=\"\",\"\",IFERROR(VLOOKUP(B84,'STU Cost Estimates'!$A$6:$C$27,3,0),\"\"))","v":""}]
[null,{"$f":"IF(A85=\"\",\"\",IFERROR(VLOOKUP(A85,'Structural Water Quality Calcs'!$A$9:$AC$149,2,0),\"\"))","v":""},{"$f":"IF(A85=\"\",\"\",IFERROR(ROUND(VLOOKUP(A85,'Structural Water Quality Calcs'!$A$9:$AC$149,29,0),2),\"\"))","v":""},{"$f":"IF(A85=\"\",\"\",IF(B85=\"Leaching basin\",E85/C85,IFERROR(ROUND(VLOOKUP(A85,'Structural Water Quality Calcs'!$A$9:$AC$149,5,0)*VLOOKUP(B85,'STU Cost Estimates'!$A$6:$C$27,2,0),-2),\"\")))","v":""},"",{"$f":"IF(A85=\"\",\"\",IFERROR(D85/VLOOKUP(A85,'Structural Water Quality Calcs'!$A$9:$AE$149,13,0),\"\"))","v":""},null,null,null,{"$f":"IF(A85=\"\",\"\",IFERROR(VLOOKUP(B85,'STU Cost Estimates'!$A$6:$C$27,3,0),\"\"))","v":""}]
[null,{"$f":"IF(A86=\"\",\"\",IFERROR(VLOOKUP(A86,'Structural Water Quality Calcs'!$A$9:$AC$149,2,0),\"\"))","v":""},{"$f":"IF(A86=\"\",\"\",IFERROR(ROUND(VLOOKUP(A86,'Structural Water Quality Calcs'!$A$9:$AC$149,29,0),2),\"\"))","v":""},{"$f":"IF(A86=\"\",\"\",IF(B86=\"Leaching basin\",E86/C86,IFERROR(ROUND(VLOOKUP(A86,'Structural Water Quality Calcs'!$A$9:$AC$149,5,0)*VLOOKUP(B86,'STU Cost Estimates'!$A$6:$C$27,2,0),-2),\"\")))","v":""},"",{"$f":"IF(A86=\"\",\"\",IFERROR(D86/VLOOKUP(A86,'Structural Water Quality Calcs'!$A$9:$AE$149,13,0),\"\"))","v":""},null,null,null,{"$f":"IF(A86=\"\",\"\",IFERROR(VLOOKUP(B86,'STU Cost Estimates'!$A$6:$C$27,3,0),\"\"))","v":""}]
[null,{"$f":"IF(A87=\"\",\"\",IFERROR(VLOOKUP(A87,'Structural Water Quality Calcs'!$A$9:$AC$149,2,0),\"\"))","v":""},{"$f":"IF(A87=\"\",\"\",IFERROR(ROUND(VLOOKUP(A87,'Structural Water Quality Calcs'!$A$9:$AC$149,29,0),2),\"\"))","v":""},{"$f":"IF(A87=\"\",\"\",IF(B87=\"Leaching basin\",E87/C87,IFERROR(ROUND(VLOOKUP(A87,'Structural Water Quality Calcs'!$A$9:$AC$149,5,0)*VLOOKUP(B87,'STU Cost Estimates'!$A$6:$C$27,2,0),-2),\"\")))","v":""},"",{"$f":"IF(A87=\"\",\"\",IFERROR(D87/VLOOKUP(A87,'Structural Water Quality Calcs'!$A$9:$AE$149,13,0),\"\"))","v":""},null,null,null,{"$f":"IF(A87=\"\",\"\",IFERROR(VLOOKUP(B87,'STU Cost Estimates'!$A$6:$C$27,3,0),\"\"))","v":""}]
[null,{"$f":"IF(A88=\"\",\"\",IFERROR(VLOOKUP(A88,'Structural Water Quality Calcs'!$A$9:$AC$149,2,0),\"\"))","v":""},{"$f":"IF(A88=\"\",\"\",IFERROR(ROUND(VLOOKUP(A88,'Structural Water Quality Calcs'!$A$9:$AC$149,29,0),2),\"\"))","v":""},{"$f":"IF(A88=\"\",\"\",IF(B88=\"Leaching basin\",E88/C88,IFERROR(ROUND(VLOOKUP(A88,'Structural Water Quality Calcs'!$A$9:$AC$149,5,0)*VLOOKUP(B88,'STU Cost Estimates'!$A$6:$C$27,2,0),-2),\"\")))","v":""},"",{"$f":"IF(A88=\"\",\"\",IFERROR(D88/VLOOKUP(A88,'Structural Water Quality Calcs'!$A$9:$AE$149,13,0),\"\"))","v":""},null,null,null,{"$f":"IF(A88=\"\",\"\",IFERROR(VLOOKUP(B88,'STU Cost Estimates'!$A$6:$C$27,3,0),\"\"))","v":""}]
[null,{"$f":"IF(A89=\"\",\"\",IFERROR(VLOOKUP(A89,'Structural Water Quality Calcs'!$A$9:$AC$149,2,0),\"\"))","v":""},{"$f":"IF(A89=\"\",\"\",IFERROR(ROUND(VLOOKUP(A89,'Structural Water Quality Calcs'!$A$9:$AC$149,29,0),2),\"\"))","v":""},{"$f":"IF(A89=\"\",\"\",IF(B89=\"Leaching basin\",E89/C89,IFERROR(ROUND(VLOOKUP(A89,'Structural Water Quality Calcs'!$A$9:$AC$149,5,0)*VLOOKUP(B89,'STU Cost Estimates'!$A$6:$C$27,2,0),-2),\"\")))","v":""},"",{"$f":"IF(A89=\"\",\"\",IFERROR(D89/VLOOKUP(A89,'Structural Water Quality Calcs'!$A$9:$AE$149,13,0),\"\"))","v":""},null,null,null,{"$f":"IF(A89=\"\",\"\",IFERROR(VLOOKUP(B89,'STU Cost Estimates'!$A$6:$C$27,3,0),\"\"))","v":""}]
[null,{"$f":"IF(A90=\"\",\"\",IFERROR(VLOOKUP(A90,'Structural Water Quality Calcs'!$A$9:$AC$149,2,0),\"\"))","v":""},{"$f":"IF(A90=\"\",\"\",IFERROR(ROUND(VLOOKUP(A90,'Structural Water Quality Calcs'!$A$9:$AC$149,29,0),2),\"\"))","v":""},{"$f":"IF(A90=\"\",\"\",IF(B90=\"Leaching basin\",E90/C90,IFERROR(ROUND(VLOOKUP(A90,'Structural Water Quality Calcs'!$A$9:$AC$149,5,0)*VLOOKUP(B90,'STU Cost Estimates'!$A$6:$C$27,2,0),-2),\"\")))","v":""},"",{"$f":"IF(A90=\"\",\"\",IFERROR(D90/VLOOKUP(A90,'Structural Water Quality Calcs'!$A$9:$AE$149,13,0),\"\"))","v":""},null,null,null,{"$f":"IF(A90=\"\",\"\",IFERROR(VLOOKUP(B90,'STU Cost Estimates'!$A$6:$C$27,3,0),\"\"))","v":""}]
[null,{"$f":"IF(A91=\"\",\"\",IFERROR(VLOOKUP(A91,'Structural Water Quality Calcs'!$A$9:$AC$149,2,0),\"\"))","v":""},{"$f":"IF(A91=\"\",\"\",IFERROR(ROUND(VLOOKUP(A91,'Structural Water Quality Calcs'!$A$9:$AC$149,29,0),2),\"\"))","v":""},{"$f":"IF(A91=\"\",\"\",IF(B91=\"Leaching basin\",E91/C91,IFERROR(ROUND(VLOOKUP(A91,'Structural Water Quality Calcs'!$A$9:$AC$149,5,0)*VLOOKUP(B91,'STU Cost Estimates'!$A$6:$C$27,2,0),-2),\"\")))","v":""},"",{"$f":"IF(A91=\"\",\"\",IFERROR(D91/VLOOKUP(A91,'Structural Water Quality Calcs'!$A$9:$AE$149,13,0),\"\"))","v":""},null,null,null,{"$f":"IF(A91=\"\",\"\",IFERROR(VLOOKUP(B91,'STU Cost Estimates'!$A$6:$C$27,3,0),\"\"))","v":""}]
[null,{"$f":"IF(A92=\"\",\"\",IFERROR(VLOOKUP(A92,'Structural Water Quality Calcs'!$A$9:$AC$149,2,0),\"\"))","v":""},{"$f":"IF(A92=\"\",\"\",IFERROR(ROUND(VLOOKUP(A92,'Structural Water Quality Calcs'!$A$9:$AC$149,29,0),2),\"\"))","v":""},{"$f":"IF(A92=\"\",\"\",IF(B92=\"Leaching basin\",E92/C92,IFERROR(ROUND(VLOOKUP(A92,'Structural Water Quality Calcs'!$A$9:$AC$149,5,0)*VLOOKUP(B92,'STU Cost Estimates'!$A$6:$C$27,2,0),-2),\"\")))","v":""},"",{"$f":"IF(A92=\"\",\"\",IFERROR(D92/VLOOKUP(A92,'Structural Water Quality Calcs'!$A$9:$AE$149,13,0),\"\"))","v":""},null,null,null,{"$f":"IF(A92=\"\",\"\",IFERROR(VLOOKUP(B92,'STU Cost Estimates'!$A$6:$C$27,3,0),\"\"))","v":""}]
[null,{"$f":"IF(A93=\"\",\"\",IFERROR(VLOOKUP(A93,'Structural Water Quality Calcs'!$A$9:$AC$149,2,0),\"\"))","v":""},{"$f":"IF(A93=\"\",\"\",IFERROR(ROUND(VLOOKUP(A93,'Structural Water Quality Calcs'!$A$9:$AC$149,29,0),2),\"\"))","v":""},{"$f":"IF(A93=\"\",\"\",IF(B93=\"Leaching basin\",E93/C93,IFERROR(ROUND(VLOOKUP(A93,'Structural Water Quality Calcs'!$A$9:$AC$149,5,0)*VLOOKUP(B93,'STU Cost Estimates'!$A$6:$C$27,2,0),-2),\"\")))","v":""},"",{"$f":"IF(A93=\"\",\"\",IFERROR(D93/VLOOKUP(A93,'Structural Water Quality Calcs'!$A$9:$AE$149,13,0),\"\"))","v":""},null,null,null,{"$f":"IF(A93=\"\",\"\",IFERROR(VLOOKUP(B93,'STU Cost Estimates'!$A$6:$C$27,3,0),\"\"))","v":""}]
[null,{"$f":"IF(A94=\"\",\"\",IFERROR(VLOOKUP(A94,'Structural Water Quality Calcs'!$A$9:$AC$149,2,0),\"\"))","v":""},{"$f":"IF(A94=\"\",\"\",IFERROR(ROUND(VLOOKUP(A94,'Structural Water Quality Calcs'!$A$9:$AC$149,29,0),2),\"\"))","v":""},{"$f":"IF(A94=\"\",\"\",IF(B94=\"Leaching basin\",E94/C94,IFERROR(ROUND(VLOOKUP(A94,'Structural Water Quality Calcs'!$A$9:$AC$149,5,0)*VLOOKUP(B94,'STU Cost Estimates'!$A$6:$C$27,2,0),-2),\"\")))","v":""},"",{"$f":"IF(A94=\"\",\"\",IFERROR(D94/VLOOKUP(A94,'Structural Water Quality Calcs'!$A$9:$AE$149,13,0),\"\"))","v":""},null,null,null,{"$f":"IF(A94=\"\",\"\",IFERROR(VLOOKUP(B94,'STU Cost Estimates'!$A$6:$C$27,3,0),\"\"))","v":""}]
[null,{"$f":"IF(A95=\"\",\"\",IFERROR(VLOOKUP(A95,'Structural Water Quality Calcs'!$A$9:$AC$149,2,0),\"\"))","v":""},{"$f":"IF(A95=\"\",\"\",IFERROR(ROUND(VLOOKUP(A95,'Structural Water Quality Calcs'!$A$9:$AC$149,29,0),2),\"\"))","v":""},{"$f":"IF(A95=\"\",\"\",IF(B95=\"Leaching basin\",E95/C95,IFERROR(ROUND(VLOOKUP(A95,'Structural Water Quality Calcs'!$A$9:$AC$149,5,0)*VLOOKUP(B95,'STU Cost Estimates'!$A$6:$C$27,2,0),-2),\"\")))","v":""},"",{"$f":"IF(A95=\"\",\"\",IFERROR(D95/VLOOKUP(A95,'Structural Water Quality Calcs'!$A$9:$AE$149,13,0),\"\"))","v":""},null,null,null,{"$f":"IF(A95=\"\",\"\",IFERROR(VLOOKUP(B95,'STU Cost Estimates'!$A$6:$C$27,3,0),\"\"))","v":""}]
[null,{"$f":"IF(A96=\"\",\"\",IFERROR(VLOOKUP(A96,'Structural Water Quality Calcs'!$A$9:$AC$149,2,0),\"\"))","v":""},{"$f":"IF(A96=\"\",\"\",IFERROR(ROUND(VLOOKUP(A96,'Structural Water Quality Calcs'!$A$9:$AC$149,29,0),2),\"\"))","v":""},{"$f":"IF(A96=\"\",\"\",IF(B96=\"Leaching basin\",E96/C96,IFERROR(ROUND(VLOOKUP(A96,'Structural Water Quality Calcs'!$A$9:$AC$149,5,0)*VLOOKUP(B96,'STU Cost Estimates'!$A$6:$C$27,2,0),-2),\"\")))","v":""},"",{"$f":"IF(A96=\"\",\"\",IFERROR(D96/VLOOKUP(A96,'Structural Water Quality Calcs'!$A$9:$AE$149,13,0),\"\"))","v":""},null,null,null,{"$f":"IF(A96=\"\",\"\",IFERROR(VLOOKUP(B96,'STU Cost Estimates'!$A$6:$C$27,3,0),\"\"))","v":""}]
[null,{"$f":"IF(A97=\"\",\"\",IFERROR(VLOOKUP(A97,'Structural Water Quality Calcs'!$A$9:$AC$149,2,0),\"\"))","v":""},{"$f":"IF(A97=\"\",\"\",IFERROR(ROUND(VLOOKUP(A97,'Structural Water Quality Calcs'!$A$9:$AC$149,29,0),2),\"\"))","v":""},{"$f":"IF(A97=\"\",\"\",IF(B97=\"Leaching basin\",E97/C97,IFERROR(ROUND(VLOOKUP(A97,'Structural Water Quality Calcs'!$A$9:$AC$149,5,0)*VLOOKUP(B97,'STU Cost Estimates'!$A$6:$C$27,2,0),-2),\"\")))","v":""},"",{"$f":"IF(A97=\"\",\"\",IFERROR(D97/VLOOKUP(A97,'Structural Water Quality Calcs'!$A$9:$AE$149,13,0),\"\"))","v":""},null,null,null,{"$f":"IF(A97=\"\",\"\",IFERROR(VLOOKUP(B97,'STU Cost Estimates'!$A$6:$C$27,3,0),\"\"))","v":""}]
[null,{"$f":"IF(A98=\"\",\"\",IFERROR(VLOOKUP(A98,'Structural Water Quality Calcs'!$A$9:$AC$149,2,0),\"\"))","v":""},{"$f":"IF(A98=\"\",\"\",IFERROR(ROUND(VLOOKUP(A98,'Structural Water Quality Calcs'!$A$9:$AC$149,29,0),2),\"\"))","v":""},{"$f":"IF(A98=\"\",\"\",IF(B98=\"Leaching basin\",E98/C98,IFERROR(ROUND(VLOOKUP(A98,'Structural Water Quality Calcs'!$A$9:$AC$149,5,0)*VLOOKUP(B98,'STU Cost Estimates'!$A$6:$C$27,2,0),-2),\"\")))","v":""},"",{"$f":"IF(A98=\"\",\"\",IFERROR(D98/VLOOKUP(A98,'Structural Water Quality Calcs'!$A$9:$AE$149,13,0),\"\"))","v":""},null,null,null,{"$f":"IF(A98=\"\",\"\",IFERROR(VLOOKUP(B98,'STU Cost Estimates'!$A$6:$C$27,3,0),\"\"))","v":""}]
[null,{"$f":"IF(A99=\"\",\"\",IFERROR(VLOOKUP(A99,'Structural Water Quality Calcs'!$A$9:$AC$149,2,0),\"\"))","v":""},{"$f":"IF(A99=\"\",\"\",IFERROR(ROUND(VLOOKUP(A99,'Structural Water Quality Calcs'!$A$9:$AC$149,29,0),2),\"\"))","v":""},{"$f":"IF(A99=\"\",\"\",IF(B99=\"Leaching basin\",E99/C99,IFERROR(ROUND(VLOOKUP(A99,'Structural Water Quality Calcs'!$A$9:$AC$149,5,0)*VLOOKUP(B99,'STU Cost Estimates'!$A$6:$C$27,2,0),-2),\"\")))","v":""},"",{"$f":"IF(A99=\"\",\"\",IFERROR(D99/VLOOKUP(A99,'Structural Water Quality Calcs'!$A$9:$AE$149,13,0),\"\"))","v":""},null,null,null,{"$f":"IF(A99=\"\",\"\",IFERROR(VLOOKUP(B99,'STU Cost Estimates'!$A$6:$C$27,3,0),\"\"))","v":""}]
[null,{"$f":"IF(A100=\"\",\"\",IFERROR(VLOOKUP(A100,'Structural Water Quality Calcs'!$A$9:$AC$149,2,0),\"\"))","v":""},{"$f":"IF(A100=\"\",\"\",IFERROR(ROUND(VLOOKUP(A100,'Structural Water Quality Calcs'!$A$9:$AC$149,29,0),2),\"\"))","v":""},{"$f":"IF(A100=\"\",\"\",IF(B100=\"Leaching basin\",E100/C100,IFERROR(ROUND(VLOOKUP(A100,'Structural Water Quality Calcs'!$A$9:$AC$149,5,0)*VLOOKUP(B100,'STU Cost Estimates'!$A$6:$C$27,2,0),-2),\"\")))","v":""},"",{"$f":"IF(A100=\"\",\"\",IFERROR(D100/VLOOKUP(A100,'Structural Water Quality Calcs'!$A$9:$AE$149,13,0),\"\"))","v":""},null,null,null,{"$f":"IF(A100=\"\",\"\",IFERROR(VLOOKUP(B100,'STU Cost Estimates'!$A$6:$C$27,3,0),\"\"))","v":""}]
[null,{"$f":"IF(A101=\"\",\"\",IFERROR(VLOOKUP(A101,'Structural Water Quality Calcs'!$A$9:$AC$149,2,0),\"\"))","v":""},{"$f":"IF(A101=\"\",\"\",IFERROR(ROUND(VLOOKUP(A101,'Structural Water Quality Calcs'!$A$9:$AC$149,29,0),2),\"\"))","v":""},{"$f":"IF(A101=\"\",\"\",IF(B101=\"Leaching basin\",E101/C101,IFERROR(ROUND(VLOOKUP(A101,'Structural Water Quality Calcs'!$A$9:$AC$149,5,0)*VLOOKUP(B101,'STU Cost Estimates'!$A$6:$C$27,2,0),-2),\"\")))","v":""},"",{"$f":"IF(A101=\"\",\"\",IFERROR(D101/VLOOKUP(A101,'Structural Water Quality Calcs'!$A$9:$AE$149,13,0),\"\"))","v":""},null,null,null,{"$f":"IF(A101=\"\",\"\",IFERROR(VLOOKUP(B101,'STU Cost Estimates'!$A$6:$C$27,3,0),\"\"))","v":""}]
[null,{"$f":"IF(A102=\"\",\"\",IFERROR(VLOOKUP(A102,'Structural Water Quality Calcs'!$A$9:$AC$149,2,0),\"\"))","v":""},{"$f":"IF(A102=\"\",\"\",IFERROR(ROUND(VLOOKUP(A102,'Structural Water Quality Calcs'!$A$9:$AC$149,29,0),2),\"\"))","v":""},{"$f":"IF(A102=\"\",\"\",IF(B102=\"Leaching basin\",E102/C102,IFERROR(ROUND(VLOOKUP(A102,'Structural Water Quality Calcs'!$A$9:$AC$149,5,0)*VLOOKUP(B102,'STU Cost Estimates'!$A$6:$C$27,2,0),-2),\"\")))","v":""},"",{"$f":"IF(A102=\"\",\"\",IFERROR(D102/VLOOKUP(A102,'Structural Water Quality Calcs'!$A$9:$AE$149,13,0),\"\"))","v":""},null,null,null,{"$f":"IF(A102=\"\",\"\",IFERROR(VLOOKUP(B102,'STU Cost Estimates'!$A$6:$C$27,3,0),\"\"))","v":""}]
[null,{"$f":"IF(A103=\"\",\"\",IFERROR(VLOOKUP(A103,'Structural Water Quality Calcs'!$A$9:$AC$149,2,0),\"\"))","v":""},{"$f":"IF(A103=\"\",\"\",IFERROR(ROUND(VLOOKUP(A103,'Structural Water Quality Calcs'!$A$9:$AC$149,29,0),2),\"\"))","v":""},{"$f":"IF(A103=\"\",\"\",IF(B103=\"Leaching basin\",E103/C103,IFERROR(ROUND(VLOOKUP(A103,'Structural Water Quality Calcs'!$A$9:$AC$149,5,0)*VLOOKUP(B103,'STU Cost Estimates'!$A$6:$C$27,2,0),-2),\"\")))","v":""},"",{"$f":"IF(A103=\"\",\"\",IFERROR(D103/VLOOKUP(A103,'Structural Water Quality Calcs'!$A$9:$AE$149,13,0),\"\"))","v":""},null,null,null,{"$f":"IF(A103=\"\",\"\",IFERROR(VLOOKUP(B103,'STU Cost Estimates'!$A$6:$C$27,3,0),\"\"))","v":""}]
[null,{"$f":"IF(A104=\"\",\"\",IFERROR(VLOOKUP(A104,'Structural Water Quality Calcs'!$A$9:$AC$149,2,0),\"\"))","v":""},{"$f":"IF(A104=\"\",\"\",IFERROR(ROUND(VLOOKUP(A104,'Structural Water Quality Calcs'!$A$9:$AC$149,29,0),2),\"\"))","v":""},{"$f":"IF(A104=\"\",\"\",IF(B104=\"Leaching basin\",E104/C104,IFERROR(ROUND(VLOOKUP(A104,'Structural Water Quality Calcs'!$A$9:$AC$149,5,0)*VLOOKUP(B104,'STU Cost Estimates'!$A$6:$C$27,2,0),-2),\"\")))","v":""},"",{"$f":"IF(A104=\"\",\"\",IFERROR(D104/VLOOKUP(A104,'Structural Water Quality Calcs'!$A$9:$AE$149,13,0),\"\"))","v":""},null,null,null,{"$f":"IF(A104=\"\",\"\",IFERROR(VLOOKUP(B104,'STU Cost Estimates'!$A$6:$C$27,3,0),\"\"))","v":""}]
[null,{"$f":"IF(A105=\"\",\"\",IFERROR(VLOOKUP(A105,'Structural Water Quality Calcs'!$A$9:$AC$149,2,0),\"\"))","v":""},{"$f":"IF(A105=\"\",\"\",IFERROR(ROUND(VLOOKUP(A105,'Structural Water Quality Calcs'!$A$9:$AC$149,29,0),2),\"\"))","v":""},{"$f":"IF(A105=\"\",\"\",IF(B105=\"Leaching basin\",E105/C105,IFERROR(ROUND(VLOOKUP(A105,'Structural Water Quality Calcs'!$A$9:$AC$149,5,0)*VLOOKUP(B105,'STU Cost Estimates'!$A$6:$C$27,2,0),-2),\"\")))","v":""},"",{"$f":"IF(A105=\"\",\"\",IFERROR(D105/VLOOKUP(A105,'Structural Water Quality Calcs'!$A$9:$AE$149,13,0),\"\"))","v":""},null,null,null,{"$f":"IF(A105=\"\",\"\",IFERROR(VLOOKUP(B105,'STU Cost Estimates'!$A$6:$C$27,3,0),\"\"))","v":""}]
[null,{"$f":"IF(A106=\"\",\"\",IFERROR(VLOOKUP(A106,'Structural Water Quality Calcs'!$A$9:$AC$149,2,0),\"\"))","v":""},{"$f":"IF(A106=\"\",\"\",IFERROR(ROUND(VLOOKUP(A106,'Structural Water Quality Calcs'!$A$9:$AC$149,29,0),2),\"\"))","v":""},{"$f":"IF(A106=\"\",\"\",IF(B106=\"Leaching basin\",E106/C106,IFERROR(ROUND(VLOOKUP(A106,'Structural Water Quality Calcs'!$A$9:$AC$149,5,0)*VLOOKUP(B106,'STU Cost Estimates'!$A$6:$C$27,2,0),-2),\"\")))","v":""},"",{"$f":"IF(A106=\"\",\"\",IFERROR(D106/VLOOKUP(A106,'Structural Water Quality Calcs'!$A$9:$AE$149,13,0),\"\"))","v":""},null,null,null,{"$f":"IF(A106=\"\",\"\",IFERROR(VLOOKUP(B106,'STU Cost Estimates'!$A$6:$C$27,3,0),\"\"))","v":""}]
[null,{"$f":"IF(A107=\"\",\"\",IFERROR(VLOOKUP(A107,'Structural Water Quality Calcs'!$A$9:$AC$149,2,0),\"\"))","v":""},{"$f":"IF(A107=\"\",\"\",IFERROR(ROUND(VLOOKUP(A107,'Structural Water Quality Calcs'!$A$9:$AC$149,29,0),2),\"\"))","v":""},{"$f":"IF(A107=\"\",\"\",IF(B107=\"Leaching basin\",E107/C107,IFERROR(ROUND(VLOOKUP(A107,'Structural Water Quality Calcs'!$A$9:$AC$149,5,0)*VLOOKUP(B107,'STU Cost Estimates'!$A$6:$C$27,2,0),-2),\"\")))","v":""},"",{"$f":"IF(A107=\"\",\"\",IFERROR(D107/VLOOKUP(A107,'Structural Water Quality Calcs'!$A$9:$AE$149,13,0),\"\"))","v":""},null,null,null,{"$f":"IF(A107=\"\",\"\",IFERROR(VLOOKUP(B107,'STU Cost Estimates'!$A$6:$C$27,3,0),\"\"))","v":""}]
[null,{"$f":"IF(A108=\"\",\"\",IFERROR(VLOOKUP(A108,'Structural Water Quality Calcs'!$A$9:$AC$149,2,0),\"\"))","v":""},{"$f":"IF(A108=\"\",\"\",IFERROR(ROUND(VLOOKUP(A108,'Structural Water Quality Calcs'!$A$9:$AC$149,29,0),2),\"\"))","v":""},{"$f":"IF(A108=\"\",\"\",IF(B108=\"Leaching basin\",E108/C108,IFERROR(ROUND(VLOOKUP(A108,'Structural Water Quality Calcs'!$A$9:$AC$149,5,0)*VLOOKUP(B108,'STU Cost Estimates'!$A$6:$C$27,2,0),-2),\"\")))","v":""},"",{"$f":"IF(A108=\"\",\"\",IFERROR(D108/VLOOKUP(A108,'Structural Water Quality Calcs'!$A$9:$AE$149,13,0),\"\"))","v":""},null,null,null,{"$f":"IF(A108=\"\",\"\",IFERROR(VLOOKUP(B108,'STU Cost Estimates'!$A$6:$C$27,3,0),\"\"))","v":""}]
[null,{"$f":"IF(A109=\"\",\"\",IFERROR(VLOOKUP(A109,'Structural Water Quality Calcs'!$A$9:$AC$149,2,0),\"\"))","v":""},{"$f":"IF(A109=\"\",\"\",IFERROR(ROUND(VLOOKUP(A109,'Structural Water Quality Calcs'!$A$9:$AC$149,29,0),2),\"\"))","v":""},{"$f":"IF(A109=\"\",\"\",IF(B109=\"Leaching basin\",E109/C109,IFERROR(ROUND(VLOOKUP(A109,'Structural Water Quality Calcs'!$A$9:$AC$149,5,0)*VLOOKUP(B109,'STU Cost Estimates'!$A$6:$C$27,2,0),-2),\"\")))","v":""},"",{"$f":"IF(A109=\"\",\"\",IFERROR(D109/VLOOKUP(A109,'Structural Water Quality Calcs'!$A$9:$AE$149,13,0),\"\"))","v":""},null,null,null,{"$f":"IF(A109=\"\",\"\",IFERROR(VLOOKUP(B109,'STU Cost Estimates'!$A$6:$C$27,3,0),\"\"))","v":""}]
[null,{"$f":"IF(A110=\"\",\"\",IFERROR(VLOOKUP(A110,'Structural Water Quality Calcs'!$A$9:$AC$149,2,0),\"\"))","v":""},{"$f":"IF(A110=\"\",\"\",IFERROR(ROUND(VLOOKUP(A110,'Structural Water Quality Calcs'!$A$9:$AC$149,29,0),2),\"\"))","v":""},{"$f":"IF(A110=\"\",\"\",IF(B110=\"Leaching basin\",E110/C110,IFERROR(ROUND(VLOOKUP(A110,'Structural Water Quality Calcs'!$A$9:$AC$149,5,0)*VLOOKUP(B110,'STU Cost Estimates'!$A$6:$C$27,2,0),-2),\"\")))","v":""},"",{"$f":"IF(A110=\"\",\"\",IFERROR(D110/VLOOKUP(A110,'Structural Water Quality Calcs'!$A$9:$AE$149,13,0),\"\"))","v":""},null,null,null,{"$f":"IF(A110=\"\",\"\",IFERROR(VLOOKUP(B110,'STU Cost Estimates'!$A$6:$C$27,3,0),\"\"))","v":""}]
[null,{"$f":"IF(A111=\"\",\"\",IFERROR(VLOOKUP(A111,'Structural Water Quality Calcs'!$A$9:$AC$149,2,0),\"\"))","v":""},{"$f":"IF(A111=\"\",\"\",IFERROR(ROUND(VLOOKUP(A111,'Structural Water Quality Calcs'!$A$9:$AC$149,29,0),2),\"\"))","v":""},{"$f":"IF(A111=\"\",\"\",IF(B111=\"Leaching basin\",E111/C111,IFERROR(ROUND(VLOOKUP(A111,'Structural Water Quality Calcs'!$A$9:$AC$149,5,0)*VLOOKUP(B111,'STU Cost Estimates'!$A$6:$C$27,2,0),-2),\"\")))","v":""},"",{"$f":"IF(A111=\"\",\"\",IFERROR(D111/VLOOKUP(A111,'Structural Water Quality Calcs'!$A$9:$AE$149,13,0),\"\"))","v":""},null,null,null,{"$f":"IF(A111=\"\",\"\",IFERROR(VLOOKUP(B111,'STU Cost Estimates'!$A$6:$C$27,3,0),\"\"))","v":""}]
[null,{"$f":"IF(A112=\"\",\"\",IFERROR(VLOOKUP(A112,'Structural Water Quality Calcs'!$A$9:$AC$149,2,0),\"\"))","v":""},{"$f":"IF(A112=\"\",\"\",IFERROR(ROUND(VLOOKUP(A112,'Structural Water Quality Calcs'!$A$9:$AC$149,29,0),2),\"\"))","v":""},{"$f":"IF(A112=\"\",\"\",IF(B112=\"Leaching basin\",E112/C112,IFERROR(ROUND(VLOOKUP(A112,'Structural Water Quality Calcs'!$A$9:$AC$149,5,0)*VLOOKUP(B112,'STU Cost Estimates'!$A$6:$C$27,2,0),-2),\"\")))","v":""},"",{"$f":"IF(A112=\"\",\"\",IFERROR(D112/VLOOKUP(A112,'Structural Water Quality Calcs'!$A$9:$AE$149,13,0),\"\"))","v":""},null,null,null,{"$f":"IF(A112=\"\",\"\",IFERROR(VLOOKUP(B112,'STU Cost Estimates'!$A$6:$C$27,3,0),\"\"))","v":""}]
[null,{"$f":"IF(A113=\"\",\"\",IFERROR(VLOOKUP(A113,'Structural Water Quality Calcs'!$A$9:$AC$149,2,0),\"\"))","v":""},{"$f":"IF(A113=\"\",\"\",IFERROR(ROUND(VLOOKUP(A113,'Structural Water Quality Calcs'!$A$9:$AC$149,29,0),2),\"\"))","v":""},{"$f":"IF(A113=\"\",\"\",IF(B113=\"Leaching basin\",E113/C113,IFERROR(ROUND(VLOOKUP(A113,'Structural Water Quality Calcs'!$A$9:$AC$149,5,0)*VLOOKUP(B113,'STU Cost Estimates'!$A$6:$C$27,2,0),-2),\"\")))","v":""},"",{"$f":"IF(A113=\"\",\"\",IFERROR(D113/VLOOKUP(A113,'Structural Water Quality Calcs'!$A$9:$AE$149,13,0),\"\"))","v":""},null,null,null,{"$f":"IF(A113=\"\",\"\",IFERROR(VLOOKUP(B113,'STU Cost Estimates'!$A$6:$C$27,3,0),\"\"))","v":""}]
[null,{"$f":"IF(A114=\"\",\"\",IFERROR(VLOOKUP(A114,'Structural Water Quality Calcs'!$A$9:$AC$149,2,0),\"\"))","v":""},{"$f":"IF(A114=\"\",\"\",IFERROR(ROUND(VLOOKUP(A114,'Structural Water Quality Calcs'!$A$9:$AC$149,29,0),2),\"\"))","v":""},{"$f":"IF(A114=\"\",\"\",IF(B114=\"Leaching basin\",E114/C114,IFERROR(ROUND(VLOOKUP(A114,'Structural Water Quality Calcs'!$A$9:$AC$149,5,0)*VLOOKUP(B114,'STU Cost Estimates'!$A$6:$C$27,2,0),-2),\"\")))","v":""},"",{"$f":"IF(A114=\"\",\"\",IFERROR(D114/VLOOKUP(A114,'Structural Water Quality Calcs'!$A$9:$AE$149,13,0),\"\"))","v":""},null,null,null,{"$f":"IF(A114=\"\",\"\",IFERROR(VLOOKUP(B114,'STU Cost Estimates'!$A$6:$C$27,3,0),\"\"))","v":""}]
[null,{"$f":"IF(A115=\"\",\"\",IFERROR(VLOOKUP(A115,'Structural Water Quality Calcs'!$A$9:$AC$149,2,0),\"\"))","v":""},{"$f":"IF(A115=\"\",\"\",IFERROR(ROUND(VLOOKUP(A115,'Structural Water Quality Calcs'!$A$9:$AC$149,29,0),2),\"\"))","v":""},{"$f":"IF(A115=\"\",\"\",IF(B115=\"Leaching basin\",E115/C115,IFERROR(ROUND(VLOOKUP(A115,'Structural Water Quality Calcs'!$A$9:$AC$149,5,0)*VLOOKUP(B115,'STU Cost Estimates'!$A$6:$C$27,2,0),-2),\"\")))","v":""},"",{"$f":"IF(A115=\"\",\"\",IFERROR(D115/VLOOKUP(A115,'Structural Water Quality Calcs'!$A$9:$AE$149,13,0),\"\"))","v":""},null,null,null,{"$f":"IF(A115=\"\",\"\",IFERROR(VLOOKUP(B115,'STU Cost Estimates'!$A$6:$C$27,3,0),\"\"))","v":""}]
[null,{"$f":"IF(A116=\"\",\"\",IFERROR(VLOOKUP(A116,'Structural Water Quality Calcs'!$A$9:$AC$149,2,0),\"\"))","v":""},{"$f":"IF(A116=\"\",\"\",IFERROR(ROUND(VLOOKUP(A116,'Structural Water Quality Calcs'!$A$9:$AC$149,29,0),2),\"\"))","v":""},{"$f":"IF(A116=\"\",\"\",IF(B116=\"Leaching basin\",E116/C116,IFERROR(ROUND(VLOOKUP(A116,'Structural Water Quality Calcs'!$A$9:$AC$149,5,0)*VLOOKUP(B116,'STU Cost Estimates'!$A$6:$C$27,2,0),-2),\"\")))","v":""},"",{"$f":"IF(A116=\"\",\"\",IFERROR(D116/VLOOKUP(A116,'Structural Water Quality Calcs'!$A$9:$AE$149,13,0),\"\"))","v":""},null,null,null,{"$f":"IF(A116=\"\",\"\",IFERROR(VLOOKUP(B116,'STU Cost Estimates'!$A$6:$C$27,3,0),\"\"))","v":""}]
[null,{"$f":"IF(A117=\"\",\"\",IFERROR(VLOOKUP(A117,'Structural Water Quality Calcs'!$A$9:$AC$149,2,0),\"\"))","v":""},{"$f":"IF(A117=\"\",\"\",IFERROR(ROUND(VLOOKUP(A117,'Structural Water Quality Calcs'!$A$9:$AC$149,29,0),2),\"\"))","v":""},{"$f":"IF(A117=\"\",\"\",IF(B117=\"Leaching basin\",E117/C117,IFERROR(ROUND(VLOOKUP(A117,'Structural Water Quality Calcs'!$A$9:$AC$149,5,0)*VLOOKUP(B117,'STU Cost Estimates'!$A$6:$C$27,2,0),-2),\"\")))","v":""},"",{"$f":"IF(A117=\"\",\"\",IFERROR(D117/VLOOKUP(A117,'Structural Water Quality Calcs'!$A$9:$AE$149,13,0),\"\"))","v":""},null,null,null,{"$f":"IF(A117=\"\",\"\",IFERROR(VLOOKUP(B117,'STU Cost Estimates'!$A$6:$C$27,3,0),\"\"))","v":""}]
[null,{"$f":"IF(A118=\"\",\"\",IFERROR(VLOOKUP(A118,'Structural Water Quality Calcs'!$A$9:$AC$149,2,0),\"\"))","v":""},{"$f":"IF(A118=\"\",\"\",IFERROR(ROUND(VLOOKUP(A118,'Structural Water Quality Calcs'!$A$9:$AC$149,29,0),2),\"\"))","v":""},{"$f":"IF(A118=\"\",\"\",IF(B118=\"Leaching basin\",E118/C118,IFERROR(ROUND(VLOOKUP(A118,'Structural Water Quality Calcs'!$A$9:$AC$149,5,0)*VLOOKUP(B118,'STU Cost Estimates'!$A$6:$C$27,2,0),-2),\"\")))","v":""},"",{"$f":"IF(A118=\"\",\"\",IFERROR(D118/VLOOKUP(A118,'Structural Water Quality Calcs'!$A$9:$AE$149,13,0),\"\"))","v":""},null,null,null,{"$f":"IF(A118=\"\",\"\",IFERROR(VLOOKUP(B118,'STU Cost Estimates'!$A$6:$C$27,3,0),\"\"))","v":""}]
[null,{"$f":"IF(A119=\"\",\"\",IFERROR(VLOOKUP(A119,'Structural Water Quality Calcs'!$A$9:$AC$149,2,0),\"\"))","v":""},{"$f":"IF(A119=\"\",\"\",IFERROR(ROUND(VLOOKUP(A119,'Structural Water Quality Calcs'!$A$9:$AC$149,29,0),2),\"\"))","v":""},{"$f":"IF(A119=\"\",\"\",IF(B119=\"Leaching basin\",E119/C119,IFERROR(ROUND(VLOOKUP(A119,'Structural Water Quality Calcs'!$A$9:$AC$149,5,0)*VLOOKUP(B119,'STU Cost Estimates'!$A$6:$C$27,2,0),-2),\"\")))","v":""},"",{"$f":"IF(A119=\"\",\"\",IFERROR(D119/VLOOKUP(A119,'Structural Water Quality Calcs'!$A$9:$AE$149,13,0),\"\"))","v":""},null,null,null,{"$f":"IF(A119=\"\",\"\",IFERROR(VLOOKUP(B119,'STU Cost Estimates'!$A$6:$C$27,3,0),\"\"))","v":""}]
[null,{"$f":"IF(A120=\"\",\"\",IFERROR(VLOOKUP(A120,'Structural Water Quality Calcs'!$A$9:$AC$149,2,0),\"\"))","v":""},{"$f":"IF(A120=\"\",\"\",IFERROR(ROUND(VLOOKUP(A120,'Structural Water Quality Calcs'!$A$9:$AC$149,29,0),2),\"\"))","v":""},{"$f":"IF(A120=\"\",\"\",IF(B120=\"Leaching basin\",E120/C120,IFERROR(ROUND(VLOOKUP(A120,'Structural Water Quality Calcs'!$A$9:$AC$149,5,0)*VLOOKUP(B120,'STU Cost Estimates'!$A$6:$C$27,2,0),-2),\"\")))","v":""},"",{"$f":"IF(A120=\"\",\"\",IFERROR(D120/VLOOKUP(A120,'Structural Water Quality Calcs'!$A$9:$AE$149,13,0),\"\"))","v":""},null,null,null,{"$f":"IF(A120=\"\",\"\",IFERROR(VLOOKUP(B120,'STU Cost Estimates'!$A$6:$C$27,3,0),\"\"))","v":""}]
[null,{"$f":"IF(A121=\"\",\"\",IFERROR(VLOOKUP(A121,'Structural Water Quality Calcs'!$A$9:$AC$149,2,0),\"\"))","v":""},{"$f":"IF(A121=\"\",\"\",IFERROR(ROUND(VLOOKUP(A121,'Structural Water Quality Calcs'!$A$9:$AC$149,29,0),2),\"\"))","v":""},{"$f":"IF(A121=\"\",\"\",IF(B121=\"Leaching basin\",E121/C121,IFERROR(ROUND(VLOOKUP(A121,'Structural Water Quality Calcs'!$A$9:$AC$149,5,0)*VLOOKUP(B121,'STU Cost Estimates'!$A$6:$C$27,2,0),-2),\"\")))","v":""},"",{"$f":"IF(A121=\"\",\"\",IFERROR(D121/VLOOKUP(A121,'Structural Water Quality Calcs'!$A$9:$AE$149,13,0),\"\"))","v":""},null,null,null,{"$f":"IF(A121=\"\",\"\",IFERROR(VLOOKUP(B121,'STU Cost Estimates'!$A$6:$C$27,3,0),\"\"))","v":""}]
[null,{"$f":"IF(A122=\"\",\"\",IFERROR(VLOOKUP(A122,'Structural Water Quality Calcs'!$A$9:$AC$149,2,0),\"\"))","v":""},{"$f":"IF(A122=\"\",\"\",IFERROR(ROUND(VLOOKUP(A122,'Structural Water Quality Calcs'!$A$9:$AC$149,29,0),2),\"\"))","v":""},{"$f":"IF(A122=\"\",\"\",IF(B122=\"Leaching basin\",E122/C122,IFERROR(ROUND(VLOOKUP(A122,'Structural Water Quality Calcs'!$A$9:$AC$149,5,0)*VLOOKUP(B122,'STU Cost Estimates'!$A$6:$C$27,2,0),-2),\"\")))","v":""},"",{"$f":"IF(A122=\"\",\"\",IFERROR(D122/VLOOKUP(A122,'Structural Water Quality Calcs'!$A$9:$AE$149,13,0),\"\"))","v":""},null,null,null,{"$f":"IF(A122=\"\",\"\",IFERROR(VLOOKUP(B122,'STU Cost Estimates'!$A$6:$C$27,3,0),\"\"))","v":""}]
[null,{"$f":"IF(A123=\"\",\"\",IFERROR(VLOOKUP(A123,'Structural Water Quality Calcs'!$A$9:$AC$149,2,0),\"\"))","v":""},{"$f":"IF(A123=\"\",\"\",IFERROR(ROUND(VLOOKUP(A123,'Structural Water Quality Calcs'!$A$9:$AC$149,29,0),2),\"\"))","v":""},{"$f":"IF(A123=\"\",\"\",IF(B123=\"Leaching basin\",E123/C123,IFERROR(ROUND(VLOOKUP(A123,'Structural Water Quality Calcs'!$A$9:$AC$149,5,0)*VLOOKUP(B123,'STU Cost Estimates'!$A$6:$C$27,2,0),-2),\"\")))","v":""},"",{"$f":"IF(A123=\"\",\"\",IFERROR(D123/VLOOKUP(A123,'Structural Water Quality Calcs'!$A$9:$AE$149,13,0),\"\"))","v":""},null,null,null,{"$f":"IF(A123=\"\",\"\",IFERROR(VLOOKUP(B123,'STU Cost Estimates'!$A$6:$C$27,3,0),\"\"))","v":""}]
[null,{"$f":"IF(A124=\"\",\"\",IFERROR(VLOOKUP(A124,'Structural Water Quality Calcs'!$A$9:$AC$149,2,0),\"\"))","v":""},{"$f":"IF(A124=\"\",\"\",IFERROR(ROUND(VLOOKUP(A124,'Structural Water Quality Calcs'!$A$9:$AC$149,29,0),2),\"\"))","v":""},{"$f":"IF(A124=\"\",\"\",IF(B124=\"Leaching basin\",E124/C124,IFERROR(ROUND(VLOOKUP(A124,'Structural Water Quality Calcs'!$A$9:$AC$149,5,0)*VLOOKUP(B124,'STU Cost Estimates'!$A$6:$C$27,2,0),-2),\"\")))","v":""},"",{"$f":"IF(A124=\"\",\"\",IFERROR(D124/VLOOKUP(A124,'Structural Water Quality Calcs'!$A$9:$AE$149,13,0),\"\"))","v":""},null,null,null,{"$f":"IF(A124=\"\",\"\",IFERROR(VLOOKUP(B124,'STU Cost Estimates'!$A$6:$C$27,3,0),\"\"))","v":""}]
[null,{"$f":"IF(A125=\"\",\"\",IFERROR(VLOOKUP(A125,'Structural Water Quality Calcs'!$A$9:$AC$149,2,0),\"\"))","v":""},{"$f":"IF(A125=\"\",\"\",IFERROR(ROUND(VLOOKUP(A125,'Structural Water Quality Calcs'!$A$9:$AC$149,29,0),2),\"\"))","v":""},{"$f":"IF(A125=\"\",\"\",IF(B125=\"Leaching basin\",E125/C125,IFERROR(ROUND(VLOOKUP(A125,'Structural Water Quality Calcs'!$A$9:$AC$149,5,0)*VLOOKUP(B125,'STU Cost Estimates'!$A$6:$C$27,2,0),-2),\"\")))","v":""},"",{"$f":"IF(A125=\"\",\"\",IFERROR(D125/VLOOKUP(A125,'Structural Water Quality Calcs'!$A$9:$AE$149,13,0),\"\"))","v":""},null,null,null,{"$f":"IF(A125=\"\",\"\",IFERROR(VLOOKUP(B125,'STU Cost Estimates'!$A$6:$C$27,3,0),\"\"))","v":""}]
[null,{"$f":"IF(A126=\"\",\"\",IFERROR(VLOOKUP(A126,'Structural Water Quality Calcs'!$A$9:$AC$149,2,0),\"\"))","v":""},{"$f":"IF(A126=\"\",\"\",IFERROR(ROUND(VLOOKUP(A126,'Structural Water Quality Calcs'!$A$9:$AC$149,29,0),2),\"\"))","v":""},{"$f":"IF(A126=\"\",\"\",IF(B126=\"Leaching basin\",E126/C126,IFERROR(ROUND(VLOOKUP(A126,'Structural Water Quality Calcs'!$A$9:$AC$149,5,0)*VLOOKUP(B126,'STU Cost Estimates'!$A$6:$C$27,2,0),-2),\"\")))","v":""},"",{"$f":"IF(A126=\"\",\"\",IFERROR(D126/VLOOKUP(A126,'Structural Water Quality Calcs'!$A$9:$AE$149,13,0),\"\"))","v":""},null,null,null,{"$f":"IF(A126=\"\",\"\",IFERROR(VLOOKUP(B126,'STU Cost Estimates'!$A$6:$C$27,3,0),\"\"))","v":""}]
[null,{"$f":"IF(A127=\"\",\"\",IFERROR(VLOOKUP(A127,'Structural Water Quality Calcs'!$A$9:$AC$149,2,0),\"\"))","v":""},{"$f":"IF(A127=\"\",\"\",IFERROR(ROUND(VLOOKUP(A127,'Structural Water Quality Calcs'!$A$9:$AC$149,29,0),2),\"\"))","v":""},{"$f":"IF(A127=\"\",\"\",IF(B127=\"Leaching basin\",E127/C127,IFERROR(ROUND(VLOOKUP(A127,'Structural Water Quality Calcs'!$A$9:$AC$149,5,0)*VLOOKUP(B127,'STU Cost Estimates'!$A$6:$C$27,2,0),-2),\"\")))","v":""},"",{"$f":"IF(A127=\"\",\"\",IFERROR(D127/VLOOKUP(A127,'Structural Water Quality Calcs'!$A$9:$AE$149,13,0),\"\"))","v":""},null,null,null,{"$f":"IF(A127=\"\",\"\",IFERROR(VLOOKUP(B127,'STU Cost Estimates'!$A$6:$C$27,3,0),\"\"))","v":""}]
[null,{"$f":"IF(A128=\"\",\"\",IFERROR(VLOOKUP(A128,'Structural Water Quality Calcs'!$A$9:$AC$149,2,0),\"\"))","v":""},{"$f":"IF(A128=\"\",\"\",IFERROR(ROUND(VLOOKUP(A128,'Structural Water Quality Calcs'!$A$9:$AC$149,29,0),2),\"\"))","v":""},{"$f":"IF(A128=\"\",\"\",IF(B128=\"Leaching basin\",E128/C128,IFERROR(ROUND(VLOOKUP(A128,'Structural Water Quality Calcs'!$A$9:$AC$149,5,0)*VLOOKUP(B128,'STU Cost Estimates'!$A$6:$C$27,2,0),-2),\"\")))","v":""},"",{"$f":"IF(A128=\"\",\"\",IFERROR(D128/VLOOKUP(A128,'Structural Water Quality Calcs'!$A$9:$AE$149,13,0),\"\"))","v":""},null,null,null,{"$f":"IF(A128=\"\",\"\",IFERROR(VLOOKUP(B128,'STU Cost Estimates'!$A$6:$C$27,3,0),\"\"))","v":""}]
[null,{"$f":"IF(A129=\"\",\"\",IFERROR(VLOOKUP(A129,'Structural Water Quality Calcs'!$A$9:$AC$149,2,0),\"\"))","v":""},{"$f":"IF(A129=\"\",\"\",IFERROR(ROUND(VLOOKUP(A129,'Structural Water Quality Calcs'!$A$9:$AC$149,29,0),2),\"\"))","v":""},{"$f":"IF(A129=\"\",\"\",IF(B129=\"Leaching basin\",E129/C129,IFERROR(ROUND(VLOOKUP(A129,'Structural Water Quality Calcs'!$A$9:$AC$149,5,0)*VLOOKUP(B129,'STU Cost Estimates'!$A$6:$C$27,2,0),-2),\"\")))","v":""},"",{"$f":"IF(A129=\"\",\"\",IFERROR(D129/VLOOKUP(A129,'Structural Water Quality Calcs'!$A$9:$AE$149,13,0),\"\"))","v":""},null,null,null,{"$f":"IF(A129=\"\",\"\",IFERROR(VLOOKUP(B129,'STU Cost Estimates'!$A$6:$C$27,3,0),\"\"))","v":""}]
[null,{"$f":"IF(A130=\"\",\"\",IFERROR(VLOOKUP(A130,'Structural Water Quality Calcs'!$A$9:$AC$149,2,0),\"\"))","v":""},{"$f":"IF(A130=\"\",\"\",IFERROR(ROUND(VLOOKUP(A130,'Structural Water Quality Calcs'!$A$9:$AC$149,29,0),2),\"\"))","v":""},{"$f":"IF(A130=\"\",\"\",IF(B130=\"Leaching basin\",E130/C130,IFERROR(ROUND(VLOOKUP(A130,'Structural Water Quality Calcs'!$A$9:$AC$149,5,0)*VLOOKUP(B130,'STU Cost Estimates'!$A$6:$C$27,2,0),-2),\"\")))","v":""},"",{"$f":"IF(A130=\"\",\"\",IFERROR(D130/VLOOKUP(A130,'Structural Water Quality Calcs'!$A$9:$AE$149,13,0),\"\"))","v":""},null,null,null,{"$f":"IF(A130=\"\",\"\",IFERROR(VLOOKUP(B130,'STU Cost Estimates'!$A$6:$C$27,3,0),\"\"))","v":""}]
[null,{"$f":"IF(A131=\"\",\"\",IFERROR(VLOOKUP(A131,'Structural Water Quality Calcs'!$A$9:$AC$149,2,0),\"\"))","v":""},{"$f":"IF(A131=\"\",\"\",IFERROR(ROUND(VLOOKUP(A131,'Structural Water Quality Calcs'!$A$9:$AC$149,29,0),2),\"\"))","v":""},{"$f":"IF(A131=\"\",\"\",IF(B131=\"Leaching basin\",E131/C131,IFERROR(ROUND(VLOOKUP(A131,'Structural Water Quality Calcs'!$A$9:$AC$149,5,0)*VLOOKUP(B131,'STU Cost Estimates'!$A$6:$C$27,2,0),-2),\"\")))","v":""},"",{"$f":"IF(A131=\"\",\"\",IFERROR(D131/VLOOKUP(A131,'Structural Water Quality Calcs'!$A$9:$AE$149,13,0),\"\"))","v":""},null,null,null,{"$f":"IF(A131=\"\",\"\",IFERROR(VLOOKUP(B131,'STU Cost Estimates'!$A$6:$C$27,3,0),\"\"))","v":""}]
[null,{"$f":"IF(A132=\"\",\"\",IFERROR(VLOOKUP(A132,'Structural Water Quality Calcs'!$A$9:$AC$149,2,0),\"\"))","v":""},{"$f":"IF(A132=\"\",\"\",IFERROR(ROUND(VLOOKUP(A132,'Structural Water Quality Calcs'!$A$9:$AC$149,29,0),2),\"\"))","v":""},{"$f":"IF(A132=\"\",\"\",IF(B132=\"Leaching basin\",E132/C132,IFERROR(ROUND(VLOOKUP(A132,'Structural Water Quality Calcs'!$A$9:$AC$149,5,0)*VLOOKUP(B132,'STU Cost Estimates'!$A$6:$C$27,2,0),-2),\"\")))","v":""},"",{"$f":"IF(A132=\"\",\"\",IFERROR(D132/VLOOKUP(A132,'Structural Water Quality Calcs'!$A$9:$AE$149,13,0),\"\"))","v":""},null,null,null,{"$f":"IF(A132=\"\",\"\",IFERROR(VLOOKUP(B132,'STU Cost Estimates'!$A$6:$C$27,3,0),\"\"))","v":""}]
[null,{"$f":"IF(A133=\"\",\"\",IFERROR(VLOOKUP(A133,'Structural Water Quality Calcs'!$A$9:$AC$149,2,0),\"\"))","v":""},{"$f":"IF(A133=\"\",\"\",IFERROR(ROUND(VLOOKUP(A133,'Structural Water Quality Calcs'!$A$9:$AC$149,29,0),2),\"\"))","v":""},{"$f":"IF(A133=\"\",\"\",IF(B133=\"Leaching basin\",E133/C133,IFERROR(ROUND(VLOOKUP(A133,'Structural Water Quality Calcs'!$A$9:$AC$149,5,0)*VLOOKUP(B133,'STU Cost Estimates'!$A$6:$C$27,2,0),-2),\"\")))","v":""},"",{"$f":"IF(A133=\"\",\"\",IFERROR(D133/VLOOKUP(A133,'Structural Water Quality Calcs'!$A$9:$AE$149,13,0),\"\"))","v":""},null,null,null,{"$f":"IF(A133=\"\",\"\",IFERROR(VLOOKUP(B133,'STU Cost Estimates'!$A$6:$C$27,3,0),\"\"))","v":""}]
[null,{"$f":"IF(A134=\"\",\"\",IFERROR(VLOOKUP(A134,'Structural Water Quality Calcs'!$A$9:$AC$149,2,0),\"\"))","v":""},{"$f":"IF(A134=\"\",\"\",IFERROR(ROUND(VLOOKUP(A134,'Structural Water Quality Calcs'!$A$9:$AC$149,29,0),2),\"\"))","v":""},{"$f":"IF(A134=\"\",\"\",IF(B134=\"Leaching basin\",E134/C134,IFERROR(ROUND(VLOOKUP(A134,'Structural Water Quality Calcs'!$A$9:$AC$149,5,0)*VLOOKUP(B134,'STU Cost Estimates'!$A$6:$C$27,2,0),-2),\"\")))","v":""},"",{"$f":"IF(A134=\"\",\"\",IFERROR(D134/VLOOKUP(A134,'Structural Water Quality Calcs'!$A$9:$AE$149,13,0),\"\"))","v":""},null,null,null,{"$f":"IF(A134=\"\",\"\",IFERROR(VLOOKUP(B134,'STU Cost Estimates'!$A$6:$C$27,3,0),\"\"))","v":""}]
[null,{"$f":"IF(A135=\"\",\"\",IFERROR(VLOOKUP(A135,'Structural Water Quality Calcs'!$A$9:$AC$149,2,0),\"\"))","v":""},{"$f":"IF(A135=\"\",\"\",IFERROR(ROUND(VLOOKUP(A135,'Structural Water Quality Calcs'!$A$9:$AC$149,29,0),2),\"\"))","v":""},{"$f":"IF(A135=\"\",\"\",IF(B135=\"Leaching basin\",E135/C135,IFERROR(ROUND(VLOOKUP(A135,'Structural Water Quality Calcs'!$A$9:$AC$149,5,0)*VLOOKUP(B135,'STU Cost Estimates'!$A$6:$C$27,2,0),-2),\"\")))","v":""},{"$f":"IF(A135=\"\",\"\",IF(B135=\"Leaching Basin\",508200,IFERROR(ROUND(D135/C135,-2),\"\")))","v":""},{"$f":"IF(A135=\"\",\"\",IFERROR(D135/VLOOKUP(A135,'Structural Water Quality Calcs'!$A$9:$AE$149,13,0),\"\"))","v":""},null,null,null,{"$f":"IF(A135=\"\",\"\",IFERROR(VLOOKUP(B135,'STU Cost Estimates'!$A$6:$C$27,3,0),\"\"))","v":""}]
[null,{"$f":"IF(A136=\"\",\"\",IFERROR(VLOOKUP(A136,'Structural Water Quality Calcs'!$A$9:$AC$149,2,0),\"\"))","v":""},{"$f":"IF(A136=\"\",\"\",IFERROR(ROUND(VLOOKUP(A136,'Structural Water Quality Calcs'!$A$9:$AC$149,29,0),2),\"\"))","v":""},{"$f":"IF(A136=\"\",\"\",IF(B136=\"Leaching basin\",E136/C136,IFERROR(ROUND(VLOOKUP(A136,'Structural Water Quality Calcs'!$A$9:$AC$149,5,0)*VLOOKUP(B136,'STU Cost Estimates'!$A$6:$C$27,2,0),-2),\"\")))","v":""},"",{"$f":"IF(A136=\"\",\"\",IFERROR(D136/VLOOKUP(A136,'Structural Water Quality Calcs'!$A$9:$AE$149,13,0),\"\"))","v":""},null,null,null,{"$f":"IF(A136=\"\",\"\",IFERROR(VLOOKUP(B136,'STU Cost Estimates'!$A$6:$C$27,3,0),\"\"))","v":""}]
[null,{"$f":"IF(A137=\"\",\"\",IFERROR(VLOOKUP(A137,'Structural Water Quality Calcs'!$A$9:$AC$149,2,0),\"\"))","v":""},{"$f":"IF(A137=\"\",\"\",IFERROR(ROUND(VLOOKUP(A137,'Structural Water Quality Calcs'!$A$9:$AC$149,29,0),2),\"\"))","v":""},{"$f":"IF(A137=\"\",\"\",IF(B137=\"Leaching basin\",E137/C137,IFERROR(ROUND(VLOOKUP(A137,'Structural Water Quality Calcs'!$A$9:$AC$149,5,0)*VLOOKUP(B137,'STU Cost Estimates'!$A$6:$C$27,2,0),-2),\"\")))","v":""},"",{"$f":"IF(A137=\"\",\"\",IFERROR(D137/VLOOKUP(A137,'Structural Water Quality Calcs'!$A$9:$AE$149,13,0),\"\"))","v":""},null,null,null,{"$f":"IF(A137=\"\",\"\",IFERROR(VLOOKUP(B137,'STU Cost Estimates'!$A$6:$C$27,3,0),\"\"))","v":""}]
[null,{"$f":"IF(A138=\"\",\"\",IFERROR(VLOOKUP(A138,'Structural Water Quality Calcs'!$A$9:$AC$149,2,0),\"\"))","v":""},{"$f":"IF(A138=\"\",\"\",IFERROR(ROUND(VLOOKUP(A138,'Structural Water Quality Calcs'!$A$9:$AC$149,29,0),2),\"\"))","v":""},{"$f":"IF(A138=\"\",\"\",IF(B138=\"Leaching basin\",E138/C138,IFERROR(ROUND(VLOOKUP(A138,'Structural Water Quality Calcs'!$A$9:$AC$149,5,0)*VLOOKUP(B138,'STU Cost Estimates'!$A$6:$C$27,2,0),-2),\"\")))","v":""},"",{"$f":"IF(A138=\"\",\"\",IFERROR(D138/VLOOKUP(A138,'Structural Water Quality Calcs'!$A$9:$AE$149,13,0),\"\"))","v":""},null,null,null,{"$f":"IF(A138=\"\",\"\",IFERROR(VLOOKUP(B138,'STU Cost Estimates'!$A$6:$C$27,3,0),\"\"))","v":""}]
[null,{"$f":"IF(A139=\"\",\"\",IFERROR(VLOOKUP(A139,'Structural Water Quality Calcs'!$A$9:$AC$149,2,0),\"\"))","v":""},{"$f":"IF(A139=\"\",\"\",IFERROR(ROUND(VLOOKUP(A139,'Structural Water Quality Calcs'!$A$9:$AC$149,29,0),2),\"\"))","v":""},{"$f":"IF(A139=\"\",\"\",IF(B139=\"Leaching basin\",E139/C139,IFERROR(ROUND(VLOOKUP(A139,'Structural Water Quality Calcs'!$A$9:$AC$149,5,0)*VLOOKUP(B139,'STU Cost Estimates'!$A$6:$C$27,2,0),-2),\"\")))","v":""},"",{"$f":"IF(A139=\"\",\"\",IFERROR(D139/VLOOKUP(A139,'Structural Water Quality Calcs'!$A$9:$AE$149,13,0),\"\"))","v":""},null,null,null,{"$f":"IF(A139=\"\",\"\",IFERROR(VLOOKUP(B139,'STU Cost Estimates'!$A$6:$C$27,3,0),\"\"))","v":""}]
[null,{"$f":"IF(A140=\"\",\"\",IFERROR(VLOOKUP(A140,'Structural Water Quality Calcs'!$A$9:$AC$149,2,0),\"\"))","v":""},{"$f":"IF(A140=\"\",\"\",IFERROR(ROUND(VLOOKUP(A140,'Structural Water Quality Calcs'!$A$9:$AC$149,29,0),2),\"\"))","v":""},{"$f":"IF(A140=\"\",\"\",IF(B140=\"Leaching basin\",E140/C140,IFERROR(ROUND(VLOOKUP(A140,'Structural Water Quality Calcs'!$A$9:$AC$149,5,0)*VLOOKUP(B140,'STU Cost Estimates'!$A$6:$C$27,2,0),-2),\"\")))","v":""},"",{"$f":"IF(A140=\"\",\"\",IFERROR(D140/VLOOKUP(A140,'Structural Water Quality Calcs'!$A$9:$AE$149,13,0),\"\"))","v":""},null,null,null,{"$f":"IF(A140=\"\",\"\",IFERROR(VLOOKUP(B140,'STU Cost Estimates'!$A$6:$C$27,3,0),\"\"))","v":""}]
[null,{"$f":"IF(A141=\"\",\"\",IFERROR(VLOOKUP(A141,'Structural Water Quality Calcs'!$A$9:$AC$149,2,0),\"\"))","v":""},{"$f":"IF(A141=\"\",\"\",IFERROR(ROUND(VLOOKUP(A141,'Structural Water Quality Calcs'!$A$9:$AC$149,29,0),2),\"\"))","v":""},{"$f":"IF(A141=\"\",\"\",IF(B141=\"Leaching basin\",E141/C141,IFERROR(ROUND(VLOOKUP(A141,'Structural Water Quality Calcs'!$A$9:$AC$149,5,0)*VLOOKUP(B141,'STU Cost Estimates'!$A$6:$C$27,2,0),-2),\"\")))","v":""},"",{"$f":"IF(A141=\"\",\"\",IFERROR(D141/VLOOKUP(A141,'Structural Water Quality Calcs'!$A$9:$AE$149,13,0),\"\"))","v":""},null,null,null,{"$f":"IF(A141=\"\",\"\",IFERROR(VLOOKUP(B141,'STU Cost Estimates'!$A$6:$C$27,3,0),\"\"))","v":""}]
[null,{"$f":"IF(A142=\"\",\"\",IFERROR(VLOOKUP(A142,'Structural Water Quality Calcs'!$A$9:$AC$149,2,0),\"\"))","v":""},{"$f":"IF(A142=\"\",\"\",IFERROR(ROUND(VLOOKUP(A142,'Structural Water Quality Calcs'!$A$9:$AC$149,29,0),2),\"\"))","v":""},{"$f":"IF(A142=\"\",\"\",IF(B142=\"Leaching basin\",E142/C142,IFERROR(ROUND(VLOOKUP(A142,'Structural Water Quality Calcs'!$A$9:$AC$149,5,0)*VLOOKUP(B142,'STU Cost Estimates'!$A$6:$C$27,2,0),-2),\"\")))","v":""},"",{"$f":"IF(A142=\"\",\"\",IFERROR(D142/VLOOKUP(A142,'Structural Water Quality Calcs'!$A$9:$AE$149,13,0),\"\"))","v":""},null,null,null,{"$f":"IF(A142=\"\",\"\",IFERROR(VLOOKUP(B142,'STU Cost Estimates'!$A$6:$C$27,3,0),\"\"))","v":""}]
[null,{"$f":"IF(A143=\"\",\"\",IFERROR(VLOOKUP(A143,'Structural Water Quality Calcs'!$A$9:$AC$149,2,0),\"\"))","v":""},{"$f":"IF(A143=\"\",\"\",IFERROR(ROUND(VLOOKUP(A143,'Structural Water Quality Calcs'!$A$9:$AC$149,29,0),2),\"\"))","v":""},{"$f":"IF(A143=\"\",\"\",IF(B143=\"Leaching basin\",E143/C143,IFERROR(ROUND(VLOOKUP(A143,'Structural Water Quality Calcs'!$A$9:$AC$149,5,0)*VLOOKUP(B143,'STU Cost Estimates'!$A$6:$C$27,2,0),-2),\"\")))","v":""},"",{"$f":"IF(A143=\"\",\"\",IFERROR(D143/VLOOKUP(A143,'Structural Water Quality Calcs'!$A$9:$AE$149,13,0),\"\"))","v":""},null,null,null,{"$f":"IF(A143=\"\",\"\",IFERROR(VLOOKUP(B143,'STU Cost Estimates'!$A$6:$C$27,3,0),\"\"))","v":""}]
[null,{"$f":"IF(A144=\"\",\"\",IFERROR(VLOOKUP(A144,'Structural Water Quality Calcs'!$A$9:$AC$149,2,0),\"\"))","v":""},{"$f":"IF(A144=\"\",\"\",IFERROR(ROUND(VLOOKUP(A144,'Structural Water Quality Calcs'!$A$9:$AC$149,29,0),2),\"\"))","v":""},{"$f":"IF(A144=\"\",\"\",IF(B144=\"Leaching basin\",E144/C144,IFERROR(ROUND(VLOOKUP(A144,'Structural Water Quality Calcs'!$A$9:$AC$149,5,0)*VLOOKUP(B144,'STU Cost Estimates'!$A$6:$C$27,2,0),-2),\"\")))","v":""},"",{"$f":"IF(A144=\"\",\"\",IFERROR(D144/VLOOKUP(A144,'Structural Water Quality Calcs'!$A$9:$AE$149,13,0),\"\"))","v":""},null,null,null,{"$f":"IF(A144=\"\",\"\",IFERROR(VLOOKUP(B144,'STU Cost Estimates'!$A$6:$C$27,3,0),\"\"))","v":""}]
[null,{"$f":"IF(A145=\"\",\"\",IFERROR(VLOOKUP(A145,'Structural Water Quality Calcs'!$A$9:$AC$149,2,0),\"\"))","v":""},{"$f":"IF(A145=\"\",\"\",IFERROR(ROUND(VLOOKUP(A145,'Structural Water Quality Calcs'!$A$9:$AC$149,29,0),2),\"\"))","v":""},{"$f":"IF(A145=\"\",\"\",IF(B145=\"Leaching basin\",E145/C145,IFERROR(ROUND(VLOOKUP(A145,'Structural Water Quality Calcs'!$A$9:$AC$149,5,0)*VLOOKUP(B145,'STU Cost Estimates'!$A$6:$C$27,2,0),-2),\"\")))","v":""},"",{"$f":"IF(A145=\"\",\"\",IFERROR(D145/VLOOKUP(A145,'Structural Water Quality Calcs'!$A$9:$AE$149,13,0),\"\"))","v":""},null,null,null,{"$f":"IF(A145=\"\",\"\",IFERROR(VLOOKUP(B145,'STU Cost Estimates'!$A$6:$C$27,3,0),\"\"))","v":""}]
[null,{"$f":"IF(A146=\"\",\"\",IFERROR(VLOOKUP(A146,'Structural Water Quality Calcs'!$A$9:$AC$149,2,0),\"\"))","v":""},{"$f":"IF(A146=\"\",\"\",IFERROR(ROUND(VLOOKUP(A146,'Structural Water Quality Calcs'!$A$9:$AC$149,29,0),2),\"\"))","v":""},{"$f":"IF(A146=\"\",\"\",IF(B146=\"Leaching basin\",E146/C146,IFERROR(ROUND(VLOOKUP(A146,'Structural Water Quality Calcs'!$A$9:$AC$149,5,0)*VLOOKUP(B146,'STU Cost Estimates'!$A$6:$C$27,2,0),-2),\"\")))","v":""},"",{"$f":"IF(A146=\"\",\"\",IFERROR(D146/VLOOKUP(A146,'Structural Water Quality Calcs'!$A$9:$AE$149,13,0),\"\"))","v":""},null,null,null,{"$f":"IF(A146=\"\",\"\",IFERROR(VLOOKUP(B146,'STU Cost Estimates'!$A$6:$C$27,3,0),\"\"))","v":""}]
[null,{"$f":"IF(A147=\"\",\"\",IFERROR(VLOOKUP(A147,'Structural Water Quality Calcs'!$A$9:$AC$149,2,0),\"\"))","v":""},{"$f":"IF(A147=\"\",\"\",IFERROR(ROUND(VLOOKUP(A147,'Structural Water Quality Calcs'!$A$9:$AC$149,29,0),2),\"\"))","v":""},{"$f":"IF(A147=\"\",\"\",IF(B147=\"Leaching basin\",E147/C147,IFERROR(ROUND(VLOOKUP(A147,'Structural Water Quality Calcs'!$A$9:$AC$149,5,0)*VLOOKUP(B147,'STU Cost Estimates'!$A$6:$C$27,2,0),-2),\"\")))","v":""},"",{"$f":"IF(A147=\"\",\"\",IFERROR(D147/VLOOKUP(A147,'Structural Water Quality Calcs'!$A$9:$AE$149,13,0),\"\"))","v":""},null,null,null,{"$f":"IF(A147=\"\",\"\",IFERROR(VLOOKUP(B147,'STU Cost Estimates'!$A$6:$C$27,3,0),\"\"))","v":""}]
[null,{"$f":"IF(A148=\"\",\"\",IFERROR(VLOOKUP(A148,'Structural Water Quality Calcs'!$A$9:$AC$149,2,0),\"\"))","v":""},{"$f":"IF(A148=\"\",\"\",IFERROR(ROUND(VLOOKUP(A148,'Structural Water Quality Calcs'!$A$9:$AC$149,29,0),2),\"\"))","v":""},{"$f":"IF(A148=\"\",\"\",IF(B148=\"Leaching basin\",E148/C148,IFERROR(ROUND(VLOOKUP(A148,'Structural Water Quality Calcs'!$A$9:$AC$149,5,0)*VLOOKUP(B148,'STU Cost Estimates'!$A$6:$C$27,2,0),-2),\"\")))","v":""},"",{"$f":"IF(A148=\"\",\"\",IFERROR(D148/VLOOKUP(A148,'Structural Water Quality Calcs'!$A$9:$AE$149,13,0),\"\"))","v":""},null,null,null,{"$f":"IF(A148=\"\",\"\",IFERROR(VLOOKUP(B148,'STU Cost Estimates'!$A$6:$C$27,3,0),\"\"))","v":""}]
[null,{"$f":"IF(A149=\"\",\"\",IFERROR(VLOOKUP(A149,'Structural Water Quality Calcs'!$A$9:$AC$149,2,0),\"\"))","v":""},{"$f":"IF(A149=\"\",\"\",IFERROR(ROUND(VLOOKUP(A149,'Structural Water Quality Calcs'!$A$9:$AC$149,29,0),2),\"\"))","v":""},{"$f":"IF(A149=\"\",\"\",IF(B149=\"Leaching basin\",E149/C149,IFERROR(ROUND(VLOOKUP(A149,'Structural Water Quality Calcs'!$A$9:$AC$149,5,0)*VLOOKUP(B149,'STU Cost Estimates'!$A$6:$C$27,2,0),-2),\"\")))","v":""},"",{"$f":"IF(A149=\"\",\"\",IFERROR(D149/VLOOKUP(A149,'Structural Water Quality Calcs'!$A$9:$AE$149,13,0),\"\"))","v":""},null,null,null,{"$f":"IF(A149=\"\",\"\",IFERROR(VLOOKUP(B149,'STU Cost Estimates'!$A$6:$C$27,3,0),\"\"))","v":""}]
[null,{"$f":"IF(A150=\"\",\"\",IFERROR(VLOOKUP(A150,'Structural Water Quality Calcs'!$A$9:$AC$149,2,0),\"\"))","v":""},{"$f":"IF(A150=\"\",\"\",IFERROR(ROUND(VLOOKUP(A150,'Structural Water Quality Calcs'!$A$9:$AC$149,29,0),2),\"\"))","v":""},{"$f":"IF(A150=\"\",\"\",IF(B150=\"Leaching basin\",E150/C150,IFERROR(ROUND(VLOOKUP(A150,'Structural Water Quality Calcs'!$A$9:$AC$149,5,0)*VLOOKUP(B150,'STU Cost Estimates'!$A$6:$C$27,2,0),-2),\"\")))","v":""},"",{"$f":"IF(A150=\"\",\"\",IFERROR(D150/VLOOKUP(A150,'Structural Water Quality Calcs'!$A$9:$AE$149,13,0),\"\"))","v":""},null,null,null,{"$f":"IF(A150=\"\",\"\",IFERROR(VLOOKUP(B150,'STU Cost Estimates'!$A$6:$C$27,3,0),\"\"))","v":""}]
["Construction & Design Total",null,null,{"$f":"IF(A151=\"\",\"\",IF(B151=\"Leaching basin\",E151/C151,IFERROR(ROUND(VLOOKUP(A151,'Structural Water Quality Calcs'!$A$9:$AC$149,5,0)*VLOOKUP(B151,'STU Cost Estimates'!$A$6:$C$27,2,0),-2),\"\")))","v":""}]
["Inspection & Maintenance",null,null,{"$f":"IF(A152=\"\",\"\",IF(B152=\"Leaching basin\",E152/C152,IFERROR(ROUND(VLOOKUP(A152,'Structural Water Quality Calcs'!$A$9:$AC$149,5,0)*VLOOKUP(B152,'STU Cost Estimates'!$A$6:$C$27,2,0),-2),\"\")))","v":""},"per year"]
["1 Includes 35% add on for design engineering and contingencies."]

{"sheet":"RIDOT STU History (outputs)","index":21,"n_rows":154,"n_cols":41,"rows_kept":154,"cut":false,"hidden":false,"merged":[[3,6,3,10],[3,11,3,15],[2,0,2,31]]}
["This tab can be used summarize results recorded in the RIDOT STU History related table in the SCP database."]
["This tab is formatted for easy upload into the RIDOT STU History related table.  "]
["Currently this tab only pulls data from the Structural Water Quality Calcs tab.  As non-typical and non-structural STUs are further developed this tab will be updated.  \nAll STUs for this SCP must be included on this tab before preparing SCP Report tables using the templates provided in this calculator."]
[]
["STU Name","Treatment Depth (inches) ","Catchment Area (ft2)","RIDOT Catchment Area (ft2)","Impervious Area of STU catchment (ft2)","RIDOT Impervious Area of STU catchment (ft2)","TP Load (lb/year)","RIDOT TP Load (lb/year)","TP Removal (%)","TP Removal (lb/year)","RIDOT TP Removal (lb/year)","TN Load (lb/year)","RIDOT TN Load (lb/year)","TN Removal (%)","TN Removal (lb/year)","RIDOT TN Removal (lb/year)","TSS Load (lb/year)","RIDOT TSS Load (lb/year)","TSS Removal (%)","TSS Removal (lb/year)","RIDOT TSS Removal (lb/year)","Zinc Load (lb/year)","RIDOT ZN Load (lb/year)","Zinc Removal (%)","Zinc Removal (lb/year)","RIDOT ZN Removal (lb/year)","Effective IC Reduction (acres)","RIDOT Effective IC Reduction (acres)","IC Removal (%) (Pervious Cover Factor *100)","Runoff Reduction (ac-ft)","Runoff Factor","Flow Factor","Total Phosphorus Factor","Total Suspended Solids Factor","Cost","Cost Per Acre IC Removed","Cost Per Lb Phosphorus Removed","Retrofit Priority"]
[null,{"$f":"IF(A6=\"\",\"\",VLOOKUP(A6,'Structural Water Quality Calcs'!$A$9:$F$149,6,0))","v":""},{"$f":"IF(A6=\"\",\"\",VLOOKUP(A6,'Structural Water Quality Calcs'!$A$8:$AE$149,3,0))","v":""},{"$f":"IF(A6=\"\",\"\",SUMIFS(Catchment!$V$5:$V$300,Catchment!$D$5:$D$300,\"RIDOT\",Catchment!$K$5:$K$300,A6))","v":""},{"$f":"IF(A6=\"\",\"\",VLOOKUP(A6,'Structural Water Quality Calcs'!$A$8:$AE$149,4,0))","v":""},{"$f":"IF(A6=\"\",\"\",SUMIFS(Catchment!$L$5:$L$300,Catchment!$D$5:$D$300,\"RIDOT\",Catchment!$K$5:$K$300,A6))","v":""},{"$f":"IF(A6=\"\",\"\",VLOOKUP(A6, 'Structural Water Quality Calcs'!$A$8:$AE$149,11,0))","v":""},{"$f":"IF(A6=\"\",\"\",SUMIFS(Catchment!$X$5:$X$300,Catchment!$D$5:$D$300,\"RIDOT\",Catchment!$K$5:$K$300,A6))","v":""},{"$f":"IF(A6=\"\",\"\",VLOOKUP(A6,'Structural Water Quality Calcs'!$A$8:$AE$149,12,0)*100)","v":""},{"$f":"IF(A6=\"\",\"\",VLOOKUP(A6,'Structural Water Quality Calcs'!$A$8:$AE$149,13,0))","v":""},{"$f":"IF(A6=\"\",\"\",IF(VLOOKUP(A6,'Structural Water Quality Calcs'!$A$9:$B$149,2,0)=\"Limited ROW\",H6*I6*0.1/100,H6*I6/100))","v":""},{"$f":"IF(A6=\"\",\"\",VLOOKUP(A6,'Structural Water Quality Calcs'!$A$8:$AE$149,17,0))","v":""},{"$f":"IF(A6=\"\",\"\",SUMIFS(Catchment!$Z$5:$Z$300,Catchment!$D$5:$D$300,\"RIDOT\",Catchment!$K$5:$K$300,A6))","v":""},{"$f":"IF(A6=\"\",\"\",VLOOKUP(A6,'Structural Water Quality Calcs'!$A$8:$AE$149,18,0)*100)","v":""},{"$f":"IF(A6=\"\",\"\",VLOOKUP(A6,'Structural Water Quality Calcs'!$A$8:$AE$149,19,0))","v":""},{"$f":"IF(A6=\"\",\"\",IF(VLOOKUP(A6,'Structural Water Quality Calcs'!$A$9:$B$149,2,0)=\"Limited ROW\",M6*N6*0.1/100,M6*N6/100))","v":""},{"$f":"IF(A6=\"\",\"\",VLOOKUP(A6,'Structural Water Quality Calcs'!$A$8:$AE$149,14,0))","v":""},{"$f":"IF(A6=\"\",\"\",SUMIFS(Catchment!$Y$5:$Y$300,Catchment!$D$5:$D$300,\"RIDOT\",Catchment!$K$5:$K$300,A6))","v":""},{"$f":"IF(A6=\"\",\"\",VLOOKUP(A6,'Structural Water Quality Calcs'!$A$8:$AE$149,15,0)*100)","v":""},{"$f":"IF(A6=\"\",\"\",VLOOKUP(A6,'Structural Water Quality Calcs'!$A$8:$AE$149,16,0))","v":""},{"$f":"IF(A6=\"\",\"\",IF(VLOOKUP(A6,'Structural Water Quality Calcs'!$A$9:$B$149,2,0)=\"Limited ROW\",R6*S6*0.1/100,R6*S6/100))","v":""},{"$f":"IF(A6=\"\",\"\",VLOOKUP(A6,'Structural Water Quality Calcs'!$A$8:$AE$149,20,0))","v":""},{"$f":"IF(A6=\"\",\"\",SUMIFS(Catchment!$AA$5:$AA$300,Catchment!$D$5:$D$300,\"RIDOT\",Catchment!$K$5:$K$300,A6))","v":""},{"$f":"IF(A6=\"\",\"\",VLOOKUP(A6,'Structural Water Quality Calcs'!$A$8:$AE$149,21,0)*100)","v":""},{"$f":"IF(A6=\"\",\"\",VLOOKUP(A6,'Structural Water Quality Calcs'!$A$8:$AE$149,22,0))","v":""},{"$f":"IF(A6=\"\",\"\",IF(VLOOKUP(A6,'Structural Water Quality Calcs'!$A$9:$B$149,2,0)=\"Limited ROW\",W6*X6*0.1/100,W6*X6/100))","v":""},{"$f":"IF(A6=\"\",\"\",VLOOKUP(A6,'Structural Water Quality Calcs'!$A$8:$AE$149,29,0))","v":""},{"$f":"IF(A6=\"\",\"\",IF(VLOOKUP(A6,'Structural Water Quality Calcs'!$A$9:$B$149,2,0)=\"Limited ROW\",VLOOKUP(A6,'Structural Water Quality Calcs'!$A$8:$AE$149,28,0)*F6*0.1/43560,VLOOKUP(A6,'Structural Water Quality Calcs'!$A$8:$AE$149,28,0)*F6/43560))","v":""},{"$f":"IF(A6=\"\",\"\",VLOOKUP(A6,'Structural Water Quality Calcs'!$A$8:$AE$149,28,0)*100)","v":""},{"$f":"IF(A6=\"\",\"\",VLOOKUP(A6,'Structural Water Quality Calcs'!$A$8:$AE$149,31,0))","v":""},{"$f":"IF(A6=\"\",\"\",VLOOKUP(A6,'Structural Water Quality Calcs'!$A$8:$AE$149,26,0))","v":""},{"$f":"IF(A6=\"\",\"\",VLOOKUP(A6,'Structural Water Quality Calcs'!$A$8:$AE$149,27,0))","v":""},{"$f":"IF(A6=\"\",\"\",(VLOOKUP(A6,'Structural Water Quality Calcs'!$A$8:$AE$149,25,0)))","v":""},{"$f":"IF(A6=\"\",\"\",VLOOKUP(A6,'Structural Water Quality Calcs'!$A$8:$AE$149,24,0))","v":""},{"$f":"IF(A6=\"\",\"\",VLOOKUP(A6,STU_Cost!$A$5:$G$150,4,0))","v":""},{"$f":"IF(A6=\"\",\"\",VLOOKUP(A6,STU_Cost!$A$5:$G$150,5,0))","v":""},{"$f":"IF(A6=\"\",\"\",VLOOKUP(A6,STU_Cost!$A$5:$G$150,6,0))","v":""},{"$f":"IF(A6=\"\",\"\",VLOOKUP(A6,STU_Cost!$A$5:$G$150,7,0))","v":""},null,null,{"$f":"IF(A6=\"\",\"\",VLOOKUP(A6,STU!$A$5:$E$300,5,0))","v":""}]
[null,{"$f":"IF(A7=\"\",\"\",VLOOKUP(A7,'Structural Water Quality Calcs'!$A$9:$F$79,6,0))","v":""},{"$f":"IF(A7=\"\",\"\",VLOOKUP(A7,'Structural Water Quality Calcs'!$A$8:$AE$149,3,0))","v":""},{"$f":"IF(A7=\"\",\"\",SUMIFS(Catchment!$V$5:$V$300,Catchment!$D$5:$D$300,\"RIDOT\",Catchment!$K$5:$K$300,A7))","v":""},{"$f":"IF(A7=\"\",\"\",VLOOKUP(A7,'Structural Water Quality Calcs'!$A$8:$AE$149,4,0))","v":""},{"$f":"IF(A7=\"\",\"\",SUMIFS(Catchment!$L$5:$L$300,Catchment!$D$5:$D$300,\"RIDOT\",Catchment!$K$5:$K$300,A7))","v":""},{"$f":"IF(A7=\"\",\"\",VLOOKUP(A7, 'Structural Water Quality Calcs'!$A$8:$AE$149,11,0))","v":""},{"$f":"IF(A7=\"\",\"\",SUMIFS(Catchment!$X$5:$X$300,Catchment!$D$5:$D$300,\"RIDOT\",Catchment!$K$5:$K$300,A7))","v":""},{"$f":"IF(A7=\"\",\"\",VLOOKUP(A7,'Structural Water Quality Calcs'!$A$8:$AE$149,12,0)*100)","v":""},{"$f":"IF(A7=\"\",\"\",VLOOKUP(A7,'Structural Water Quality Calcs'!$A$8:$AE$149,13,0))","v":""},{"$f":"IF(A7=\"\",\"\",IF(VLOOKUP(A7,'Structural Water Quality Calcs'!$A$9:$B$149,2,0)=\"Limited ROW\",H7*I7*0.1/100,H7*I7/100))","v":""},{"$f":"IF(A7=\"\",\"\",VLOOKUP(A7,'Structural Water Quality Calcs'!$A$8:$AE$149,17,0))","v":""},{"$f":"IF(A7=\"\",\"\",SUMIFS(Catchment!$Z$5:$Z$300,Catchment!$D$5:$D$300,\"RIDOT\",Catchment!$K$5:$K$300,A7))","v":""},{"$f":"IF(A7=\"\",\"\",VLOOKUP(A7,'Structural Water Quality Calcs'!$A$8:$AE$149,18,0)*100)","v":""},{"$f":"IF(A7=\"\",\"\",VLOOKUP(A7,'Structural Water Quality Calcs'!$A$8:$AE$149,19,0))","v":""},{"$f":"IF(A7=\"\",\"\",IF(VLOOKUP(A7,'Structural Water Quality Calcs'!$A$9:$B$149,2,0)=\"Limited ROW\",M7*N7*0.1/100,M7*N7/100))","v":""},{"$f":"IF(A7=\"\",\"\",VLOOKUP(A7,'Structural Water Quality Calcs'!$A$8:$AE$149,14,0))","v":""},{"$f":"IF(A7=\"\",\"\",SUMIFS(Catchment!$Y$5:$Y$300,Catchment!$D$5:$D$300,\"RIDOT\",Catchment!$K$5:$K$300,A7))","v":""},{"$f":"IF(A7=\"\",\"\",VLOOKUP(A7,'Structural Water Quality Calcs'!$A$8:$AE$149,15,0)*100)","v":""},{"$f":"IF(A7=\"\",\"\",VLOOKUP(A7,'Structural Water Quality Calcs'!$A$8:$AE$149,16,0))","v":""},{"$f":"IF(A7=\"\",\"\",IF(VLOOKUP(A7,'Structural Water Quality Calcs'!$A$9:$B$149,2,0)=\"Limited ROW\",R7*S7*0.1/100,R7*S7/100))","v":""},{"$f":"IF(A7=\"\",\"\",VLOOKUP(A7,'Structural Water Quality Calcs'!$A$8:$AE$149,20,0))","v":""},{"$f":"IF(A7=\"\",\"\",SUMIFS(Catchment!$AA$5:$AA$300,Catchment!$D$5:$D$300,\"RIDOT\",Catchment!$K$5:$K$300,A7))","v":""},{"$f":"IF(A7=\"\",\"\",VLOOKUP(A7,'Structural Water Quality Calcs'!$A$8:$AE$149,21,0)*100)","v":""},{"$f":"IF(A7=\"\",\"\",VLOOKUP(A7,'Structural Water Quality Calcs'!$A$8:$AE$149,22,0))","v":""},{"$f":"IF(A7=\"\",\"\",IF(VLOOKUP(A7,'Structural Water Quality Calcs'!$A$9:$B$149,2,0)=\"Limited ROW\",W7*X7*0.1/100,W7*X7/100))","v":""},{"$f":"IF(A7=\"\",\"\",VLOOKUP(A7,'Structural Water Quality Calcs'!$A$8:$AE$149,29,0))","v":""},{"$f":"IF(A7=\"\",\"\",IF(VLOOKUP(A7,'Structural Water Quality Calcs'!$A$9:$B$149,2,0)=\"Limited ROW\",VLOOKUP(A7,'Structural Water Quality Calcs'!$A$8:$AE$149,28,0)*F7*0.1/43560,VLOOKUP(A7,'Structural Water Quality Calcs'!$A$8:$AE$149,28,0)*F7/43560))","v":""},{"$f":"IF(A7=\"\",\"\",VLOOKUP(A7,'Structural Water Quality Calcs'!$A$8:$AE$149,28,0)*100)","v":""},{"$f":"IF(A7=\"\",\"\",VLOOKUP(A7,'Structural Water Quality Calcs'!$A$8:$AE$149,31,0))","v":""},{"$f":"IF(A7=\"\",\"\",VLOOKUP(A7,'Structural Water Quality Calcs'!$A$8:$AE$149,26,0))","v":""},{"$f":"IF(A7=\"\",\"\",VLOOKUP(A7,'Structural Water Quality Calcs'!$A$8:$AE$149,27,0))","v":""},{"$f":"IF(A7=\"\",\"\",(VLOOKUP(A7,'Structural Water Quality Calcs'!$A$8:$AE$149,25,0)))","v":""},{"$f":"IF(A7=\"\",\"\",VLOOKUP(A7,'Structural Water Quality Calcs'!$A$8:$AE$149,24,0))","v":""},{"$f":"IF(A7=\"\",\"\",VLOOKUP(A7,STU_Cost!$A$5:$G$150,4,0))","v":""},{"$f":"IF(A7=\"\",\"\",VLOOKUP(A7,STU_Cost!$A$5:$G$150,5,0))","v":""},{"$f":"IF(A7=\"\",\"\",VLOOKUP(A7,STU_Cost!$A$5:$G$150,6,0))","v":""},{"$f":"IF(A7=\"\",\"\",VLOOKUP(A7,STU_Cost!$A$5:$G$150,7,0))","v":""},null,null,{"$f":"IF(A7=\"\",\"\",VLOOKUP(A7,STU!$A$5:$E$300,5,0))","v":""}]
[null,{"$f":"IF(A8=\"\",\"\",VLOOKUP(A8,'Structural Water Quality Calcs'!$A$9:$F$79,6,0))","v":""},{"$f":"IF(A8=\"\",\"\",VLOOKUP(A8,'Structural Water Quality Calcs'!$A$8:$AE$149,3,0))","v":""},{"$f":"IF(A8=\"\",\"\",SUMIFS(Catchment!$V$5:$V$300,Catchment!$D$5:$D$300,\"RIDOT\",Catchment!$K$5:$K$300,A8))","v":""},{"$f":"IF(A8=\"\",\"\",VLOOKUP(A8,'Structural Water Quality Calcs'!$A$8:$AE$149,4,0))","v":""},{"$f":"IF(A8=\"\",\"\",SUMIFS(Catchment!$L$5:$L$300,Catchment!$D$5:$D$300,\"RIDOT\",Catchment!$K$5:$K$300,A8))","v":""},{"$f":"IF(A8=\"\",\"\",VLOOKUP(A8, 'Structural Water Quality Calcs'!$A$8:$AE$149,11,0))","v":""},{"$f":"IF(A8=\"\",\"\",SUMIFS(Catchment!$X$5:$X$300,Catchment!$D$5:$D$300,\"RIDOT\",Catchment!$K$5:$K$300,A8))","v":""},{"$f":"IF(A8=\"\",\"\",VLOOKUP(A8,'Structural Water Quality Calcs'!$A$8:$AE$149,12,0)*100)","v":""},{"$f":"IF(A8=\"\",\"\",VLOOKUP(A8,'Structural Water Quality Calcs'!$A$8:$AE$149,13,0))","v":""},{"$f":"IF(A8=\"\",\"\",IF(VLOOKUP(A8,'Structural Water Quality Calcs'!$A$9:$B$149,2,0)=\"Limited ROW\",H8*I8*0.1/100,H8*I8/100))","v":""},{"$f":"IF(A8=\"\",\"\",VLOOKUP(A8,'Structural Water Quality Calcs'!$A$8:$AE$149,17,0))","v":""},{"$f":"IF(A8=\"\",\"\",SUMIFS(Catchment!$Z$5:$Z$300,Catchment!$D$5:$D$300,\"RIDOT\",Catchment!$K$5:$K$300,A8))","v":""},{"$f":"IF(A8=\"\",\"\",VLOOKUP(A8,'Structural Water Quality Calcs'!$A$8:$AE$149,18,0)*100)","v":""},{"$f":"IF(A8=\"\",\"\",VLOOKUP(A8,'Structural Water Quality Calcs'!$A$8:$AE$149,19,0))","v":""},{"$f":"IF(A8=\"\",\"\",IF(VLOOKUP(A8,'Structural Water Quality Calcs'!$A$9:$B$149,2,0)=\"Limited ROW\",M8*N8*0.1/100,M8*N8/100))","v":""},{"$f":"IF(A8=\"\",\"\",VLOOKUP(A8,'Structural Water Quality Calcs'!$A$8:$AE$149,14,0))","v":""},{"$f":"IF(A8=\"\",\"\",SUMIFS(Catchment!$Y$5:$Y$300,Catchment!$D$5:$D$300,\"RIDOT\",Catchment!$K$5:$K$300,A8))","v":""},{"$f":"IF(A8=\"\",\"\",VLOOKUP(A8,'Structural Water Quality Calcs'!$A$8:$AE$149,15,0)*100)","v":""},{"$f":"IF(A8=\"\",\"\",VLOOKUP(A8,'Structural Water Quality Calcs'!$A$8:$AE$149,16,0))","v":""},{"$f":"IF(A8=\"\",\"\",IF(VLOOKUP(A8,'Structural Water Quality Calcs'!$A$9:$B$149,2,0)=\"Limited ROW\",R8*S8*0.1/100,R8*S8/100))","v":""},{"$f":"IF(A8=\"\",\"\",VLOOKUP(A8,'Structural Water Quality Calcs'!$A$8:$AE$149,20,0))","v":""},{"$f":"IF(A8=\"\",\"\",SUMIFS(Catchment!$AA$5:$AA$300,Catchment!$D$5:$D$300,\"RIDOT\",Catchment!$K$5:$K$300,A8))","v":""},{"$f":"IF(A8=\"\",\"\",VLOOKUP(A8,'Structural Water Quality Calcs'!$A$8:$AE$149,21,0)*100)","v":""},{"$f":"IF(A8=\"\",\"\",VLOOKUP(A8,'Structural Water Quality Calcs'!$A$8:$AE$149,22,0))","v":""},{"$f":"IF(A8=\"\",\"\",IF(VLOOKUP(A8,'Structural Water Quality Calcs'!$A$9:$B$149,2,0)=\"Limited ROW\",W8*X8*0.1/100,W8*X8/100))","v":""},{"$f":"IF(A8=\"\",\"\",VLOOKUP(A8,'Structural Water Quality Calcs'!$A$8:$AE$149,29,0))","v":""},{"$f":"IF(A8=\"\",\"\",IF(VLOOKUP(A8,'Structural Water Quality Calcs'!$A$9:$B$149,2,0)=\"Limited ROW\",VLOOKUP(A8,'Structural Water Quality Calcs'!$A$8:$AE$149,28,0)*F8*0.1/43560,VLOOKUP(A8,'Structural Water Quality Calcs'!$A$8:$AE$149,28,0)*F8/43560))","v":""},{"$f":"IF(A8=\"\",\"\",VLOOKUP(A8,'Structural Water Quality Calcs'!$A$8:$AE$149,28,0)*100)","v":""},{"$f":"IF(A8=\"\",\"\",VLOOKUP(A8,'Structural Water Quality Calcs'!$A$8:$AE$149,31,0))","v":""},{"$f":"IF(A8=\"\",\"\",VLOOKUP(A8,'Structural Water Quality Calcs'!$A$8:$AE$149,26,0))","v":""},{"$f":"IF(A8=\"\",\"\",VLOOKUP(A8,'Structural Water Quality Calcs'!$A$8:$AE$149,27,0))","v":""},{"$f":"IF(A8=\"\",\"\",(VLOOKUP(A8,'Structural Water Quality Calcs'!$A$8:$AE$149,25,0)))","v":""},{"$f":"IF(A8=\"\",\"\",VLOOKUP(A8,'Structural Water Quality Calcs'!$A$8:$AE$149,24,0))","v":""},{"$f":"IF(A8=\"\",\"\",VLOOKUP(A8,STU_Cost!$A$5:$G$150,4,0))","v":""},{"$f":"IF(A8=\"\",\"\",VLOOKUP(A8,STU_Cost!$A$5:$G$150,5,0))","v":""},{"$f":"IF(A8=\"\",\"\",VLOOKUP(A8,STU_Cost!$A$5:$G$150,6,0))","v":""},{"$f":"IF(A8=\"\",\"\",VLOOKUP(A8,STU_Cost!$A$5:$G$150,7,0))","v":""},null,null,{"$f":"IF(A8=\"\",\"\",VLOOKUP(A8,STU!$A$5:$E$300,5,0))","v":""}]
[null,{"$f":"IF(A9=\"\",\"\",VLOOKUP(A9,'Structural Water Quality Calcs'!$A$9:$F$79,6,0))","v":""},{"$f":"IF(A9=\"\",\"\",VLOOKUP(A9,'Structural Water Quality Calcs'!$A$8:$AE$149,3,0))","v":""},{"$f":"IF(A9=\"\",\"\",SUMIFS(Catchment!$V$5:$V$300,Catchment!$D$5:$D$300,\"RIDOT\",Catchment!$K$5:$K$300,A9))","v":""},{"$f":"IF(A9=\"\",\"\",VLOOKUP(A9,'Structural Water Quality Calcs'!$A$8:$AE$149,4,0))","v":""},{"$f":"IF(A9=\"\",\"\",SUMIFS(Catchment!$L$5:$L$300,Catchment!$D$5:$D$300,\"RIDOT\",Catchment!$K$5:$K$300,A9))","v":""},{"$f":"IF(A9=\"\",\"\",VLOOKUP(A9, 'Structural Water Quality Calcs'!$A$8:$AE$149,11,0))","v":""},{"$f":"IF(A9=\"\",\"\",SUMIFS(Catchment!$X$5:$X$300,Catchment!$D$5:$D$300,\"RIDOT\",Catchment!$K$5:$K$300,A9))","v":""},{"$f":"IF(A9=\"\",\"\",VLOOKUP(A9,'Structural Water Quality Calcs'!$A$8:$AE$149,12,0)*100)","v":""},{"$f":"IF(A9=\"\",\"\",VLOOKUP(A9,'Structural Water Quality Calcs'!$A$8:$AE$149,13,0))","v":""},{"$f":"IF(A9=\"\",\"\",IF(VLOOKUP(A9,'Structural Water Quality Calcs'!$A$9:$B$149,2,0)=\"Limited ROW\",H9*I9*0.1/100,H9*I9/100))","v":""},{"$f":"IF(A9=\"\",\"\",VLOOKUP(A9,'Structural Water Quality Calcs'!$A$8:$AE$149,17,0))","v":""},{"$f":"IF(A9=\"\",\"\",SUMIFS(Catchment!$Z$5:$Z$300,Catchment!$D$5:$D$300,\"RIDOT\",Catchment!$K$5:$K$300,A9))","v":""},{"$f":"IF(A9=\"\",\"\",VLOOKUP(A9,'Structural Water Quality Calcs'!$A$8:$AE$149,18,0)*100)","v":""},{"$f":"IF(A9=\"\",\"\",VLOOKUP(A9,'Structural Water Quality Calcs'!$A$8:$AE$149,19,0))","v":""},{"$f":"IF(A9=\"\",\"\",IF(VLOOKUP(A9,'Structural Water Quality Calcs'!$A$9:$B$149,2,0)=\"Limited ROW\",M9*N9*0.1/100,M9*N9/100))","v":""},{"$f":"IF(A9=\"\",\"\",VLOOKUP(A9,'Structural Water Quality Calcs'!$A$8:$AE$149,14,0))","v":""},{"$f":"IF(A9=\"\",\"\",SUMIFS(Catchment!$Y$5:$Y$300,Catchment!$D$5:$D$300,\"RIDOT\",Catchment!$K$5:$K$300,A9))","v":""},{"$f":"IF(A9=\"\",\"\",VLOOKUP(A9,'Structural Water Quality Calcs'!$A$8:$AE$149,15,0)*100)","v":""},{"$f":"IF(A9=\"\",\"\",VLOOKUP(A9,'Structural Water Quality Calcs'!$A$8:$AE$149,16,0))","v":""},{"$f":"IF(A9=\"\",\"\",IF(VLOOKUP(A9,'Structural Water Quality Calcs'!$A$9:$B$149,2,0)=\"Limited ROW\",R9*S9*0.1/100,R9*S9/100))","v":""},{"$f":"IF(A9=\"\",\"\",VLOOKUP(A9,'Structural Water Quality Calcs'!$A$8:$AE$149,20,0))","v":""},{"$f":"IF(A9=\"\",\"\",SUMIFS(Catchment!$AA$5:$AA$300,Catchment!$D$5:$D$300,\"RIDOT\",Catchment!$K$5:$K$300,A9))","v":""},{"$f":"IF(A9=\"\",\"\",VLOOKUP(A9,'Structural Water Quality Calcs'!$A$8:$AE$149,21,0)*100)","v":""},{"$f":"IF(A9=\"\",\"\",VLOOKUP(A9,'Structural Water Quality Calcs'!$A$8:$AE$149,22,0))","v":""},{"$f":"IF(A9=\"\",\"\",IF(VLOOKUP(A9,'Structural Water Quality Calcs'!$A$9:$B$149,2,0)=\"Limited ROW\",W9*X9*0.1/100,W9*X9/100))","v":""},{"$f":"IF(A9=\"\",\"\",VLOOKUP(A9,'Structural Water Quality Calcs'!$A$8:$AE$149,29,0))","v":""},{"$f":"IF(A9=\"\",\"\",IF(VLOOKUP(A9,'Structural Water Quality Calcs'!$A$9:$B$149,2,0)=\"Limited ROW\",VLOOKUP(A9,'Structural Water Quality Calcs'!$A$8:$AE$149,28,0)*F9*0.1/43560,VLOOKUP(A9,'Structural Water Quality Calcs'!$A$8:$AE$149,28,0)*F9/43560))","v":""},{"$f":"IF(A9=\"\",\"\",VLOOKUP(A9,'Structural Water Quality Calcs'!$A$8:$AE$149,28,0)*100)","v":""},{"$f":"IF(A9=\"\",\"\",VLOOKUP(A9,'Structural Water Quality Calcs'!$A$8:$AE$149,31,0))","v":""},{"$f":"IF(A9=\"\",\"\",VLOOKUP(A9,'Structural Water Quality Calcs'!$A$8:$AE$149,26,0))","v":""},{"$f":"IF(A9=\"\",\"\",VLOOKUP(A9,'Structural Water Quality Calcs'!$A$8:$AE$149,27,0))","v":""},{"$f":"IF(A9=\"\",\"\",(VLOOKUP(A9,'Structural Water Quality Calcs'!$A$8:$AE$149,25,0)))","v":""},{"$f":"IF(A9=\"\",\"\",VLOOKUP(A9,'Structural Water Quality Calcs'!$A$8:$AE$149,24,0))","v":""},{"$f":"IF(A9=\"\",\"\",VLOOKUP(A9,STU_Cost!$A$5:$G$150,4,0))","v":""},{"$f":"IF(A9=\"\",\"\",VLOOKUP(A9,STU_Cost!$A$5:$G$150,5,0))","v":""},{"$f":"IF(A9=\"\",\"\",VLOOKUP(A9,STU_Cost!$A$5:$G$150,6,0))","v":""},{"$f":"IF(A9=\"\",\"\",VLOOKUP(A9,STU_Cost!$A$5:$G$150,7,0))","v":""},null,null,{"$f":"IF(A9=\"\",\"\",VLOOKUP(A9,STU!$A$5:$E$300,5,0))","v":""}]
[null,{"$f":"IF(A10=\"\",\"\",VLOOKUP(A10,'Structural Water Quality Calcs'!$A$9:$F$79,6,0))","v":""},{"$f":"IF(A10=\"\",\"\",VLOOKUP(A10,'Structural Water Quality Calcs'!$A$8:$AE$149,3,0))","v":""},{"$f":"IF(A10=\"\",\"\",SUMIFS(Catchment!$V$5:$V$300,Catchment!$D$5:$D$300,\"RIDOT\",Catchment!$K$5:$K$300,A10))","v":""},{"$f":"IF(A10=\"\",\"\",VLOOKUP(A10,'Structural Water Quality Calcs'!$A$8:$AE$149,4,0))","v":""},{"$f":"IF(A10=\"\",\"\",SUMIFS(Catchment!$L$5:$L$300,Catchment!$D$5:$D$300,\"RIDOT\",Catchment!$K$5:$K$300,A10))","v":""},{"$f":"IF(A10=\"\",\"\",VLOOKUP(A10, 'Structural Water Quality Calcs'!$A$8:$AE$149,11,0))","v":""},{"$f":"IF(A10=\"\",\"\",SUMIFS(Catchment!$X$5:$X$300,Catchment!$D$5:$D$300,\"RIDOT\",Catchment!$K$5:$K$300,A10))","v":""},{"$f":"IF(A10=\"\",\"\",VLOOKUP(A10,'Structural Water Quality Calcs'!$A$8:$AE$149,12,0)*100)","v":""},{"$f":"IF(A10=\"\",\"\",VLOOKUP(A10,'Structural Water Quality Calcs'!$A$8:$AE$149,13,0))","v":""},{"$f":"IF(A10=\"\",\"\",IF(VLOOKUP(A10,'Structural Water Quality Calcs'!$A$9:$B$149,2,0)=\"Limited ROW\",H10*I10*0.1/100,H10*I10/100))","v":""},{"$f":"IF(A10=\"\",\"\",VLOOKUP(A10,'Structural Water Quality Calcs'!$A$8:$AE$149,17,0))","v":""},{"$f":"IF(A10=\"\",\"\",SUMIFS(Catchment!$Z$5:$Z$300,Catchment!$D$5:$D$300,\"RIDOT\",Catchment!$K$5:$K$300,A10))","v":""},{"$f":"IF(A10=\"\",\"\",VLOOKUP(A10,'Structural Water Quality Calcs'!$A$8:$AE$149,18,0)*100)","v":""},{"$f":"IF(A10=\"\",\"\",VLOOKUP(A10,'Structural Water Quality Calcs'!$A$8:$AE$149,19,0))","v":""},{"$f":"IF(A10=\"\",\"\",IF(VLOOKUP(A10,'Structural Water Quality Calcs'!$A$9:$B$149,2,0)=\"Limited ROW\",M10*N10*0.1/100,M10*N10/100))","v":""},{"$f":"IF(A10=\"\",\"\",VLOOKUP(A10,'Structural Water Quality Calcs'!$A$8:$AE$149,14,0))","v":""},{"$f":"IF(A10=\"\",\"\",SUMIFS(Catchment!$Y$5:$Y$300,Catchment!$D$5:$D$300,\"RIDOT\",Catchment!$K$5:$K$300,A10))","v":""},{"$f":"IF(A10=\"\",\"\",VLOOKUP(A10,'Structural Water Quality Calcs'!$A$8:$AE$149,15,0)*100)","v":""},{"$f":"IF(A10=\"\",\"\",VLOOKUP(A10,'Structural Water Quality Calcs'!$A$8:$AE$149,16,0))","v":""},{"$f":"IF(A10=\"\",\"\",IF(VLOOKUP(A10,'Structural Water Quality Calcs'!$A$9:$B$149,2,0)=\"Limited ROW\",R10*S10*0.1/100,R10*S10/100))","v":""},{"$f":"IF(A10=\"\",\"\",VLOOKUP(A10,'Structural Water Quality Calcs'!$A$8:$AE$149,20,0))","v":""},{"$f":"IF(A10=\"\",\"\",SUMIFS(Catchment!$AA$5:$AA$300,Catchment!$D$5:$D$300,\"RIDOT\",Catchment!$K$5:$K$300,A10))","v":""},{"$f":"IF(A10=\"\",\"\",VLOOKUP(A10,'Structural Water Quality Calcs'!$A$8:$AE$149,21,0)*100)","v":""},{"$f":"IF(A10=\"\",\"\",VLOOKUP(A10,'Structural Water Quality Calcs'!$A$8:$AE$149,22,0))","v":""},{"$f":"IF(A10=\"\",\"\",IF(VLOOKUP(A10,'Structural Water Quality Calcs'!$A$9:$B$149,2,0)=\"Limited ROW\",W10*X10*0.1/100,W10*X10/100))","v":""},{"$f":"IF(A10=\"\",\"\",VLOOKUP(A10,'Structural Water Quality Calcs'!$A$8:$AE$149,29,0))","v":""},{"$f":"IF(A10=\"\",\"\",IF(VLOOKUP(A10,'Structural Water Quality Calcs'!$A$9:$B$149,2,0)=\"Limited ROW\",VLOOKUP(A10,'Structural Water Quality Calcs'!$A$8:$AE$149,28,0)*F10*0.1/43560,VLOOKUP(A10,'Structural Water Quality Calcs'!$A$8:$AE$149,28,0)*F10/43560))","v":""},{"$f":"IF(A10=\"\",\"\",VLOOKUP(A10,'Structural Water Quality Calcs'!$A$8:$AE$149,28,0)*100)","v":""},{"$f":"IF(A10=\"\",\"\",VLOOKUP(A10,'Structural Water Quality Calcs'!$A$8:$AE$149,31,0))","v":""},{"$f":"IF(A10=\"\",\"\",VLOOKUP(A10,'Structural Water Quality Calcs'!$A$8:$AE$149,26,0))","v":""},{"$f":"IF(A10=\"\",\"\",VLOOKUP(A10,'Structural Water Quality Calcs'!$A$8:$AE$149,27,0))","v":""},{"$f":"IF(A10=\"\",\"\",(VLOOKUP(A10,'Structural Water Quality Calcs'!$A$8:$AE$149,25,0)))","v":""},{"$f":"IF(A10=\"\",\"\",VLOOKUP(A10,'Structural Water Quality Calcs'!$A$8:$AE$149,24,0))","v":""},{"$f":"IF(A10=\"\",\"\",VLOOKUP(A10,STU_Cost!$A$5:$G$150,4,0))","v":""},{"$f":"IF(A10=\"\",\"\",VLOOKUP(A10,STU_Cost!$A$5:$G$150,5,0))","v":""},{"$f":"IF(A10=\"\",\"\",VLOOKUP(A10,STU_Cost!$A$5:$G$150,6,0))","v":""},{"$f":"IF(A10=\"\",\"\",VLOOKUP(A10,STU_Cost!$A$5:$G$150,7,0))","v":""},null,null,{"$f":"IF(A10=\"\",\"\",VLOOKUP(A10,STU!$A$5:$E$300,5,0))","v":""}]
[null,{"$f":"IF(A11=\"\",\"\",VLOOKUP(A11,'Structural Water Quality Calcs'!$A$9:$F$79,6,0))","v":""},{"$f":"IF(A11=\"\",\"\",VLOOKUP(A11,'Structural Water Quality Calcs'!$A$8:$AE$149,3,0))","v":""},{"$f":"IF(A11=\"\",\"\",SUMIFS(Catchment!$V$5:$V$300,Catchment!$D$5:$D$300,\"RIDOT\",Catchment!$K$5:$K$300,A11))","v":""},{"$f":"IF(A11=\"\",\"\",VLOOKUP(A11,'Structural Water Quality Calcs'!$A$8:$AE$149,4,0))","v":""},{"$f":"IF(A11=\"\",\"\",SUMIFS(Catchment!$L$5:$L$300,Catchment!$D$5:$D$300,\"RIDOT\",Catchment!$K$5:$K$300,A11))","v":""},{"$f":"IF(A11=\"\",\"\",VLOOKUP(A11, 'Structural Water Quality Calcs'!$A$8:$AE$149,11,0))","v":""},{"$f":"IF(A11=\"\",\"\",SUMIFS(Catchment!$X$5:$X$300,Catchment!$D$5:$D$300,\"RIDOT\",Catchment!$K$5:$K$300,A11))","v":""},{"$f":"IF(A11=\"\",\"\",VLOOKUP(A11,'Structural Water Quality Calcs'!$A$8:$AE$149,12,0)*100)","v":""},{"$f":"IF(A11=\"\",\"\",VLOOKUP(A11,'Structural Water Quality Calcs'!$A$8:$AE$149,13,0))","v":""},{"$f":"IF(A11=\"\",\"\",IF(VLOOKUP(A11,'Structural Water Quality Calcs'!$A$9:$B$149,2,0)=\"Limited ROW\",H11*I11*0.1/100,H11*I11/100))","v":""},{"$f":"IF(A11=\"\",\"\",VLOOKUP(A11,'Structural Water Quality Calcs'!$A$8:$AE$149,17,0))","v":""},{"$f":"IF(A11=\"\",\"\",SUMIFS(Catchment!$Z$5:$Z$300,Catchment!$D$5:$D$300,\"RIDOT\",Catchment!$K$5:$K$300,A11))","v":""},{"$f":"IF(A11=\"\",\"\",VLOOKUP(A11,'Structural Water Quality Calcs'!$A$8:$AE$149,18,0)*100)","v":""},{"$f":"IF(A11=\"\",\"\",VLOOKUP(A11,'Structural Water Quality Calcs'!$A$8:$AE$149,19,0))","v":""},{"$f":"IF(A11=\"\",\"\",IF(VLOOKUP(A11,'Structural Water Quality Calcs'!$A$9:$B$149,2,0)=\"Limited ROW\",M11*N11*0.1/100,M11*N11/100))","v":""},{"$f":"IF(A11=\"\",\"\",VLOOKUP(A11,'Structural Water Quality Calcs'!$A$8:$AE$149,14,0))","v":""},{"$f":"IF(A11=\"\",\"\",SUMIFS(Catchment!$Y$5:$Y$300,Catchment!$D$5:$D$300,\"RIDOT\",Catchment!$K$5:$K$300,A11))","v":""},{"$f":"IF(A11=\"\",\"\",VLOOKUP(A11,'Structural Water Quality Calcs'!$A$8:$AE$149,15,0)*100)","v":""},{"$f":"IF(A11=\"\",\"\",VLOOKUP(A11,'Structural Water Quality Calcs'!$A$8:$AE$149,16,0))","v":""},{"$f":"IF(A11=\"\",\"\",IF(VLOOKUP(A11,'Structural Water Quality Calcs'!$A$9:$B$149,2,0)=\"Limited ROW\",R11*S11*0.1/100,R11*S11/100))","v":""},{"$f":"IF(A11=\"\",\"\",VLOOKUP(A11,'Structural Water Quality Calcs'!$A$8:$AE$149,20,0))","v":""},{"$f":"IF(A11=\"\",\"\",SUMIFS(Catchment!$AA$5:$AA$300,Catchment!$D$5:$D$300,\"RIDOT\",Catchment!$K$5:$K$300,A11))","v":""},{"$f":"IF(A11=\"\",\"\",VLOOKUP(A11,'Structural Water Quality Calcs'!$A$8:$AE$149,21,0)*100)","v":""},{"$f":"IF(A11=\"\",\"\",VLOOKUP(A11,'Structural Water Quality Calcs'!$A$8:$AE$149,22,0))","v":""},{"$f":"IF(A11=\"\",\"\",IF(VLOOKUP(A11,'Structural Water Quality Calcs'!$A$9:$B$149,2,0)=\"Limited ROW\",W11*X11*0.1/100,W11*X11/100))","v":""},{"$f":"IF(A11=\"\",\"\",VLOOKUP(A11,'Structural Water Quality Calcs'!$A$8:$AE$149,29,0))","v":""},{"$f":"IF(A11=\"\",\"\",IF(VLOOKUP(A11,'Structural Water Quality Calcs'!$A$9:$B$149,2,0)=\"Limited ROW\",VLOOKUP(A11,'Structural Water Quality Calcs'!$A$8:$AE$149,28,0)*F11*0.1/43560,VLOOKUP(A11,'Structural Water Quality Calcs'!$A$8:$AE$149,28,0)*F11/43560))","v":""},{"$f":"IF(A11=\"\",\"\",VLOOKUP(A11,'Structural Water Quality Calcs'!$A$8:$AE$149,28,0)*100)","v":""},{"$f":"IF(A11=\"\",\"\",VLOOKUP(A11,'Structural Water Quality Calcs'!$A$8:$AE$149,31,0))","v":""},{"$f":"IF(A11=\"\",\"\",VLOOKUP(A11,'Structural Water Quality Calcs'!$A$8:$AE$149,26,0))","v":""},{"$f":"IF(A11=\"\",\"\",VLOOKUP(A11,'Structural Water Quality Calcs'!$A$8:$AE$149,27,0))","v":""},{"$f":"IF(A11=\"\",\"\",(VLOOKUP(A11,'Structural Water Quality Calcs'!$A$8:$AE$149,25,0)))","v":""},{"$f":"IF(A11=\"\",\"\",VLOOKUP(A11,'Structural Water Quality Calcs'!$A$8:$AE$149,24,0))","v":""},{"$f":"IF(A11=\"\",\"\",VLOOKUP(A11,STU_Cost!$A$5:$G$150,4,0))","v":""},{"$f":"IF(A11=\"\",\"\",VLOOKUP(A11,STU_Cost!$A$5:$G$150,5,0))","v":""},{"$f":"IF(A11=\"\",\"\",VLOOKUP(A11,STU_Cost!$A$5:$G$150,6,0))","v":""},{"$f":"IF(A11=\"\",\"\",VLOOKUP(A11,STU_Cost!$A$5:$G$150,7,0))","v":""},null,null,{"$f":"IF(A11=\"\",\"\",VLOOKUP(A11,STU!$A$5:$E$300,5,0))","v":""}]
[null,{"$f":"IF(A12=\"\",\"\",VLOOKUP(A12,'Structural Water Quality Calcs'!$A$9:$F$79,6,0))","v":""},{"$f":"IF(A12=\"\",\"\",VLOOKUP(A12,'Structural Water Quality Calcs'!$A$8:$AE$149,3,0))","v":""},{"$f":"IF(A12=\"\",\"\",SUMIFS(Catchment!$V$5:$V$300,Catchment!$D$5:$D$300,\"RIDOT\",Catchment!$K$5:$K$300,A12))","v":""},{"$f":"IF(A12=\"\",\"\",VLOOKUP(A12,'Structural Water Quality Calcs'!$A$8:$AE$149,4,0))","v":""},{"$f":"IF(A12=\"\",\"\",SUMIFS(Catchment!$L$5:$L$300,Catchment!$D$5:$D$300,\"RIDOT\",Catchment!$K$5:$K$300,A12))","v":""},{"$f":"IF(A12=\"\",\"\",VLOOKUP(A12, 'Structural Water Quality Calcs'!$A$8:$AE$149,11,0))","v":""},{"$f":"IF(A12=\"\",\"\",SUMIFS(Catchment!$X$5:$X$300,Catchment!$D$5:$D$300,\"RIDOT\",Catchment!$K$5:$K$300,A12))","v":""},{"$f":"IF(A12=\"\",\"\",VLOOKUP(A12,'Structural Water Quality Calcs'!$A$8:$AE$149,12,0)*100)","v":""},{"$f":"IF(A12=\"\",\"\",VLOOKUP(A12,'Structural Water Quality Calcs'!$A$8:$AE$149,13,0))","v":""},{"$f":"IF(A12=\"\",\"\",IF(VLOOKUP(A12,'Structural Water Quality Calcs'!$A$9:$B$149,2,0)=\"Limited ROW\",H12*I12*0.1/100,H12*I12/100))","v":""},{"$f":"IF(A12=\"\",\"\",VLOOKUP(A12,'Structural Water Quality Calcs'!$A$8:$AE$149,17,0))","v":""},{"$f":"IF(A12=\"\",\"\",SUMIFS(Catchment!$Z$5:$Z$300,Catchment!$D$5:$D$300,\"RIDOT\",Catchment!$K$5:$K$300,A12))","v":""},{"$f":"IF(A12=\"\",\"\",VLOOKUP(A12,'Structural Water Quality Calcs'!$A$8:$AE$149,18,0)*100)","v":""},{"$f":"IF(A12=\"\",\"\",VLOOKUP(A12,'Structural Water Quality Calcs'!$A$8:$AE$149,19,0))","v":""},{"$f":"IF(A12=\"\",\"\",IF(VLOOKUP(A12,'Structural Water Quality Calcs'!$A$9:$B$149,2,0)=\"Limited ROW\",M12*N12*0.1/100,M12*N12/100))","v":""},{"$f":"IF(A12=\"\",\"\",VLOOKUP(A12,'Structural Water Quality Calcs'!$A$8:$AE$149,14,0))","v":""},{"$f":"IF(A12=\"\",\"\",SUMIFS(Catchment!$Y$5:$Y$300,Catchment!$D$5:$D$300,\"RIDOT\",Catchment!$K$5:$K$300,A12))","v":""},{"$f":"IF(A12=\"\",\"\",VLOOKUP(A12,'Structural Water Quality Calcs'!$A$8:$AE$149,15,0)*100)","v":""},{"$f":"IF(A12=\"\",\"\",VLOOKUP(A12,'Structural Water Quality Calcs'!$A$8:$AE$149,16,0))","v":""},{"$f":"IF(A12=\"\",\"\",IF(VLOOKUP(A12,'Structural Water Quality Calcs'!$A$9:$B$149,2,0)=\"Limited ROW\",R12*S12*0.1/100,R12*S12/100))","v":""},{"$f":"IF(A12=\"\",\"\",VLOOKUP(A12,'Structural Water Quality Calcs'!$A$8:$AE$149,20,0))","v":""},{"$f":"IF(A12=\"\",\"\",SUMIFS(Catchment!$AA$5:$AA$300,Catchment!$D$5:$D$300,\"RIDOT\",Catchment!$K$5:$K$300,A12))","v":""},{"$f":"IF(A12=\"\",\"\",VLOOKUP(A12,'Structural Water Quality Calcs'!$A$8:$AE$149,21,0)*100)","v":""},{"$f":"IF(A12=\"\",\"\",VLOOKUP(A12,'Structural Water Quality Calcs'!$A$8:$AE$149,22,0))","v":""},{"$f":"IF(A12=\"\",\"\",IF(VLOOKUP(A12,'Structural Water Quality Calcs'!$A$9:$B$149,2,0)=\"Limited ROW\",W12*X12*0.1/100,W12*X12/100))","v":""},{"$f":"IF(A12=\"\",\"\",VLOOKUP(A12,'Structural Water Quality Calcs'!$A$8:$AE$149,29,0))","v":""},{"$f":"IF(A12=\"\",\"\",IF(VLOOKUP(A12,'Structural Water Quality Calcs'!$A$9:$B$149,2,0)=\"Limited ROW\",VLOOKUP(A12,'Structural Water Quality Calcs'!$A$8:$AE$149,28,0)*F12*0.1/43560,VLOOKUP(A12,'Structural Water Quality Calcs'!$A$8:$AE$149,28,0)*F12/43560))","v":""},{"$f":"IF(A12=\"\",\"\",VLOOKUP(A12,'Structural Water Quality Calcs'!$A$8:$AE$149,28,0)*100)","v":""},{"$f":"IF(A12=\"\",\"\",VLOOKUP(A12,'Structural Water Quality Calcs'!$A$8:$AE$149,31,0))","v":""},{"$f":"IF(A12=\"\",\"\",VLOOKUP(A12,'Structural Water Quality Calcs'!$A$8:$AE$149,26,0))","v":""},{"$f":"IF(A12=\"\",\"\",VLOOKUP(A12,'Structural Water Quality Calcs'!$A$8:$AE$149,27,0))","v":""},{"$f":"IF(A12=\"\",\"\",(VLOOKUP(A12,'Structural Water Quality Calcs'!$A$8:$AE$149,25,0)))","v":""},{"$f":"IF(A12=\"\",\"\",VLOOKUP(A12,'Structural Water Quality Calcs'!$A$8:$AE$149,24,0))","v":""},{"$f":"IF(A12=\"\",\"\",VLOOKUP(A12,STU_Cost!$A$5:$G$150,4,0))","v":""},{"$f":"IF(A12=\"\",\"\",VLOOKUP(A12,STU_Cost!$A$5:$G$150,5,0))","v":""},{"$f":"IF(A12=\"\",\"\",VLOOKUP(A12,STU_Cost!$A$5:$G$150,6,0))","v":""},{"$f":"IF(A12=\"\",\"\",VLOOKUP(A12,STU_Cost!$A$5:$G$150,7,0))","v":""},null,null,{"$f":"IF(A12=\"\",\"\",VLOOKUP(A12,STU!$A$5:$E$300,5,0))","v":""}]
[null,{"$f":"IF(A13=\"\",\"\",VLOOKUP(A13,'Structural Water Quality Calcs'!$A$9:$F$79,6,0))","v":""},{"$f":"IF(A13=\"\",\"\",VLOOKUP(A13,'Structural Water Quality Calcs'!$A$8:$AE$149,3,0))","v":""},{"$f":"IF(A13=\"\",\"\",SUMIFS(Catchment!$V$5:$V$300,Catchment!$D$5:$D$300,\"RIDOT\",Catchment!$K$5:$K$300,A13))","v":""},{"$f":"IF(A13=\"\",\"\",VLOOKUP(A13,'Structural Water Quality Calcs'!$A$8:$AE$149,4,0))","v":""},{"$f":"IF(A13=\"\",\"\",SUMIFS(Catchment!$L$5:$L$300,Catchment!$D$5:$D$300,\"RIDOT\",Catchment!$K$5:$K$300,A13))","v":""},{"$f":"IF(A13=\"\",\"\",VLOOKUP(A13, 'Structural Water Quality Calcs'!$A$8:$AE$149,11,0))","v":""},{"$f":"IF(A13=\"\",\"\",SUMIFS(Catchment!$X$5:$X$300,Catchment!$D$5:$D$300,\"RIDOT\",Catchment!$K$5:$K$300,A13))","v":""},{"$f":"IF(A13=\"\",\"\",VLOOKUP(A13,'Structural Water Quality Calcs'!$A$8:$AE$149,12,0)*100)","v":""},{"$f":"IF(A13=\"\",\"\",VLOOKUP(A13,'Structural Water Quality Calcs'!$A$8:$AE$149,13,0))","v":""},{"$f":"IF(A13=\"\",\"\",IF(VLOOKUP(A13,'Structural Water Quality Calcs'!$A$9:$B$149,2,0)=\"Limited ROW\",H13*I13*0.1/100,H13*I13/100))","v":""},{"$f":"IF(A13=\"\",\"\",VLOOKUP(A13,'Structural Water Quality Calcs'!$A$8:$AE$149,17,0))","v":""},{"$f":"IF(A13=\"\",\"\",SUMIFS(Catchment!$Z$5:$Z$300,Catchment!$D$5:$D$300,\"RIDOT\",Catchment!$K$5:$K$300,A13))","v":""},{"$f":"IF(A13=\"\",\"\",VLOOKUP(A13,'Structural Water Quality Calcs'!$A$8:$AE$149,18,0)*100)","v":""},{"$f":"IF(A13=\"\",\"\",VLOOKUP(A13,'Structural Water Quality Calcs'!$A$8:$AE$149,19,0))","v":""},{"$f":"IF(A13=\"\",\"\",IF(VLOOKUP(A13,'Structural Water Quality Calcs'!$A$9:$B$149,2,0)=\"Limited ROW\",M13*N13*0.1/100,M13*N13/100))","v":""},{"$f":"IF(A13=\"\",\"\",VLOOKUP(A13,'Structural Water Quality Calcs'!$A$8:$AE$149,14,0))","v":""},{"$f":"IF(A13=\"\",\"\",SUMIFS(Catchment!$Y$5:$Y$300,Catchment!$D$5:$D$300,\"RIDOT\",Catchment!$K$5:$K$300,A13))","v":""},{"$f":"IF(A13=\"\",\"\",VLOOKUP(A13,'Structural Water Quality Calcs'!$A$8:$AE$149,15,0)*100)","v":""},{"$f":"IF(A13=\"\",\"\",VLOOKUP(A13,'Structural Water Quality Calcs'!$A$8:$AE$149,16,0))","v":""},{"$f":"IF(A13=\"\",\"\",IF(VLOOKUP(A13,'Structural Water Quality Calcs'!$A$9:$B$149,2,0)=\"Limited ROW\",R13*S13*0.1/100,R13*S13/100))","v":""},{"$f":"IF(A13=\"\",\"\",VLOOKUP(A13,'Structural Water Quality Calcs'!$A$8:$AE$149,20,0))","v":""},{"$f":"IF(A13=\"\",\"\",SUMIFS(Catchment!$AA$5:$AA$300,Catchment!$D$5:$D$300,\"RIDOT\",Catchment!$K$5:$K$300,A13))","v":""},{"$f":"IF(A13=\"\",\"\",VLOOKUP(A13,'Structural Water Quality Calcs'!$A$8:$AE$149,21,0)*100)","v":""},{"$f":"IF(A13=\"\",\"\",VLOOKUP(A13,'Structural Water Quality Calcs'!$A$8:$AE$149,22,0))","v":""},{"$f":"IF(A13=\"\",\"\",IF(VLOOKUP(A13,'Structural Water Quality Calcs'!$A$9:$B$149,2,0)=\"Limited ROW\",W13*X13*0.1/100,W13*X13/100))","v":""},{"$f":"IF(A13=\"\",\"\",VLOOKUP(A13,'Structural Water Quality Calcs'!$A$8:$AE$149,29,0))","v":""},{"$f":"IF(A13=\"\",\"\",IF(VLOOKUP(A13,'Structural Water Quality Calcs'!$A$9:$B$149,2,0)=\"Limited ROW\",VLOOKUP(A13,'Structural Water Quality Calcs'!$A$8:$AE$149,28,0)*F13*0.1/43560,VLOOKUP(A13,'Structural Water Quality Calcs'!$A$8:$AE$149,28,0)*F13/43560))","v":""},{"$f":"IF(A13=\"\",\"\",VLOOKUP(A13,'Structural Water Quality Calcs'!$A$8:$AE$149,28,0)*100)","v":""},{"$f":"IF(A13=\"\",\"\",VLOOKUP(A13,'Structural Water Quality Calcs'!$A$8:$AE$149,31,0))","v":""},{"$f":"IF(A13=\"\",\"\",VLOOKUP(A13,'Structural Water Quality Calcs'!$A$8:$AE$149,26,0))","v":""},{"$f":"IF(A13=\"\",\"\",VLOOKUP(A13,'Structural Water Quality Calcs'!$A$8:$AE$149,27,0))","v":""},{"$f":"IF(A13=\"\",\"\",(VLOOKUP(A13,'Structural Water Quality Calcs'!$A$8:$AE$149,25,0)))","v":""},{"$f":"IF(A13=\"\",\"\",VLOOKUP(A13,'Structural Water Quality Calcs'!$A$8:$AE$149,24,0))","v":""},{"$f":"IF(A13=\"\",\"\",VLOOKUP(A13,STU_Cost!$A$5:$G$150,4,0))","v":""},{"$f":"IF(A13=\"\",\"\",VLOOKUP(A13,STU_Cost!$A$5:$G$150,5,0))","v":""},{"$f":"IF(A13=\"\",\"\",VLOOKUP(A13,STU_Cost!$A$5:$G$150,6,0))","v":""},{"$f":"IF(A13=\"\",\"\",VLOOKUP(A13,STU_Cost!$A$5:$G$150,7,0))","v":""},null,null,{"$f":"IF(A13=\"\",\"\",VLOOKUP(A13,STU!$A$5:$E$300,5,0))","v":""}]
[null,{"$f":"IF(A14=\"\",\"\",VLOOKUP(A14,'Structural Water Quality Calcs'!$A$9:$F$79,6,0))","v":""},{"$f":"IF(A14=\"\",\"\",VLOOKUP(A14,'Structural Water Quality Calcs'!$A$8:$AE$149,3,0))","v":""},{"$f":"IF(A14=\"\",\"\",SUMIFS(Catchment!$V$5:$V$300,Catchment!$D$5:$D$300,\"RIDOT\",Catchment!$K$5:$K$300,A14))","v":""},{"$f":"IF(A14=\"\",\"\",VLOOKUP(A14,'Structural Water Quality Calcs'!$A$8:$AE$149,4,0))","v":""},{"$f":"IF(A14=\"\",\"\",SUMIFS(Catchment!$L$5:$L$300,Catchment!$D$5:$D$300,\"RIDOT\",Catchment!$K$5:$K$300,A14))","v":""},{"$f":"IF(A14=\"\",\"\",VLOOKUP(A14, 'Structural Water Quality Calcs'!$A$8:$AE$149,11,0))","v":""},{"$f":"IF(A14=\"\",\"\",SUMIFS(Catchment!$X$5:$X$300,Catchment!$D$5:$D$300,\"RIDOT\",Catchment!$K$5:$K$300,A14))","v":""},{"$f":"IF(A14=\"\",\"\",VLOOKUP(A14,'Structural Water Quality Calcs'!$A$8:$AE$149,12,0)*100)","v":""},{"$f":"IF(A14=\"\",\"\",VLOOKUP(A14,'Structural Water Quality Calcs'!$A$8:$AE$149,13,0))","v":""},{"$f":"IF(A14=\"\",\"\",IF(VLOOKUP(A14,'Structural Water Quality Calcs'!$A$9:$B$149,2,0)=\"Limited ROW\",H14*I14*0.1/100,H14*I14/100))","v":""},{"$f":"IF(A14=\"\",\"\",VLOOKUP(A14,'Structural Water Quality Calcs'!$A$8:$AE$149,17,0))","v":""},{"$f":"IF(A14=\"\",\"\",SUMIFS(Catchment!$Z$5:$Z$300,Catchment!$D$5:$D$300,\"RIDOT\",Catchment!$K$5:$K$300,A14))","v":""},{"$f":"IF(A14=\"\",\"\",VLOOKUP(A14,'Structural Water Quality Calcs'!$A$8:$AE$149,18,0)*100)","v":""},{"$f":"IF(A14=\"\",\"\",VLOOKUP(A14,'Structural Water Quality Calcs'!$A$8:$AE$149,19,0))","v":""},{"$f":"IF(A14=\"\",\"\",IF(VLOOKUP(A14,'Structural Water Quality Calcs'!$A$9:$B$149,2,0)=\"Limited ROW\",M14*N14*0.1/100,M14*N14/100))","v":""},{"$f":"IF(A14=\"\",\"\",VLOOKUP(A14,'Structural Water Quality Calcs'!$A$8:$AE$149,14,0))","v":""},{"$f":"IF(A14=\"\",\"\",SUMIFS(Catchment!$Y$5:$Y$300,Catchment!$D$5:$D$300,\"RIDOT\",Catchment!$K$5:$K$300,A14))","v":""},{"$f":"IF(A14=\"\",\"\",VLOOKUP(A14,'Structural Water Quality Calcs'!$A$8:$AE$149,15,0)*100)","v":""},{"$f":"IF(A14=\"\",\"\",VLOOKUP(A14,'Structural Water Quality Calcs'!$A$8:$AE$149,16,0))","v":""},{"$f":"IF(A14=\"\",\"\",IF(VLOOKUP(A14,'Structural Water Quality Calcs'!$A$9:$B$149,2,0)=\"Limited ROW\",R14*S14*0.1/100,R14*S14/100))","v":""},{"$f":"IF(A14=\"\",\"\",VLOOKUP(A14,'Structural Water Quality Calcs'!$A$8:$AE$149,20,0))","v":""},{"$f":"IF(A14=\"\",\"\",SUMIFS(Catchment!$AA$5:$AA$300,Catchment!$D$5:$D$300,\"RIDOT\",Catchment!$K$5:$K$300,A14))","v":""},{"$f":"IF(A14=\"\",\"\",VLOOKUP(A14,'Structural Water Quality Calcs'!$A$8:$AE$149,21,0)*100)","v":""},{"$f":"IF(A14=\"\",\"\",VLOOKUP(A14,'Structural Water Quality Calcs'!$A$8:$AE$149,22,0))","v":""},{"$f":"IF(A14=\"\",\"\",IF(VLOOKUP(A14,'Structural Water Quality Calcs'!$A$9:$B$149,2,0)=\"Limited ROW\",W14*X14*0.1/100,W14*X14/100))","v":""},{"$f":"IF(A14=\"\",\"\",VLOOKUP(A14,'Structural Water Quality Calcs'!$A$8:$AE$149,29,0))","v":""},{"$f":"IF(A14=\"\",\"\",IF(VLOOKUP(A14,'Structural Water Quality Calcs'!$A$9:$B$149,2,0)=\"Limited ROW\",VLOOKUP(A14,'Structural Water Quality Calcs'!$A$8:$AE$149,28,0)*F14*0.1/43560,VLOOKUP(A14,'Structural Water Quality Calcs'!$A$8:$AE$149,28,0)*F14/43560))","v":""},{"$f":"IF(A14=\"\",\"\",VLOOKUP(A14,'Structural Water Quality Calcs'!$A$8:$AE$149,28,0)*100)","v":""},{"$f":"IF(A14=\"\",\"\",VLOOKUP(A14,'Structural Water Quality Calcs'!$A$8:$AE$149,31,0))","v":""},{"$f":"IF(A14=\"\",\"\",VLOOKUP(A14,'Structural Water Quality Calcs'!$A$8:$AE$149,26,0))","v":""},{"$f":"IF(A14=\"\",\"\",VLOOKUP(A14,'Structural Water Quality Calcs'!$A$8:$AE$149,27,0))","v":""},{"$f":"IF(A14=\"\",\"\",(VLOOKUP(A14,'Structural Water Quality Calcs'!$A$8:$AE$149,25,0)))","v":""},{"$f":"IF(A14=\"\",\"\",VLOOKUP(A14,'Structural Water Quality Calcs'!$A$8:$AE$149,24,0))","v":""},{"$f":"IF(A14=\"\",\"\",VLOOKUP(A14,STU_Cost!$A$5:$G$150,4,0))","v":""},{"$f":"IF(A14=\"\",\"\",VLOOKUP(A14,STU_Cost!$A$5:$G$150,5,0))","v":""},{"$f":"IF(A14=\"\",\"\",VLOOKUP(A14,STU_Cost!$A$5:$G$150,6,0))","v":""},{"$f":"IF(A14=\"\",\"\",VLOOKUP(A14,STU_Cost!$A$5:$G$150,7,0))","v":""},null,null,{"$f":"IF(A14=\"\",\"\",VLOOKUP(A14,STU!$A$5:$E$300,5,0))","v":""}]
[null,{"$f":"IF(A15=\"\",\"\",VLOOKUP(A15,'Structural Water Quality Calcs'!$A$9:$F$79,6,0))","v":""},{"$f":"IF(A15=\"\",\"\",VLOOKUP(A15,'Structural Water Quality Calcs'!$A$8:$AE$149,3,0))","v":""},{"$f":"IF(A15=\"\",\"\",SUMIFS(Catchment!$V$5:$V$300,Catchment!$D$5:$D$300,\"RIDOT\",Catchment!$K$5:$K$300,A15))","v":""},{"$f":"IF(A15=\"\",\"\",VLOOKUP(A15,'Structural Water Quality Calcs'!$A$8:$AE$149,4,0))","v":""},{"$f":"IF(A15=\"\",\"\",SUMIFS(Catchment!$L$5:$L$300,Catchment!$D$5:$D$300,\"RIDOT\",Catchment!$K$5:$K$300,A15))","v":""},{"$f":"IF(A15=\"\",\"\",VLOOKUP(A15, 'Structural Water Quality Calcs'!$A$8:$AE$149,11,0))","v":""},{"$f":"IF(A15=\"\",\"\",SUMIFS(Catchment!$X$5:$X$300,Catchment!$D$5:$D$300,\"RIDOT\",Catchment!$K$5:$K$300,A15))","v":""},{"$f":"IF(A15=\"\",\"\",VLOOKUP(A15,'Structural Water Quality Calcs'!$A$8:$AE$149,12,0)*100)","v":""},{"$f":"IF(A15=\"\",\"\",VLOOKUP(A15,'Structural Water Quality Calcs'!$A$8:$AE$149,13,0))","v":""},{"$f":"IF(A15=\"\",\"\",IF(VLOOKUP(A15,'Structural Water Quality Calcs'!$A$9:$B$149,2,0)=\"Limited ROW\",H15*I15*0.1/100,H15*I15/100))","v":""},{"$f":"IF(A15=\"\",\"\",VLOOKUP(A15,'Structural Water Quality Calcs'!$A$8:$AE$149,17,0))","v":""},{"$f":"IF(A15=\"\",\"\",SUMIFS(Catchment!$Z$5:$Z$300,Catchment!$D$5:$D$300,\"RIDOT\",Catchment!$K$5:$K$300,A15))","v":""},{"$f":"IF(A15=\"\",\"\",VLOOKUP(A15,'Structural Water Quality Calcs'!$A$8:$AE$149,18,0)*100)","v":""},{"$f":"IF(A15=\"\",\"\",VLOOKUP(A15,'Structural Water Quality Calcs'!$A$8:$AE$149,19,0))","v":""},{"$f":"IF(A15=\"\",\"\",IF(VLOOKUP(A15,'Structural Water Quality Calcs'!$A$9:$B$149,2,0)=\"Limited ROW\",M15*N15*0.1/100,M15*N15/100))","v":""},{"$f":"IF(A15=\"\",\"\",VLOOKUP(A15,'Structural Water Quality Calcs'!$A$8:$AE$149,14,0))","v":""},{"$f":"IF(A15=\"\",\"\",SUMIFS(Catchment!$Y$5:$Y$300,Catchment!$D$5:$D$300,\"RIDOT\",Catchment!$K$5:$K$300,A15))","v":""},{"$f":"IF(A15=\"\",\"\",VLOOKUP(A15,'Structural Water Quality Calcs'!$A$8:$AE$149,15,0)*100)","v":""},{"$f":"IF(A15=\"\",\"\",VLOOKUP(A15,'Structural Water Quality Calcs'!$A$8:$AE$149,16,0))","v":""},{"$f":"IF(A15=\"\",\"\",IF(VLOOKUP(A15,'Structural Water Quality Calcs'!$A$9:$B$149,2,0)=\"Limited ROW\",R15*S15*0.1/100,R15*S15/100))","v":""},{"$f":"IF(A15=\"\",\"\",VLOOKUP(A15,'Structural Water Quality Calcs'!$A$8:$AE$149,20,0))","v":""},{"$f":"IF(A15=\"\",\"\",SUMIFS(Catchment!$AA$5:$AA$300,Catchment!$D$5:$D$300,\"RIDOT\",Catchment!$K$5:$K$300,A15))","v":""},{"$f":"IF(A15=\"\",\"\",VLOOKUP(A15,'Structural Water Quality Calcs'!$A$8:$AE$149,21,0)*100)","v":""},{"$f":"IF(A15=\"\",\"\",VLOOKUP(A15,'Structural Water Quality Calcs'!$A$8:$AE$149,22,0))","v":""},{"$f":"IF(A15=\"\",\"\",IF(VLOOKUP(A15,'Structural Water Quality Calcs'!$A$9:$B$149,2,0)=\"Limited ROW\",W15*X15*0.1/100,W15*X15/100))","v":""},{"$f":"IF(A15=\"\",\"\",VLOOKUP(A15,'Structural Water Quality Calcs'!$A$8:$AE$149,29,0))","v":""},{"$f":"IF(A15=\"\",\"\",IF(VLOOKUP(A15,'Structural Water Quality Calcs'!$A$9:$B$149,2,0)=\"Limited ROW\",VLOOKUP(A15,'Structural Water Quality Calcs'!$A$8:$AE$149,28,0)*F15*0.1/43560,VLOOKUP(A15,'Structural Water Quality Calcs'!$A$8:$AE$149,28,0)*F15/43560))","v":""},{"$f":"IF(A15=\"\",\"\",VLOOKUP(A15,'Structural Water Quality Calcs'!$A$8:$AE$149,28,0)*100)","v":""},{"$f":"IF(A15=\"\",\"\",VLOOKUP(A15,'Structural Water Quality Calcs'!$A$8:$AE$149,31,0))","v":""},{"$f":"IF(A15=\"\",\"\",VLOOKUP(A15,'Structural Water Quality Calcs'!$A$8:$AE$149,26,0))","v":""},{"$f":"IF(A15=\"\",\"\",VLOOKUP(A15,'Structural Water Quality Calcs'!$A$8:$AE$149,27,0))","v":""},{"$f":"IF(A15=\"\",\"\",(VLOOKUP(A15,'Structural Water Quality Calcs'!$A$8:$AE$149,25,0)))","v":""},{"$f":"IF(A15=\"\",\"\",VLOOKUP(A15,'Structural Water Quality Calcs'!$A$8:$AE$149,24,0))","v":""},{"$f":"IF(A15=\"\",\"\",VLOOKUP(A15,STU_Cost!$A$5:$G$150,4,0))","v":""},{"$f":"IF(A15=\"\",\"\",VLOOKUP(A15,STU_Cost!$A$5:$G$150,5,0))","v":""},{"$f":"IF(A15=\"\",\"\",VLOOKUP(A15,STU_Cost!$A$5:$G$150,6,0))","v":""},{"$f":"IF(A15=\"\",\"\",VLOOKUP(A15,STU_Cost!$A$5:$G$150,7,0))","v":""},null,null,{"$f":"IF(A15=\"\",\"\",VLOOKUP(A15,STU!$A$5:$E$300,5,0))","v":""}]
[null,{"$f":"IF(A16=\"\",\"\",VLOOKUP(A16,'Structural Water Quality Calcs'!$A$9:$F$79,6,0))","v":""},{"$f":"IF(A16=\"\",\"\",VLOOKUP(A16,'Structural Water Quality Calcs'!$A$8:$AE$149,3,0))","v":""},{"$f":"IF(A16=\"\",\"\",SUMIFS(Catchment!$V$5:$V$300,Catchment!$D$5:$D$300,\"RIDOT\",Catchment!$K$5:$K$300,A16))","v":""},{"$f":"IF(A16=\"\",\"\",VLOOKUP(A16,'Structural Water Quality Calcs'!$A$8:$AE$149,4,0))","v":""},{"$f":"IF(A16=\"\",\"\",SUMIFS(Catchment!$L$5:$L$300,Catchment!$D$5:$D$300,\"RIDOT\",Catchment!$K$5:$K$300,A16))","v":""},{"$f":"IF(A16=\"\",\"\",VLOOKUP(A16, 'Structural Water Quality Calcs'!$A$8:$AE$149,11,0))","v":""},{"$f":"IF(A16=\"\",\"\",SUMIFS(Catchment!$X$5:$X$300,Catchment!$D$5:$D$300,\"RIDOT\",Catchment!$K$5:$K$300,A16))","v":""},{"$f":"IF(A16=\"\",\"\",VLOOKUP(A16,'Structural Water Quality Calcs'!$A$8:$AE$149,12,0)*100)","v":""},{"$f":"IF(A16=\"\",\"\",VLOOKUP(A16,'Structural Water Quality Calcs'!$A$8:$AE$149,13,0))","v":""},{"$f":"IF(A16=\"\",\"\",IF(VLOOKUP(A16,'Structural Water Quality Calcs'!$A$9:$B$149,2,0)=\"Limited ROW\",H16*I16*0.1/100,H16*I16/100))","v":""},{"$f":"IF(A16=\"\",\"\",VLOOKUP(A16,'Structural Water Quality Calcs'!$A$8:$AE$149,17,0))","v":""},{"$f":"IF(A16=\"\",\"\",SUMIFS(Catchment!$Z$5:$Z$300,Catchment!$D$5:$D$300,\"RIDOT\",Catchment!$K$5:$K$300,A16))","v":""},{"$f":"IF(A16=\"\",\"\",VLOOKUP(A16,'Structural Water Quality Calcs'!$A$8:$AE$149,18,0)*100)","v":""},{"$f":"IF(A16=\"\",\"\",VLOOKUP(A16,'Structural Water Quality Calcs'!$A$8:$AE$149,19,0))","v":""},{"$f":"IF(A16=\"\",\"\",IF(VLOOKUP(A16,'Structural Water Quality Calcs'!$A$9:$B$149,2,0)=\"Limited ROW\",M16*N16*0.1/100,M16*N16/100))","v":""},{"$f":"IF(A16=\"\",\"\",VLOOKUP(A16,'Structural Water Quality Calcs'!$A$8:$AE$149,14,0))","v":""},{"$f":"IF(A16=\"\",\"\",SUMIFS(Catchment!$Y$5:$Y$300,Catchment!$D$5:$D$300,\"RIDOT\",Catchment!$K$5:$K$300,A16))","v":""},{"$f":"IF(A16=\"\",\"\",VLOOKUP(A16,'Structural Water Quality Calcs'!$A$8:$AE$149,15,0)*100)","v":""},{"$f":"IF(A16=\"\",\"\",VLOOKUP(A16,'Structural Water Quality Calcs'!$A$8:$AE$149,16,0))","v":""},{"$f":"IF(A16=\"\",\"\",IF(VLOOKUP(A16,'Structural Water Quality Calcs'!$A$9:$B$149,2,0)=\"Limited ROW\",R16*S16*0.1/100,R16*S16/100))","v":""},{"$f":"IF(A16=\"\",\"\",VLOOKUP(A16,'Structural Water Quality Calcs'!$A$8:$AE$149,20,0))","v":""},{"$f":"IF(A16=\"\",\"\",SUMIFS(Catchment!$AA$5:$AA$300,Catchment!$D$5:$D$300,\"RIDOT\",Catchment!$K$5:$K$300,A16))","v":""},{"$f":"IF(A16=\"\",\"\",VLOOKUP(A16,'Structural Water Quality Calcs'!$A$8:$AE$149,21,0)*100)","v":""},{"$f":"IF(A16=\"\",\"\",VLOOKUP(A16,'Structural Water Quality Calcs'!$A$8:$AE$149,22,0))","v":""},{"$f":"IF(A16=\"\",\"\",IF(VLOOKUP(A16,'Structural Water Quality Calcs'!$A$9:$B$149,2,0)=\"Limited ROW\",W16*X16*0.1/100,W16*X16/100))","v":""},{"$f":"IF(A16=\"\",\"\",VLOOKUP(A16,'Structural Water Quality Calcs'!$A$8:$AE$149,29,0))","v":""},{"$f":"IF(A16=\"\",\"\",IF(VLOOKUP(A16,'Structural Water Quality Calcs'!$A$9:$B$149,2,0)=\"Limited ROW\",VLOOKUP(A16,'Structural Water Quality Calcs'!$A$8:$AE$149,28,0)*F16*0.1/43560,VLOOKUP(A16,'Structural Water Quality Calcs'!$A$8:$AE$149,28,0)*F16/43560))","v":""},{"$f":"IF(A16=\"\",\"\",VLOOKUP(A16,'Structural Water Quality Calcs'!$A$8:$AE$149,28,0)*100)","v":""},{"$f":"IF(A16=\"\",\"\",VLOOKUP(A16,'Structural Water Quality Calcs'!$A$8:$AE$149,31,0))","v":""},{"$f":"IF(A16=\"\",\"\",VLOOKUP(A16,'Structural Water Quality Calcs'!$A$8:$AE$149,26,0))","v":""},{"$f":"IF(A16=\"\",\"\",VLOOKUP(A16,'Structural Water Quality Calcs'!$A$8:$AE$149,27,0))","v":""},{"$f":"IF(A16=\"\",\"\",(VLOOKUP(A16,'Structural Water Quality Calcs'!$A$8:$AE$149,25,0)))","v":""},{"$f":"IF(A16=\"\",\"\",VLOOKUP(A16,'Structural Water Quality Calcs'!$A$8:$AE$149,24,0))","v":""},{"$f":"IF(A16=\"\",\"\",VLOOKUP(A16,STU_Cost!$A$5:$G$150,4,0))","v":""},{"$f":"IF(A16=\"\",\"\",VLOOKUP(A16,STU_Cost!$A$5:$G$150,5,0))","v":""},{"$f":"IF(A16=\"\",\"\",VLOOKUP(A16,STU_Cost!$A$5:$G$150,6,0))","v":""},{"$f":"IF(A16=\"\",\"\",VLOOKUP(A16,STU_Cost!$A$5:$G$150,7,0))","v":""},null,null,{"$f":"IF(A16=\"\",\"\",VLOOKUP(A16,STU!$A$5:$E$300,5,0))","v":""}]
[null,{"$f":"IF(A17=\"\",\"\",VLOOKUP(A17,'Structural Water Quality Calcs'!$A$9:$F$79,6,0))","v":""},{"$f":"IF(A17=\"\",\"\",VLOOKUP(A17,'Structural Water Quality Calcs'!$A$8:$AE$149,3,0))","v":""},{"$f":"IF(A17=\"\",\"\",SUMIFS(Catchment!$V$5:$V$300,Catchment!$D$5:$D$300,\"RIDOT\",Catchment!$K$5:$K$300,A17))","v":""},{"$f":"IF(A17=\"\",\"\",VLOOKUP(A17,'Structural Water Quality Calcs'!$A$8:$AE$149,4,0))","v":""},{"$f":"IF(A17=\"\",\"\",SUMIFS(Catchment!$L$5:$L$300,Catchment!$D$5:$D$300,\"RIDOT\",Catchment!$K$5:$K$300,A17))","v":""},{"$f":"IF(A17=\"\",\"\",VLOOKUP(A17, 'Structural Water Quality Calcs'!$A$8:$AE$149,11,0))","v":""},{"$f":"IF(A17=\"\",\"\",SUMIFS(Catchment!$X$5:$X$300,Catchment!$D$5:$D$300,\"RIDOT\",Catchment!$K$5:$K$300,A17))","v":""},{"$f":"IF(A17=\"\",\"\",VLOOKUP(A17,'Structural Water Quality Calcs'!$A$8:$AE$149,12,0)*100)","v":""},{"$f":"IF(A17=\"\",\"\",VLOOKUP(A17,'Structural Water Quality Calcs'!$A$8:$AE$149,13,0))","v":""},{"$f":"IF(A17=\"\",\"\",IF(VLOOKUP(A17,'Structural Water Quality Calcs'!$A$9:$B$149,2,0)=\"Limited ROW\",H17*I17*0.1/100,H17*I17/100))","v":""},{"$f":"IF(A17=\"\",\"\",VLOOKUP(A17,'Structural Water Quality Calcs'!$A$8:$AE$149,17,0))","v":""},{"$f":"IF(A17=\"\",\"\",SUMIFS(Catchment!$Z$5:$Z$300,Catchment!$D$5:$D$300,\"RIDOT\",Catchment!$K$5:$K$300,A17))","v":""},{"$f":"IF(A17=\"\",\"\",VLOOKUP(A17,'Structural Water Quality Calcs'!$A$8:$AE$149,18,0)*100)","v":""},{"$f":"IF(A17=\"\",\"\",VLOOKUP(A17,'Structural Water Quality Calcs'!$A$8:$AE$149,19,0))","v":""},{"$f":"IF(A17=\"\",\"\",IF(VLOOKUP(A17,'Structural Water Quality Calcs'!$A$9:$B$149,2,0)=\"Limited ROW\",M17*N17*0.1/100,M17*N17/100))","v":""},{"$f":"IF(A17=\"\",\"\",VLOOKUP(A17,'Structural Water Quality Calcs'!$A$8:$AE$149,14,0))","v":""},{"$f":"IF(A17=\"\",\"\",SUMIFS(Catchment!$Y$5:$Y$300,Catchment!$D$5:$D$300,\"RIDOT\",Catchment!$K$5:$K$300,A17))","v":""},{"$f":"IF(A17=\"\",\"\",VLOOKUP(A17,'Structural Water Quality Calcs'!$A$8:$AE$149,15,0)*100)","v":""},{"$f":"IF(A17=\"\",\"\",VLOOKUP(A17,'Structural Water Quality Calcs'!$A$8:$AE$149,16,0))","v":""},{"$f":"IF(A17=\"\",\"\",IF(VLOOKUP(A17,'Structural Water Quality Calcs'!$A$9:$B$149,2,0)=\"Limited ROW\",R17*S17*0.1/100,R17*S17/100))","v":""},{"$f":"IF(A17=\"\",\"\",VLOOKUP(A17,'Structural Water Quality Calcs'!$A$8:$AE$149,20,0))","v":""},{"$f":"IF(A17=\"\",\"\",SUMIFS(Catchment!$AA$5:$AA$300,Catchment!$D$5:$D$300,\"RIDOT\",Catchment!$K$5:$K$300,A17))","v":""},{"$f":"IF(A17=\"\",\"\",VLOOKUP(A17,'Structural Water Quality Calcs'!$A$8:$AE$149,21,0)*100)","v":""},{"$f":"IF(A17=\"\",\"\",VLOOKUP(A17,'Structural Water Quality Calcs'!$A$8:$AE$149,22,0))","v":""},{"$f":"IF(A17=\"\",\"\",IF(VLOOKUP(A17,'Structural Water Quality Calcs'!$A$9:$B$149,2,0)=\"Limited ROW\",W17*X17*0.1/100,W17*X17/100))","v":""},{"$f":"IF(A17=\"\",\"\",VLOOKUP(A17,'Structural Water Quality Calcs'!$A$8:$AE$149,29,0))","v":""},{"$f":"IF(A17=\"\",\"\",IF(VLOOKUP(A17,'Structural Water Quality Calcs'!$A$9:$B$149,2,0)=\"Limited ROW\",VLOOKUP(A17,'Structural Water Quality Calcs'!$A$8:$AE$149,28,0)*F17*0.1/43560,VLOOKUP(A17,'Structural Water Quality Calcs'!$A$8:$AE$149,28,0)*F17/43560))","v":""},{"$f":"IF(A17=\"\",\"\",VLOOKUP(A17,'Structural Water Quality Calcs'!$A$8:$AE$149,28,0)*100)","v":""},{"$f":"IF(A17=\"\",\"\",VLOOKUP(A17,'Structural Water Quality Calcs'!$A$8:$AE$149,31,0))","v":""},{"$f":"IF(A17=\"\",\"\",VLOOKUP(A17,'Structural Water Quality Calcs'!$A$8:$AE$149,26,0))","v":""},{"$f":"IF(A17=\"\",\"\",VLOOKUP(A17,'Structural Water Quality Calcs'!$A$8:$AE$149,27,0))","v":""},{"$f":"IF(A17=\"\",\"\",(VLOOKUP(A17,'Structural Water Quality Calcs'!$A$8:$AE$149,25,0)))","v":""},{"$f":"IF(A17=\"\",\"\",VLOOKUP(A17,'Structural Water Quality Calcs'!$A$8:$AE$149,24,0))","v":""},{"$f":"IF(A17=\"\",\"\",VLOOKUP(A17,STU_Cost!$A$5:$G$150,4,0))","v":""},{"$f":"IF(A17=\"\",\"\",VLOOKUP(A17,STU_Cost!$A$5:$G$150,5,0))","v":""},{"$f":"IF(A17=\"\",\"\",VLOOKUP(A17,STU_Cost!$A$5:$G$150,6,0))","v":""},{"$f":"IF(A17=\"\",\"\",VLOOKUP(A17,STU_Cost!$A$5:$G$150,7,0))","v":""},null,null,{"$f":"IF(A17=\"\",\"\",VLOOKUP(A17,STU!$A$5:$E$300,5,0))","v":""}]
[null,{"$f":"IF(A18=\"\",\"\",VLOOKUP(A18,'Structural Water Quality Calcs'!$A$9:$F$79,6,0))","v":""},{"$f":"IF(A18=\"\",\"\",VLOOKUP(A18,'Structural Water Quality Calcs'!$A$8:$AE$149,3,0))","v":""},{"$f":"IF(A18=\"\",\"\",SUMIFS(Catchment!$V$5:$V$300,Catchment!$D$5:$D$300,\"RIDOT\",Catchment!$K$5:$K$300,A18))","v":""},{"$f":"IF(A18=\"\",\"\",VLOOKUP(A18,'Structural Water Quality Calcs'!$A$8:$AE$149,4,0))","v":""},{"$f":"IF(A18=\"\",\"\",SUMIFS(Catchment!$L$5:$L$300,Catchment!$D$5:$D$300,\"RIDOT\",Catchment!$K$5:$K$300,A18))","v":""},{"$f":"IF(A18=\"\",\"\",VLOOKUP(A18, 'Structural Water Quality Calcs'!$A$8:$AE$149,11,0))","v":""},{"$f":"IF(A18=\"\",\"\",SUMIFS(Catchment!$X$5:$X$300,Catchment!$D$5:$D$300,\"RIDOT\",Catchment!$K$5:$K$300,A18))","v":""},{"$f":"IF(A18=\"\",\"\",VLOOKUP(A18,'Structural Water Quality Calcs'!$A$8:$AE$149,12,0)*100)","v":""},{"$f":"IF(A18=\"\",\"\",VLOOKUP(A18,'Structural Water Quality Calcs'!$A$8:$AE$149,13,0))","v":""},{"$f":"IF(A18=\"\",\"\",IF(VLOOKUP(A18,'Structural Water Quality Calcs'!$A$9:$B$149,2,0)=\"Limited ROW\",H18*I18*0.1/100,H18*I18/100))","v":""},{"$f":"IF(A18=\"\",\"\",VLOOKUP(A18,'Structural Water Quality Calcs'!$A$8:$AE$149,17,0))","v":""},{"$f":"IF(A18=\"\",\"\",SUMIFS(Catchment!$Z$5:$Z$300,Catchment!$D$5:$D$300,\"RIDOT\",Catchment!$K$5:$K$300,A18))","v":""},{"$f":"IF(A18=\"\",\"\",VLOOKUP(A18,'Structural Water Quality Calcs'!$A$8:$AE$149,18,0)*100)","v":""},{"$f":"IF(A18=\"\",\"\",VLOOKUP(A18,'Structural Water Quality Calcs'!$A$8:$AE$149,19,0))","v":""},{"$f":"IF(A18=\"\",\"\",IF(VLOOKUP(A18,'Structural Water Quality Calcs'!$A$9:$B$149,2,0)=\"Limited ROW\",M18*N18*0.1/100,M18*N18/100))","v":""},{"$f":"IF(A18=\"\",\"\",VLOOKUP(A18,'Structural Water Quality Calcs'!$A$8:$AE$149,14,0))","v":""},{"$f":"IF(A18=\"\",\"\",SUMIFS(Catchment!$Y$5:$Y$300,Catchment!$D$5:$D$300,\"RIDOT\",Catchment!$K$5:$K$300,A18))","v":""},{"$f":"IF(A18=\"\",\"\",VLOOKUP(A18,'Structural Water Quality Calcs'!$A$8:$AE$149,15,0)*100)","v":""},{"$f":"IF(A18=\"\",\"\",VLOOKUP(A18,'Structural Water Quality Calcs'!$A$8:$AE$149,16,0))","v":""},{"$f":"IF(A18=\"\",\"\",IF(VLOOKUP(A18,'Structural Water Quality Calcs'!$A$9:$B$149,2,0)=\"Limited ROW\",R18*S18*0.1/100,R18*S18/100))","v":""},{"$f":"IF(A18=\"\",\"\",VLOOKUP(A18,'Structural Water Quality Calcs'!$A$8:$AE$149,20,0))","v":""},{"$f":"IF(A18=\"\",\"\",SUMIFS(Catchment!$AA$5:$AA$300,Catchment!$D$5:$D$300,\"RIDOT\",Catchment!$K$5:$K$300,A18))","v":""},{"$f":"IF(A18=\"\",\"\",VLOOKUP(A18,'Structural Water Quality Calcs'!$A$8:$AE$149,21,0)*100)","v":""},{"$f":"IF(A18=\"\",\"\",VLOOKUP(A18,'Structural Water Quality Calcs'!$A$8:$AE$149,22,0))","v":""},{"$f":"IF(A18=\"\",\"\",IF(VLOOKUP(A18,'Structural Water Quality Calcs'!$A$9:$B$149,2,0)=\"Limited ROW\",W18*X18*0.1/100,W18*X18/100))","v":""},{"$f":"IF(A18=\"\",\"\",VLOOKUP(A18,'Structural Water Quality Calcs'!$A$8:$AE$149,29,0))","v":""},{"$f":"IF(A18=\"\",\"\",IF(VLOOKUP(A18,'Structural Water Quality Calcs'!$A$9:$B$149,2,0)=\"Limited ROW\",VLOOKUP(A18,'Structural Water Quality Calcs'!$A$8:$AE$149,28,0)*F18*0.1/43560,VLOOKUP(A18,'Structural Water Quality Calcs'!$A$8:$AE$149,28,0)*F18/43560))","v":""},{"$f":"IF(A18=\"\",\"\",VLOOKUP(A18,'Structural Water Quality Calcs'!$A$8:$AE$149,28,0)*100)","v":""},{"$f":"IF(A18=\"\",\"\",VLOOKUP(A18,'Structural Water Quality Calcs'!$A$8:$AE$149,31,0))","v":""},{"$f":"IF(A18=\"\",\"\",VLOOKUP(A18,'Structural Water Quality Calcs'!$A$8:$AE$149,26,0))","v":""},{"$f":"IF(A18=\"\",\"\",VLOOKUP(A18,'Structural Water Quality Calcs'!$A$8:$AE$149,27,0))","v":""},{"$f":"IF(A18=\"\",\"\",(VLOOKUP(A18,'Structural Water Quality Calcs'!$A$8:$AE$149,25,0)))","v":""},{"$f":"IF(A18=\"\",\"\",VLOOKUP(A18,'Structural Water Quality Calcs'!$A$8:$AE$149,24,0))","v":""},{"$f":"IF(A18=\"\",\"\",VLOOKUP(A18,STU_Cost!$A$5:$G$150,4,0))","v":""},{"$f":"IF(A18=\"\",\"\",VLOOKUP(A18,STU_Cost!$A$5:$G$150,5,0))","v":""},{"$f":"IF(A18=\"\",\"\",VLOOKUP(A18,STU_Cost!$A$5:$G$150,6,0))","v":""},{"$f":"IF(A18=\"\",\"\",VLOOKUP(A18,STU_Cost!$A$5:$G$150,7,0))","v":""},null,null,{"$f":"IF(A18=\"\",\"\",VLOOKUP(A18,STU!$A$5:$E$300,5,0))","v":""}]
[null,{"$f":"IF(A19=\"\",\"\",VLOOKUP(A19,'Structural Water Quality Calcs'!$A$9:$F$79,6,0))","v":""},{"$f":"IF(A19=\"\",\"\",VLOOKUP(A19,'Structural Water Quality Calcs'!$A$8:$AE$149,3,0))","v":""},{"$f":"IF(A19=\"\",\"\",SUMIFS(Catchment!$V$5:$V$300,Catchment!$D$5:$D$300,\"RIDOT\",Catchment!$K$5:$K$300,A19))","v":""},{"$f":"IF(A19=\"\",\"\",VLOOKUP(A19,'Structural Water Quality Calcs'!$A$8:$AE$149,4,0))","v":""},{"$f":"IF(A19=\"\",\"\",SUMIFS(Catchment!$L$5:$L$300,Catchment!$D$5:$D$300,\"RIDOT\",Catchment!$K$5:$K$300,A19))","v":""},{"$f":"IF(A19=\"\",\"\",VLOOKUP(A19, 'Structural Water Quality Calcs'!$A$8:$AE$149,11,0))","v":""},{"$f":"IF(A19=\"\",\"\",SUMIFS(Catchment!$X$5:$X$300,Catchment!$D$5:$D$300,\"RIDOT\",Catchment!$K$5:$K$300,A19))","v":""},{"$f":"IF(A19=\"\",\"\",VLOOKUP(A19,'Structural Water Quality Calcs'!$A$8:$AE$149,12,0)*100)","v":""},{"$f":"IF(A19=\"\",\"\",VLOOKUP(A19,'Structural Water Quality Calcs'!$A$8:$AE$149,13,0))","v":""},{"$f":"IF(A19=\"\",\"\",IF(VLOOKUP(A19,'Structural Water Quality Calcs'!$A$9:$B$149,2,0)=\"Limited ROW\",H19*I19*0.1/100,H19*I19/100))","v":""},{"$f":"IF(A19=\"\",\"\",VLOOKUP(A19,'Structural Water Quality Calcs'!$A$8:$AE$149,17,0))","v":""},{"$f":"IF(A19=\"\",\"\",SUMIFS(Catchment!$Z$5:$Z$300,Catchment!$D$5:$D$300,\"RIDOT\",Catchment!$K$5:$K$300,A19))","v":""},{"$f":"IF(A19=\"\",\"\",VLOOKUP(A19,'Structural Water Quality Calcs'!$A$8:$AE$149,18,0)*100)","v":""},{"$f":"IF(A19=\"\",\"\",VLOOKUP(A19,'Structural Water Quality Calcs'!$A$8:$AE$149,19,0))","v":""},{"$f":"IF(A19=\"\",\"\",IF(VLOOKUP(A19,'Structural Water Quality Calcs'!$A$9:$B$149,2,0)=\"Limited ROW\",M19*N19*0.1/100,M19*N19/100))","v":""},{"$f":"IF(A19=\"\",\"\",VLOOKUP(A19,'Structural Water Quality Calcs'!$A$8:$AE$149,14,0))","v":""},{"$f":"IF(A19=\"\",\"\",SUMIFS(Catchment!$Y$5:$Y$300,Catchment!$D$5:$D$300,\"RIDOT\",Catchment!$K$5:$K$300,A19))","v":""},{"$f":"IF(A19=\"\",\"\",VLOOKUP(A19,'Structural Water Quality Calcs'!$A$8:$AE$149,15,0)*100)","v":""},{"$f":"IF(A19=\"\",\"\",VLOOKUP(A19,'Structural Water Quality Calcs'!$A$8:$AE$149,16,0))","v":""},{"$f":"IF(A19=\"\",\"\",IF(VLOOKUP(A19,'Structural Water Quality Calcs'!$A$9:$B$149,2,0)=\"Limited ROW\",R19*S19*0.1/100,R19*S19/100))","v":""},{"$f":"IF(A19=\"\",\"\",VLOOKUP(A19,'Structural Water Quality Calcs'!$A$8:$AE$149,20,0))","v":""},{"$f":"IF(A19=\"\",\"\",SUMIFS(Catchment!$AA$5:$AA$300,Catchment!$D$5:$D$300,\"RIDOT\",Catchment!$K$5:$K$300,A19))","v":""},{"$f":"IF(A19=\"\",\"\",VLOOKUP(A19,'Structural Water Quality Calcs'!$A$8:$AE$149,21,0)*100)","v":""},{"$f":"IF(A19=\"\",\"\",VLOOKUP(A19,'Structural Water Quality Calcs'!$A$8:$AE$149,22,0))","v":""},{"$f":"IF(A19=\"\",\"\",IF(VLOOKUP(A19,'Structural Water Quality Calcs'!$A$9:$B$149,2,0)=\"Limited ROW\",W19*X19*0.1/100,W19*X19/100))","v":""},{"$f":"IF(A19=\"\",\"\",VLOOKUP(A19,'Structural Water Quality Calcs'!$A$8:$AE$149,29,0))","v":""},{"$f":"IF(A19=\"\",\"\",IF(VLOOKUP(A19,'Structural Water Quality Calcs'!$A$9:$B$149,2,0)=\"Limited ROW\",VLOOKUP(A19,'Structural Water Quality Calcs'!$A$8:$AE$149,28,0)*F19*0.1/43560,VLOOKUP(A19,'Structural Water Quality Calcs'!$A$8:$AE$149,28,0)*F19/43560))","v":""},{"$f":"IF(A19=\"\",\"\",VLOOKUP(A19,'Structural Water Quality Calcs'!$A$8:$AE$149,28,0)*100)","v":""},{"$f":"IF(A19=\"\",\"\",VLOOKUP(A19,'Structural Water Quality Calcs'!$A$8:$AE$149,31,0))","v":""},{"$f":"IF(A19=\"\",\"\",VLOOKUP(A19,'Structural Water Quality Calcs'!$A$8:$AE$149,26,0))","v":""},{"$f":"IF(A19=\"\",\"\",VLOOKUP(A19,'Structural Water Quality Calcs'!$A$8:$AE$149,27,0))","v":""},{"$f":"IF(A19=\"\",\"\",(VLOOKUP(A19,'Structural Water Quality Calcs'!$A$8:$AE$149,25,0)))","v":""},{"$f":"IF(A19=\"\",\"\",VLOOKUP(A19,'Structural Water Quality Calcs'!$A$8:$AE$149,24,0))","v":""},{"$f":"IF(A19=\"\",\"\",VLOOKUP(A19,STU_Cost!$A$5:$G$150,4,0))","v":""},{"$f":"IF(A19=\"\",\"\",VLOOKUP(A19,STU_Cost!$A$5:$G$150,5,0))","v":""},{"$f":"IF(A19=\"\",\"\",VLOOKUP(A19,STU_Cost!$A$5:$G$150,6,0))","v":""},{"$f":"IF(A19=\"\",\"\",VLOOKUP(A19,STU_Cost!$A$5:$G$150,7,0))","v":""},null,null,{"$f":"IF(A19=\"\",\"\",VLOOKUP(A19,STU!$A$5:$E$300,5,0))","v":""}]
[null,{"$f":"IF(A20=\"\",\"\",VLOOKUP(A20,'Structural Water Quality Calcs'!$A$9:$F$79,6,0))","v":""},{"$f":"IF(A20=\"\",\"\",VLOOKUP(A20,'Structural Water Quality Calcs'!$A$8:$AE$149,3,0))","v":""},{"$f":"IF(A20=\"\",\"\",SUMIFS(Catchment!$V$5:$V$300,Catchment!$D$5:$D$300,\"RIDOT\",Catchment!$K$5:$K$300,A20))","v":""},{"$f":"IF(A20=\"\",\"\",VLOOKUP(A20,'Structural Water Quality Calcs'!$A$8:$AE$149,4,0))","v":""},{"$f":"IF(A20=\"\",\"\",SUMIFS(Catchment!$L$5:$L$300,Catchment!$D$5:$D$300,\"RIDOT\",Catchment!$K$5:$K$300,A20))","v":""},{"$f":"IF(A20=\"\",\"\",VLOOKUP(A20, 'Structural Water Quality Calcs'!$A$8:$AE$149,11,0))","v":""},{"$f":"IF(A20=\"\",\"\",SUMIFS(Catchment!$X$5:$X$300,Catchment!$D$5:$D$300,\"RIDOT\",Catchment!$K$5:$K$300,A20))","v":""},{"$f":"IF(A20=\"\",\"\",VLOOKUP(A20,'Structural Water Quality Calcs'!$A$8:$AE$149,12,0)*100)","v":""},{"$f":"IF(A20=\"\",\"\",VLOOKUP(A20,'Structural Water Quality Calcs'!$A$8:$AE$149,13,0))","v":""},{"$f":"IF(A20=\"\",\"\",IF(VLOOKUP(A20,'Structural Water Quality Calcs'!$A$9:$B$149,2,0)=\"Limited ROW\",H20*I20*0.1/100,H20*I20/100))","v":""},{"$f":"IF(A20=\"\",\"\",VLOOKUP(A20,'Structural Water Quality Calcs'!$A$8:$AE$149,17,0))","v":""},{"$f":"IF(A20=\"\",\"\",SUMIFS(Catchment!$Z$5:$Z$300,Catchment!$D$5:$D$300,\"RIDOT\",Catchment!$K$5:$K$300,A20))","v":""},{"$f":"IF(A20=\"\",\"\",VLOOKUP(A20,'Structural Water Quality Calcs'!$A$8:$AE$149,18,0)*100)","v":""},{"$f":"IF(A20=\"\",\"\",VLOOKUP(A20,'Structural Water Quality Calcs'!$A$8:$AE$149,19,0))","v":""},{"$f":"IF(A20=\"\",\"\",IF(VLOOKUP(A20,'Structural Water Quality Calcs'!$A$9:$B$149,2,0)=\"Limited ROW\",M20*N20*0.1/100,M20*N20/100))","v":""},{"$f":"IF(A20=\"\",\"\",VLOOKUP(A20,'Structural Water Quality Calcs'!$A$8:$AE$149,14,0))","v":""},{"$f":"IF(A20=\"\",\"\",SUMIFS(Catchment!$Y$5:$Y$300,Catchment!$D$5:$D$300,\"RIDOT\",Catchment!$K$5:$K$300,A20))","v":""},{"$f":"IF(A20=\"\",\"\",VLOOKUP(A20,'Structural Water Quality Calcs'!$A$8:$AE$149,15,0)*100)","v":""},{"$f":"IF(A20=\"\",\"\",VLOOKUP(A20,'Structural Water Quality Calcs'!$A$8:$AE$149,16,0))","v":""},{"$f":"IF(A20=\"\",\"\",IF(VLOOKUP(A20,'Structural Water Quality Calcs'!$A$9:$B$149,2,0)=\"Limited ROW\",R20*S20*0.1/100,R20*S20/100))","v":""},{"$f":"IF(A20=\"\",\"\",VLOOKUP(A20,'Structural Water Quality Calcs'!$A$8:$AE$149,20,0))","v":""},{"$f":"IF(A20=\"\",\"\",SUMIFS(Catchment!$AA$5:$AA$300,Catchment!$D$5:$D$300,\"RIDOT\",Catchment!$K$5:$K$300,A20))","v":""},{"$f":"IF(A20=\"\",\"\",VLOOKUP(A20,'Structural Water Quality Calcs'!$A$8:$AE$149,21,0)*100)","v":""},{"$f":"IF(A20=\"\",\"\",VLOOKUP(A20,'Structural Water Quality Calcs'!$A$8:$AE$149,22,0))","v":""},{"$f":"IF(A20=\"\",\"\",IF(VLOOKUP(A20,'Structural Water Quality Calcs'!$A$9:$B$149,2,0)=\"Limited ROW\",W20*X20*0.1/100,W20*X20/100))","v":""},{"$f":"IF(A20=\"\",\"\",VLOOKUP(A20,'Structural Water Quality Calcs'!$A$8:$AE$149,29,0))","v":""},{"$f":"IF(A20=\"\",\"\",IF(VLOOKUP(A20,'Structural Water Quality Calcs'!$A$9:$B$149,2,0)=\"Limited ROW\",VLOOKUP(A20,'Structural Water Quality Calcs'!$A$8:$AE$149,28,0)*F20*0.1/43560,VLOOKUP(A20,'Structural Water Quality Calcs'!$A$8:$AE$149,28,0)*F20/43560))","v":""},{"$f":"IF(A20=\"\",\"\",VLOOKUP(A20,'Structural Water Quality Calcs'!$A$8:$AE$149,28,0)*100)","v":""},{"$f":"IF(A20=\"\",\"\",VLOOKUP(A20,'Structural Water Quality Calcs'!$A$8:$AE$149,31,0))","v":""},{"$f":"IF(A20=\"\",\"\",VLOOKUP(A20,'Structural Water Quality Calcs'!$A$8:$AE$149,26,0))","v":""},{"$f":"IF(A20=\"\",\"\",VLOOKUP(A20,'Structural Water Quality Calcs'!$A$8:$AE$149,27,0))","v":""},{"$f":"IF(A20=\"\",\"\",(VLOOKUP(A20,'Structural Water Quality Calcs'!$A$8:$AE$149,25,0)))","v":""},{"$f":"IF(A20=\"\",\"\",VLOOKUP(A20,'Structural Water Quality Calcs'!$A$8:$AE$149,24,0))","v":""},{"$f":"IF(A20=\"\",\"\",VLOOKUP(A20,STU_Cost!$A$5:$G$150,4,0))","v":""},{"$f":"IF(A20=\"\",\"\",VLOOKUP(A20,STU_Cost!$A$5:$G$150,5,0))","v":""},{"$f":"IF(A20=\"\",\"\",VLOOKUP(A20,STU_Cost!$A$5:$G$150,6,0))","v":""},{"$f":"IF(A20=\"\",\"\",VLOOKUP(A20,STU_Cost!$A$5:$G$150,7,0))","v":""},null,null,{"$f":"IF(A20=\"\",\"\",VLOOKUP(A20,STU!$A$5:$E$300,5,0))","v":""}]
[null,{"$f":"IF(A21=\"\",\"\",VLOOKUP(A21,'Structural Water Quality Calcs'!$A$9:$F$79,6,0))","v":""},{"$f":"IF(A21=\"\",\"\",VLOOKUP(A21,'Structural Water Quality Calcs'!$A$8:$AE$149,3,0))","v":""},{"$f":"IF(A21=\"\",\"\",SUMIFS(Catchment!$V$5:$V$300,Catchment!$D$5:$D$300,\"RIDOT\",Catchment!$K$5:$K$300,A21))","v":""},{"$f":"IF(A21=\"\",\"\",VLOOKUP(A21,'Structural Water Quality Calcs'!$A$8:$AE$149,4,0))","v":""},{"$f":"IF(A21=\"\",\"\",SUMIFS(Catchment!$L$5:$L$300,Catchment!$D$5:$D$300,\"RIDOT\",Catchment!$K$5:$K$300,A21))","v":""},{"$f":"IF(A21=\"\",\"\",VLOOKUP(A21, 'Structural Water Quality Calcs'!$A$8:$AE$149,11,0))","v":""},{"$f":"IF(A21=\"\",\"\",SUMIFS(Catchment!$X$5:$X$300,Catchment!$D$5:$D$300,\"RIDOT\",Catchment!$K$5:$K$300,A21))","v":""},{"$f":"IF(A21=\"\",\"\",VLOOKUP(A21,'Structural Water Quality Calcs'!$A$8:$AE$149,12,0)*100)","v":""},{"$f":"IF(A21=\"\",\"\",VLOOKUP(A21,'Structural Water Quality Calcs'!$A$8:$AE$149,13,0))","v":""},{"$f":"IF(A21=\"\",\"\",IF(VLOOKUP(A21,'Structural Water Quality Calcs'!$A$9:$B$149,2,0)=\"Limited ROW\",H21*I21*0.1/100,H21*I21/100))","v":""},{"$f":"IF(A21=\"\",\"\",VLOOKUP(A21,'Structural Water Quality Calcs'!$A$8:$AE$149,17,0))","v":""},{"$f":"IF(A21=\"\",\"\",SUMIFS(Catchment!$Z$5:$Z$300,Catchment!$D$5:$D$300,\"RIDOT\",Catchment!$K$5:$K$300,A21))","v":""},{"$f":"IF(A21=\"\",\"\",VLOOKUP(A21,'Structural Water Quality Calcs'!$A$8:$AE$149,18,0)*100)","v":""},{"$f":"IF(A21=\"\",\"\",VLOOKUP(A21,'Structural Water Quality Calcs'!$A$8:$AE$149,19,0))","v":""},{"$f":"IF(A21=\"\",\"\",IF(VLOOKUP(A21,'Structural Water Quality Calcs'!$A$9:$B$149,2,0)=\"Limited ROW\",M21*N21*0.1/100,M21*N21/100))","v":""},{"$f":"IF(A21=\"\",\"\",VLOOKUP(A21,'Structural Water Quality Calcs'!$A$8:$AE$149,14,0))","v":""},{"$f":"IF(A21=\"\",\"\",SUMIFS(Catchment!$Y$5:$Y$300,Catchment!$D$5:$D$300,\"RIDOT\",Catchment!$K$5:$K$300,A21))","v":""},{"$f":"IF(A21=\"\",\"\",VLOOKUP(A21,'Structural Water Quality Calcs'!$A$8:$AE$149,15,0)*100)","v":""},{"$f":"IF(A21=\"\",\"\",VLOOKUP(A21,'Structural Water Quality Calcs'!$A$8:$AE$149,16,0))","v":""},{"$f":"IF(A21=\"\",\"\",IF(VLOOKUP(A21,'Structural Water Quality Calcs'!$A$9:$B$149,2,0)=\"Limited ROW\",R21*S21*0.1/100,R21*S21/100))","v":""},{"$f":"IF(A21=\"\",\"\",VLOOKUP(A21,'Structural Water Quality Calcs'!$A$8:$AE$149,20,0))","v":""},{"$f":"IF(A21=\"\",\"\",SUMIFS(Catchment!$AA$5:$AA$300,Catchment!$D$5:$D$300,\"RIDOT\",Catchment!$K$5:$K$300,A21))","v":""},{"$f":"IF(A21=\"\",\"\",VLOOKUP(A21,'Structural Water Quality Calcs'!$A$8:$AE$149,21,0)*100)","v":""},{"$f":"IF(A21=\"\",\"\",VLOOKUP(A21,'Structural Water Quality Calcs'!$A$8:$AE$149,22,0))","v":""},{"$f":"IF(A21=\"\",\"\",IF(VLOOKUP(A21,'Structural Water Quality Calcs'!$A$9:$B$149,2,0)=\"Limited ROW\",W21*X21*0.1/100,W21*X21/100))","v":""},{"$f":"IF(A21=\"\",\"\",VLOOKUP(A21,'Structural Water Quality Calcs'!$A$8:$AE$149,29,0))","v":""},{"$f":"IF(A21=\"\",\"\",IF(VLOOKUP(A21,'Structural Water Quality Calcs'!$A$9:$B$149,2,0)=\"Limited ROW\",VLOOKUP(A21,'Structural Water Quality Calcs'!$A$8:$AE$149,28,0)*F21*0.1/43560,VLOOKUP(A21,'Structural Water Quality Calcs'!$A$8:$AE$149,28,0)*F21/43560))","v":""},{"$f":"IF(A21=\"\",\"\",VLOOKUP(A21,'Structural Water Quality Calcs'!$A$8:$AE$149,28,0)*100)","v":""},{"$f":"IF(A21=\"\",\"\",VLOOKUP(A21,'Structural Water Quality Calcs'!$A$8:$AE$149,31,0))","v":""},{"$f":"IF(A21=\"\",\"\",VLOOKUP(A21,'Structural Water Quality Calcs'!$A$8:$AE$149,26,0))","v":""},{"$f":"IF(A21=\"\",\"\",VLOOKUP(A21,'Structural Water Quality Calcs'!$A$8:$AE$149,27,0))","v":""},{"$f":"IF(A21=\"\",\"\",(VLOOKUP(A21,'Structural Water Quality Calcs'!$A$8:$AE$149,25,0)))","v":""},{"$f":"IF(A21=\"\",\"\",VLOOKUP(A21,'Structural Water Quality Calcs'!$A$8:$AE$149,24,0))","v":""},{"$f":"IF(A21=\"\",\"\",VLOOKUP(A21,STU_Cost!$A$5:$G$150,4,0))","v":""},{"$f":"IF(A21=\"\",\"\",VLOOKUP(A21,STU_Cost!$A$5:$G$150,5,0))","v":""},{"$f":"IF(A21=\"\",\"\",VLOOKUP(A21,STU_Cost!$A$5:$G$150,6,0))","v":""},{"$f":"IF(A21=\"\",\"\",VLOOKUP(A21,STU_Cost!$A$5:$G$150,7,0))","v":""},null,null,{"$f":"IF(A21=\"\",\"\",VLOOKUP(A21,STU!$A$5:$E$300,5,0))","v":""}]
[null,{"$f":"IF(A22=\"\",\"\",VLOOKUP(A22,'Structural Water Quality Calcs'!$A$9:$F$79,6,0))","v":""},{"$f":"IF(A22=\"\",\"\",VLOOKUP(A22,'Structural Water Quality Calcs'!$A$8:$AE$149,3,0))","v":""},{"$f":"IF(A22=\"\",\"\",SUMIFS(Catchment!$V$5:$V$300,Catchment!$D$5:$D$300,\"RIDOT\",Catchment!$K$5:$K$300,A22))","v":""},{"$f":"IF(A22=\"\",\"\",VLOOKUP(A22,'Structural Water Quality Calcs'!$A$8:$AE$149,4,0))","v":""},{"$f":"IF(A22=\"\",\"\",SUMIFS(Catchment!$L$5:$L$300,Catchment!$D$5:$D$300,\"RIDOT\",Catchment!$K$5:$K$300,A22))","v":""},{"$f":"IF(A22=\"\",\"\",VLOOKUP(A22, 'Structural Water Quality Calcs'!$A$8:$AE$149,11,0))","v":""},{"$f":"IF(A22=\"\",\"\",SUMIFS(Catchment!$X$5:$X$300,Catchment!$D$5:$D$300,\"RIDOT\",Catchment!$K$5:$K$300,A22))","v":""},{"$f":"IF(A22=\"\",\"\",VLOOKUP(A22,'Structural Water Quality Calcs'!$A$8:$AE$149,12,0)*100)","v":""},{"$f":"IF(A22=\"\",\"\",VLOOKUP(A22,'Structural Water Quality Calcs'!$A$8:$AE$149,13,0))","v":""},{"$f":"IF(A22=\"\",\"\",IF(VLOOKUP(A22,'Structural Water Quality Calcs'!$A$9:$B$149,2,0)=\"Limited ROW\",H22*I22*0.1/100,H22*I22/100))","v":""},{"$f":"IF(A22=\"\",\"\",VLOOKUP(A22,'Structural Water Quality Calcs'!$A$8:$AE$149,17,0))","v":""},{"$f":"IF(A22=\"\",\"\",SUMIFS(Catchment!$Z$5:$Z$300,Catchment!$D$5:$D$300,\"RIDOT\",Catchment!$K$5:$K$300,A22))","v":""},{"$f":"IF(A22=\"\",\"\",VLOOKUP(A22,'Structural Water Quality Calcs'!$A$8:$AE$149,18,0)*100)","v":""},{"$f":"IF(A22=\"\",\"\",VLOOKUP(A22,'Structural Water Quality Calcs'!$A$8:$AE$149,19,0))","v":""},{"$f":"IF(A22=\"\",\"\",IF(VLOOKUP(A22,'Structural Water Quality Calcs'!$A$9:$B$149,2,0)=\"Limited ROW\",M22*N22*0.1/100,M22*N22/100))","v":""},{"$f":"IF(A22=\"\",\"\",VLOOKUP(A22,'Structural Water Quality Calcs'!$A$8:$AE$149,14,0))","v":""},{"$f":"IF(A22=\"\",\"\",SUMIFS(Catchment!$Y$5:$Y$300,Catchment!$D$5:$D$300,\"RIDOT\",Catchment!$K$5:$K$300,A22))","v":""},{"$f":"IF(A22=\"\",\"\",VLOOKUP(A22,'Structural Water Quality Calcs'!$A$8:$AE$149,15,0)*100)","v":""},{"$f":"IF(A22=\"\",\"\",VLOOKUP(A22,'Structural Water Quality Calcs'!$A$8:$AE$149,16,0))","v":""},{"$f":"IF(A22=\"\",\"\",IF(VLOOKUP(A22,'Structural Water Quality Calcs'!$A$9:$B$149,2,0)=\"Limited ROW\",R22*S22*0.1/100,R22*S22/100))","v":""},{"$f":"IF(A22=\"\",\"\",VLOOKUP(A22,'Structural Water Quality Calcs'!$A$8:$AE$149,20,0))","v":""},{"$f":"IF(A22=\"\",\"\",SUMIFS(Catchment!$AA$5:$AA$300,Catchment!$D$5:$D$300,\"RIDOT\",Catchment!$K$5:$K$300,A22))","v":""},{"$f":"IF(A22=\"\",\"\",VLOOKUP(A22,'Structural Water Quality Calcs'!$A$8:$AE$149,21,0)*100)","v":""},{"$f":"IF(A22=\"\",\"\",VLOOKUP(A22,'Structural Water Quality Calcs'!$A$8:$AE$149,22,0))","v":""},{"$f":"IF(A22=\"\",\"\",IF(VLOOKUP(A22,'Structural Water Quality Calcs'!$A$9:$B$149,2,0)=\"Limited ROW\",W22*X22*0.1/100,W22*X22/100))","v":""},{"$f":"IF(A22=\"\",\"\",VLOOKUP(A22,'Structural Water Quality Calcs'!$A$8:$AE$149,29,0))","v":""},{"$f":"IF(A22=\"\",\"\",IF(VLOOKUP(A22,'Structural Water Quality Calcs'!$A$9:$B$149,2,0)=\"Limited ROW\",VLOOKUP(A22,'Structural Water Quality Calcs'!$A$8:$AE$149,28,0)*F22*0.1/43560,VLOOKUP(A22,'Structural Water Quality Calcs'!$A$8:$AE$149,28,0)*F22/43560))","v":""},{"$f":"IF(A22=\"\",\"\",VLOOKUP(A22,'Structural Water Quality Calcs'!$A$8:$AE$149,28,0)*100)","v":""},{"$f":"IF(A22=\"\",\"\",VLOOKUP(A22,'Structural Water Quality Calcs'!$A$8:$AE$149,31,0))","v":""},{"$f":"IF(A22=\"\",\"\",VLOOKUP(A22,'Structural Water Quality Calcs'!$A$8:$AE$149,26,0))","v":""},{"$f":"IF(A22=\"\",\"\",VLOOKUP(A22,'Structural Water Quality Calcs'!$A$8:$AE$149,27,0))","v":""},{"$f":"IF(A22=\"\",\"\",(VLOOKUP(A22,'Structural Water Quality Calcs'!$A$8:$AE$149,25,0)))","v":""},{"$f":"IF(A22=\"\",\"\",VLOOKUP(A22,'Structural Water Quality Calcs'!$A$8:$AE$149,24,0))","v":""},{"$f":"IF(A22=\"\",\"\",VLOOKUP(A22,STU_Cost!$A$5:$G$150,4,0))","v":""},{"$f":"IF(A22=\"\",\"\",VLOOKUP(A22,STU_Cost!$A$5:$G$150,5,0))","v":""},{"$f":"IF(A22=\"\",\"\",VLOOKUP(A22,STU_Cost!$A$5:$G$150,6,0))","v":""},{"$f":"IF(A22=\"\",\"\",VLOOKUP(A22,STU_Cost!$A$5:$G$150,7,0))","v":""},null,null,{"$f":"IF(A22=\"\",\"\",VLOOKUP(A22,STU!$A$5:$E$300,5,0))","v":""}]
[null,{"$f":"IF(A23=\"\",\"\",VLOOKUP(A23,'Structural Water Quality Calcs'!$A$9:$F$79,6,0))","v":""},{"$f":"IF(A23=\"\",\"\",VLOOKUP(A23,'Structural Water Quality Calcs'!$A$8:$AE$149,3,0))","v":""},{"$f":"IF(A23=\"\",\"\",SUMIFS(Catchment!$V$5:$V$300,Catchment!$D$5:$D$300,\"RIDOT\",Catchment!$K$5:$K$300,A23))","v":""},{"$f":"IF(A23=\"\",\"\",VLOOKUP(A23,'Structural Water Quality Calcs'!$A$8:$AE$149,4,0))","v":""},{"$f":"IF(A23=\"\",\"\",SUMIFS(Catchment!$L$5:$L$300,Catchment!$D$5:$D$300,\"RIDOT\",Catchment!$K$5:$K$300,A23))","v":""},{"$f":"IF(A23=\"\",\"\",VLOOKUP(A23, 'Structural Water Quality Calcs'!$A$8:$AE$149,11,0))","v":""},{"$f":"IF(A23=\"\",\"\",SUMIFS(Catchment!$X$5:$X$300,Catchment!$D$5:$D$300,\"RIDOT\",Catchment!$K$5:$K$300,A23))","v":""},{"$f":"IF(A23=\"\",\"\",VLOOKUP(A23,'Structural Water Quality Calcs'!$A$8:$AE$149,12,0)*100)","v":""},{"$f":"IF(A23=\"\",\"\",VLOOKUP(A23,'Structural Water Quality Calcs'!$A$8:$AE$149,13,0))","v":""},{"$f":"IF(A23=\"\",\"\",IF(VLOOKUP(A23,'Structural Water Quality Calcs'!$A$9:$B$149,2,0)=\"Limited ROW\",H23*I23*0.1/100,H23*I23/100))","v":""},{"$f":"IF(A23=\"\",\"\",VLOOKUP(A23,'Structural Water Quality Calcs'!$A$8:$AE$149,17,0))","v":""},{"$f":"IF(A23=\"\",\"\",SUMIFS(Catchment!$Z$5:$Z$300,Catchment!$D$5:$D$300,\"RIDOT\",Catchment!$K$5:$K$300,A23))","v":""},{"$f":"IF(A23=\"\",\"\",VLOOKUP(A23,'Structural Water Quality Calcs'!$A$8:$AE$149,18,0)*100)","v":""},{"$f":"IF(A23=\"\",\"\",VLOOKUP(A23,'Structural Water Quality Calcs'!$A$8:$AE$149,19,0))","v":""},{"$f":"IF(A23=\"\",\"\",IF(VLOOKUP(A23,'Structural Water Quality Calcs'!$A$9:$B$149,2,0)=\"Limited ROW\",M23*N23*0.1/100,M23*N23/100))","v":""},{"$f":"IF(A23=\"\",\"\",VLOOKUP(A23,'Structural Water Quality Calcs'!$A$8:$AE$149,14,0))","v":""},{"$f":"IF(A23=\"\",\"\",SUMIFS(Catchment!$Y$5:$Y$300,Catchment!$D$5:$D$300,\"RIDOT\",Catchment!$K$5:$K$300,A23))","v":""},{"$f":"IF(A23=\"\",\"\",VLOOKUP(A23,'Structural Water Quality Calcs'!$A$8:$AE$149,15,0)*100)","v":""},{"$f":"IF(A23=\"\",\"\",VLOOKUP(A23,'Structural Water Quality Calcs'!$A$8:$AE$149,16,0))","v":""},{"$f":"IF(A23=\"\",\"\",IF(VLOOKUP(A23,'Structural Water Quality Calcs'!$A$9:$B$149,2,0)=\"Limited ROW\",R23*S23*0.1/100,R23*S23/100))","v":""},{"$f":"IF(A23=\"\",\"\",VLOOKUP(A23,'Structural Water Quality Calcs'!$A$8:$AE$149,20,0))","v":""},{"$f":"IF(A23=\"\",\"\",SUMIFS(Catchment!$AA$5:$AA$300,Catchment!$D$5:$D$300,\"RIDOT\",Catchment!$K$5:$K$300,A23))","v":""},{"$f":"IF(A23=\"\",\"\",VLOOKUP(A23,'Structural Water Quality Calcs'!$A$8:$AE$149,21,0)*100)","v":""},{"$f":"IF(A23=\"\",\"\",VLOOKUP(A23,'Structural Water Quality Calcs'!$A$8:$AE$149,22,0))","v":""},{"$f":"IF(A23=\"\",\"\",IF(VLOOKUP(A23,'Structural Water Quality Calcs'!$A$9:$B$149,2,0)=\"Limited ROW\",W23*X23*0.1/100,W23*X23/100))","v":""},{"$f":"IF(A23=\"\",\"\",VLOOKUP(A23,'Structural Water Quality Calcs'!$A$8:$AE$149,29,0))","v":""},{"$f":"IF(A23=\"\",\"\",IF(VLOOKUP(A23,'Structural Water Quality Calcs'!$A$9:$B$149,2,0)=\"Limited ROW\",VLOOKUP(A23,'Structural Water Quality Calcs'!$A$8:$AE$149,28,0)*F23*0.1/43560,VLOOKUP(A23,'Structural Water Quality Calcs'!$A$8:$AE$149,28,0)*F23/43560))","v":""},{"$f":"IF(A23=\"\",\"\",VLOOKUP(A23,'Structural Water Quality Calcs'!$A$8:$AE$149,28,0)*100)","v":""},{"$f":"IF(A23=\"\",\"\",VLOOKUP(A23,'Structural Water Quality Calcs'!$A$8:$AE$149,31,0))","v":""},{"$f":"IF(A23=\"\",\"\",VLOOKUP(A23,'Structural Water Quality Calcs'!$A$8:$AE$149,26,0))","v":""},{"$f":"IF(A23=\"\",\"\",VLOOKUP(A23,'Structural Water Quality Calcs'!$A$8:$AE$149,27,0))","v":""},{"$f":"IF(A23=\"\",\"\",(VLOOKUP(A23,'Structural Water Quality Calcs'!$A$8:$AE$149,25,0)))","v":""},{"$f":"IF(A23=\"\",\"\",VLOOKUP(A23,'Structural Water Quality Calcs'!$A$8:$AE$149,24,0))","v":""},{"$f":"IF(A23=\"\",\"\",VLOOKUP(A23,STU_Cost!$A$5:$G$150,4,0))","v":""},{"$f":"IF(A23=\"\",\"\",VLOOKUP(A23,STU_Cost!$A$5:$G$150,5,0))","v":""},{"$f":"IF(A23=\"\",\"\",VLOOKUP(A23,STU_Cost!$A$5:$G$150,6,0))","v":""},{"$f":"IF(A23=\"\",\"\",VLOOKUP(A23,STU_Cost!$A$5:$G$150,7,0))","v":""},null,null,{"$f":"IF(A23=\"\",\"\",VLOOKUP(A23,STU!$A$5:$E$300,5,0))","v":""}]
[null,{"$f":"IF(A24=\"\",\"\",VLOOKUP(A24,'Structural Water Quality Calcs'!$A$9:$F$79,6,0))","v":""},{"$f":"IF(A24=\"\",\"\",VLOOKUP(A24,'Structural Water Quality Calcs'!$A$8:$AE$149,3,0))","v":""},{"$f":"IF(A24=\"\",\"\",SUMIFS(Catchment!$V$5:$V$300,Catchment!$D$5:$D$300,\"RIDOT\",Catchment!$K$5:$K$300,A24))","v":""},{"$f":"IF(A24=\"\",\"\",VLOOKUP(A24,'Structural Water Quality Calcs'!$A$8:$AE$149,4,0))","v":""},{"$f":"IF(A24=\"\",\"\",SUMIFS(Catchment!$L$5:$L$300,Catchment!$D$5:$D$300,\"RIDOT\",Catchment!$K$5:$K$300,A24))","v":""},{"$f":"IF(A24=\"\",\"\",VLOOKUP(A24, 'Structural Water Quality Calcs'!$A$8:$AE$149,11,0))","v":""},{"$f":"IF(A24=\"\",\"\",SUMIFS(Catchment!$X$5:$X$300,Catchment!$D$5:$D$300,\"RIDOT\",Catchment!$K$5:$K$300,A24))","v":""},{"$f":"IF(A24=\"\",\"\",VLOOKUP(A24,'Structural Water Quality Calcs'!$A$8:$AE$149,12,0)*100)","v":""},{"$f":"IF(A24=\"\",\"\",VLOOKUP(A24,'Structural Water Quality Calcs'!$A$8:$AE$149,13,0))","v":""},{"$f":"IF(A24=\"\",\"\",IF(VLOOKUP(A24,'Structural Water Quality Calcs'!$A$9:$B$149,2,0)=\"Limited ROW\",H24*I24*0.1/100,H24*I24/100))","v":""},{"$f":"IF(A24=\"\",\"\",VLOOKUP(A24,'Structural Water Quality Calcs'!$A$8:$AE$149,17,0))","v":""},{"$f":"IF(A24=\"\",\"\",SUMIFS(Catchment!$Z$5:$Z$300,Catchment!$D$5:$D$300,\"RIDOT\",Catchment!$K$5:$K$300,A24))","v":""},{"$f":"IF(A24=\"\",\"\",VLOOKUP(A24,'Structural Water Quality Calcs'!$A$8:$AE$149,18,0)*100)","v":""},{"$f":"IF(A24=\"\",\"\",VLOOKUP(A24,'Structural Water Quality Calcs'!$A$8:$AE$149,19,0))","v":""},{"$f":"IF(A24=\"\",\"\",IF(VLOOKUP(A24,'Structural Water Quality Calcs'!$A$9:$B$149,2,0)=\"Limited ROW\",M24*N24*0.1/100,M24*N24/100))","v":""},{"$f":"IF(A24=\"\",\"\",VLOOKUP(A24,'Structural Water Quality Calcs'!$A$8:$AE$149,14,0))","v":""},{"$f":"IF(A24=\"\",\"\",SUMIFS(Catchment!$Y$5:$Y$300,Catchment!$D$5:$D$300,\"RIDOT\",Catchment!$K$5:$K$300,A24))","v":""},{"$f":"IF(A24=\"\",\"\",VLOOKUP(A24,'Structural Water Quality Calcs'!$A$8:$AE$149,15,0)*100)","v":""},{"$f":"IF(A24=\"\",\"\",VLOOKUP(A24,'Structural Water Quality Calcs'!$A$8:$AE$149,16,0))","v":""},{"$f":"IF(A24=\"\",\"\",IF(VLOOKUP(A24,'Structural Water Quality Calcs'!$A$9:$B$149,2,0)=\"Limited ROW\",R24*S24*0.1/100,R24*S24/100))","v":""},{"$f":"IF(A24=\"\",\"\",VLOOKUP(A24,'Structural Water Quality Calcs'!$A$8:$AE$149,20,0))","v":""},{"$f":"IF(A24=\"\",\"\",SUMIFS(Catchment!$AA$5:$AA$300,Catchment!$D$5:$D$300,\"RIDOT\",Catchment!$K$5:$K$300,A24))","v":""},{"$f":"IF(A24=\"\",\"\",VLOOKUP(A24,'Structural Water Quality Calcs'!$A$8:$AE$149,21,0)*100)","v":""},{"$f":"IF(A24=\"\",\"\",VLOOKUP(A24,'Structural Water Quality Calcs'!$A$8:$AE$149,22,0))","v":""},{"$f":"IF(A24=\"\",\"\",IF(VLOOKUP(A24,'Structural Water Quality Calcs'!$A$9:$B$149,2,0)=\"Limited ROW\",W24*X24*0.1/100,W24*X24/100))","v":""},{"$f":"IF(A24=\"\",\"\",VLOOKUP(A24,'Structural Water Quality Calcs'!$A$8:$AE$149,29,0))","v":""},{"$f":"IF(A24=\"\",\"\",IF(VLOOKUP(A24,'Structural Water Quality Calcs'!$A$9:$B$149,2,0)=\"Limited ROW\",VLOOKUP(A24,'Structural Water Quality Calcs'!$A$8:$AE$149,28,0)*F24*0.1/43560,VLOOKUP(A24,'Structural Water Quality Calcs'!$A$8:$AE$149,28,0)*F24/43560))","v":""},{"$f":"IF(A24=\"\",\"\",VLOOKUP(A24,'Structural Water Quality Calcs'!$A$8:$AE$149,28,0)*100)","v":""},{"$f":"IF(A24=\"\",\"\",VLOOKUP(A24,'Structural Water Quality Calcs'!$A$8:$AE$149,31,0))","v":""},{"$f":"IF(A24=\"\",\"\",VLOOKUP(A24,'Structural Water Quality Calcs'!$A$8:$AE$149,26,0))","v":""},{"$f":"IF(A24=\"\",\"\",VLOOKUP(A24,'Structural Water Quality Calcs'!$A$8:$AE$149,27,0))","v":""},{"$f":"IF(A24=\"\",\"\",(VLOOKUP(A24,'Structural Water Quality Calcs'!$A$8:$AE$149,25,0)))","v":""},{"$f":"IF(A24=\"\",\"\",VLOOKUP(A24,'Structural Water Quality Calcs'!$A$8:$AE$149,24,0))","v":""},{"$f":"IF(A24=\"\",\"\",VLOOKUP(A24,STU_Cost!$A$5:$G$150,4,0))","v":""},{"$f":"IF(A24=\"\",\"\",VLOOKUP(A24,STU_Cost!$A$5:$G$150,5,0))","v":""},{"$f":"IF(A24=\"\",\"\",VLOOKUP(A24,STU_Cost!$A$5:$G$150,6,0))","v":""},{"$f":"IF(A24=\"\",\"\",VLOOKUP(A24,STU_Cost!$A$5:$G$150,7,0))","v":""},null,null,{"$f":"IF(A24=\"\",\"\",VLOOKUP(A24,STU!$A$5:$E$300,5,0))","v":""}]
[null,{"$f":"IF(A25=\"\",\"\",VLOOKUP(A25,'Structural Water Quality Calcs'!$A$9:$F$79,6,0))","v":""},{"$f":"IF(A25=\"\",\"\",VLOOKUP(A25,'Structural Water Quality Calcs'!$A$8:$AE$149,3,0))","v":""},{"$f":"IF(A25=\"\",\"\",SUMIFS(Catchment!$V$5:$V$300,Catchment!$D$5:$D$300,\"RIDOT\",Catchment!$K$5:$K$300,A25))","v":""},{"$f":"IF(A25=\"\",\"\",VLOOKUP(A25,'Structural Water Quality Calcs'!$A$8:$AE$149,4,0))","v":""},{"$f":"IF(A25=\"\",\"\",SUMIFS(Catchment!$L$5:$L$300,Catchment!$D$5:$D$300,\"RIDOT\",Catchment!$K$5:$K$300,A25))","v":""},{"$f":"IF(A25=\"\",\"\",VLOOKUP(A25, 'Structural Water Quality Calcs'!$A$8:$AE$149,11,0))","v":""},{"$f":"IF(A25=\"\",\"\",SUMIFS(Catchment!$X$5:$X$300,Catchment!$D$5:$D$300,\"RIDOT\",Catchment!$K$5:$K$300,A25))","v":""},{"$f":"IF(A25=\"\",\"\",VLOOKUP(A25,'Structural Water Quality Calcs'!$A$8:$AE$149,12,0)*100)","v":""},{"$f":"IF(A25=\"\",\"\",VLOOKUP(A25,'Structural Water Quality Calcs'!$A$8:$AE$149,13,0))","v":""},{"$f":"IF(A25=\"\",\"\",IF(VLOOKUP(A25,'Structural Water Quality Calcs'!$A$9:$B$149,2,0)=\"Limited ROW\",H25*I25*0.1/100,H25*I25/100))","v":""},{"$f":"IF(A25=\"\",\"\",VLOOKUP(A25,'Structural Water Quality Calcs'!$A$8:$AE$149,17,0))","v":""},{"$f":"IF(A25=\"\",\"\",SUMIFS(Catchment!$Z$5:$Z$300,Catchment!$D$5:$D$300,\"RIDOT\",Catchment!$K$5:$K$300,A25))","v":""},{"$f":"IF(A25=\"\",\"\",VLOOKUP(A25,'Structural Water Quality Calcs'!$A$8:$AE$149,18,0)*100)","v":""},{"$f":"IF(A25=\"\",\"\",VLOOKUP(A25,'Structural Water Quality Calcs'!$A$8:$AE$149,19,0))","v":""},{"$f":"IF(A25=\"\",\"\",IF(VLOOKUP(A25,'Structural Water Quality Calcs'!$A$9:$B$149,2,0)=\"Limited ROW\",M25*N25*0.1/100,M25*N25/100))","v":""},{"$f":"IF(A25=\"\",\"\",VLOOKUP(A25,'Structural Water Quality Calcs'!$A$8:$AE$149,14,0))","v":""},{"$f":"IF(A25=\"\",\"\",SUMIFS(Catchment!$Y$5:$Y$300,Catchment!$D$5:$D$300,\"RIDOT\",Catchment!$K$5:$K$300,A25))","v":""},{"$f":"IF(A25=\"\",\"\",VLOOKUP(A25,'Structural Water Quality Calcs'!$A$8:$AE$149,15,0)*100)","v":""},{"$f":"IF(A25=\"\",\"\",VLOOKUP(A25,'Structural Water Quality Calcs'!$A$8:$AE$149,16,0))","v":""},{"$f":"IF(A25=\"\",\"\",IF(VLOOKUP(A25,'Structural Water Quality Calcs'!$A$9:$B$149,2,0)=\"Limited ROW\",R25*S25*0.1/100,R25*S25/100))","v":""},{"$f":"IF(A25=\"\",\"\",VLOOKUP(A25,'Structural Water Quality Calcs'!$A$8:$AE$149,20,0))","v":""},{"$f":"IF(A25=\"\",\"\",SUMIFS(Catchment!$AA$5:$AA$300,Catchment!$D$5:$D$300,\"RIDOT\",Catchment!$K$5:$K$300,A25))","v":""},{"$f":"IF(A25=\"\",\"\",VLOOKUP(A25,'Structural Water Quality Calcs'!$A$8:$AE$149,21,0)*100)","v":""},{"$f":"IF(A25=\"\",\"\",VLOOKUP(A25,'Structural Water Quality Calcs'!$A$8:$AE$149,22,0))","v":""},{"$f":"IF(A25=\"\",\"\",IF(VLOOKUP(A25,'Structural Water Quality Calcs'!$A$9:$B$149,2,0)=\"Limited ROW\",W25*X25*0.1/100,W25*X25/100))","v":""},{"$f":"IF(A25=\"\",\"\",VLOOKUP(A25,'Structural Water Quality Calcs'!$A$8:$AE$149,29,0))","v":""},{"$f":"IF(A25=\"\",\"\",IF(VLOOKUP(A25,'Structural Water Quality Calcs'!$A$9:$B$149,2,0)=\"Limited ROW\",VLOOKUP(A25,'Structural Water Quality Calcs'!$A$8:$AE$149,28,0)*F25*0.1/43560,VLOOKUP(A25,'Structural Water Quality Calcs'!$A$8:$AE$149,28,0)*F25/43560))","v":""},{"$f":"IF(A25=\"\",\"\",VLOOKUP(A25,'Structural Water Quality Calcs'!$A$8:$AE$149,28,0)*100)","v":""},{"$f":"IF(A25=\"\",\"\",VLOOKUP(A25,'Structural Water Quality Calcs'!$A$8:$AE$149,31,0))","v":""},{"$f":"IF(A25=\"\",\"\",VLOOKUP(A25,'Structural Water Quality Calcs'!$A$8:$AE$149,26,0))","v":""},{"$f":"IF(A25=\"\",\"\",VLOOKUP(A25,'Structural Water Quality Calcs'!$A$8:$AE$149,27,0))","v":""},{"$f":"IF(A25=\"\",\"\",(VLOOKUP(A25,'Structural Water Quality Calcs'!$A$8:$AE$149,25,0)))","v":""},{"$f":"IF(A25=\"\",\"\",VLOOKUP(A25,'Structural Water Quality Calcs'!$A$8:$AE$149,24,0))","v":""},{"$f":"IF(A25=\"\",\"\",VLOOKUP(A25,STU_Cost!$A$5:$G$150,4,0))","v":""},{"$f":"IF(A25=\"\",\"\",VLOOKUP(A25,STU_Cost!$A$5:$G$150,5,0))","v":""},{"$f":"IF(A25=\"\",\"\",VLOOKUP(A25,STU_Cost!$A$5:$G$150,6,0))","v":""},{"$f":"IF(A25=\"\",\"\",VLOOKUP(A25,STU_Cost!$A$5:$G$150,7,0))","v":""},null,null,{"$f":"IF(A25=\"\",\"\",VLOOKUP(A25,STU!$A$5:$E$300,5,0))","v":""}]
[null,{"$f":"IF(A26=\"\",\"\",VLOOKUP(A26,'Structural Water Quality Calcs'!$A$9:$F$79,6,0))","v":""},{"$f":"IF(A26=\"\",\"\",VLOOKUP(A26,'Structural Water Quality Calcs'!$A$8:$AE$149,3,0))","v":""},{"$f":"IF(A26=\"\",\"\",SUMIFS(Catchment!$V$5:$V$300,Catchment!$D$5:$D$300,\"RIDOT\",Catchment!$K$5:$K$300,A26))","v":""},{"$f":"IF(A26=\"\",\"\",VLOOKUP(A26,'Structural Water Quality Calcs'!$A$8:$AE$149,4,0))","v":""},{"$f":"IF(A26=\"\",\"\",SUMIFS(Catchment!$L$5:$L$300,Catchment!$D$5:$D$300,\"RIDOT\",Catchment!$K$5:$K$300,A26))","v":""},{"$f":"IF(A26=\"\",\"\",VLOOKUP(A26, 'Structural Water Quality Calcs'!$A$8:$AE$149,11,0))","v":""},{"$f":"IF(A26=\"\",\"\",SUMIFS(Catchment!$X$5:$X$300,Catchment!$D$5:$D$300,\"RIDOT\",Catchment!$K$5:$K$300,A26))","v":""},{"$f":"IF(A26=\"\",\"\",VLOOKUP(A26,'Structural Water Quality Calcs'!$A$8:$AE$149,12,0)*100)","v":""},{"$f":"IF(A26=\"\",\"\",VLOOKUP(A26,'Structural Water Quality Calcs'!$A$8:$AE$149,13,0))","v":""},{"$f":"IF(A26=\"\",\"\",IF(VLOOKUP(A26,'Structural Water Quality Calcs'!$A$9:$B$149,2,0)=\"Limited ROW\",H26*I26*0.1/100,H26*I26/100))","v":""},{"$f":"IF(A26=\"\",\"\",VLOOKUP(A26,'Structural Water Quality Calcs'!$A$8:$AE$149,17,0))","v":""},{"$f":"IF(A26=\"\",\"\",SUMIFS(Catchment!$Z$5:$Z$300,Catchment!$D$5:$D$300,\"RIDOT\",Catchment!$K$5:$K$300,A26))","v":""},{"$f":"IF(A26=\"\",\"\",VLOOKUP(A26,'Structural Water Quality Calcs'!$A$8:$AE$149,18,0)*100)","v":""},{"$f":"IF(A26=\"\",\"\",VLOOKUP(A26,'Structural Water Quality Calcs'!$A$8:$AE$149,19,0))","v":""},{"$f":"IF(A26=\"\",\"\",IF(VLOOKUP(A26,'Structural Water Quality Calcs'!$A$9:$B$149,2,0)=\"Limited ROW\",M26*N26*0.1/100,M26*N26/100))","v":""},{"$f":"IF(A26=\"\",\"\",VLOOKUP(A26,'Structural Water Quality Calcs'!$A$8:$AE$149,14,0))","v":""},{"$f":"IF(A26=\"\",\"\",SUMIFS(Catchment!$Y$5:$Y$300,Catchment!$D$5:$D$300,\"RIDOT\",Catchment!$K$5:$K$300,A26))","v":""},{"$f":"IF(A26=\"\",\"\",VLOOKUP(A26,'Structural Water Quality Calcs'!$A$8:$AE$149,15,0)*100)","v":""},{"$f":"IF(A26=\"\",\"\",VLOOKUP(A26,'Structural Water Quality Calcs'!$A$8:$AE$149,16,0))","v":""},{"$f":"IF(A26=\"\",\"\",IF(VLOOKUP(A26,'Structural Water Quality Calcs'!$A$9:$B$149,2,0)=\"Limited ROW\",R26*S26*0.1/100,R26*S26/100))","v":""},{"$f":"IF(A26=\"\",\"\",VLOOKUP(A26,'Structural Water Quality Calcs'!$A$8:$AE$149,20,0))","v":""},{"$f":"IF(A26=\"\",\"\",SUMIFS(Catchment!$AA$5:$AA$300,Catchment!$D$5:$D$300,\"RIDOT\",Catchment!$K$5:$K$300,A26))","v":""},{"$f":"IF(A26=\"\",\"\",VLOOKUP(A26,'Structural Water Quality Calcs'!$A$8:$AE$149,21,0)*100)","v":""},{"$f":"IF(A26=\"\",\"\",VLOOKUP(A26,'Structural Water Quality Calcs'!$A$8:$AE$149,22,0))","v":""},{"$f":"IF(A26=\"\",\"\",IF(VLOOKUP(A26,'Structural Water Quality Calcs'!$A$9:$B$149,2,0)=\"Limited ROW\",W26*X26*0.1/100,W26*X26/100))","v":""},{"$f":"IF(A26=\"\",\"\",VLOOKUP(A26,'Structural Water Quality Calcs'!$A$8:$AE$149,29,0))","v":""},{"$f":"IF(A26=\"\",\"\",IF(VLOOKUP(A26,'Structural Water Quality Calcs'!$A$9:$B$149,2,0)=\"Limited ROW\",VLOOKUP(A26,'Structural Water Quality Calcs'!$A$8:$AE$149,28,0)*F26*0.1/43560,VLOOKUP(A26,'Structural Water Quality Calcs'!$A$8:$AE$149,28,0)*F26/43560))","v":""},{"$f":"IF(A26=\"\",\"\",VLOOKUP(A26,'Structural Water Quality Calcs'!$A$8:$AE$149,28,0)*100)","v":""},{"$f":"IF(A26=\"\",\"\",VLOOKUP(A26,'Structural Water Quality Calcs'!$A$8:$AE$149,31,0))","v":""},{"$f":"IF(A26=\"\",\"\",VLOOKUP(A26,'Structural Water Quality Calcs'!$A$8:$AE$149,26,0))","v":""},{"$f":"IF(A26=\"\",\"\",VLOOKUP(A26,'Structural Water Quality Calcs'!$A$8:$AE$149,27,0))","v":""},{"$f":"IF(A26=\"\",\"\",(VLOOKUP(A26,'Structural Water Quality Calcs'!$A$8:$AE$149,25,0)))","v":""},{"$f":"IF(A26=\"\",\"\",VLOOKUP(A26,'Structural Water Quality Calcs'!$A$8:$AE$149,24,0))","v":""},{"$f":"IF(A26=\"\",\"\",VLOOKUP(A26,STU_Cost!$A$5:$G$150,4,0))","v":""},{"$f":"IF(A26=\"\",\"\",VLOOKUP(A26,STU_Cost!$A$5:$G$150,5,0))","v":""},{"$f":"IF(A26=\"\",\"\",VLOOKUP(A26,STU_Cost!$A$5:$G$150,6,0))","v":""},{"$f":"IF(A26=\"\",\"\",VLOOKUP(A26,STU_Cost!$A$5:$G$150,7,0))","v":""},null,null,{"$f":"IF(A26=\"\",\"\",VLOOKUP(A26,STU!$A$5:$E$300,5,0))","v":""}]
[null,{"$f":"IF(A27=\"\",\"\",VLOOKUP(A27,'Structural Water Quality Calcs'!$A$9:$F$79,6,0))","v":""},{"$f":"IF(A27=\"\",\"\",VLOOKUP(A27,'Structural Water Quality Calcs'!$A$8:$AE$149,3,0))","v":""},{"$f":"IF(A27=\"\",\"\",SUMIFS(Catchment!$V$5:$V$300,Catchment!$D$5:$D$300,\"RIDOT\",Catchment!$K$5:$K$300,A27))","v":""},{"$f":"IF(A27=\"\",\"\",VLOOKUP(A27,'Structural Water Quality Calcs'!$A$8:$AE$149,4,0))","v":""},{"$f":"IF(A27=\"\",\"\",SUMIFS(Catchment!$L$5:$L$300,Catchment!$D$5:$D$300,\"RIDOT\",Catchment!$K$5:$K$300,A27))","v":""},{"$f":"IF(A27=\"\",\"\",VLOOKUP(A27, 'Structural Water Quality Calcs'!$A$8:$AE$149,11,0))","v":""},{"$f":"IF(A27=\"\",\"\",SUMIFS(Catchment!$X$5:$X$300,Catchment!$D$5:$D$300,\"RIDOT\",Catchment!$K$5:$K$300,A27))","v":""},{"$f":"IF(A27=\"\",\"\",VLOOKUP(A27,'Structural Water Quality Calcs'!$A$8:$AE$149,12,0)*100)","v":""},{"$f":"IF(A27=\"\",\"\",VLOOKUP(A27,'Structural Water Quality Calcs'!$A$8:$AE$149,13,0))","v":""},{"$f":"IF(A27=\"\",\"\",IF(VLOOKUP(A27,'Structural Water Quality Calcs'!$A$9:$B$149,2,0)=\"Limited ROW\",H27*I27*0.1/100,H27*I27/100))","v":""},{"$f":"IF(A27=\"\",\"\",VLOOKUP(A27,'Structural Water Quality Calcs'!$A$8:$AE$149,17,0))","v":""},{"$f":"IF(A27=\"\",\"\",SUMIFS(Catchment!$Z$5:$Z$300,Catchment!$D$5:$D$300,\"RIDOT\",Catchment!$K$5:$K$300,A27))","v":""},{"$f":"IF(A27=\"\",\"\",VLOOKUP(A27,'Structural Water Quality Calcs'!$A$8:$AE$149,18,0)*100)","v":""},{"$f":"IF(A27=\"\",\"\",VLOOKUP(A27,'Structural Water Quality Calcs'!$A$8:$AE$149,19,0))","v":""},{"$f":"IF(A27=\"\",\"\",IF(VLOOKUP(A27,'Structural Water Quality Calcs'!$A$9:$B$149,2,0)=\"Limited ROW\",M27*N27*0.1/100,M27*N27/100))","v":""},{"$f":"IF(A27=\"\",\"\",VLOOKUP(A27,'Structural Water Quality Calcs'!$A$8:$AE$149,14,0))","v":""},{"$f":"IF(A27=\"\",\"\",SUMIFS(Catchment!$Y$5:$Y$300,Catchment!$D$5:$D$300,\"RIDOT\",Catchment!$K$5:$K$300,A27))","v":""},{"$f":"IF(A27=\"\",\"\",VLOOKUP(A27,'Structural Water Quality Calcs'!$A$8:$AE$149,15,0)*100)","v":""},{"$f":"IF(A27=\"\",\"\",VLOOKUP(A27,'Structural Water Quality Calcs'!$A$8:$AE$149,16,0))","v":""},{"$f":"IF(A27=\"\",\"\",IF(VLOOKUP(A27,'Structural Water Quality Calcs'!$A$9:$B$149,2,0)=\"Limited ROW\",R27*S27*0.1/100,R27*S27/100))","v":""},{"$f":"IF(A27=\"\",\"\",VLOOKUP(A27,'Structural Water Quality Calcs'!$A$8:$AE$149,20,0))","v":""},{"$f":"IF(A27=\"\",\"\",SUMIFS(Catchment!$AA$5:$AA$300,Catchment!$D$5:$D$300,\"RIDOT\",Catchment!$K$5:$K$300,A27))","v":""},{"$f":"IF(A27=\"\",\"\",VLOOKUP(A27,'Structural Water Quality Calcs'!$A$8:$AE$149,21,0)*100)","v":""},{"$f":"IF(A27=\"\",\"\",VLOOKUP(A27,'Structural Water Quality Calcs'!$A$8:$AE$149,22,0))","v":""},{"$f":"IF(A27=\"\",\"\",IF(VLOOKUP(A27,'Structural Water Quality Calcs'!$A$9:$B$149,2,0)=\"Limited ROW\",W27*X27*0.1/100,W27*X27/100))","v":""},{"$f":"IF(A27=\"\",\"\",VLOOKUP(A27,'Structural Water Quality Calcs'!$A$8:$AE$149,29,0))","v":""},{"$f":"IF(A27=\"\",\"\",IF(VLOOKUP(A27,'Structural Water Quality Calcs'!$A$9:$B$149,2,0)=\"Limited ROW\",VLOOKUP(A27,'Structural Water Quality Calcs'!$A$8:$AE$149,28,0)*F27*0.1/43560,VLOOKUP(A27,'Structural Water Quality Calcs'!$A$8:$AE$149,28,0)*F27/43560))","v":""},{"$f":"IF(A27=\"\",\"\",VLOOKUP(A27,'Structural Water Quality Calcs'!$A$8:$AE$149,28,0)*100)","v":""},{"$f":"IF(A27=\"\",\"\",VLOOKUP(A27,'Structural Water Quality Calcs'!$A$8:$AE$149,31,0))","v":""},{"$f":"IF(A27=\"\",\"\",VLOOKUP(A27,'Structural Water Quality Calcs'!$A$8:$AE$149,26,0))","v":""},{"$f":"IF(A27=\"\",\"\",VLOOKUP(A27,'Structural Water Quality Calcs'!$A$8:$AE$149,27,0))","v":""},{"$f":"IF(A27=\"\",\"\",(VLOOKUP(A27,'Structural Water Quality Calcs'!$A$8:$AE$149,25,0)))","v":""},{"$f":"IF(A27=\"\",\"\",VLOOKUP(A27,'Structural Water Quality Calcs'!$A$8:$AE$149,24,0))","v":""},{"$f":"IF(A27=\"\",\"\",VLOOKUP(A27,STU_Cost!$A$5:$G$150,4,0))","v":""},{"$f":"IF(A27=\"\",\"\",VLOOKUP(A27,STU_Cost!$A$5:$G$150,5,0))","v":""},{"$f":"IF(A27=\"\",\"\",VLOOKUP(A27,STU_Cost!$A$5:$G$150,6,0))","v":""},{"$f":"IF(A27=\"\",\"\",VLOOKUP(A27,STU_Cost!$A$5:$G$150,7,0))","v":""},null,null,{"$f":"IF(A27=\"\",\"\",VLOOKUP(A27,STU!$A$5:$E$300,5,0))","v":""}]
[null,{"$f":"IF(A28=\"\",\"\",VLOOKUP(A28,'Structural Water Quality Calcs'!$A$9:$F$79,6,0))","v":""},{"$f":"IF(A28=\"\",\"\",VLOOKUP(A28,'Structural Water Quality Calcs'!$A$8:$AE$149,3,0))","v":""},{"$f":"IF(A28=\"\",\"\",SUMIFS(Catchment!$V$5:$V$300,Catchment!$D$5:$D$300,\"RIDOT\",Catchment!$K$5:$K$300,A28))","v":""},{"$f":"IF(A28=\"\",\"\",VLOOKUP(A28,'Structural Water Quality Calcs'!$A$8:$AE$149,4,0))","v":""},{"$f":"IF(A28=\"\",\"\",SUMIFS(Catchment!$L$5:$L$300,Catchment!$D$5:$D$300,\"RIDOT\",Catchment!$K$5:$K$300,A28))","v":""},{"$f":"IF(A28=\"\",\"\",VLOOKUP(A28, 'Structural Water Quality Calcs'!$A$8:$AE$149,11,0))","v":""},{"$f":"IF(A28=\"\",\"\",SUMIFS(Catchment!$X$5:$X$300,Catchment!$D$5:$D$300,\"RIDOT\",Catchment!$K$5:$K$300,A28))","v":""},{"$f":"IF(A28=\"\",\"\",VLOOKUP(A28,'Structural Water Quality Calcs'!$A$8:$AE$149,12,0)*100)","v":""},{"$f":"IF(A28=\"\",\"\",VLOOKUP(A28,'Structural Water Quality Calcs'!$A$8:$AE$149,13,0))","v":""},{"$f":"IF(A28=\"\",\"\",IF(VLOOKUP(A28,'Structural Water Quality Calcs'!$A$9:$B$149,2,0)=\"Limited ROW\",H28*I28*0.1/100,H28*I28/100))","v":""},{"$f":"IF(A28=\"\",\"\",VLOOKUP(A28,'Structural Water Quality Calcs'!$A$8:$AE$149,17,0))","v":""},{"$f":"IF(A28=\"\",\"\",SUMIFS(Catchment!$Z$5:$Z$300,Catchment!$D$5:$D$300,\"RIDOT\",Catchment!$K$5:$K$300,A28))","v":""},{"$f":"IF(A28=\"\",\"\",VLOOKUP(A28,'Structural Water Quality Calcs'!$A$8:$AE$149,18,0)*100)","v":""},{"$f":"IF(A28=\"\",\"\",VLOOKUP(A28,'Structural Water Quality Calcs'!$A$8:$AE$149,19,0))","v":""},{"$f":"IF(A28=\"\",\"\",IF(VLOOKUP(A28,'Structural Water Quality Calcs'!$A$9:$B$149,2,0)=\"Limited ROW\",M28*N28*0.1/100,M28*N28/100))","v":""},{"$f":"IF(A28=\"\",\"\",VLOOKUP(A28,'Structural Water Quality Calcs'!$A$8:$AE$149,14,0))","v":""},{"$f":"IF(A28=\"\",\"\",SUMIFS(Catchment!$Y$5:$Y$300,Catchment!$D$5:$D$300,\"RIDOT\",Catchment!$K$5:$K$300,A28))","v":""},{"$f":"IF(A28=\"\",\"\",VLOOKUP(A28,'Structural Water Quality Calcs'!$A$8:$AE$149,15,0)*100)","v":""},{"$f":"IF(A28=\"\",\"\",VLOOKUP(A28,'Structural Water Quality Calcs'!$A$8:$AE$149,16,0))","v":""},{"$f":"IF(A28=\"\",\"\",IF(VLOOKUP(A28,'Structural Water Quality Calcs'!$A$9:$B$149,2,0)=\"Limited ROW\",R28*S28*0.1/100,R28*S28/100))","v":""},{"$f":"IF(A28=\"\",\"\",VLOOKUP(A28,'Structural Water Quality Calcs'!$A$8:$AE$149,20,0))","v":""},{"$f":"IF(A28=\"\",\"\",SUMIFS(Catchment!$AA$5:$AA$300,Catchment!$D$5:$D$300,\"RIDOT\",Catchment!$K$5:$K$300,A28))","v":""},{"$f":"IF(A28=\"\",\"\",VLOOKUP(A28,'Structural Water Quality Calcs'!$A$8:$AE$149,21,0)*100)","v":""},{"$f":"IF(A28=\"\",\"\",VLOOKUP(A28,'Structural Water Quality Calcs'!$A$8:$AE$149,22,0))","v":""},{"$f":"IF(A28=\"\",\"\",IF(VLOOKUP(A28,'Structural Water Quality Calcs'!$A$9:$B$149,2,0)=\"Limited ROW\",W28*X28*0.1/100,W28*X28/100))","v":""},{"$f":"IF(A28=\"\",\"\",VLOOKUP(A28,'Structural Water Quality Calcs'!$A$8:$AE$149,29,0))","v":""},{"$f":"IF(A28=\"\",\"\",IF(VLOOKUP(A28,'Structural Water Quality Calcs'!$A$9:$B$149,2,0)=\"Limited ROW\",VLOOKUP(A28,'Structural Water Quality Calcs'!$A$8:$AE$149,28,0)*F28*0.1/43560,VLOOKUP(A28,'Structural Water Quality Calcs'!$A$8:$AE$149,28,0)*F28/43560))","v":""},{"$f":"IF(A28=\"\",\"\",VLOOKUP(A28,'Structural Water Quality Calcs'!$A$8:$AE$149,28,0)*100)","v":""},{"$f":"IF(A28=\"\",\"\",VLOOKUP(A28,'Structural Water Quality Calcs'!$A$8:$AE$149,31,0))","v":""},{"$f":"IF(A28=\"\",\"\",VLOOKUP(A28,'Structural Water Quality Calcs'!$A$8:$AE$149,26,0))","v":""},{"$f":"IF(A28=\"\",\"\",VLOOKUP(A28,'Structural Water Quality Calcs'!$A$8:$AE$149,27,0))","v":""},{"$f":"IF(A28=\"\",\"\",(VLOOKUP(A28,'Structural Water Quality Calcs'!$A$8:$AE$149,25,0)))","v":""},{"$f":"IF(A28=\"\",\"\",VLOOKUP(A28,'Structural Water Quality Calcs'!$A$8:$AE$149,24,0))","v":""},{"$f":"IF(A28=\"\",\"\",VLOOKUP(A28,STU_Cost!$A$5:$G$150,4,0))","v":""},{"$f":"IF(A28=\"\",\"\",VLOOKUP(A28,STU_Cost!$A$5:$G$150,5,0))","v":""},{"$f":"IF(A28=\"\",\"\",VLOOKUP(A28,STU_Cost!$A$5:$G$150,6,0))","v":""},{"$f":"IF(A28=\"\",\"\",VLOOKUP(A28,STU_Cost!$A$5:$G$150,7,0))","v":""},null,null,{"$f":"IF(A28=\"\",\"\",VLOOKUP(A28,STU!$A$5:$E$300,5,0))","v":""}]
[null,{"$f":"IF(A29=\"\",\"\",VLOOKUP(A29,'Structural Water Quality Calcs'!$A$9:$F$79,6,0))","v":""},{"$f":"IF(A29=\"\",\"\",VLOOKUP(A29,'Structural Water Quality Calcs'!$A$8:$AE$149,3,0))","v":""},{"$f":"IF(A29=\"\",\"\",SUMIFS(Catchment!$V$5:$V$300,Catchment!$D$5:$D$300,\"RIDOT\",Catchment!$K$5:$K$300,A29))","v":""},{"$f":"IF(A29=\"\",\"\",VLOOKUP(A29,'Structural Water Quality Calcs'!$A$8:$AE$149,4,0))","v":""},{"$f":"IF(A29=\"\",\"\",SUMIFS(Catchment!$L$5:$L$300,Catchment!$D$5:$D$300,\"RIDOT\",Catchment!$K$5:$K$300,A29))","v":""},{"$f":"IF(A29=\"\",\"\",VLOOKUP(A29, 'Structural Water Quality Calcs'!$A$8:$AE$149,11,0))","v":""},{"$f":"IF(A29=\"\",\"\",SUMIFS(Catchment!$X$5:$X$300,Catchment!$D$5:$D$300,\"RIDOT\",Catchment!$K$5:$K$300,A29))","v":""},{"$f":"IF(A29=\"\",\"\",VLOOKUP(A29,'Structural Water Quality Calcs'!$A$8:$AE$149,12,0)*100)","v":""},{"$f":"IF(A29=\"\",\"\",VLOOKUP(A29,'Structural Water Quality Calcs'!$A$8:$AE$149,13,0))","v":""},{"$f":"IF(A29=\"\",\"\",IF(VLOOKUP(A29,'Structural Water Quality Calcs'!$A$9:$B$149,2,0)=\"Limited ROW\",H29*I29*0.1/100,H29*I29/100))","v":""},{"$f":"IF(A29=\"\",\"\",VLOOKUP(A29,'Structural Water Quality Calcs'!$A$8:$AE$149,17,0))","v":""},{"$f":"IF(A29=\"\",\"\",SUMIFS(Catchment!$Z$5:$Z$300,Catchment!$D$5:$D$300,\"RIDOT\",Catchment!$K$5:$K$300,A29))","v":""},{"$f":"IF(A29=\"\",\"\",VLOOKUP(A29,'Structural Water Quality Calcs'!$A$8:$AE$149,18,0)*100)","v":""},{"$f":"IF(A29=\"\",\"\",VLOOKUP(A29,'Structural Water Quality Calcs'!$A$8:$AE$149,19,0))","v":""},{"$f":"IF(A29=\"\",\"\",IF(VLOOKUP(A29,'Structural Water Quality Calcs'!$A$9:$B$149,2,0)=\"Limited ROW\",M29*N29*0.1/100,M29*N29/100))","v":""},{"$f":"IF(A29=\"\",\"\",VLOOKUP(A29,'Structural Water Quality Calcs'!$A$8:$AE$149,14,0))","v":""},{"$f":"IF(A29=\"\",\"\",SUMIFS(Catchment!$Y$5:$Y$300,Catchment!$D$5:$D$300,\"RIDOT\",Catchment!$K$5:$K$300,A29))","v":""},{"$f":"IF(A29=\"\",\"\",VLOOKUP(A29,'Structural Water Quality Calcs'!$A$8:$AE$149,15,0)*100)","v":""},{"$f":"IF(A29=\"\",\"\",VLOOKUP(A29,'Structural Water Quality Calcs'!$A$8:$AE$149,16,0))","v":""},{"$f":"IF(A29=\"\",\"\",IF(VLOOKUP(A29,'Structural Water Quality Calcs'!$A$9:$B$149,2,0)=\"Limited ROW\",R29*S29*0.1/100,R29*S29/100))","v":""},{"$f":"IF(A29=\"\",\"\",VLOOKUP(A29,'Structural Water Quality Calcs'!$A$8:$AE$149,20,0))","v":""},{"$f":"IF(A29=\"\",\"\",SUMIFS(Catchment!$AA$5:$AA$300,Catchment!$D$5:$D$300,\"RIDOT\",Catchment!$K$5:$K$300,A29))","v":""},{"$f":"IF(A29=\"\",\"\",VLOOKUP(A29,'Structural Water Quality Calcs'!$A$8:$AE$149,21,0)*100)","v":""},{"$f":"IF(A29=\"\",\"\",VLOOKUP(A29,'Structural Water Quality Calcs'!$A$8:$AE$149,22,0))","v":""},{"$f":"IF(A29=\"\",\"\",IF(VLOOKUP(A29,'Structural Water Quality Calcs'!$A$9:$B$149,2,0)=\"Limited ROW\",W29*X29*0.1/100,W29*X29/100))","v":""},{"$f":"IF(A29=\"\",\"\",VLOOKUP(A29,'Structural Water Quality Calcs'!$A$8:$AE$149,29,0))","v":""},{"$f":"IF(A29=\"\",\"\",IF(VLOOKUP(A29,'Structural Water Quality Calcs'!$A$9:$B$149,2,0)=\"Limited ROW\",VLOOKUP(A29,'Structural Water Quality Calcs'!$A$8:$AE$149,28,0)*F29*0.1/43560,VLOOKUP(A29,'Structural Water Quality Calcs'!$A$8:$AE$149,28,0)*F29/43560))","v":""},{"$f":"IF(A29=\"\",\"\",VLOOKUP(A29,'Structural Water Quality Calcs'!$A$8:$AE$149,28,0)*100)","v":""},{"$f":"IF(A29=\"\",\"\",VLOOKUP(A29,'Structural Water Quality Calcs'!$A$8:$AE$149,31,0))","v":""},{"$f":"IF(A29=\"\",\"\",VLOOKUP(A29,'Structural Water Quality Calcs'!$A$8:$AE$149,26,0))","v":""},{"$f":"IF(A29=\"\",\"\",VLOOKUP(A29,'Structural Water Quality Calcs'!$A$8:$AE$149,27,0))","v":""},{"$f":"IF(A29=\"\",\"\",(VLOOKUP(A29,'Structural Water Quality Calcs'!$A$8:$AE$149,25,0)))","v":""},{"$f":"IF(A29=\"\",\"\",VLOOKUP(A29,'Structural Water Quality Calcs'!$A$8:$AE$149,24,0))","v":""},{"$f":"IF(A29=\"\",\"\",VLOOKUP(A29,STU_Cost!$A$5:$G$150,4,0))","v":""},{"$f":"IF(A29=\"\",\"\",VLOOKUP(A29,STU_Cost!$A$5:$G$150,5,0))","v":""},{"$f":"IF(A29=\"\",\"\",VLOOKUP(A29,STU_Cost!$A$5:$G$150,6,0))","v":""},{"$f":"IF(A29=\"\",\"\",VLOOKUP(A29,STU_Cost!$A$5:$G$150,7,0))","v":""},null,null,{"$f":"IF(A29=\"\",\"\",VLOOKUP(A29,STU!$A$5:$E$300,5,0))","v":""}]
[null,{"$f":"IF(A30=\"\",\"\",VLOOKUP(A30,'Structural Water Quality Calcs'!$A$9:$F$79,6,0))","v":""},{"$f":"IF(A30=\"\",\"\",VLOOKUP(A30,'Structural Water Quality Calcs'!$A$8:$AE$149,3,0))","v":""},{"$f":"IF(A30=\"\",\"\",SUMIFS(Catchment!$V$5:$V$300,Catchment!$D$5:$D$300,\"RIDOT\",Catchment!$K$5:$K$300,A30))","v":""},{"$f":"IF(A30=\"\",\"\",VLOOKUP(A30,'Structural Water Quality Calcs'!$A$8:$AE$149,4,0))","v":""},{"$f":"IF(A30=\"\",\"\",SUMIFS(Catchment!$L$5:$L$300,Catchment!$D$5:$D$300,\"RIDOT\",Catchment!$K$5:$K$300,A30))","v":""},{"$f":"IF(A30=\"\",\"\",VLOOKUP(A30, 'Structural Water Quality Calcs'!$A$8:$AE$149,11,0))","v":""},{"$f":"IF(A30=\"\",\"\",SUMIFS(Catchment!$X$5:$X$300,Catchment!$D$5:$D$300,\"RIDOT\",Catchment!$K$5:$K$300,A30))","v":""},{"$f":"IF(A30=\"\",\"\",VLOOKUP(A30,'Structural Water Quality Calcs'!$A$8:$AE$149,12,0)*100)","v":""},{"$f":"IF(A30=\"\",\"\",VLOOKUP(A30,'Structural Water Quality Calcs'!$A$8:$AE$149,13,0))","v":""},{"$f":"IF(A30=\"\",\"\",IF(VLOOKUP(A30,'Structural Water Quality Calcs'!$A$9:$B$149,2,0)=\"Limited ROW\",H30*I30*0.1/100,H30*I30/100))","v":""},{"$f":"IF(A30=\"\",\"\",VLOOKUP(A30,'Structural Water Quality Calcs'!$A$8:$AE$149,17,0))","v":""},{"$f":"IF(A30=\"\",\"\",SUMIFS(Catchment!$Z$5:$Z$300,Catchment!$D$5:$D$300,\"RIDOT\",Catchment!$K$5:$K$300,A30))","v":""},{"$f":"IF(A30=\"\",\"\",VLOOKUP(A30,'Structural Water Quality Calcs'!$A$8:$AE$149,18,0)*100)","v":""},{"$f":"IF(A30=\"\",\"\",VLOOKUP(A30,'Structural Water Quality Calcs'!$A$8:$AE$149,19,0))","v":""},{"$f":"IF(A30=\"\",\"\",IF(VLOOKUP(A30,'Structural Water Quality Calcs'!$A$9:$B$149,2,0)=\"Limited ROW\",M30*N30*0.1/100,M30*N30/100))","v":""},{"$f":"IF(A30=\"\",\"\",VLOOKUP(A30,'Structural Water Quality Calcs'!$A$8:$AE$149,14,0))","v":""},{"$f":"IF(A30=\"\",\"\",SUMIFS(Catchment!$Y$5:$Y$300,Catchment!$D$5:$D$300,\"RIDOT\",Catchment!$K$5:$K$300,A30))","v":""},{"$f":"IF(A30=\"\",\"\",VLOOKUP(A30,'Structural Water Quality Calcs'!$A$8:$AE$149,15,0)*100)","v":""},{"$f":"IF(A30=\"\",\"\",VLOOKUP(A30,'Structural Water Quality Calcs'!$A$8:$AE$149,16,0))","v":""},{"$f":"IF(A30=\"\",\"\",IF(VLOOKUP(A30,'Structural Water Quality Calcs'!$A$9:$B$149,2,0)=\"Limited ROW\",R30*S30*0.1/100,R30*S30/100))","v":""},{"$f":"IF(A30=\"\",\"\",VLOOKUP(A30,'Structural Water Quality Calcs'!$A$8:$AE$149,20,0))","v":""},{"$f":"IF(A30=\"\",\"\",SUMIFS(Catchment!$AA$5:$AA$300,Catchment!$D$5:$D$300,\"RIDOT\",Catchment!$K$5:$K$300,A30))","v":""},{"$f":"IF(A30=\"\",\"\",VLOOKUP(A30,'Structural Water Quality Calcs'!$A$8:$AE$149,21,0)*100)","v":""},{"$f":"IF(A30=\"\",\"\",VLOOKUP(A30,'Structural Water Quality Calcs'!$A$8:$AE$149,22,0))","v":""},{"$f":"IF(A30=\"\",\"\",IF(VLOOKUP(A30,'Structural Water Quality Calcs'!$A$9:$B$149,2,0)=\"Limited ROW\",W30*X30*0.1/100,W30*X30/100))","v":""},{"$f":"IF(A30=\"\",\"\",VLOOKUP(A30,'Structural Water Quality Calcs'!$A$8:$AE$149,29,0))","v":""},{"$f":"IF(A30=\"\",\"\",IF(VLOOKUP(A30,'Structural Water Quality Calcs'!$A$9:$B$149,2,0)=\"Limited ROW\",VLOOKUP(A30,'Structural Water Quality Calcs'!$A$8:$AE$149,28,0)*F30*0.1/43560,VLOOKUP(A30,'Structural Water Quality Calcs'!$A$8:$AE$149,28,0)*F30/43560))","v":""},{"$f":"IF(A30=\"\",\"\",VLOOKUP(A30,'Structural Water Quality Calcs'!$A$8:$AE$149,28,0)*100)","v":""},{"$f":"IF(A30=\"\",\"\",VLOOKUP(A30,'Structural Water Quality Calcs'!$A$8:$AE$149,31,0))","v":""},{"$f":"IF(A30=\"\",\"\",VLOOKUP(A30,'Structural Water Quality Calcs'!$A$8:$AE$149,26,0))","v":""},{"$f":"IF(A30=\"\",\"\",VLOOKUP(A30,'Structural Water Quality Calcs'!$A$8:$AE$149,27,0))","v":""},{"$f":"IF(A30=\"\",\"\",(VLOOKUP(A30,'Structural Water Quality Calcs'!$A$8:$AE$149,25,0)))","v":""},{"$f":"IF(A30=\"\",\"\",VLOOKUP(A30,'Structural Water Quality Calcs'!$A$8:$AE$149,24,0))","v":""},{"$f":"IF(A30=\"\",\"\",VLOOKUP(A30,STU_Cost!$A$5:$G$150,4,0))","v":""},{"$f":"IF(A30=\"\",\"\",VLOOKUP(A30,STU_Cost!$A$5:$G$150,5,0))","v":""},{"$f":"IF(A30=\"\",\"\",VLOOKUP(A30,STU_Cost!$A$5:$G$150,6,0))","v":""},{"$f":"IF(A30=\"\",\"\",VLOOKUP(A30,STU_Cost!$A$5:$G$150,7,0))","v":""},null,null,{"$f":"IF(A30=\"\",\"\",VLOOKUP(A30,STU!$A$5:$E$300,5,0))","v":""}]
[null,{"$f":"IF(A31=\"\",\"\",VLOOKUP(A31,'Structural Water Quality Calcs'!$A$9:$F$79,6,0))","v":""},{"$f":"IF(A31=\"\",\"\",VLOOKUP(A31,'Structural Water Quality Calcs'!$A$8:$AE$149,3,0))","v":""},{"$f":"IF(A31=\"\",\"\",SUMIFS(Catchment!$V$5:$V$300,Catchment!$D$5:$D$300,\"RIDOT\",Catchment!$K$5:$K$300,A31))","v":""},{"$f":"IF(A31=\"\",\"\",VLOOKUP(A31,'Structural Water Quality Calcs'!$A$8:$AE$149,4,0))","v":""},{"$f":"IF(A31=\"\",\"\",SUMIFS(Catchment!$L$5:$L$300,Catchment!$D$5:$D$300,\"RIDOT\",Catchment!$K$5:$K$300,A31))","v":""},{"$f":"IF(A31=\"\",\"\",VLOOKUP(A31, 'Structural Water Quality Calcs'!$A$8:$AE$149,11,0))","v":""},{"$f":"IF(A31=\"\",\"\",SUMIFS(Catchment!$X$5:$X$300,Catchment!$D$5:$D$300,\"RIDOT\",Catchment!$K$5:$K$300,A31))","v":""},{"$f":"IF(A31=\"\",\"\",VLOOKUP(A31,'Structural Water Quality Calcs'!$A$8:$AE$149,12,0)*100)","v":""},{"$f":"IF(A31=\"\",\"\",VLOOKUP(A31,'Structural Water Quality Calcs'!$A$8:$AE$149,13,0))","v":""},{"$f":"IF(A31=\"\",\"\",IF(VLOOKUP(A31,'Structural Water Quality Calcs'!$A$9:$B$149,2,0)=\"Limited ROW\",H31*I31*0.1/100,H31*I31/100))","v":""},{"$f":"IF(A31=\"\",\"\",VLOOKUP(A31,'Structural Water Quality Calcs'!$A$8:$AE$149,17,0))","v":""},{"$f":"IF(A31=\"\",\"\",SUMIFS(Catchment!$Z$5:$Z$300,Catchment!$D$5:$D$300,\"RIDOT\",Catchment!$K$5:$K$300,A31))","v":""},{"$f":"IF(A31=\"\",\"\",VLOOKUP(A31,'Structural Water Quality Calcs'!$A$8:$AE$149,18,0)*100)","v":""},{"$f":"IF(A31=\"\",\"\",VLOOKUP(A31,'Structural Water Quality Calcs'!$A$8:$AE$149,19,0))","v":""},{"$f":"IF(A31=\"\",\"\",IF(VLOOKUP(A31,'Structural Water Quality Calcs'!$A$9:$B$149,2,0)=\"Limited ROW\",M31*N31*0.1/100,M31*N31/100))","v":""},{"$f":"IF(A31=\"\",\"\",VLOOKUP(A31,'Structural Water Quality Calcs'!$A$8:$AE$149,14,0))","v":""},{"$f":"IF(A31=\"\",\"\",SUMIFS(Catchment!$Y$5:$Y$300,Catchment!$D$5:$D$300,\"RIDOT\",Catchment!$K$5:$K$300,A31))","v":""},{"$f":"IF(A31=\"\",\"\",VLOOKUP(A31,'Structural Water Quality Calcs'!$A$8:$AE$149,15,0)*100)","v":""},{"$f":"IF(A31=\"\",\"\",VLOOKUP(A31,'Structural Water Quality Calcs'!$A$8:$AE$149,16,0))","v":""},{"$f":"IF(A31=\"\",\"\",IF(VLOOKUP(A31,'Structural Water Quality Calcs'!$A$9:$B$149,2,0)=\"Limited ROW\",R31*S31*0.1/100,R31*S31/100))","v":""},{"$f":"IF(A31=\"\",\"\",VLOOKUP(A31,'Structural Water Quality Calcs'!$A$8:$AE$149,20,0))","v":""},{"$f":"IF(A31=\"\",\"\",SUMIFS(Catchment!$AA$5:$AA$300,Catchment!$D$5:$D$300,\"RIDOT\",Catchment!$K$5:$K$300,A31))","v":""},{"$f":"IF(A31=\"\",\"\",VLOOKUP(A31,'Structural Water Quality Calcs'!$A$8:$AE$149,21,0)*100)","v":""},{"$f":"IF(A31=\"\",\"\",VLOOKUP(A31,'Structural Water Quality Calcs'!$A$8:$AE$149,22,0))","v":""},{"$f":"IF(A31=\"\",\"\",IF(VLOOKUP(A31,'Structural Water Quality Calcs'!$A$9:$B$149,2,0)=\"Limited ROW\",W31*X31*0.1/100,W31*X31/100))","v":""},{"$f":"IF(A31=\"\",\"\",VLOOKUP(A31,'Structural Water Quality Calcs'!$A$8:$AE$149,29,0))","v":""},{"$f":"IF(A31=\"\",\"\",IF(VLOOKUP(A31,'Structural Water Quality Calcs'!$A$9:$B$149,2,0)=\"Limited ROW\",VLOOKUP(A31,'Structural Water Quality Calcs'!$A$8:$AE$149,28,0)*F31*0.1/43560,VLOOKUP(A31,'Structural Water Quality Calcs'!$A$8:$AE$149,28,0)*F31/43560))","v":""},{"$f":"IF(A31=\"\",\"\",VLOOKUP(A31,'Structural Water Quality Calcs'!$A$8:$AE$149,28,0)*100)","v":""},{"$f":"IF(A31=\"\",\"\",VLOOKUP(A31,'Structural Water Quality Calcs'!$A$8:$AE$149,31,0))","v":""},{"$f":"IF(A31=\"\",\"\",VLOOKUP(A31,'Structural Water Quality Calcs'!$A$8:$AE$149,26,0))","v":""},{"$f":"IF(A31=\"\",\"\",VLOOKUP(A31,'Structural Water Quality Calcs'!$A$8:$AE$149,27,0))","v":""},{"$f":"IF(A31=\"\",\"\",(VLOOKUP(A31,'Structural Water Quality Calcs'!$A$8:$AE$149,25,0)))","v":""},{"$f":"IF(A31=\"\",\"\",VLOOKUP(A31,'Structural Water Quality Calcs'!$A$8:$AE$149,24,0))","v":""},{"$f":"IF(A31=\"\",\"\",VLOOKUP(A31,STU_Cost!$A$5:$G$150,4,0))","v":""},{"$f":"IF(A31=\"\",\"\",VLOOKUP(A31,STU_Cost!$A$5:$G$150,5,0))","v":""},{"$f":"IF(A31=\"\",\"\",VLOOKUP(A31,STU_Cost!$A$5:$G$150,6,0))","v":""},{"$f":"IF(A31=\"\",\"\",VLOOKUP(A31,STU_Cost!$A$5:$G$150,7,0))","v":""},null,null,{"$f":"IF(A31=\"\",\"\",VLOOKUP(A31,STU!$A$5:$E$300,5,0))","v":""}]
[null,{"$f":"IF(A32=\"\",\"\",VLOOKUP(A32,'Structural Water Quality Calcs'!$A$9:$F$79,6,0))","v":""},{"$f":"IF(A32=\"\",\"\",VLOOKUP(A32,'Structural Water Quality Calcs'!$A$8:$AE$149,3,0))","v":""},{"$f":"IF(A32=\"\",\"\",SUMIFS(Catchment!$V$5:$V$300,Catchment!$D$5:$D$300,\"RIDOT\",Catchment!$K$5:$K$300,A32))","v":""},{"$f":"IF(A32=\"\",\"\",VLOOKUP(A32,'Structural Water Quality Calcs'!$A$8:$AE$149,4,0))","v":""},{"$f":"IF(A32=\"\",\"\",SUMIFS(Catchment!$L$5:$L$300,Catchment!$D$5:$D$300,\"RIDOT\",Catchment!$K$5:$K$300,A32))","v":""},{"$f":"IF(A32=\"\",\"\",VLOOKUP(A32, 'Structural Water Quality Calcs'!$A$8:$AE$149,11,0))","v":""},{"$f":"IF(A32=\"\",\"\",SUMIFS(Catchment!$X$5:$X$300,Catchment!$D$5:$D$300,\"RIDOT\",Catchment!$K$5:$K$300,A32))","v":""},{"$f":"IF(A32=\"\",\"\",VLOOKUP(A32,'Structural Water Quality Calcs'!$A$8:$AE$149,12,0)*100)","v":""},{"$f":"IF(A32=\"\",\"\",VLOOKUP(A32,'Structural Water Quality Calcs'!$A$8:$AE$149,13,0))","v":""},{"$f":"IF(A32=\"\",\"\",IF(VLOOKUP(A32,'Structural Water Quality Calcs'!$A$9:$B$149,2,0)=\"Limited ROW\",H32*I32*0.1/100,H32*I32/100))","v":""},{"$f":"IF(A32=\"\",\"\",VLOOKUP(A32,'Structural Water Quality Calcs'!$A$8:$AE$149,17,0))","v":""},{"$f":"IF(A32=\"\",\"\",SUMIFS(Catchment!$Z$5:$Z$300,Catchment!$D$5:$D$300,\"RIDOT\",Catchment!$K$5:$K$300,A32))","v":""},{"$f":"IF(A32=\"\",\"\",VLOOKUP(A32,'Structural Water Quality Calcs'!$A$8:$AE$149,18,0)*100)","v":""},{"$f":"IF(A32=\"\",\"\",VLOOKUP(A32,'Structural Water Quality Calcs'!$A$8:$AE$149,19,0))","v":""},{"$f":"IF(A32=\"\",\"\",IF(VLOOKUP(A32,'Structural Water Quality Calcs'!$A$9:$B$149,2,0)=\"Limited ROW\",M32*N32*0.1/100,M32*N32/100))","v":""},{"$f":"IF(A32=\"\",\"\",VLOOKUP(A32,'Structural Water Quality Calcs'!$A$8:$AE$149,14,0))","v":""},{"$f":"IF(A32=\"\",\"\",SUMIFS(Catchment!$Y$5:$Y$300,Catchment!$D$5:$D$300,\"RIDOT\",Catchment!$K$5:$K$300,A32))","v":""},{"$f":"IF(A32=\"\",\"\",VLOOKUP(A32,'Structural Water Quality Calcs'!$A$8:$AE$149,15,0)*100)","v":""},{"$f":"IF(A32=\"\",\"\",VLOOKUP(A32,'Structural Water Quality Calcs'!$A$8:$AE$149,16,0))","v":""},{"$f":"IF(A32=\"\",\"\",IF(VLOOKUP(A32,'Structural Water Quality Calcs'!$A$9:$B$149,2,0)=\"Limited ROW\",R32*S32*0.1/100,R32*S32/100))","v":""},{"$f":"IF(A32=\"\",\"\",VLOOKUP(A32,'Structural Water Quality Calcs'!$A$8:$AE$149,20,0))","v":""},{"$f":"IF(A32=\"\",\"\",SUMIFS(Catchment!$AA$5:$AA$300,Catchment!$D$5:$D$300,\"RIDOT\",Catchment!$K$5:$K$300,A32))","v":""},{"$f":"IF(A32=\"\",\"\",VLOOKUP(A32,'Structural Water Quality Calcs'!$A$8:$AE$149,21,0)*100)","v":""},{"$f":"IF(A32=\"\",\"\",VLOOKUP(A32,'Structural Water Quality Calcs'!$A$8:$AE$149,22,0))","v":""},{"$f":"IF(A32=\"\",\"\",IF(VLOOKUP(A32,'Structural Water Quality Calcs'!$A$9:$B$149,2,0)=\"Limited ROW\",W32*X32*0.1/100,W32*X32/100))","v":""},{"$f":"IF(A32=\"\",\"\",VLOOKUP(A32,'Structural Water Quality Calcs'!$A$8:$AE$149,29,0))","v":""},{"$f":"IF(A32=\"\",\"\",IF(VLOOKUP(A32,'Structural Water Quality Calcs'!$A$9:$B$149,2,0)=\"Limited ROW\",VLOOKUP(A32,'Structural Water Quality Calcs'!$A$8:$AE$149,28,0)*F32*0.1/43560,VLOOKUP(A32,'Structural Water Quality Calcs'!$A$8:$AE$149,28,0)*F32/43560))","v":""},{"$f":"IF(A32=\"\",\"\",VLOOKUP(A32,'Structural Water Quality Calcs'!$A$8:$AE$149,28,0)*100)","v":""},{"$f":"IF(A32=\"\",\"\",VLOOKUP(A32,'Structural Water Quality Calcs'!$A$8:$AE$149,31,0))","v":""},{"$f":"IF(A32=\"\",\"\",VLOOKUP(A32,'Structural Water Quality Calcs'!$A$8:$AE$149,26,0))","v":""},{"$f":"IF(A32=\"\",\"\",VLOOKUP(A32,'Structural Water Quality Calcs'!$A$8:$AE$149,27,0))","v":""},{"$f":"IF(A32=\"\",\"\",(VLOOKUP(A32,'Structural Water Quality Calcs'!$A$8:$AE$149,25,0)))","v":""},{"$f":"IF(A32=\"\",\"\",VLOOKUP(A32,'Structural Water Quality Calcs'!$A$8:$AE$149,24,0))","v":""},{"$f":"IF(A32=\"\",\"\",VLOOKUP(A32,STU_Cost!$A$5:$G$150,4,0))","v":""},{"$f":"IF(A32=\"\",\"\",VLOOKUP(A32,STU_Cost!$A$5:$G$150,5,0))","v":""},{"$f":"IF(A32=\"\",\"\",VLOOKUP(A32,STU_Cost!$A$5:$G$150,6,0))","v":""},{"$f":"IF(A32=\"\",\"\",VLOOKUP(A32,STU_Cost!$A$5:$G$150,7,0))","v":""},null,null,{"$f":"IF(A32=\"\",\"\",VLOOKUP(A32,STU!$A$5:$E$300,5,0))","v":""}]
[null,{"$f":"IF(A33=\"\",\"\",VLOOKUP(A33,'Structural Water Quality Calcs'!$A$9:$F$79,6,0))","v":""},{"$f":"IF(A33=\"\",\"\",VLOOKUP(A33,'Structural Water Quality Calcs'!$A$8:$AE$149,3,0))","v":""},{"$f":"IF(A33=\"\",\"\",SUMIFS(Catchment!$V$5:$V$300,Catchment!$D$5:$D$300,\"RIDOT\",Catchment!$K$5:$K$300,A33))","v":""},{"$f":"IF(A33=\"\",\"\",VLOOKUP(A33,'Structural Water Quality Calcs'!$A$8:$AE$149,4,0))","v":""},{"$f":"IF(A33=\"\",\"\",SUMIFS(Catchment!$L$5:$L$300,Catchment!$D$5:$D$300,\"RIDOT\",Catchment!$K$5:$K$300,A33))","v":""},{"$f":"IF(A33=\"\",\"\",VLOOKUP(A33, 'Structural Water Quality Calcs'!$A$8:$AE$149,11,0))","v":""},{"$f":"IF(A33=\"\",\"\",SUMIFS(Catchment!$X$5:$X$300,Catchment!$D$5:$D$300,\"RIDOT\",Catchment!$K$5:$K$300,A33))","v":""},{"$f":"IF(A33=\"\",\"\",VLOOKUP(A33,'Structural Water Quality Calcs'!$A$8:$AE$149,12,0)*100)","v":""},{"$f":"IF(A33=\"\",\"\",VLOOKUP(A33,'Structural Water Quality Calcs'!$A$8:$AE$149,13,0))","v":""},{"$f":"IF(A33=\"\",\"\",IF(VLOOKUP(A33,'Structural Water Quality Calcs'!$A$9:$B$149,2,0)=\"Limited ROW\",H33*I33*0.1/100,H33*I33/100))","v":""},{"$f":"IF(A33=\"\",\"\",VLOOKUP(A33,'Structural Water Quality Calcs'!$A$8:$AE$149,17,0))","v":""},{"$f":"IF(A33=\"\",\"\",SUMIFS(Catchment!$Z$5:$Z$300,Catchment!$D$5:$D$300,\"RIDOT\",Catchment!$K$5:$K$300,A33))","v":""},{"$f":"IF(A33=\"\",\"\",VLOOKUP(A33,'Structural Water Quality Calcs'!$A$8:$AE$149,18,0)*100)","v":""},{"$f":"IF(A33=\"\",\"\",VLOOKUP(A33,'Structural Water Quality Calcs'!$A$8:$AE$149,19,0))","v":""},{"$f":"IF(A33=\"\",\"\",IF(VLOOKUP(A33,'Structural Water Quality Calcs'!$A$9:$B$149,2,0)=\"Limited ROW\",M33*N33*0.1/100,M33*N33/100))","v":""},{"$f":"IF(A33=\"\",\"\",VLOOKUP(A33,'Structural Water Quality Calcs'!$A$8:$AE$149,14,0))","v":""},{"$f":"IF(A33=\"\",\"\",SUMIFS(Catchment!$Y$5:$Y$300,Catchment!$D$5:$D$300,\"RIDOT\",Catchment!$K$5:$K$300,A33))","v":""},{"$f":"IF(A33=\"\",\"\",VLOOKUP(A33,'Structural Water Quality Calcs'!$A$8:$AE$149,15,0)*100)","v":""},{"$f":"IF(A33=\"\",\"\",VLOOKUP(A33,'Structural Water Quality Calcs'!$A$8:$AE$149,16,0))","v":""},{"$f":"IF(A33=\"\",\"\",IF(VLOOKUP(A33,'Structural Water Quality Calcs'!$A$9:$B$149,2,0)=\"Limited ROW\",R33*S33*0.1/100,R33*S33/100))","v":""},{"$f":"IF(A33=\"\",\"\",VLOOKUP(A33,'Structural Water Quality Calcs'!$A$8:$AE$149,20,0))","v":""},{"$f":"IF(A33=\"\",\"\",SUMIFS(Catchment!$AA$5:$AA$300,Catchment!$D$5:$D$300,\"RIDOT\",Catchment!$K$5:$K$300,A33))","v":""},{"$f":"IF(A33=\"\",\"\",VLOOKUP(A33,'Structural Water Quality Calcs'!$A$8:$AE$149,21,0)*100)","v":""},{"$f":"IF(A33=\"\",\"\",VLOOKUP(A33,'Structural Water Quality Calcs'!$A$8:$AE$149,22,0))","v":""},{"$f":"IF(A33=\"\",\"\",IF(VLOOKUP(A33,'Structural Water Quality Calcs'!$A$9:$B$149,2,0)=\"Limited ROW\",W33*X33*0.1/100,W33*X33/100))","v":""},{"$f":"IF(A33=\"\",\"\",VLOOKUP(A33,'Structural Water Quality Calcs'!$A$8:$AE$149,29,0))","v":""},{"$f":"IF(A33=\"\",\"\",IF(VLOOKUP(A33,'Structural Water Quality Calcs'!$A$9:$B$149,2,0)=\"Limited ROW\",VLOOKUP(A33,'Structural Water Quality Calcs'!$A$8:$AE$149,28,0)*F33*0.1/43560,VLOOKUP(A33,'Structural Water Quality Calcs'!$A$8:$AE$149,28,0)*F33/43560))","v":""},{"$f":"IF(A33=\"\",\"\",VLOOKUP(A33,'Structural Water Quality Calcs'!$A$8:$AE$149,28,0)*100)","v":""},{"$f":"IF(A33=\"\",\"\",VLOOKUP(A33,'Structural Water Quality Calcs'!$A$8:$AE$149,31,0))","v":""},{"$f":"IF(A33=\"\",\"\",VLOOKUP(A33,'Structural Water Quality Calcs'!$A$8:$AE$149,26,0))","v":""},{"$f":"IF(A33=\"\",\"\",VLOOKUP(A33,'Structural Water Quality Calcs'!$A$8:$AE$149,27,0))","v":""},{"$f":"IF(A33=\"\",\"\",(VLOOKUP(A33,'Structural Water Quality Calcs'!$A$8:$AE$149,25,0)))","v":""},{"$f":"IF(A33=\"\",\"\",VLOOKUP(A33,'Structural Water Quality Calcs'!$A$8:$AE$149,24,0))","v":""},{"$f":"IF(A33=\"\",\"\",VLOOKUP(A33,STU_Cost!$A$5:$G$150,4,0))","v":""},{"$f":"IF(A33=\"\",\"\",VLOOKUP(A33,STU_Cost!$A$5:$G$150,5,0))","v":""},{"$f":"IF(A33=\"\",\"\",VLOOKUP(A33,STU_Cost!$A$5:$G$150,6,0))","v":""},{"$f":"IF(A33=\"\",\"\",VLOOKUP(A33,STU_Cost!$A$5:$G$150,7,0))","v":""},null,null,{"$f":"IF(A33=\"\",\"\",VLOOKUP(A33,STU!$A$5:$E$300,5,0))","v":""}]
[null,{"$f":"IF(A34=\"\",\"\",VLOOKUP(A34,'Structural Water Quality Calcs'!$A$9:$F$79,6,0))","v":""},{"$f":"IF(A34=\"\",\"\",VLOOKUP(A34,'Structural Water Quality Calcs'!$A$8:$AE$149,3,0))","v":""},{"$f":"IF(A34=\"\",\"\",SUMIFS(Catchment!$V$5:$V$300,Catchment!$D$5:$D$300,\"RIDOT\",Catchment!$K$5:$K$300,A34))","v":""},{"$f":"IF(A34=\"\",\"\",VLOOKUP(A34,'Structural Water Quality Calcs'!$A$8:$AE$149,4,0))","v":""},{"$f":"IF(A34=\"\",\"\",SUMIFS(Catchment!$L$5:$L$300,Catchment!$D$5:$D$300,\"RIDOT\",Catchment!$K$5:$K$300,A34))","v":""},{"$f":"IF(A34=\"\",\"\",VLOOKUP(A34, 'Structural Water Quality Calcs'!$A$8:$AE$149,11,0))","v":""},{"$f":"IF(A34=\"\",\"\",SUMIFS(Catchment!$X$5:$X$300,Catchment!$D$5:$D$300,\"RIDOT\",Catchment!$K$5:$K$300,A34))","v":""},{"$f":"IF(A34=\"\",\"\",VLOOKUP(A34,'Structural Water Quality Calcs'!$A$8:$AE$149,12,0)*100)","v":""},{"$f":"IF(A34=\"\",\"\",VLOOKUP(A34,'Structural Water Quality Calcs'!$A$8:$AE$149,13,0))","v":""},{"$f":"IF(A34=\"\",\"\",IF(VLOOKUP(A34,'Structural Water Quality Calcs'!$A$9:$B$149,2,0)=\"Limited ROW\",H34*I34*0.1/100,H34*I34/100))","v":""},{"$f":"IF(A34=\"\",\"\",VLOOKUP(A34,'Structural Water Quality Calcs'!$A$8:$AE$149,17,0))","v":""},{"$f":"IF(A34=\"\",\"\",SUMIFS(Catchment!$Z$5:$Z$300,Catchment!$D$5:$D$300,\"RIDOT\",Catchment!$K$5:$K$300,A34))","v":""},{"$f":"IF(A34=\"\",\"\",VLOOKUP(A34,'Structural Water Quality Calcs'!$A$8:$AE$149,18,0)*100)","v":""},{"$f":"IF(A34=\"\",\"\",VLOOKUP(A34,'Structural Water Quality Calcs'!$A$8:$AE$149,19,0))","v":""},{"$f":"IF(A34=\"\",\"\",IF(VLOOKUP(A34,'Structural Water Quality Calcs'!$A$9:$B$149,2,0)=\"Limited ROW\",M34*N34*0.1/100,M34*N34/100))","v":""},{"$f":"IF(A34=\"\",\"\",VLOOKUP(A34,'Structural Water Quality Calcs'!$A$8:$AE$149,14,0))","v":""},{"$f":"IF(A34=\"\",\"\",SUMIFS(Catchment!$Y$5:$Y$300,Catchment!$D$5:$D$300,\"RIDOT\",Catchment!$K$5:$K$300,A34))","v":""},{"$f":"IF(A34=\"\",\"\",VLOOKUP(A34,'Structural Water Quality Calcs'!$A$8:$AE$149,15,0)*100)","v":""},{"$f":"IF(A34=\"\",\"\",VLOOKUP(A34,'Structural Water Quality Calcs'!$A$8:$AE$149,16,0))","v":""},{"$f":"IF(A34=\"\",\"\",IF(VLOOKUP(A34,'Structural Water Quality Calcs'!$A$9:$B$149,2,0)=\"Limited ROW\",R34*S34*0.1/100,R34*S34/100))","v":""},{"$f":"IF(A34=\"\",\"\",VLOOKUP(A34,'Structural Water Quality Calcs'!$A$8:$AE$149,20,0))","v":""},{"$f":"IF(A34=\"\",\"\",SUMIFS(Catchment!$AA$5:$AA$300,Catchment!$D$5:$D$300,\"RIDOT\",Catchment!$K$5:$K$300,A34))","v":""},{"$f":"IF(A34=\"\",\"\",VLOOKUP(A34,'Structural Water Quality Calcs'!$A$8:$AE$149,21,0)*100)","v":""},{"$f":"IF(A34=\"\",\"\",VLOOKUP(A34,'Structural Water Quality Calcs'!$A$8:$AE$149,22,0))","v":""},{"$f":"IF(A34=\"\",\"\",IF(VLOOKUP(A34,'Structural Water Quality Calcs'!$A$9:$B$149,2,0)=\"Limited ROW\",W34*X34*0.1/100,W34*X34/100))","v":""},{"$f":"IF(A34=\"\",\"\",VLOOKUP(A34,'Structural Water Quality Calcs'!$A$8:$AE$149,29,0))","v":""},{"$f":"IF(A34=\"\",\"\",IF(VLOOKUP(A34,'Structural Water Quality Calcs'!$A$9:$B$149,2,0)=\"Limited ROW\",VLOOKUP(A34,'Structural Water Quality Calcs'!$A$8:$AE$149,28,0)*F34*0.1/43560,VLOOKUP(A34,'Structural Water Quality Calcs'!$A$8:$AE$149,28,0)*F34/43560))","v":""},{"$f":"IF(A34=\"\",\"\",VLOOKUP(A34,'Structural Water Quality Calcs'!$A$8:$AE$149,28,0)*100)","v":""},{"$f":"IF(A34=\"\",\"\",VLOOKUP(A34,'Structural Water Quality Calcs'!$A$8:$AE$149,31,0))","v":""},{"$f":"IF(A34=\"\",\"\",VLOOKUP(A34,'Structural Water Quality Calcs'!$A$8:$AE$149,26,0))","v":""},{"$f":"IF(A34=\"\",\"\",VLOOKUP(A34,'Structural Water Quality Calcs'!$A$8:$AE$149,27,0))","v":""},{"$f":"IF(A34=\"\",\"\",(VLOOKUP(A34,'Structural Water Quality Calcs'!$A$8:$AE$149,25,0)))","v":""},{"$f":"IF(A34=\"\",\"\",VLOOKUP(A34,'Structural Water Quality Calcs'!$A$8:$AE$149,24,0))","v":""},{"$f":"IF(A34=\"\",\"\",VLOOKUP(A34,STU_Cost!$A$5:$G$150,4,0))","v":""},{"$f":"IF(A34=\"\",\"\",VLOOKUP(A34,STU_Cost!$A$5:$G$150,5,0))","v":""},{"$f":"IF(A34=\"\",\"\",VLOOKUP(A34,STU_Cost!$A$5:$G$150,6,0))","v":""},{"$f":"IF(A34=\"\",\"\",VLOOKUP(A34,STU_Cost!$A$5:$G$150,7,0))","v":""},null,null,{"$f":"IF(A34=\"\",\"\",VLOOKUP(A34,STU!$A$5:$E$300,5,0))","v":""}]
[null,{"$f":"IF(A35=\"\",\"\",VLOOKUP(A35,'Structural Water Quality Calcs'!$A$9:$F$79,6,0))","v":""},{"$f":"IF(A35=\"\",\"\",VLOOKUP(A35,'Structural Water Quality Calcs'!$A$8:$AE$149,3,0))","v":""},{"$f":"IF(A35=\"\",\"\",SUMIFS(Catchment!$V$5:$V$300,Catchment!$D$5:$D$300,\"RIDOT\",Catchment!$K$5:$K$300,A35))","v":""},{"$f":"IF(A35=\"\",\"\",VLOOKUP(A35,'Structural Water Quality Calcs'!$A$8:$AE$149,4,0))","v":""},{"$f":"IF(A35=\"\",\"\",SUMIFS(Catchment!$L$5:$L$300,Catchment!$D$5:$D$300,\"RIDOT\",Catchment!$K$5:$K$300,A35))","v":""},{"$f":"IF(A35=\"\",\"\",VLOOKUP(A35, 'Structural Water Quality Calcs'!$A$8:$AE$149,11,0))","v":""},{"$f":"IF(A35=\"\",\"\",SUMIFS(Catchment!$X$5:$X$300,Catchment!$D$5:$D$300,\"RIDOT\",Catchment!$K$5:$K$300,A35))","v":""},{"$f":"IF(A35=\"\",\"\",VLOOKUP(A35,'Structural Water Quality Calcs'!$A$8:$AE$149,12,0)*100)","v":""},{"$f":"IF(A35=\"\",\"\",VLOOKUP(A35,'Structural Water Quality Calcs'!$A$8:$AE$149,13,0))","v":""},{"$f":"IF(A35=\"\",\"\",IF(VLOOKUP(A35,'Structural Water Quality Calcs'!$A$9:$B$149,2,0)=\"Limited ROW\",H35*I35*0.1/100,H35*I35/100))","v":""},{"$f":"IF(A35=\"\",\"\",VLOOKUP(A35,'Structural Water Quality Calcs'!$A$8:$AE$149,17,0))","v":""},{"$f":"IF(A35=\"\",\"\",SUMIFS(Catchment!$Z$5:$Z$300,Catchment!$D$5:$D$300,\"RIDOT\",Catchment!$K$5:$K$300,A35))","v":""},{"$f":"IF(A35=\"\",\"\",VLOOKUP(A35,'Structural Water Quality Calcs'!$A$8:$AE$149,18,0)*100)","v":""},{"$f":"IF(A35=\"\",\"\",VLOOKUP(A35,'Structural Water Quality Calcs'!$A$8:$AE$149,19,0))","v":""},{"$f":"IF(A35=\"\",\"\",IF(VLOOKUP(A35,'Structural Water Quality Calcs'!$A$9:$B$149,2,0)=\"Limited ROW\",M35*N35*0.1/100,M35*N35/100))","v":""},{"$f":"IF(A35=\"\",\"\",VLOOKUP(A35,'Structural Water Quality Calcs'!$A$8:$AE$149,14,0))","v":""},{"$f":"IF(A35=\"\",\"\",SUMIFS(Catchment!$Y$5:$Y$300,Catchment!$D$5:$D$300,\"RIDOT\",Catchment!$K$5:$K$300,A35))","v":""},{"$f":"IF(A35=\"\",\"\",VLOOKUP(A35,'Structural Water Quality Calcs'!$A$8:$AE$149,15,0)*100)","v":""},{"$f":"IF(A35=\"\",\"\",VLOOKUP(A35,'Structural Water Quality Calcs'!$A$8:$AE$149,16,0))","v":""},{"$f":"IF(A35=\"\",\"\",IF(VLOOKUP(A35,'Structural Water Quality Calcs'!$A$9:$B$149,2,0)=\"Limited ROW\",R35*S35*0.1/100,R35*S35/100))","v":""},{"$f":"IF(A35=\"\",\"\",VLOOKUP(A35,'Structural Water Quality Calcs'!$A$8:$AE$149,20,0))","v":""},{"$f":"IF(A35=\"\",\"\",SUMIFS(Catchment!$AA$5:$AA$300,Catchment!$D$5:$D$300,\"RIDOT\",Catchment!$K$5:$K$300,A35))","v":""},{"$f":"IF(A35=\"\",\"\",VLOOKUP(A35,'Structural Water Quality Calcs'!$A$8:$AE$149,21,0)*100)","v":""},{"$f":"IF(A35=\"\",\"\",VLOOKUP(A35,'Structural Water Quality Calcs'!$A$8:$AE$149,22,0))","v":""},{"$f":"IF(A35=\"\",\"\",IF(VLOOKUP(A35,'Structural Water Quality Calcs'!$A$9:$B$149,2,0)=\"Limited ROW\",W35*X35*0.1/100,W35*X35/100))","v":""},{"$f":"IF(A35=\"\",\"\",VLOOKUP(A35,'Structural Water Quality Calcs'!$A$8:$AE$149,29,0))","v":""},{"$f":"IF(A35=\"\",\"\",IF(VLOOKUP(A35,'Structural Water Quality Calcs'!$A$9:$B$149,2,0)=\"Limited ROW\",VLOOKUP(A35,'Structural Water Quality Calcs'!$A$8:$AE$149,28,0)*F35*0.1/43560,VLOOKUP(A35,'Structural Water Quality Calcs'!$A$8:$AE$149,28,0)*F35/43560))","v":""},{"$f":"IF(A35=\"\",\"\",VLOOKUP(A35,'Structural Water Quality Calcs'!$A$8:$AE$149,28,0)*100)","v":""},{"$f":"IF(A35=\"\",\"\",VLOOKUP(A35,'Structural Water Quality Calcs'!$A$8:$AE$149,31,0))","v":""},{"$f":"IF(A35=\"\",\"\",VLOOKUP(A35,'Structural Water Quality Calcs'!$A$8:$AE$149,26,0))","v":""},{"$f":"IF(A35=\"\",\"\",VLOOKUP(A35,'Structural Water Quality Calcs'!$A$8:$AE$149,27,0))","v":""},{"$f":"IF(A35=\"\",\"\",(VLOOKUP(A35,'Structural Water Quality Calcs'!$A$8:$AE$149,25,0)))","v":""},{"$f":"IF(A35=\"\",\"\",VLOOKUP(A35,'Structural Water Quality Calcs'!$A$8:$AE$149,24,0))","v":""},{"$f":"IF(A35=\"\",\"\",VLOOKUP(A35,STU_Cost!$A$5:$G$150,4,0))","v":""},{"$f":"IF(A35=\"\",\"\",VLOOKUP(A35,STU_Cost!$A$5:$G$150,5,0))","v":""},{"$f":"IF(A35=\"\",\"\",VLOOKUP(A35,STU_Cost!$A$5:$G$150,6,0))","v":""},{"$f":"IF(A35=\"\",\"\",VLOOKUP(A35,STU_Cost!$A$5:$G$150,7,0))","v":""},null,null,{"$f":"IF(A35=\"\",\"\",VLOOKUP(A35,STU!$A$5:$E$300,5,0))","v":""}]
[null,{"$f":"IF(A36=\"\",\"\",VLOOKUP(A36,'Structural Water Quality Calcs'!$A$9:$F$79,6,0))","v":""},{"$f":"IF(A36=\"\",\"\",VLOOKUP(A36,'Structural Water Quality Calcs'!$A$8:$AE$149,3,0))","v":""},{"$f":"IF(A36=\"\",\"\",SUMIFS(Catchment!$V$5:$V$300,Catchment!$D$5:$D$300,\"RIDOT\",Catchment!$K$5:$K$300,A36))","v":""},{"$f":"IF(A36=\"\",\"\",VLOOKUP(A36,'Structural Water Quality Calcs'!$A$8:$AE$149,4,0))","v":""},{"$f":"IF(A36=\"\",\"\",SUMIFS(Catchment!$L$5:$L$300,Catchment!$D$5:$D$300,\"RIDOT\",Catchment!$K$5:$K$300,A36))","v":""},{"$f":"IF(A36=\"\",\"\",VLOOKUP(A36, 'Structural Water Quality Calcs'!$A$8:$AE$149,11,0))","v":""},{"$f":"IF(A36=\"\",\"\",SUMIFS(Catchment!$X$5:$X$300,Catchment!$D$5:$D$300,\"RIDOT\",Catchment!$K$5:$K$300,A36))","v":""},{"$f":"IF(A36=\"\",\"\",VLOOKUP(A36,'Structural Water Quality Calcs'!$A$8:$AE$149,12,0)*100)","v":""},{"$f":"IF(A36=\"\",\"\",VLOOKUP(A36,'Structural Water Quality Calcs'!$A$8:$AE$149,13,0))","v":""},{"$f":"IF(A36=\"\",\"\",IF(VLOOKUP(A36,'Structural Water Quality Calcs'!$A$9:$B$149,2,0)=\"Limited ROW\",H36*I36*0.1/100,H36*I36/100))","v":""},{"$f":"IF(A36=\"\",\"\",VLOOKUP(A36,'Structural Water Quality Calcs'!$A$8:$AE$149,17,0))","v":""},{"$f":"IF(A36=\"\",\"\",SUMIFS(Catchment!$Z$5:$Z$300,Catchment!$D$5:$D$300,\"RIDOT\",Catchment!$K$5:$K$300,A36))","v":""},{"$f":"IF(A36=\"\",\"\",VLOOKUP(A36,'Structural Water Quality Calcs'!$A$8:$AE$149,18,0)*100)","v":""},{"$f":"IF(A36=\"\",\"\",VLOOKUP(A36,'Structural Water Quality Calcs'!$A$8:$AE$149,19,0))","v":""},{"$f":"IF(A36=\"\",\"\",IF(VLOOKUP(A36,'Structural Water Quality Calcs'!$A$9:$B$149,2,0)=\"Limited ROW\",M36*N36*0.1/100,M36*N36/100))","v":""},{"$f":"IF(A36=\"\",\"\",VLOOKUP(A36,'Structural Water Quality Calcs'!$A$8:$AE$149,14,0))","v":""},{"$f":"IF(A36=\"\",\"\",SUMIFS(Catchment!$Y$5:$Y$300,Catchment!$D$5:$D$300,\"RIDOT\",Catchment!$K$5:$K$300,A36))","v":""},{"$f":"IF(A36=\"\",\"\",VLOOKUP(A36,'Structural Water Quality Calcs'!$A$8:$AE$149,15,0)*100)","v":""},{"$f":"IF(A36=\"\",\"\",VLOOKUP(A36,'Structural Water Quality Calcs'!$A$8:$AE$149,16,0))","v":""},{"$f":"IF(A36=\"\",\"\",IF(VLOOKUP(A36,'Structural Water Quality Calcs'!$A$9:$B$149,2,0)=\"Limited ROW\",R36*S36*0.1/100,R36*S36/100))","v":""},{"$f":"IF(A36=\"\",\"\",VLOOKUP(A36,'Structural Water Quality Calcs'!$A$8:$AE$149,20,0))","v":""},{"$f":"IF(A36=\"\",\"\",SUMIFS(Catchment!$AA$5:$AA$300,Catchment!$D$5:$D$300,\"RIDOT\",Catchment!$K$5:$K$300,A36))","v":""},{"$f":"IF(A36=\"\",\"\",VLOOKUP(A36,'Structural Water Quality Calcs'!$A$8:$AE$149,21,0)*100)","v":""},{"$f":"IF(A36=\"\",\"\",VLOOKUP(A36,'Structural Water Quality Calcs'!$A$8:$AE$149,22,0))","v":""},{"$f":"IF(A36=\"\",\"\",IF(VLOOKUP(A36,'Structural Water Quality Calcs'!$A$9:$B$149,2,0)=\"Limited ROW\",W36*X36*0.1/100,W36*X36/100))","v":""},{"$f":"IF(A36=\"\",\"\",VLOOKUP(A36,'Structural Water Quality Calcs'!$A$8:$AE$149,29,0))","v":""},{"$f":"IF(A36=\"\",\"\",IF(VLOOKUP(A36,'Structural Water Quality Calcs'!$A$9:$B$149,2,0)=\"Limited ROW\",VLOOKUP(A36,'Structural Water Quality Calcs'!$A$8:$AE$149,28,0)*F36*0.1/43560,VLOOKUP(A36,'Structural Water Quality Calcs'!$A$8:$AE$149,28,0)*F36/43560))","v":""},{"$f":"IF(A36=\"\",\"\",VLOOKUP(A36,'Structural Water Quality Calcs'!$A$8:$AE$149,28,0)*100)","v":""},{"$f":"IF(A36=\"\",\"\",VLOOKUP(A36,'Structural Water Quality Calcs'!$A$8:$AE$149,31,0))","v":""},{"$f":"IF(A36=\"\",\"\",VLOOKUP(A36,'Structural Water Quality Calcs'!$A$8:$AE$149,26,0))","v":""},{"$f":"IF(A36=\"\",\"\",VLOOKUP(A36,'Structural Water Quality Calcs'!$A$8:$AE$149,27,0))","v":""},{"$f":"IF(A36=\"\",\"\",(VLOOKUP(A36,'Structural Water Quality Calcs'!$A$8:$AE$149,25,0)))","v":""},{"$f":"IF(A36=\"\",\"\",VLOOKUP(A36,'Structural Water Quality Calcs'!$A$8:$AE$149,24,0))","v":""},{"$f":"IF(A36=\"\",\"\",VLOOKUP(A36,STU_Cost!$A$5:$G$150,4,0))","v":""},{"$f":"IF(A36=\"\",\"\",VLOOKUP(A36,STU_Cost!$A$5:$G$150,5,0))","v":""},{"$f":"IF(A36=\"\",\"\",VLOOKUP(A36,STU_Cost!$A$5:$G$150,6,0))","v":""},{"$f":"IF(A36=\"\",\"\",VLOOKUP(A36,STU_Cost!$A$5:$G$150,7,0))","v":""},null,null,{"$f":"IF(A36=\"\",\"\",VLOOKUP(A36,STU!$A$5:$E$300,5,0))","v":""}]
[null,{"$f":"IF(A37=\"\",\"\",VLOOKUP(A37,'Structural Water Quality Calcs'!$A$9:$F$79,6,0))","v":""},{"$f":"IF(A37=\"\",\"\",VLOOKUP(A37,'Structural Water Quality Calcs'!$A$8:$AE$149,3,0))","v":""},{"$f":"IF(A37=\"\",\"\",SUMIFS(Catchment!$V$5:$V$300,Catchment!$D$5:$D$300,\"RIDOT\",Catchment!$K$5:$K$300,A37))","v":""},{"$f":"IF(A37=\"\",\"\",VLOOKUP(A37,'Structural Water Quality Calcs'!$A$8:$AE$149,4,0))","v":""},{"$f":"IF(A37=\"\",\"\",SUMIFS(Catchment!$L$5:$L$300,Catchment!$D$5:$D$300,\"RIDOT\",Catchment!$K$5:$K$300,A37))","v":""},{"$f":"IF(A37=\"\",\"\",VLOOKUP(A37, 'Structural Water Quality Calcs'!$A$8:$AE$149,11,0))","v":""},{"$f":"IF(A37=\"\",\"\",SUMIFS(Catchment!$X$5:$X$300,Catchment!$D$5:$D$300,\"RIDOT\",Catchment!$K$5:$K$300,A37))","v":""},{"$f":"IF(A37=\"\",\"\",VLOOKUP(A37,'Structural Water Quality Calcs'!$A$8:$AE$149,12,0)*100)","v":""},{"$f":"IF(A37=\"\",\"\",VLOOKUP(A37,'Structural Water Quality Calcs'!$A$8:$AE$149,13,0))","v":""},{"$f":"IF(A37=\"\",\"\",IF(VLOOKUP(A37,'Structural Water Quality Calcs'!$A$9:$B$149,2,0)=\"Limited ROW\",H37*I37*0.1/100,H37*I37/100))","v":""},{"$f":"IF(A37=\"\",\"\",VLOOKUP(A37,'Structural Water Quality Calcs'!$A$8:$AE$149,17,0))","v":""},{"$f":"IF(A37=\"\",\"\",SUMIFS(Catchment!$Z$5:$Z$300,Catchment!$D$5:$D$300,\"RIDOT\",Catchment!$K$5:$K$300,A37))","v":""},{"$f":"IF(A37=\"\",\"\",VLOOKUP(A37,'Structural Water Quality Calcs'!$A$8:$AE$149,18,0)*100)","v":""},{"$f":"IF(A37=\"\",\"\",VLOOKUP(A37,'Structural Water Quality Calcs'!$A$8:$AE$149,19,0))","v":""},{"$f":"IF(A37=\"\",\"\",IF(VLOOKUP(A37,'Structural Water Quality Calcs'!$A$9:$B$149,2,0)=\"Limited ROW\",M37*N37*0.1/100,M37*N37/100))","v":""},{"$f":"IF(A37=\"\",\"\",VLOOKUP(A37,'Structural Water Quality Calcs'!$A$8:$AE$149,14,0))","v":""},{"$f":"IF(A37=\"\",\"\",SUMIFS(Catchment!$Y$5:$Y$300,Catchment!$D$5:$D$300,\"RIDOT\",Catchment!$K$5:$K$300,A37))","v":""},{"$f":"IF(A37=\"\",\"\",VLOOKUP(A37,'Structural Water Quality Calcs'!$A$8:$AE$149,15,0)*100)","v":""},{"$f":"IF(A37=\"\",\"\",VLOOKUP(A37,'Structural Water Quality Calcs'!$A$8:$AE$149,16,0))","v":""},{"$f":"IF(A37=\"\",\"\",IF(VLOOKUP(A37,'Structural Water Quality Calcs'!$A$9:$B$149,2,0)=\"Limited ROW\",R37*S37*0.1/100,R37*S37/100))","v":""},{"$f":"IF(A37=\"\",\"\",VLOOKUP(A37,'Structural Water Quality Calcs'!$A$8:$AE$149,20,0))","v":""},{"$f":"IF(A37=\"\",\"\",SUMIFS(Catchment!$AA$5:$AA$300,Catchment!$D$5:$D$300,\"RIDOT\",Catchment!$K$5:$K$300,A37))","v":""},{"$f":"IF(A37=\"\",\"\",VLOOKUP(A37,'Structural Water Quality Calcs'!$A$8:$AE$149,21,0)*100)","v":""},{"$f":"IF(A37=\"\",\"\",VLOOKUP(A37,'Structural Water Quality Calcs'!$A$8:$AE$149,22,0))","v":""},{"$f":"IF(A37=\"\",\"\",IF(VLOOKUP(A37,'Structural Water Quality Calcs'!$A$9:$B$149,2,0)=\"Limited ROW\",W37*X37*0.1/100,W37*X37/100))","v":""},{"$f":"IF(A37=\"\",\"\",VLOOKUP(A37,'Structural Water Quality Calcs'!$A$8:$AE$149,29,0))","v":""},{"$f":"IF(A37=\"\",\"\",IF(VLOOKUP(A37,'Structural Water Quality Calcs'!$A$9:$B$149,2,0)=\"Limited ROW\",VLOOKUP(A37,'Structural Water Quality Calcs'!$A$8:$AE$149,28,0)*F37*0.1/43560,VLOOKUP(A37,'Structural Water Quality Calcs'!$A$8:$AE$149,28,0)*F37/43560))","v":""},{"$f":"IF(A37=\"\",\"\",VLOOKUP(A37,'Structural Water Quality Calcs'!$A$8:$AE$149,28,0)*100)","v":""},{"$f":"IF(A37=\"\",\"\",VLOOKUP(A37,'Structural Water Quality Calcs'!$A$8:$AE$149,31,0))","v":""},{"$f":"IF(A37=\"\",\"\",VLOOKUP(A37,'Structural Water Quality Calcs'!$A$8:$AE$149,26,0))","v":""},{"$f":"IF(A37=\"\",\"\",VLOOKUP(A37,'Structural Water Quality Calcs'!$A$8:$AE$149,27,0))","v":""},{"$f":"IF(A37=\"\",\"\",(VLOOKUP(A37,'Structural Water Quality Calcs'!$A$8:$AE$149,25,0)))","v":""},{"$f":"IF(A37=\"\",\"\",VLOOKUP(A37,'Structural Water Quality Calcs'!$A$8:$AE$149,24,0))","v":""},{"$f":"IF(A37=\"\",\"\",VLOOKUP(A37,STU_Cost!$A$5:$G$150,4,0))","v":""},{"$f":"IF(A37=\"\",\"\",VLOOKUP(A37,STU_Cost!$A$5:$G$150,5,0))","v":""},{"$f":"IF(A37=\"\",\"\",VLOOKUP(A37,STU_Cost!$A$5:$G$150,6,0))","v":""},{"$f":"IF(A37=\"\",\"\",VLOOKUP(A37,STU_Cost!$A$5:$G$150,7,0))","v":""},null,null,{"$f":"IF(A37=\"\",\"\",VLOOKUP(A37,STU!$A$5:$E$300,5,0))","v":""}]
[null,{"$f":"IF(A38=\"\",\"\",VLOOKUP(A38,'Structural Water Quality Calcs'!$A$9:$F$79,6,0))","v":""},{"$f":"IF(A38=\"\",\"\",VLOOKUP(A38,'Structural Water Quality Calcs'!$A$8:$AE$149,3,0))","v":""},{"$f":"IF(A38=\"\",\"\",SUMIFS(Catchment!$V$5:$V$300,Catchment!$D$5:$D$300,\"RIDOT\",Catchment!$K$5:$K$300,A38))","v":""},{"$f":"IF(A38=\"\",\"\",VLOOKUP(A38,'Structural Water Quality Calcs'!$A$8:$AE$149,4,0))","v":""},{"$f":"IF(A38=\"\",\"\",SUMIFS(Catchment!$L$5:$L$300,Catchment!$D$5:$D$300,\"RIDOT\",Catchment!$K$5:$K$300,A38))","v":""},{"$f":"IF(A38=\"\",\"\",VLOOKUP(A38, 'Structural Water Quality Calcs'!$A$8:$AE$149,11,0))","v":""},{"$f":"IF(A38=\"\",\"\",SUMIFS(Catchment!$X$5:$X$300,Catchment!$D$5:$D$300,\"RIDOT\",Catchment!$K$5:$K$300,A38))","v":""},{"$f":"IF(A38=\"\",\"\",VLOOKUP(A38,'Structural Water Quality Calcs'!$A$8:$AE$149,12,0)*100)","v":""},{"$f":"IF(A38=\"\",\"\",VLOOKUP(A38,'Structural Water Quality Calcs'!$A$8:$AE$149,13,0))","v":""},{"$f":"IF(A38=\"\",\"\",IF(VLOOKUP(A38,'Structural Water Quality Calcs'!$A$9:$B$149,2,0)=\"Limited ROW\",H38*I38*0.1/100,H38*I38/100))","v":""},{"$f":"IF(A38=\"\",\"\",VLOOKUP(A38,'Structural Water Quality Calcs'!$A$8:$AE$149,17,0))","v":""},{"$f":"IF(A38=\"\",\"\",SUMIFS(Catchment!$Z$5:$Z$300,Catchment!$D$5:$D$300,\"RIDOT\",Catchment!$K$5:$K$300,A38))","v":""},{"$f":"IF(A38=\"\",\"\",VLOOKUP(A38,'Structural Water Quality Calcs'!$A$8:$AE$149,18,0)*100)","v":""},{"$f":"IF(A38=\"\",\"\",VLOOKUP(A38,'Structural Water Quality Calcs'!$A$8:$AE$149,19,0))","v":""},{"$f":"IF(A38=\"\",\"\",IF(VLOOKUP(A38,'Structural Water Quality Calcs'!$A$9:$B$149,2,0)=\"Limited ROW\",M38*N38*0.1/100,M38*N38/100))","v":""},{"$f":"IF(A38=\"\",\"\",VLOOKUP(A38,'Structural Water Quality Calcs'!$A$8:$AE$149,14,0))","v":""},{"$f":"IF(A38=\"\",\"\",SUMIFS(Catchment!$Y$5:$Y$300,Catchment!$D$5:$D$300,\"RIDOT\",Catchment!$K$5:$K$300,A38))","v":""},{"$f":"IF(A38=\"\",\"\",VLOOKUP(A38,'Structural Water Quality Calcs'!$A$8:$AE$149,15,0)*100)","v":""},{"$f":"IF(A38=\"\",\"\",VLOOKUP(A38,'Structural Water Quality Calcs'!$A$8:$AE$149,16,0))","v":""},{"$f":"IF(A38=\"\",\"\",IF(VLOOKUP(A38,'Structural Water Quality Calcs'!$A$9:$B$149,2,0)=\"Limited ROW\",R38*S38*0.1/100,R38*S38/100))","v":""},{"$f":"IF(A38=\"\",\"\",VLOOKUP(A38,'Structural Water Quality Calcs'!$A$8:$AE$149,20,0))","v":""},{"$f":"IF(A38=\"\",\"\",SUMIFS(Catchment!$AA$5:$AA$300,Catchment!$D$5:$D$300,\"RIDOT\",Catchment!$K$5:$K$300,A38))","v":""},{"$f":"IF(A38=\"\",\"\",VLOOKUP(A38,'Structural Water Quality Calcs'!$A$8:$AE$149,21,0)*100)","v":""},{"$f":"IF(A38=\"\",\"\",VLOOKUP(A38,'Structural Water Quality Calcs'!$A$8:$AE$149,22,0))","v":""},{"$f":"IF(A38=\"\",\"\",IF(VLOOKUP(A38,'Structural Water Quality Calcs'!$A$9:$B$149,2,0)=\"Limited ROW\",W38*X38*0.1/100,W38*X38/100))","v":""},{"$f":"IF(A38=\"\",\"\",VLOOKUP(A38,'Structural Water Quality Calcs'!$A$8:$AE$149,29,0))","v":""},{"$f":"IF(A38=\"\",\"\",IF(VLOOKUP(A38,'Structural Water Quality Calcs'!$A$9:$B$149,2,0)=\"Limited ROW\",VLOOKUP(A38,'Structural Water Quality Calcs'!$A$8:$AE$149,28,0)*F38*0.1/43560,VLOOKUP(A38,'Structural Water Quality Calcs'!$A$8:$AE$149,28,0)*F38/43560))","v":""},{"$f":"IF(A38=\"\",\"\",VLOOKUP(A38,'Structural Water Quality Calcs'!$A$8:$AE$149,28,0)*100)","v":""},{"$f":"IF(A38=\"\",\"\",VLOOKUP(A38,'Structural Water Quality Calcs'!$A$8:$AE$149,31,0))","v":""},{"$f":"IF(A38=\"\",\"\",VLOOKUP(A38,'Structural Water Quality Calcs'!$A$8:$AE$149,26,0))","v":""},{"$f":"IF(A38=\"\",\"\",VLOOKUP(A38,'Structural Water Quality Calcs'!$A$8:$AE$149,27,0))","v":""},{"$f":"IF(A38=\"\",\"\",(VLOOKUP(A38,'Structural Water Quality Calcs'!$A$8:$AE$149,25,0)))","v":""},{"$f":"IF(A38=\"\",\"\",VLOOKUP(A38,'Structural Water Quality Calcs'!$A$8:$AE$149,24,0))","v":""},{"$f":"IF(A38=\"\",\"\",VLOOKUP(A38,STU_Cost!$A$5:$G$150,4,0))","v":""},{"$f":"IF(A38=\"\",\"\",VLOOKUP(A38,STU_Cost!$A$5:$G$150,5,0))","v":""},{"$f":"IF(A38=\"\",\"\",VLOOKUP(A38,STU_Cost!$A$5:$G$150,6,0))","v":""},{"$f":"IF(A38=\"\",\"\",VLOOKUP(A38,STU_Cost!$A$5:$G$150,7,0))","v":""},null,null,{"$f":"IF(A38=\"\",\"\",VLOOKUP(A38,STU!$A$5:$E$300,5,0))","v":""}]
[null,{"$f":"IF(A39=\"\",\"\",VLOOKUP(A39,'Structural Water Quality Calcs'!$A$9:$F$79,6,0))","v":""},{"$f":"IF(A39=\"\",\"\",VLOOKUP(A39,'Structural Water Quality Calcs'!$A$8:$AE$149,3,0))","v":""},{"$f":"IF(A39=\"\",\"\",SUMIFS(Catchment!$V$5:$V$300,Catchment!$D$5:$D$300,\"RIDOT\",Catchment!$K$5:$K$300,A39))","v":""},{"$f":"IF(A39=\"\",\"\",VLOOKUP(A39,'Structural Water Quality Calcs'!$A$8:$AE$149,4,0))","v":""},{"$f":"IF(A39=\"\",\"\",SUMIFS(Catchment!$L$5:$L$300,Catchment!$D$5:$D$300,\"RIDOT\",Catchment!$K$5:$K$300,A39))","v":""},{"$f":"IF(A39=\"\",\"\",VLOOKUP(A39, 'Structural Water Quality Calcs'!$A$8:$AE$149,11,0))","v":""},{"$f":"IF(A39=\"\",\"\",SUMIFS(Catchment!$X$5:$X$300,Catchment!$D$5:$D$300,\"RIDOT\",Catchment!$K$5:$K$300,A39))","v":""},{"$f":"IF(A39=\"\",\"\",VLOOKUP(A39,'Structural Water Quality Calcs'!$A$8:$AE$149,12,0)*100)","v":""},{"$f":"IF(A39=\"\",\"\",VLOOKUP(A39,'Structural Water Quality Calcs'!$A$8:$AE$149,13,0))","v":""},{"$f":"IF(A39=\"\",\"\",IF(VLOOKUP(A39,'Structural Water Quality Calcs'!$A$9:$B$149,2,0)=\"Limited ROW\",H39*I39*0.1/100,H39*I39/100))","v":""},{"$f":"IF(A39=\"\",\"\",VLOOKUP(A39,'Structural Water Quality Calcs'!$A$8:$AE$149,17,0))","v":""},{"$f":"IF(A39=\"\",\"\",SUMIFS(Catchment!$Z$5:$Z$300,Catchment!$D$5:$D$300,\"RIDOT\",Catchment!$K$5:$K$300,A39))","v":""},{"$f":"IF(A39=\"\",\"\",VLOOKUP(A39,'Structural Water Quality Calcs'!$A$8:$AE$149,18,0)*100)","v":""},{"$f":"IF(A39=\"\",\"\",VLOOKUP(A39,'Structural Water Quality Calcs'!$A$8:$AE$149,19,0))","v":""},{"$f":"IF(A39=\"\",\"\",IF(VLOOKUP(A39,'Structural Water Quality Calcs'!$A$9:$B$149,2,0)=\"Limited ROW\",M39*N39*0.1/100,M39*N39/100))","v":""},{"$f":"IF(A39=\"\",\"\",VLOOKUP(A39,'Structural Water Quality Calcs'!$A$8:$AE$149,14,0))","v":""},{"$f":"IF(A39=\"\",\"\",SUMIFS(Catchment!$Y$5:$Y$300,Catchment!$D$5:$D$300,\"RIDOT\",Catchment!$K$5:$K$300,A39))","v":""},{"$f":"IF(A39=\"\",\"\",VLOOKUP(A39,'Structural Water Quality Calcs'!$A$8:$AE$149,15,0)*100)","v":""},{"$f":"IF(A39=\"\",\"\",VLOOKUP(A39,'Structural Water Quality Calcs'!$A$8:$AE$149,16,0))","v":""},{"$f":"IF(A39=\"\",\"\",IF(VLOOKUP(A39,'Structural Water Quality Calcs'!$A$9:$B$149,2,0)=\"Limited ROW\",R39*S39*0.1/100,R39*S39/100))","v":""},{"$f":"IF(A39=\"\",\"\",VLOOKUP(A39,'Structural Water Quality Calcs'!$A$8:$AE$149,20,0))","v":""},{"$f":"IF(A39=\"\",\"\",SUMIFS(Catchment!$AA$5:$AA$300,Catchment!$D$5:$D$300,\"RIDOT\",Catchment!$K$5:$K$300,A39))","v":""},{"$f":"IF(A39=\"\",\"\",VLOOKUP(A39,'Structural Water Quality Calcs'!$A$8:$AE$149,21,0)*100)","v":""},{"$f":"IF(A39=\"\",\"\",VLOOKUP(A39,'Structural Water Quality Calcs'!$A$8:$AE$149,22,0))","v":""},{"$f":"IF(A39=\"\",\"\",IF(VLOOKUP(A39,'Structural Water Quality Calcs'!$A$9:$B$149,2,0)=\"Limited ROW\",W39*X39*0.1/100,W39*X39/100))","v":""},{"$f":"IF(A39=\"\",\"\",VLOOKUP(A39,'Structural Water Quality Calcs'!$A$8:$AE$149,29,0))","v":""},{"$f":"IF(A39=\"\",\"\",IF(VLOOKUP(A39,'Structural Water Quality Calcs'!$A$9:$B$149,2,0)=\"Limited ROW\",VLOOKUP(A39,'Structural Water Quality Calcs'!$A$8:$AE$149,28,0)*F39*0.1/43560,VLOOKUP(A39,'Structural Water Quality Calcs'!$A$8:$AE$149,28,0)*F39/43560))","v":""},{"$f":"IF(A39=\"\",\"\",VLOOKUP(A39,'Structural Water Quality Calcs'!$A$8:$AE$149,28,0)*100)","v":""},{"$f":"IF(A39=\"\",\"\",VLOOKUP(A39,'Structural Water Quality Calcs'!$A$8:$AE$149,31,0))","v":""},{"$f":"IF(A39=\"\",\"\",VLOOKUP(A39,'Structural Water Quality Calcs'!$A$8:$AE$149,26,0))","v":""},{"$f":"IF(A39=\"\",\"\",VLOOKUP(A39,'Structural Water Quality Calcs'!$A$8:$AE$149,27,0))","v":""},{"$f":"IF(A39=\"\",\"\",(VLOOKUP(A39,'Structural Water Quality Calcs'!$A$8:$AE$149,25,0)))","v":""},{"$f":"IF(A39=\"\",\"\",VLOOKUP(A39,'Structural Water Quality Calcs'!$A$8:$AE$149,24,0))","v":""},{"$f":"IF(A39=\"\",\"\",VLOOKUP(A39,STU_Cost!$A$5:$G$150,4,0))","v":""},{"$f":"IF(A39=\"\",\"\",VLOOKUP(A39,STU_Cost!$A$5:$G$150,5,0))","v":""},{"$f":"IF(A39=\"\",\"\",VLOOKUP(A39,STU_Cost!$A$5:$G$150,6,0))","v":""},{"$f":"IF(A39=\"\",\"\",VLOOKUP(A39,STU_Cost!$A$5:$G$150,7,0))","v":""},null,null,{"$f":"IF(A39=\"\",\"\",VLOOKUP(A39,STU!$A$5:$E$300,5,0))","v":""}]
[null,{"$f":"IF(A40=\"\",\"\",VLOOKUP(A40,'Structural Water Quality Calcs'!$A$9:$F$79,6,0))","v":""},{"$f":"IF(A40=\"\",\"\",VLOOKUP(A40,'Structural Water Quality Calcs'!$A$8:$AE$149,3,0))","v":""},{"$f":"IF(A40=\"\",\"\",SUMIFS(Catchment!$V$5:$V$300,Catchment!$D$5:$D$300,\"RIDOT\",Catchment!$K$5:$K$300,A40))","v":""},{"$f":"IF(A40=\"\",\"\",VLOOKUP(A40,'Structural Water Quality Calcs'!$A$8:$AE$149,4,0))","v":""},{"$f":"IF(A40=\"\",\"\",SUMIFS(Catchment!$L$5:$L$300,Catchment!$D$5:$D$300,\"RIDOT\",Catchment!$K$5:$K$300,A40))","v":""},{"$f":"IF(A40=\"\",\"\",VLOOKUP(A40, 'Structural Water Quality Calcs'!$A$8:$AE$149,11,0))","v":""},{"$f":"IF(A40=\"\",\"\",SUMIFS(Catchment!$X$5:$X$300,Catchment!$D$5:$D$300,\"RIDOT\",Catchment!$K$5:$K$300,A40))","v":""},{"$f":"IF(A40=\"\",\"\",VLOOKUP(A40,'Structural Water Quality Calcs'!$A$8:$AE$149,12,0)*100)","v":""},{"$f":"IF(A40=\"\",\"\",VLOOKUP(A40,'Structural Water Quality Calcs'!$A$8:$AE$149,13,0))","v":""},{"$f":"IF(A40=\"\",\"\",IF(VLOOKUP(A40,'Structural Water Quality Calcs'!$A$9:$B$149,2,0)=\"Limited ROW\",H40*I40*0.1/100,H40*I40/100))","v":""},{"$f":"IF(A40=\"\",\"\",VLOOKUP(A40,'Structural Water Quality Calcs'!$A$8:$AE$149,17,0))","v":""},{"$f":"IF(A40=\"\",\"\",SUMIFS(Catchment!$Z$5:$Z$300,Catchment!$D$5:$D$300,\"RIDOT\",Catchment!$K$5:$K$300,A40))","v":""},{"$f":"IF(A40=\"\",\"\",VLOOKUP(A40,'Structural Water Quality Calcs'!$A$8:$AE$149,18,0)*100)","v":""},{"$f":"IF(A40=\"\",\"\",VLOOKUP(A40,'Structural Water Quality Calcs'!$A$8:$AE$149,19,0))","v":""},{"$f":"IF(A40=\"\",\"\",IF(VLOOKUP(A40,'Structural Water Quality Calcs'!$A$9:$B$149,2,0)=\"Limited ROW\",M40*N40*0.1/100,M40*N40/100))","v":""},{"$f":"IF(A40=\"\",\"\",VLOOKUP(A40,'Structural Water Quality Calcs'!$A$8:$AE$149,14,0))","v":""},{"$f":"IF(A40=\"\",\"\",SUMIFS(Catchment!$Y$5:$Y$300,Catchment!$D$5:$D$300,\"RIDOT\",Catchment!$K$5:$K$300,A40))","v":""},{"$f":"IF(A40=\"\",\"\",VLOOKUP(A40,'Structural Water Quality Calcs'!$A$8:$AE$149,15,0)*100)","v":""},{"$f":"IF(A40=\"\",\"\",VLOOKUP(A40,'Structural Water Quality Calcs'!$A$8:$AE$149,16,0))","v":""},{"$f":"IF(A40=\"\",\"\",IF(VLOOKUP(A40,'Structural Water Quality Calcs'!$A$9:$B$149,2,0)=\"Limited ROW\",R40*S40*0.1/100,R40*S40/100))","v":""},{"$f":"IF(A40=\"\",\"\",VLOOKUP(A40,'Structural Water Quality Calcs'!$A$8:$AE$149,20,0))","v":""},{"$f":"IF(A40=\"\",\"\",SUMIFS(Catchment!$AA$5:$AA$300,Catchment!$D$5:$D$300,\"RIDOT\",Catchment!$K$5:$K$300,A40))","v":""},{"$f":"IF(A40=\"\",\"\",VLOOKUP(A40,'Structural Water Quality Calcs'!$A$8:$AE$149,21,0)*100)","v":""},{"$f":"IF(A40=\"\",\"\",VLOOKUP(A40,'Structural Water Quality Calcs'!$A$8:$AE$149,22,0))","v":""},{"$f":"IF(A40=\"\",\"\",IF(VLOOKUP(A40,'Structural Water Quality Calcs'!$A$9:$B$149,2,0)=\"Limited ROW\",W40*X40*0.1/100,W40*X40/100))","v":""},{"$f":"IF(A40=\"\",\"\",VLOOKUP(A40,'Structural Water Quality Calcs'!$A$8:$AE$149,29,0))","v":""},{"$f":"IF(A40=\"\",\"\",IF(VLOOKUP(A40,'Structural Water Quality Calcs'!$A$9:$B$149,2,0)=\"Limited ROW\",VLOOKUP(A40,'Structural Water Quality Calcs'!$A$8:$AE$149,28,0)*F40*0.1/43560,VLOOKUP(A40,'Structural Water Quality Calcs'!$A$8:$AE$149,28,0)*F40/43560))","v":""},{"$f":"IF(A40=\"\",\"\",VLOOKUP(A40,'Structural Water Quality Calcs'!$A$8:$AE$149,28,0)*100)","v":""},{"$f":"IF(A40=\"\",\"\",VLOOKUP(A40,'Structural Water Quality Calcs'!$A$8:$AE$149,31,0))","v":""},{"$f":"IF(A40=\"\",\"\",VLOOKUP(A40,'Structural Water Quality Calcs'!$A$8:$AE$149,26,0))","v":""},{"$f":"IF(A40=\"\",\"\",VLOOKUP(A40,'Structural Water Quality Calcs'!$A$8:$AE$149,27,0))","v":""},{"$f":"IF(A40=\"\",\"\",(VLOOKUP(A40,'Structural Water Quality Calcs'!$A$8:$AE$149,25,0)))","v":""},{"$f":"IF(A40=\"\",\"\",VLOOKUP(A40,'Structural Water Quality Calcs'!$A$8:$AE$149,24,0))","v":""},{"$f":"IF(A40=\"\",\"\",VLOOKUP(A40,STU_Cost!$A$5:$G$150,4,0))","v":""},{"$f":"IF(A40=\"\",\"\",VLOOKUP(A40,STU_Cost!$A$5:$G$150,5,0))","v":""},{"$f":"IF(A40=\"\",\"\",VLOOKUP(A40,STU_Cost!$A$5:$G$150,6,0))","v":""},{"$f":"IF(A40=\"\",\"\",VLOOKUP(A40,STU_Cost!$A$5:$G$150,7,0))","v":""},null,null,{"$f":"IF(A40=\"\",\"\",VLOOKUP(A40,STU!$A$5:$E$300,5,0))","v":""}]
[null,{"$f":"IF(A41=\"\",\"\",VLOOKUP(A41,'Structural Water Quality Calcs'!$A$9:$F$79,6,0))","v":""},{"$f":"IF(A41=\"\",\"\",VLOOKUP(A41,'Structural Water Quality Calcs'!$A$8:$AE$149,3,0))","v":""},{"$f":"IF(A41=\"\",\"\",SUMIFS(Catchment!$V$5:$V$300,Catchment!$D$5:$D$300,\"RIDOT\",Catchment!$K$5:$K$300,A41))","v":""},{"$f":"IF(A41=\"\",\"\",VLOOKUP(A41,'Structural Water Quality Calcs'!$A$8:$AE$149,4,0))","v":""},{"$f":"IF(A41=\"\",\"\",SUMIFS(Catchment!$L$5:$L$300,Catchment!$D$5:$D$300,\"RIDOT\",Catchment!$K$5:$K$300,A41))","v":""},{"$f":"IF(A41=\"\",\"\",VLOOKUP(A41, 'Structural Water Quality Calcs'!$A$8:$AE$149,11,0))","v":""},{"$f":"IF(A41=\"\",\"\",SUMIFS(Catchment!$X$5:$X$300,Catchment!$D$5:$D$300,\"RIDOT\",Catchment!$K$5:$K$300,A41))","v":""},{"$f":"IF(A41=\"\",\"\",VLOOKUP(A41,'Structural Water Quality Calcs'!$A$8:$AE$149,12,0)*100)","v":""},{"$f":"IF(A41=\"\",\"\",VLOOKUP(A41,'Structural Water Quality Calcs'!$A$8:$AE$149,13,0))","v":""},{"$f":"IF(A41=\"\",\"\",IF(VLOOKUP(A41,'Structural Water Quality Calcs'!$A$9:$B$149,2,0)=\"Limited ROW\",H41*I41*0.1/100,H41*I41/100))","v":""},{"$f":"IF(A41=\"\",\"\",VLOOKUP(A41,'Structural Water Quality Calcs'!$A$8:$AE$149,17,0))","v":""},{"$f":"IF(A41=\"\",\"\",SUMIFS(Catchment!$Z$5:$Z$300,Catchment!$D$5:$D$300,\"RIDOT\",Catchment!$K$5:$K$300,A41))","v":""},{"$f":"IF(A41=\"\",\"\",VLOOKUP(A41,'Structural Water Quality Calcs'!$A$8:$AE$149,18,0)*100)","v":""},{"$f":"IF(A41=\"\",\"\",VLOOKUP(A41,'Structural Water Quality Calcs'!$A$8:$AE$149,19,0))","v":""},{"$f":"IF(A41=\"\",\"\",IF(VLOOKUP(A41,'Structural Water Quality Calcs'!$A$9:$B$149,2,0)=\"Limited ROW\",M41*N41*0.1/100,M41*N41/100))","v":""},{"$f":"IF(A41=\"\",\"\",VLOOKUP(A41,'Structural Water Quality Calcs'!$A$8:$AE$149,14,0))","v":""},{"$f":"IF(A41=\"\",\"\",SUMIFS(Catchment!$Y$5:$Y$300,Catchment!$D$5:$D$300,\"RIDOT\",Catchment!$K$5:$K$300,A41))","v":""},{"$f":"IF(A41=\"\",\"\",VLOOKUP(A41,'Structural Water Quality Calcs'!$A$8:$AE$149,15,0)*100)","v":""},{"$f":"IF(A41=\"\",\"\",VLOOKUP(A41,'Structural Water Quality Calcs'!$A$8:$AE$149,16,0))","v":""},{"$f":"IF(A41=\"\",\"\",IF(VLOOKUP(A41,'Structural Water Quality Calcs'!$A$9:$B$149,2,0)=\"Limited ROW\",R41*S41*0.1/100,R41*S41/100))","v":""},{"$f":"IF(A41=\"\",\"\",VLOOKUP(A41,'Structural Water Quality Calcs'!$A$8:$AE$149,20,0))","v":""},{"$f":"IF(A41=\"\",\"\",SUMIFS(Catchment!$AA$5:$AA$300,Catchment!$D$5:$D$300,\"RIDOT\",Catchment!$K$5:$K$300,A41))","v":""},{"$f":"IF(A41=\"\",\"\",VLOOKUP(A41,'Structural Water Quality Calcs'!$A$8:$AE$149,21,0)*100)","v":""},{"$f":"IF(A41=\"\",\"\",VLOOKUP(A41,'Structural Water Quality Calcs'!$A$8:$AE$149,22,0))","v":""},{"$f":"IF(A41=\"\",\"\",IF(VLOOKUP(A41,'Structural Water Quality Calcs'!$A$9:$B$149,2,0)=\"Limited ROW\",W41*X41*0.1/100,W41*X41/100))","v":""},{"$f":"IF(A41=\"\",\"\",VLOOKUP(A41,'Structural Water Quality Calcs'!$A$8:$AE$149,29,0))","v":""},{"$f":"IF(A41=\"\",\"\",IF(VLOOKUP(A41,'Structural Water Quality Calcs'!$A$9:$B$149,2,0)=\"Limited ROW\",VLOOKUP(A41,'Structural Water Quality Calcs'!$A$8:$AE$149,28,0)*F41*0.1/43560,VLOOKUP(A41,'Structural Water Quality Calcs'!$A$8:$AE$149,28,0)*F41/43560))","v":""},{"$f":"IF(A41=\"\",\"\",VLOOKUP(A41,'Structural Water Quality Calcs'!$A$8:$AE$149,28,0)*100)","v":""},{"$f":"IF(A41=\"\",\"\",VLOOKUP(A41,'Structural Water Quality Calcs'!$A$8:$AE$149,31,0))","v":""},{"$f":"IF(A41=\"\",\"\",VLOOKUP(A41,'Structural Water Quality Calcs'!$A$8:$AE$149,26,0))","v":""},{"$f":"IF(A41=\"\",\"\",VLOOKUP(A41,'Structural Water Quality Calcs'!$A$8:$AE$149,27,0))","v":""},{"$f":"IF(A41=\"\",\"\",(VLOOKUP(A41,'Structural Water Quality Calcs'!$A$8:$AE$149,25,0)))","v":""},{"$f":"IF(A41=\"\",\"\",VLOOKUP(A41,'Structural Water Quality Calcs'!$A$8:$AE$149,24,0))","v":""},{"$f":"IF(A41=\"\",\"\",VLOOKUP(A41,STU_Cost!$A$5:$G$150,4,0))","v":""},{"$f":"IF(A41=\"\",\"\",VLOOKUP(A41,STU_Cost!$A$5:$G$150,5,0))","v":""},{"$f":"IF(A41=\"\",\"\",VLOOKUP(A41,STU_Cost!$A$5:$G$150,6,0))","v":""},{"$f":"IF(A41=\"\",\"\",VLOOKUP(A41,STU_Cost!$A$5:$G$150,7,0))","v":""},null,null,{"$f":"IF(A41=\"\",\"\",VLOOKUP(A41,STU!$A$5:$E$300,5,0))","v":""}]
[null,{"$f":"IF(A42=\"\",\"\",VLOOKUP(A42,'Structural Water Quality Calcs'!$A$9:$F$79,6,0))","v":""},{"$f":"IF(A42=\"\",\"\",VLOOKUP(A42,'Structural Water Quality Calcs'!$A$8:$AE$149,3,0))","v":""},{"$f":"IF(A42=\"\",\"\",SUMIFS(Catchment!$V$5:$V$300,Catchment!$D$5:$D$300,\"RIDOT\",Catchment!$K$5:$K$300,A42))","v":""},{"$f":"IF(A42=\"\",\"\",VLOOKUP(A42,'Structural Water Quality Calcs'!$A$8:$AE$149,4,0))","v":""},{"$f":"IF(A42=\"\",\"\",SUMIFS(Catchment!$L$5:$L$300,Catchment!$D$5:$D$300,\"RIDOT\",Catchment!$K$5:$K$300,A42))","v":""},{"$f":"IF(A42=\"\",\"\",VLOOKUP(A42, 'Structural Water Quality Calcs'!$A$8:$AE$149,11,0))","v":""},{"$f":"IF(A42=\"\",\"\",SUMIFS(Catchment!$X$5:$X$300,Catchment!$D$5:$D$300,\"RIDOT\",Catchment!$K$5:$K$300,A42))","v":""},{"$f":"IF(A42=\"\",\"\",VLOOKUP(A42,'Structural Water Quality Calcs'!$A$8:$AE$149,12,0)*100)","v":""},{"$f":"IF(A42=\"\",\"\",VLOOKUP(A42,'Structural Water Quality Calcs'!$A$8:$AE$149,13,0))","v":""},{"$f":"IF(A42=\"\",\"\",IF(VLOOKUP(A42,'Structural Water Quality Calcs'!$A$9:$B$149,2,0)=\"Limited ROW\",H42*I42*0.1/100,H42*I42/100))","v":""},{"$f":"IF(A42=\"\",\"\",VLOOKUP(A42,'Structural Water Quality Calcs'!$A$8:$AE$149,17,0))","v":""},{"$f":"IF(A42=\"\",\"\",SUMIFS(Catchment!$Z$5:$Z$300,Catchment!$D$5:$D$300,\"RIDOT\",Catchment!$K$5:$K$300,A42))","v":""},{"$f":"IF(A42=\"\",\"\",VLOOKUP(A42,'Structural Water Quality Calcs'!$A$8:$AE$149,18,0)*100)","v":""},{"$f":"IF(A42=\"\",\"\",VLOOKUP(A42,'Structural Water Quality Calcs'!$A$8:$AE$149,19,0))","v":""},{"$f":"IF(A42=\"\",\"\",IF(VLOOKUP(A42,'Structural Water Quality Calcs'!$A$9:$B$149,2,0)=\"Limited ROW\",M42*N42*0.1/100,M42*N42/100))","v":""},{"$f":"IF(A42=\"\",\"\",VLOOKUP(A42,'Structural Water Quality Calcs'!$A$8:$AE$149,14,0))","v":""},{"$f":"IF(A42=\"\",\"\",SUMIFS(Catchment!$Y$5:$Y$300,Catchment!$D$5:$D$300,\"RIDOT\",Catchment!$K$5:$K$300,A42))","v":""},{"$f":"IF(A42=\"\",\"\",VLOOKUP(A42,'Structural Water Quality Calcs'!$A$8:$AE$149,15,0)*100)","v":""},{"$f":"IF(A42=\"\",\"\",VLOOKUP(A42,'Structural Water Quality Calcs'!$A$8:$AE$149,16,0))","v":""},{"$f":"IF(A42=\"\",\"\",IF(VLOOKUP(A42,'Structural Water Quality Calcs'!$A$9:$B$149,2,0)=\"Limited ROW\",R42*S42*0.1/100,R42*S42/100))","v":""},{"$f":"IF(A42=\"\",\"\",VLOOKUP(A42,'Structural Water Quality Calcs'!$A$8:$AE$149,20,0))","v":""},{"$f":"IF(A42=\"\",\"\",SUMIFS(Catchment!$AA$5:$AA$300,Catchment!$D$5:$D$300,\"RIDOT\",Catchment!$K$5:$K$300,A42))","v":""},{"$f":"IF(A42=\"\",\"\",VLOOKUP(A42,'Structural Water Quality Calcs'!$A$8:$AE$149,21,0)*100)","v":""},{"$f":"IF(A42=\"\",\"\",VLOOKUP(A42,'Structural Water Quality Calcs'!$A$8:$AE$149,22,0))","v":""},{"$f":"IF(A42=\"\",\"\",IF(VLOOKUP(A42,'Structural Water Quality Calcs'!$A$9:$B$149,2,0)=\"Limited ROW\",W42*X42*0.1/100,W42*X42/100))","v":""},{"$f":"IF(A42=\"\",\"\",VLOOKUP(A42,'Structural Water Quality Calcs'!$A$8:$AE$149,29,0))","v":""},{"$f":"IF(A42=\"\",\"\",IF(VLOOKUP(A42,'Structural Water Quality Calcs'!$A$9:$B$149,2,0)=\"Limited ROW\",VLOOKUP(A42,'Structural Water Quality Calcs'!$A$8:$AE$149,28,0)*F42*0.1/43560,VLOOKUP(A42,'Structural Water Quality Calcs'!$A$8:$AE$149,28,0)*F42/43560))","v":""},{"$f":"IF(A42=\"\",\"\",VLOOKUP(A42,'Structural Water Quality Calcs'!$A$8:$AE$149,28,0)*100)","v":""},{"$f":"IF(A42=\"\",\"\",VLOOKUP(A42,'Structural Water Quality Calcs'!$A$8:$AE$149,31,0))","v":""},{"$f":"IF(A42=\"\",\"\",VLOOKUP(A42,'Structural Water Quality Calcs'!$A$8:$AE$149,26,0))","v":""},{"$f":"IF(A42=\"\",\"\",VLOOKUP(A42,'Structural Water Quality Calcs'!$A$8:$AE$149,27,0))","v":""},{"$f":"IF(A42=\"\",\"\",(VLOOKUP(A42,'Structural Water Quality Calcs'!$A$8:$AE$149,25,0)))","v":""},{"$f":"IF(A42=\"\",\"\",VLOOKUP(A42,'Structural Water Quality Calcs'!$A$8:$AE$149,24,0))","v":""},{"$f":"IF(A42=\"\",\"\",VLOOKUP(A42,STU_Cost!$A$5:$G$150,4,0))","v":""},{"$f":"IF(A42=\"\",\"\",VLOOKUP(A42,STU_Cost!$A$5:$G$150,5,0))","v":""},{"$f":"IF(A42=\"\",\"\",VLOOKUP(A42,STU_Cost!$A$5:$G$150,6,0))","v":""},{"$f":"IF(A42=\"\",\"\",VLOOKUP(A42,STU_Cost!$A$5:$G$150,7,0))","v":""},null,null,{"$f":"IF(A42=\"\",\"\",VLOOKUP(A42,STU!$A$5:$E$300,5,0))","v":""}]
[null,{"$f":"IF(A43=\"\",\"\",VLOOKUP(A43,'Structural Water Quality Calcs'!$A$9:$F$79,6,0))","v":""},{"$f":"IF(A43=\"\",\"\",VLOOKUP(A43,'Structural Water Quality Calcs'!$A$8:$AE$149,3,0))","v":""},{"$f":"IF(A43=\"\",\"\",SUMIFS(Catchment!$V$5:$V$300,Catchment!$D$5:$D$300,\"RIDOT\",Catchment!$K$5:$K$300,A43))","v":""},{"$f":"IF(A43=\"\",\"\",VLOOKUP(A43,'Structural Water Quality Calcs'!$A$8:$AE$149,4,0))","v":""},{"$f":"IF(A43=\"\",\"\",SUMIFS(Catchment!$L$5:$L$300,Catchment!$D$5:$D$300,\"RIDOT\",Catchment!$K$5:$K$300,A43))","v":""},{"$f":"IF(A43=\"\",\"\",VLOOKUP(A43, 'Structural Water Quality Calcs'!$A$8:$AE$149,11,0))","v":""},{"$f":"IF(A43=\"\",\"\",SUMIFS(Catchment!$X$5:$X$300,Catchment!$D$5:$D$300,\"RIDOT\",Catchment!$K$5:$K$300,A43))","v":""},{"$f":"IF(A43=\"\",\"\",VLOOKUP(A43,'Structural Water Quality Calcs'!$A$8:$AE$149,12,0)*100)","v":""},{"$f":"IF(A43=\"\",\"\",VLOOKUP(A43,'Structural Water Quality Calcs'!$A$8:$AE$149,13,0))","v":""},{"$f":"IF(A43=\"\",\"\",IF(VLOOKUP(A43,'Structural Water Quality Calcs'!$A$9:$B$149,2,0)=\"Limited ROW\",H43*I43*0.1/100,H43*I43/100))","v":""},{"$f":"IF(A43=\"\",\"\",VLOOKUP(A43,'Structural Water Quality Calcs'!$A$8:$AE$149,17,0))","v":""},{"$f":"IF(A43=\"\",\"\",SUMIFS(Catchment!$Z$5:$Z$300,Catchment!$D$5:$D$300,\"RIDOT\",Catchment!$K$5:$K$300,A43))","v":""},{"$f":"IF(A43=\"\",\"\",VLOOKUP(A43,'Structural Water Quality Calcs'!$A$8:$AE$149,18,0)*100)","v":""},{"$f":"IF(A43=\"\",\"\",VLOOKUP(A43,'Structural Water Quality Calcs'!$A$8:$AE$149,19,0))","v":""},{"$f":"IF(A43=\"\",\"\",IF(VLOOKUP(A43,'Structural Water Quality Calcs'!$A$9:$B$149,2,0)=\"Limited ROW\",M43*N43*0.1/100,M43*N43/100))","v":""},{"$f":"IF(A43=\"\",\"\",VLOOKUP(A43,'Structural Water Quality Calcs'!$A$8:$AE$149,14,0))","v":""},{"$f":"IF(A43=\"\",\"\",SUMIFS(Catchment!$Y$5:$Y$300,Catchment!$D$5:$D$300,\"RIDOT\",Catchment!$K$5:$K$300,A43))","v":""},{"$f":"IF(A43=\"\",\"\",VLOOKUP(A43,'Structural Water Quality Calcs'!$A$8:$AE$149,15,0)*100)","v":""},{"$f":"IF(A43=\"\",\"\",VLOOKUP(A43,'Structural Water Quality Calcs'!$A$8:$AE$149,16,0))","v":""},{"$f":"IF(A43=\"\",\"\",IF(VLOOKUP(A43,'Structural Water Quality Calcs'!$A$9:$B$149,2,0)=\"Limited ROW\",R43*S43*0.1/100,R43*S43/100))","v":""},{"$f":"IF(A43=\"\",\"\",VLOOKUP(A43,'Structural Water Quality Calcs'!$A$8:$AE$149,20,0))","v":""},{"$f":"IF(A43=\"\",\"\",SUMIFS(Catchment!$AA$5:$AA$300,Catchment!$D$5:$D$300,\"RIDOT\",Catchment!$K$5:$K$300,A43))","v":""},{"$f":"IF(A43=\"\",\"\",VLOOKUP(A43,'Structural Water Quality Calcs'!$A$8:$AE$149,21,0)*100)","v":""},{"$f":"IF(A43=\"\",\"\",VLOOKUP(A43,'Structural Water Quality Calcs'!$A$8:$AE$149,22,0))","v":""},{"$f":"IF(A43=\"\",\"\",IF(VLOOKUP(A43,'Structural Water Quality Calcs'!$A$9:$B$149,2,0)=\"Limited ROW\",W43*X43*0.1/100,W43*X43/100))","v":""},{"$f":"IF(A43=\"\",\"\",VLOOKUP(A43,'Structural Water Quality Calcs'!$A$8:$AE$149,29,0))","v":""},{"$f":"IF(A43=\"\",\"\",IF(VLOOKUP(A43,'Structural Water Quality Calcs'!$A$9:$B$149,2,0)=\"Limited ROW\",VLOOKUP(A43,'Structural Water Quality Calcs'!$A$8:$AE$149,28,0)*F43*0.1/43560,VLOOKUP(A43,'Structural Water Quality Calcs'!$A$8:$AE$149,28,0)*F43/43560))","v":""},{"$f":"IF(A43=\"\",\"\",VLOOKUP(A43,'Structural Water Quality Calcs'!$A$8:$AE$149,28,0)*100)","v":""},{"$f":"IF(A43=\"\",\"\",VLOOKUP(A43,'Structural Water Quality Calcs'!$A$8:$AE$149,31,0))","v":""},{"$f":"IF(A43=\"\",\"\",VLOOKUP(A43,'Structural Water Quality Calcs'!$A$8:$AE$149,26,0))","v":""},{"$f":"IF(A43=\"\",\"\",VLOOKUP(A43,'Structural Water Quality Calcs'!$A$8:$AE$149,27,0))","v":""},{"$f":"IF(A43=\"\",\"\",(VLOOKUP(A43,'Structural Water Quality Calcs'!$A$8:$AE$149,25,0)))","v":""},{"$f":"IF(A43=\"\",\"\",VLOOKUP(A43,'Structural Water Quality Calcs'!$A$8:$AE$149,24,0))","v":""},{"$f":"IF(A43=\"\",\"\",VLOOKUP(A43,STU_Cost!$A$5:$G$150,4,0))","v":""},{"$f":"IF(A43=\"\",\"\",VLOOKUP(A43,STU_Cost!$A$5:$G$150,5,0))","v":""},{"$f":"IF(A43=\"\",\"\",VLOOKUP(A43,STU_Cost!$A$5:$G$150,6,0))","v":""},{"$f":"IF(A43=\"\",\"\",VLOOKUP(A43,STU_Cost!$A$5:$G$150,7,0))","v":""},null,null,{"$f":"IF(A43=\"\",\"\",VLOOKUP(A43,STU!$A$5:$E$300,5,0))","v":""}]
[null,{"$f":"IF(A44=\"\",\"\",VLOOKUP(A44,'Structural Water Quality Calcs'!$A$9:$F$79,6,0))","v":""},{"$f":"IF(A44=\"\",\"\",VLOOKUP(A44,'Structural Water Quality Calcs'!$A$8:$AE$149,3,0))","v":""},{"$f":"IF(A44=\"\",\"\",SUMIFS(Catchment!$V$5:$V$300,Catchment!$D$5:$D$300,\"RIDOT\",Catchment!$K$5:$K$300,A44))","v":""},{"$f":"IF(A44=\"\",\"\",VLOOKUP(A44,'Structural Water Quality Calcs'!$A$8:$AE$149,4,0))","v":""},{"$f":"IF(A44=\"\",\"\",SUMIFS(Catchment!$L$5:$L$300,Catchment!$D$5:$D$300,\"RIDOT\",Catchment!$K$5:$K$300,A44))","v":""},{"$f":"IF(A44=\"\",\"\",VLOOKUP(A44, 'Structural Water Quality Calcs'!$A$8:$AE$149,11,0))","v":""},{"$f":"IF(A44=\"\",\"\",SUMIFS(Catchment!$X$5:$X$300,Catchment!$D$5:$D$300,\"RIDOT\",Catchment!$K$5:$K$300,A44))","v":""},{"$f":"IF(A44=\"\",\"\",VLOOKUP(A44,'Structural Water Quality Calcs'!$A$8:$AE$149,12,0)*100)","v":""},{"$f":"IF(A44=\"\",\"\",VLOOKUP(A44,'Structural Water Quality Calcs'!$A$8:$AE$149,13,0))","v":""},{"$f":"IF(A44=\"\",\"\",IF(VLOOKUP(A44,'Structural Water Quality Calcs'!$A$9:$B$149,2,0)=\"Limited ROW\",H44*I44*0.1/100,H44*I44/100))","v":""},{"$f":"IF(A44=\"\",\"\",VLOOKUP(A44,'Structural Water Quality Calcs'!$A$8:$AE$149,17,0))","v":""},{"$f":"IF(A44=\"\",\"\",SUMIFS(Catchment!$Z$5:$Z$300,Catchment!$D$5:$D$300,\"RIDOT\",Catchment!$K$5:$K$300,A44))","v":""},{"$f":"IF(A44=\"\",\"\",VLOOKUP(A44,'Structural Water Quality Calcs'!$A$8:$AE$149,18,0)*100)","v":""},{"$f":"IF(A44=\"\",\"\",VLOOKUP(A44,'Structural Water Quality Calcs'!$A$8:$AE$149,19,0))","v":""},{"$f":"IF(A44=\"\",\"\",IF(VLOOKUP(A44,'Structural Water Quality Calcs'!$A$9:$B$149,2,0)=\"Limited ROW\",M44*N44*0.1/100,M44*N44/100))","v":""},{"$f":"IF(A44=\"\",\"\",VLOOKUP(A44,'Structural Water Quality Calcs'!$A$8:$AE$149,14,0))","v":""},{"$f":"IF(A44=\"\",\"\",SUMIFS(Catchment!$Y$5:$Y$300,Catchment!$D$5:$D$300,\"RIDOT\",Catchment!$K$5:$K$300,A44))","v":""},{"$f":"IF(A44=\"\",\"\",VLOOKUP(A44,'Structural Water Quality Calcs'!$A$8:$AE$149,15,0)*100)","v":""},{"$f":"IF(A44=\"\",\"\",VLOOKUP(A44,'Structural Water Quality Calcs'!$A$8:$AE$149,16,0))","v":""},{"$f":"IF(A44=\"\",\"\",IF(VLOOKUP(A44,'Structural Water Quality Calcs'!$A$9:$B$149,2,0)=\"Limited ROW\",R44*S44*0.1/100,R44*S44/100))","v":""},{"$f":"IF(A44=\"\",\"\",VLOOKUP(A44,'Structural Water Quality Calcs'!$A$8:$AE$149,20,0))","v":""},{"$f":"IF(A44=\"\",\"\",SUMIFS(Catchment!$AA$5:$AA$300,Catchment!$D$5:$D$300,\"RIDOT\",Catchment!$K$5:$K$300,A44))","v":""},{"$f":"IF(A44=\"\",\"\",VLOOKUP(A44,'Structural Water Quality Calcs'!$A$8:$AE$149,21,0)*100)","v":""},{"$f":"IF(A44=\"\",\"\",VLOOKUP(A44,'Structural Water Quality Calcs'!$A$8:$AE$149,22,0))","v":""},{"$f":"IF(A44=\"\",\"\",IF(VLOOKUP(A44,'Structural Water Quality Calcs'!$A$9:$B$149,2,0)=\"Limited ROW\",W44*X44*0.1/100,W44*X44/100))","v":""},{"$f":"IF(A44=\"\",\"\",VLOOKUP(A44,'Structural Water Quality Calcs'!$A$8:$AE$149,29,0))","v":""},{"$f":"IF(A44=\"\",\"\",IF(VLOOKUP(A44,'Structural Water Quality Calcs'!$A$9:$B$149,2,0)=\"Limited ROW\",VLOOKUP(A44,'Structural Water Quality Calcs'!$A$8:$AE$149,28,0)*F44*0.1/43560,VLOOKUP(A44,'Structural Water Quality Calcs'!$A$8:$AE$149,28,0)*F44/43560))","v":""},{"$f":"IF(A44=\"\",\"\",VLOOKUP(A44,'Structural Water Quality Calcs'!$A$8:$AE$149,28,0)*100)","v":""},{"$f":"IF(A44=\"\",\"\",VLOOKUP(A44,'Structural Water Quality Calcs'!$A$8:$AE$149,31,0))","v":""},{"$f":"IF(A44=\"\",\"\",VLOOKUP(A44,'Structural Water Quality Calcs'!$A$8:$AE$149,26,0))","v":""},{"$f":"IF(A44=\"\",\"\",VLOOKUP(A44,'Structural Water Quality Calcs'!$A$8:$AE$149,27,0))","v":""},{"$f":"IF(A44=\"\",\"\",(VLOOKUP(A44,'Structural Water Quality Calcs'!$A$8:$AE$149,25,0)))","v":""},{"$f":"IF(A44=\"\",\"\",VLOOKUP(A44,'Structural Water Quality Calcs'!$A$8:$AE$149,24,0))","v":""},{"$f":"IF(A44=\"\",\"\",VLOOKUP(A44,STU_Cost!$A$5:$G$150,4,0))","v":""},{"$f":"IF(A44=\"\",\"\",VLOOKUP(A44,STU_Cost!$A$5:$G$150,5,0))","v":""},{"$f":"IF(A44=\"\",\"\",VLOOKUP(A44,STU_Cost!$A$5:$G$150,6,0))","v":""},{"$f":"IF(A44=\"\",\"\",VLOOKUP(A44,STU_Cost!$A$5:$G$150,7,0))","v":""},null,null,{"$f":"IF(A44=\"\",\"\",VLOOKUP(A44,STU!$A$5:$E$300,5,0))","v":""}]
[null,{"$f":"IF(A45=\"\",\"\",VLOOKUP(A45,'Structural Water Quality Calcs'!$A$9:$F$79,6,0))","v":""},{"$f":"IF(A45=\"\",\"\",VLOOKUP(A45,'Structural Water Quality Calcs'!$A$8:$AE$149,3,0))","v":""},{"$f":"IF(A45=\"\",\"\",SUMIFS(Catchment!$V$5:$V$300,Catchment!$D$5:$D$300,\"RIDOT\",Catchment!$K$5:$K$300,A45))","v":""},{"$f":"IF(A45=\"\",\"\",VLOOKUP(A45,'Structural Water Quality Calcs'!$A$8:$AE$149,4,0))","v":""},{"$f":"IF(A45=\"\",\"\",SUMIFS(Catchment!$L$5:$L$300,Catchment!$D$5:$D$300,\"RIDOT\",Catchment!$K$5:$K$300,A45))","v":""},{"$f":"IF(A45=\"\",\"\",VLOOKUP(A45, 'Structural Water Quality Calcs'!$A$8:$AE$149,11,0))","v":""},{"$f":"IF(A45=\"\",\"\",SUMIFS(Catchment!$X$5:$X$300,Catchment!$D$5:$D$300,\"RIDOT\",Catchment!$K$5:$K$300,A45))","v":""},{"$f":"IF(A45=\"\",\"\",VLOOKUP(A45,'Structural Water Quality Calcs'!$A$8:$AE$149,12,0)*100)","v":""},{"$f":"IF(A45=\"\",\"\",VLOOKUP(A45,'Structural Water Quality Calcs'!$A$8:$AE$149,13,0))","v":""},{"$f":"IF(A45=\"\",\"\",IF(VLOOKUP(A45,'Structural Water Quality Calcs'!$A$9:$B$149,2,0)=\"Limited ROW\",H45*I45*0.1/100,H45*I45/100))","v":""},{"$f":"IF(A45=\"\",\"\",VLOOKUP(A45,'Structural Water Quality Calcs'!$A$8:$AE$149,17,0))","v":""},{"$f":"IF(A45=\"\",\"\",SUMIFS(Catchment!$Z$5:$Z$300,Catchment!$D$5:$D$300,\"RIDOT\",Catchment!$K$5:$K$300,A45))","v":""},{"$f":"IF(A45=\"\",\"\",VLOOKUP(A45,'Structural Water Quality Calcs'!$A$8:$AE$149,18,0)*100)","v":""},{"$f":"IF(A45=\"\",\"\",VLOOKUP(A45,'Structural Water Quality Calcs'!$A$8:$AE$149,19,0))","v":""},{"$f":"IF(A45=\"\",\"\",IF(VLOOKUP(A45,'Structural Water Quality Calcs'!$A$9:$B$149,2,0)=\"Limited ROW\",M45*N45*0.1/100,M45*N45/100))","v":""},{"$f":"IF(A45=\"\",\"\",VLOOKUP(A45,'Structural Water Quality Calcs'!$A$8:$AE$149,14,0))","v":""},{"$f":"IF(A45=\"\",\"\",SUMIFS(Catchment!$Y$5:$Y$300,Catchment!$D$5:$D$300,\"RIDOT\",Catchment!$K$5:$K$300,A45))","v":""},{"$f":"IF(A45=\"\",\"\",VLOOKUP(A45,'Structural Water Quality Calcs'!$A$8:$AE$149,15,0)*100)","v":""},{"$f":"IF(A45=\"\",\"\",VLOOKUP(A45,'Structural Water Quality Calcs'!$A$8:$AE$149,16,0))","v":""},{"$f":"IF(A45=\"\",\"\",IF(VLOOKUP(A45,'Structural Water Quality Calcs'!$A$9:$B$149,2,0)=\"Limited ROW\",R45*S45*0.1/100,R45*S45/100))","v":""},{"$f":"IF(A45=\"\",\"\",VLOOKUP(A45,'Structural Water Quality Calcs'!$A$8:$AE$149,20,0))","v":""},{"$f":"IF(A45=\"\",\"\",SUMIFS(Catchment!$AA$5:$AA$300,Catchment!$D$5:$D$300,\"RIDOT\",Catchment!$K$5:$K$300,A45))","v":""},{"$f":"IF(A45=\"\",\"\",VLOOKUP(A45,'Structural Water Quality Calcs'!$A$8:$AE$149,21,0)*100)","v":""},{"$f":"IF(A45=\"\",\"\",VLOOKUP(A45,'Structural Water Quality Calcs'!$A$8:$AE$149,22,0))","v":""},{"$f":"IF(A45=\"\",\"\",IF(VLOOKUP(A45,'Structural Water Quality Calcs'!$A$9:$B$149,2,0)=\"Limited ROW\",W45*X45*0.1/100,W45*X45/100))","v":""},{"$f":"IF(A45=\"\",\"\",VLOOKUP(A45,'Structural Water Quality Calcs'!$A$8:$AE$149,29,0))","v":""},{"$f":"IF(A45=\"\",\"\",IF(VLOOKUP(A45,'Structural Water Quality Calcs'!$A$9:$B$149,2,0)=\"Limited ROW\",VLOOKUP(A45,'Structural Water Quality Calcs'!$A$8:$AE$149,28,0)*F45*0.1/43560,VLOOKUP(A45,'Structural Water Quality Calcs'!$A$8:$AE$149,28,0)*F45/43560))","v":""},{"$f":"IF(A45=\"\",\"\",VLOOKUP(A45,'Structural Water Quality Calcs'!$A$8:$AE$149,28,0)*100)","v":""},{"$f":"IF(A45=\"\",\"\",VLOOKUP(A45,'Structural Water Quality Calcs'!$A$8:$AE$149,31,0))","v":""},{"$f":"IF(A45=\"\",\"\",VLOOKUP(A45,'Structural Water Quality Calcs'!$A$8:$AE$149,26,0))","v":""},{"$f":"IF(A45=\"\",\"\",VLOOKUP(A45,'Structural Water Quality Calcs'!$A$8:$AE$149,27,0))","v":""},{"$f":"IF(A45=\"\",\"\",(VLOOKUP(A45,'Structural Water Quality Calcs'!$A$8:$AE$149,25,0)))","v":""},{"$f":"IF(A45=\"\",\"\",VLOOKUP(A45,'Structural Water Quality Calcs'!$A$8:$AE$149,24,0))","v":""},{"$f":"IF(A45=\"\",\"\",VLOOKUP(A45,STU_Cost!$A$5:$G$150,4,0))","v":""},{"$f":"IF(A45=\"\",\"\",VLOOKUP(A45,STU_Cost!$A$5:$G$150,5,0))","v":""},{"$f":"IF(A45=\"\",\"\",VLOOKUP(A45,STU_Cost!$A$5:$G$150,6,0))","v":""},{"$f":"IF(A45=\"\",\"\",VLOOKUP(A45,STU_Cost!$A$5:$G$150,7,0))","v":""},null,null,{"$f":"IF(A45=\"\",\"\",VLOOKUP(A45,STU!$A$5:$E$300,5,0))","v":""}]
[null,{"$f":"IF(A46=\"\",\"\",VLOOKUP(A46,'Structural Water Quality Calcs'!$A$9:$F$79,6,0))","v":""},{"$f":"IF(A46=\"\",\"\",VLOOKUP(A46,'Structural Water Quality Calcs'!$A$8:$AE$149,3,0))","v":""},{"$f":"IF(A46=\"\",\"\",SUMIFS(Catchment!$V$5:$V$300,Catchment!$D$5:$D$300,\"RIDOT\",Catchment!$K$5:$K$300,A46))","v":""},{"$f":"IF(A46=\"\",\"\",VLOOKUP(A46,'Structural Water Quality Calcs'!$A$8:$AE$149,4,0))","v":""},{"$f":"IF(A46=\"\",\"\",SUMIFS(Catchment!$L$5:$L$300,Catchment!$D$5:$D$300,\"RIDOT\",Catchment!$K$5:$K$300,A46))","v":""},{"$f":"IF(A46=\"\",\"\",VLOOKUP(A46, 'Structural Water Quality Calcs'!$A$8:$AE$149,11,0))","v":""},{"$f":"IF(A46=\"\",\"\",SUMIFS(Catchment!$X$5:$X$300,Catchment!$D$5:$D$300,\"RIDOT\",Catchment!$K$5:$K$300,A46))","v":""},{"$f":"IF(A46=\"\",\"\",VLOOKUP(A46,'Structural Water Quality Calcs'!$A$8:$AE$149,12,0)*100)","v":""},{"$f":"IF(A46=\"\",\"\",VLOOKUP(A46,'Structural Water Quality Calcs'!$A$8:$AE$149,13,0))","v":""},{"$f":"IF(A46=\"\",\"\",IF(VLOOKUP(A46,'Structural Water Quality Calcs'!$A$9:$B$149,2,0)=\"Limited ROW\",H46*I46*0.1/100,H46*I46/100))","v":""},{"$f":"IF(A46=\"\",\"\",VLOOKUP(A46,'Structural Water Quality Calcs'!$A$8:$AE$149,17,0))","v":""},{"$f":"IF(A46=\"\",\"\",SUMIFS(Catchment!$Z$5:$Z$300,Catchment!$D$5:$D$300,\"RIDOT\",Catchment!$K$5:$K$300,A46))","v":""},{"$f":"IF(A46=\"\",\"\",VLOOKUP(A46,'Structural Water Quality Calcs'!$A$8:$AE$149,18,0)*100)","v":""},{"$f":"IF(A46=\"\",\"\",VLOOKUP(A46,'Structural Water Quality Calcs'!$A$8:$AE$149,19,0))","v":""},{"$f":"IF(A46=\"\",\"\",IF(VLOOKUP(A46,'Structural Water Quality Calcs'!$A$9:$B$149,2,0)=\"Limited ROW\",M46*N46*0.1/100,M46*N46/100))","v":""},{"$f":"IF(A46=\"\",\"\",VLOOKUP(A46,'Structural Water Quality Calcs'!$A$8:$AE$149,14,0))","v":""},{"$f":"IF(A46=\"\",\"\",SUMIFS(Catchment!$Y$5:$Y$300,Catchment!$D$5:$D$300,\"RIDOT\",Catchment!$K$5:$K$300,A46))","v":""},{"$f":"IF(A46=\"\",\"\",VLOOKUP(A46,'Structural Water Quality Calcs'!$A$8:$AE$149,15,0)*100)","v":""},{"$f":"IF(A46=\"\",\"\",VLOOKUP(A46,'Structural Water Quality Calcs'!$A$8:$AE$149,16,0))","v":""},{"$f":"IF(A46=\"\",\"\",IF(VLOOKUP(A46,'Structural Water Quality Calcs'!$A$9:$B$149,2,0)=\"Limited ROW\",R46*S46*0.1/100,R46*S46/100))","v":""},{"$f":"IF(A46=\"\",\"\",VLOOKUP(A46,'Structural Water Quality Calcs'!$A$8:$AE$149,20,0))","v":""},{"$f":"IF(A46=\"\",\"\",SUMIFS(Catchment!$AA$5:$AA$300,Catchment!$D$5:$D$300,\"RIDOT\",Catchment!$K$5:$K$300,A46))","v":""},{"$f":"IF(A46=\"\",\"\",VLOOKUP(A46,'Structural Water Quality Calcs'!$A$8:$AE$149,21,0)*100)","v":""},{"$f":"IF(A46=\"\",\"\",VLOOKUP(A46,'Structural Water Quality Calcs'!$A$8:$AE$149,22,0))","v":""},{"$f":"IF(A46=\"\",\"\",IF(VLOOKUP(A46,'Structural Water Quality Calcs'!$A$9:$B$149,2,0)=\"Limited ROW\",W46*X46*0.1/100,W46*X46/100))","v":""},{"$f":"IF(A46=\"\",\"\",VLOOKUP(A46,'Structural Water Quality Calcs'!$A$8:$AE$149,29,0))","v":""},{"$f":"IF(A46=\"\",\"\",IF(VLOOKUP(A46,'Structural Water Quality Calcs'!$A$9:$B$149,2,0)=\"Limited ROW\",VLOOKUP(A46,'Structural Water Quality Calcs'!$A$8:$AE$149,28,0)*F46*0.1/43560,VLOOKUP(A46,'Structural Water Quality Calcs'!$A$8:$AE$149,28,0)*F46/43560))","v":""},{"$f":"IF(A46=\"\",\"\",VLOOKUP(A46,'Structural Water Quality Calcs'!$A$8:$AE$149,28,0)*100)","v":""},{"$f":"IF(A46=\"\",\"\",VLOOKUP(A46,'Structural Water Quality Calcs'!$A$8:$AE$149,31,0))","v":""},{"$f":"IF(A46=\"\",\"\",VLOOKUP(A46,'Structural Water Quality Calcs'!$A$8:$AE$149,26,0))","v":""},{"$f":"IF(A46=\"\",\"\",VLOOKUP(A46,'Structural Water Quality Calcs'!$A$8:$AE$149,27,0))","v":""},{"$f":"IF(A46=\"\",\"\",(VLOOKUP(A46,'Structural Water Quality Calcs'!$A$8:$AE$149,25,0)))","v":""},{"$f":"IF(A46=\"\",\"\",VLOOKUP(A46,'Structural Water Quality Calcs'!$A$8:$AE$149,24,0))","v":""},{"$f":"IF(A46=\"\",\"\",VLOOKUP(A46,STU_Cost!$A$5:$G$150,4,0))","v":""},{"$f":"IF(A46=\"\",\"\",VLOOKUP(A46,STU_Cost!$A$5:$G$150,5,0))","v":""},{"$f":"IF(A46=\"\",\"\",VLOOKUP(A46,STU_Cost!$A$5:$G$150,6,0))","v":""},{"$f":"IF(A46=\"\",\"\",VLOOKUP(A46,STU_Cost!$A$5:$G$150,7,0))","v":""},null,null,{"$f":"IF(A46=\"\",\"\",VLOOKUP(A46,STU!$A$5:$E$300,5,0))","v":""}]
[null,{"$f":"IF(A47=\"\",\"\",VLOOKUP(A47,'Structural Water Quality Calcs'!$A$9:$F$79,6,0))","v":""},{"$f":"IF(A47=\"\",\"\",VLOOKUP(A47,'Structural Water Quality Calcs'!$A$8:$AE$149,3,0))","v":""},{"$f":"IF(A47=\"\",\"\",SUMIFS(Catchment!$V$5:$V$300,Catchment!$D$5:$D$300,\"RIDOT\",Catchment!$K$5:$K$300,A47))","v":""},{"$f":"IF(A47=\"\",\"\",VLOOKUP(A47,'Structural Water Quality Calcs'!$A$8:$AE$149,4,0))","v":""},{"$f":"IF(A47=\"\",\"\",SUMIFS(Catchment!$L$5:$L$300,Catchment!$D$5:$D$300,\"RIDOT\",Catchment!$K$5:$K$300,A47))","v":""},{"$f":"IF(A47=\"\",\"\",VLOOKUP(A47, 'Structural Water Quality Calcs'!$A$8:$AE$149,11,0))","v":""},{"$f":"IF(A47=\"\",\"\",SUMIFS(Catchment!$X$5:$X$300,Catchment!$D$5:$D$300,\"RIDOT\",Catchment!$K$5:$K$300,A47))","v":""},{"$f":"IF(A47=\"\",\"\",VLOOKUP(A47,'Structural Water Quality Calcs'!$A$8:$AE$149,12,0)*100)","v":""},{"$f":"IF(A47=\"\",\"\",VLOOKUP(A47,'Structural Water Quality Calcs'!$A$8:$AE$149,13,0))","v":""},{"$f":"IF(A47=\"\",\"\",IF(VLOOKUP(A47,'Structural Water Quality Calcs'!$A$9:$B$149,2,0)=\"Limited ROW\",H47*I47*0.1/100,H47*I47/100))","v":""},{"$f":"IF(A47=\"\",\"\",VLOOKUP(A47,'Structural Water Quality Calcs'!$A$8:$AE$149,17,0))","v":""},{"$f":"IF(A47=\"\",\"\",SUMIFS(Catchment!$Z$5:$Z$300,Catchment!$D$5:$D$300,\"RIDOT\",Catchment!$K$5:$K$300,A47))","v":""},{"$f":"IF(A47=\"\",\"\",VLOOKUP(A47,'Structural Water Quality Calcs'!$A$8:$AE$149,18,0)*100)","v":""},{"$f":"IF(A47=\"\",\"\",VLOOKUP(A47,'Structural Water Quality Calcs'!$A$8:$AE$149,19,0))","v":""},{"$f":"IF(A47=\"\",\"\",IF(VLOOKUP(A47,'Structural Water Quality Calcs'!$A$9:$B$149,2,0)=\"Limited ROW\",M47*N47*0.1/100,M47*N47/100))","v":""},{"$f":"IF(A47=\"\",\"\",VLOOKUP(A47,'Structural Water Quality Calcs'!$A$8:$AE$149,14,0))","v":""},{"$f":"IF(A47=\"\",\"\",SUMIFS(Catchment!$Y$5:$Y$300,Catchment!$D$5:$D$300,\"RIDOT\",Catchment!$K$5:$K$300,A47))","v":""},{"$f":"IF(A47=\"\",\"\",VLOOKUP(A47,'Structural Water Quality Calcs'!$A$8:$AE$149,15,0)*100)","v":""},{"$f":"IF(A47=\"\",\"\",VLOOKUP(A47,'Structural Water Quality Calcs'!$A$8:$AE$149,16,0))","v":""},{"$f":"IF(A47=\"\",\"\",IF(VLOOKUP(A47,'Structural Water Quality Calcs'!$A$9:$B$149,2,0)=\"Limited ROW\",R47*S47*0.1/100,R47*S47/100))","v":""},{"$f":"IF(A47=\"\",\"\",VLOOKUP(A47,'Structural Water Quality Calcs'!$A$8:$AE$149,20,0))","v":""},{"$f":"IF(A47=\"\",\"\",SUMIFS(Catchment!$AA$5:$AA$300,Catchment!$D$5:$D$300,\"RIDOT\",Catchment!$K$5:$K$300,A47))","v":""},{"$f":"IF(A47=\"\",\"\",VLOOKUP(A47,'Structural Water Quality Calcs'!$A$8:$AE$149,21,0)*100)","v":""},{"$f":"IF(A47=\"\",\"\",VLOOKUP(A47,'Structural Water Quality Calcs'!$A$8:$AE$149,22,0))","v":""},{"$f":"IF(A47=\"\",\"\",IF(VLOOKUP(A47,'Structural Water Quality Calcs'!$A$9:$B$149,2,0)=\"Limited ROW\",W47*X47*0.1/100,W47*X47/100))","v":""},{"$f":"IF(A47=\"\",\"\",VLOOKUP(A47,'Structural Water Quality Calcs'!$A$8:$AE$149,29,0))","v":""},{"$f":"IF(A47=\"\",\"\",IF(VLOOKUP(A47,'Structural Water Quality Calcs'!$A$9:$B$149,2,0)=\"Limited ROW\",VLOOKUP(A47,'Structural Water Quality Calcs'!$A$8:$AE$149,28,0)*F47*0.1/43560,VLOOKUP(A47,'Structural Water Quality Calcs'!$A$8:$AE$149,28,0)*F47/43560))","v":""},{"$f":"IF(A47=\"\",\"\",VLOOKUP(A47,'Structural Water Quality Calcs'!$A$8:$AE$149,28,0)*100)","v":""},{"$f":"IF(A47=\"\",\"\",VLOOKUP(A47,'Structural Water Quality Calcs'!$A$8:$AE$149,31,0))","v":""},{"$f":"IF(A47=\"\",\"\",VLOOKUP(A47,'Structural Water Quality Calcs'!$A$8:$AE$149,26,0))","v":""},{"$f":"IF(A47=\"\",\"\",VLOOKUP(A47,'Structural Water Quality Calcs'!$A$8:$AE$149,27,0))","v":""},{"$f":"IF(A47=\"\",\"\",(VLOOKUP(A47,'Structural Water Quality Calcs'!$A$8:$AE$149,25,0)))","v":""},{"$f":"IF(A47=\"\",\"\",VLOOKUP(A47,'Structural Water Quality Calcs'!$A$8:$AE$149,24,0))","v":""},{"$f":"IF(A47=\"\",\"\",VLOOKUP(A47,STU_Cost!$A$5:$G$150,4,0))","v":""},{"$f":"IF(A47=\"\",\"\",VLOOKUP(A47,STU_Cost!$A$5:$G$150,5,0))","v":""},{"$f":"IF(A47=\"\",\"\",VLOOKUP(A47,STU_Cost!$A$5:$G$150,6,0))","v":""},{"$f":"IF(A47=\"\",\"\",VLOOKUP(A47,STU_Cost!$A$5:$G$150,7,0))","v":""},null,null,{"$f":"IF(A47=\"\",\"\",VLOOKUP(A47,STU!$A$5:$E$300,5,0))","v":""}]
[null,{"$f":"IF(A48=\"\",\"\",VLOOKUP(A48,'Structural Water Quality Calcs'!$A$9:$F$79,6,0))","v":""},{"$f":"IF(A48=\"\",\"\",VLOOKUP(A48,'Structural Water Quality Calcs'!$A$8:$AE$149,3,0))","v":""},{"$f":"IF(A48=\"\",\"\",SUMIFS(Catchment!$V$5:$V$300,Catchment!$D$5:$D$300,\"RIDOT\",Catchment!$K$5:$K$300,A48))","v":""},{"$f":"IF(A48=\"\",\"\",VLOOKUP(A48,'Structural Water Quality Calcs'!$A$8:$AE$149,4,0))","v":""},{"$f":"IF(A48=\"\",\"\",SUMIFS(Catchment!$L$5:$L$300,Catchment!$D$5:$D$300,\"RIDOT\",Catchment!$K$5:$K$300,A48))","v":""},{"$f":"IF(A48=\"\",\"\",VLOOKUP(A48, 'Structural Water Quality Calcs'!$A$8:$AE$149,11,0))","v":""},{"$f":"IF(A48=\"\",\"\",SUMIFS(Catchment!$X$5:$X$300,Catchment!$D$5:$D$300,\"RIDOT\",Catchment!$K$5:$K$300,A48))","v":""},{"$f":"IF(A48=\"\",\"\",VLOOKUP(A48,'Structural Water Quality Calcs'!$A$8:$AE$149,12,0)*100)","v":""},{"$f":"IF(A48=\"\",\"\",VLOOKUP(A48,'Structural Water Quality Calcs'!$A$8:$AE$149,13,0))","v":""},{"$f":"IF(A48=\"\",\"\",IF(VLOOKUP(A48,'Structural Water Quality Calcs'!$A$9:$B$149,2,0)=\"Limited ROW\",H48*I48*0.1/100,H48*I48/100))","v":""},{"$f":"IF(A48=\"\",\"\",VLOOKUP(A48,'Structural Water Quality Calcs'!$A$8:$AE$149,17,0))","v":""},{"$f":"IF(A48=\"\",\"\",SUMIFS(Catchment!$Z$5:$Z$300,Catchment!$D$5:$D$300,\"RIDOT\",Catchment!$K$5:$K$300,A48))","v":""},{"$f":"IF(A48=\"\",\"\",VLOOKUP(A48,'Structural Water Quality Calcs'!$A$8:$AE$149,18,0)*100)","v":""},{"$f":"IF(A48=\"\",\"\",VLOOKUP(A48,'Structural Water Quality Calcs'!$A$8:$AE$149,19,0))","v":""},{"$f":"IF(A48=\"\",\"\",IF(VLOOKUP(A48,'Structural Water Quality Calcs'!$A$9:$B$149,2,0)=\"Limited ROW\",M48*N48*0.1/100,M48*N48/100))","v":""},{"$f":"IF(A48=\"\",\"\",VLOOKUP(A48,'Structural Water Quality Calcs'!$A$8:$AE$149,14,0))","v":""},{"$f":"IF(A48=\"\",\"\",SUMIFS(Catchment!$Y$5:$Y$300,Catchment!$D$5:$D$300,\"RIDOT\",Catchment!$K$5:$K$300,A48))","v":""},{"$f":"IF(A48=\"\",\"\",VLOOKUP(A48,'Structural Water Quality Calcs'!$A$8:$AE$149,15,0)*100)","v":""},{"$f":"IF(A48=\"\",\"\",VLOOKUP(A48,'Structural Water Quality Calcs'!$A$8:$AE$149,16,0))","v":""},{"$f":"IF(A48=\"\",\"\",IF(VLOOKUP(A48,'Structural Water Quality Calcs'!$A$9:$B$149,2,0)=\"Limited ROW\",R48*S48*0.1/100,R48*S48/100))","v":""},{"$f":"IF(A48=\"\",\"\",VLOOKUP(A48,'Structural Water Quality Calcs'!$A$8:$AE$149,20,0))","v":""},{"$f":"IF(A48=\"\",\"\",SUMIFS(Catchment!$AA$5:$AA$300,Catchment!$D$5:$D$300,\"RIDOT\",Catchment!$K$5:$K$300,A48))","v":""},{"$f":"IF(A48=\"\",\"\",VLOOKUP(A48,'Structural Water Quality Calcs'!$A$8:$AE$149,21,0)*100)","v":""},{"$f":"IF(A48=\"\",\"\",VLOOKUP(A48,'Structural Water Quality Calcs'!$A$8:$AE$149,22,0))","v":""},{"$f":"IF(A48=\"\",\"\",IF(VLOOKUP(A48,'Structural Water Quality Calcs'!$A$9:$B$149,2,0)=\"Limited ROW\",W48*X48*0.1/100,W48*X48/100))","v":""},{"$f":"IF(A48=\"\",\"\",VLOOKUP(A48,'Structural Water Quality Calcs'!$A$8:$AE$149,29,0))","v":""},{"$f":"IF(A48=\"\",\"\",IF(VLOOKUP(A48,'Structural Water Quality Calcs'!$A$9:$B$149,2,0)=\"Limited ROW\",VLOOKUP(A48,'Structural Water Quality Calcs'!$A$8:$AE$149,28,0)*F48*0.1/43560,VLOOKUP(A48,'Structural Water Quality Calcs'!$A$8:$AE$149,28,0)*F48/43560))","v":""},{"$f":"IF(A48=\"\",\"\",VLOOKUP(A48,'Structural Water Quality Calcs'!$A$8:$AE$149,28,0)*100)","v":""},{"$f":"IF(A48=\"\",\"\",VLOOKUP(A48,'Structural Water Quality Calcs'!$A$8:$AE$149,31,0))","v":""},{"$f":"IF(A48=\"\",\"\",VLOOKUP(A48,'Structural Water Quality Calcs'!$A$8:$AE$149,26,0))","v":""},{"$f":"IF(A48=\"\",\"\",VLOOKUP(A48,'Structural Water Quality Calcs'!$A$8:$AE$149,27,0))","v":""},{"$f":"IF(A48=\"\",\"\",(VLOOKUP(A48,'Structural Water Quality Calcs'!$A$8:$AE$149,25,0)))","v":""},{"$f":"IF(A48=\"\",\"\",VLOOKUP(A48,'Structural Water Quality Calcs'!$A$8:$AE$149,24,0))","v":""},{"$f":"IF(A48=\"\",\"\",VLOOKUP(A48,STU_Cost!$A$5:$G$150,4,0))","v":""},{"$f":"IF(A48=\"\",\"\",VLOOKUP(A48,STU_Cost!$A$5:$G$150,5,0))","v":""},{"$f":"IF(A48=\"\",\"\",VLOOKUP(A48,STU_Cost!$A$5:$G$150,6,0))","v":""},{"$f":"IF(A48=\"\",\"\",VLOOKUP(A48,STU_Cost!$A$5:$G$150,7,0))","v":""},null,null,{"$f":"IF(A48=\"\",\"\",VLOOKUP(A48,STU!$A$5:$E$300,5,0))","v":""}]
[null,{"$f":"IF(A49=\"\",\"\",VLOOKUP(A49,'Structural Water Quality Calcs'!$A$9:$F$79,6,0))","v":""},{"$f":"IF(A49=\"\",\"\",VLOOKUP(A49,'Structural Water Quality Calcs'!$A$8:$AE$149,3,0))","v":""},{"$f":"IF(A49=\"\",\"\",SUMIFS(Catchment!$V$5:$V$300,Catchment!$D$5:$D$300,\"RIDOT\",Catchment!$K$5:$K$300,A49))","v":""},{"$f":"IF(A49=\"\",\"\",VLOOKUP(A49,'Structural Water Quality Calcs'!$A$8:$AE$149,4,0))","v":""},{"$f":"IF(A49=\"\",\"\",SUMIFS(Catchment!$L$5:$L$300,Catchment!$D$5:$D$300,\"RIDOT\",Catchment!$K$5:$K$300,A49))","v":""},{"$f":"IF(A49=\"\",\"\",VLOOKUP(A49, 'Structural Water Quality Calcs'!$A$8:$AE$149,11,0))","v":""},{"$f":"IF(A49=\"\",\"\",SUMIFS(Catchment!$X$5:$X$300,Catchment!$D$5:$D$300,\"RIDOT\",Catchment!$K$5:$K$300,A49))","v":""},{"$f":"IF(A49=\"\",\"\",VLOOKUP(A49,'Structural Water Quality Calcs'!$A$8:$AE$149,12,0)*100)","v":""},{"$f":"IF(A49=\"\",\"\",VLOOKUP(A49,'Structural Water Quality Calcs'!$A$8:$AE$149,13,0))","v":""},{"$f":"IF(A49=\"\",\"\",IF(VLOOKUP(A49,'Structural Water Quality Calcs'!$A$9:$B$149,2,0)=\"Limited ROW\",H49*I49*0.1/100,H49*I49/100))","v":""},{"$f":"IF(A49=\"\",\"\",VLOOKUP(A49,'Structural Water Quality Calcs'!$A$8:$AE$149,17,0))","v":""},{"$f":"IF(A49=\"\",\"\",SUMIFS(Catchment!$Z$5:$Z$300,Catchment!$D$5:$D$300,\"RIDOT\",Catchment!$K$5:$K$300,A49))","v":""},{"$f":"IF(A49=\"\",\"\",VLOOKUP(A49,'Structural Water Quality Calcs'!$A$8:$AE$149,18,0)*100)","v":""},{"$f":"IF(A49=\"\",\"\",VLOOKUP(A49,'Structural Water Quality Calcs'!$A$8:$AE$149,19,0))","v":""},{"$f":"IF(A49=\"\",\"\",IF(VLOOKUP(A49,'Structural Water Quality Calcs'!$A$9:$B$149,2,0)=\"Limited ROW\",M49*N49*0.1/100,M49*N49/100))","v":""},{"$f":"IF(A49=\"\",\"\",VLOOKUP(A49,'Structural Water Quality Calcs'!$A$8:$AE$149,14,0))","v":""},{"$f":"IF(A49=\"\",\"\",SUMIFS(Catchment!$Y$5:$Y$300,Catchment!$D$5:$D$300,\"RIDOT\",Catchment!$K$5:$K$300,A49))","v":""},{"$f":"IF(A49=\"\",\"\",VLOOKUP(A49,'Structural Water Quality Calcs'!$A$8:$AE$149,15,0)*100)","v":""},{"$f":"IF(A49=\"\",\"\",VLOOKUP(A49,'Structural Water Quality Calcs'!$A$8:$AE$149,16,0))","v":""},{"$f":"IF(A49=\"\",\"\",IF(VLOOKUP(A49,'Structural Water Quality Calcs'!$A$9:$B$149,2,0)=\"Limited ROW\",R49*S49*0.1/100,R49*S49/100))","v":""},{"$f":"IF(A49=\"\",\"\",VLOOKUP(A49,'Structural Water Quality Calcs'!$A$8:$AE$149,20,0))","v":""},{"$f":"IF(A49=\"\",\"\",SUMIFS(Catchment!$AA$5:$AA$300,Catchment!$D$5:$D$300,\"RIDOT\",Catchment!$K$5:$K$300,A49))","v":""},{"$f":"IF(A49=\"\",\"\",VLOOKUP(A49,'Structural Water Quality Calcs'!$A$8:$AE$149,21,0)*100)","v":""},{"$f":"IF(A49=\"\",\"\",VLOOKUP(A49,'Structural Water Quality Calcs'!$A$8:$AE$149,22,0))","v":""},{"$f":"IF(A49=\"\",\"\",IF(VLOOKUP(A49,'Structural Water Quality Calcs'!$A$9:$B$149,2,0)=\"Limited ROW\",W49*X49*0.1/100,W49*X49/100))","v":""},{"$f":"IF(A49=\"\",\"\",VLOOKUP(A49,'Structural Water Quality Calcs'!$A$8:$AE$149,29,0))","v":""},{"$f":"IF(A49=\"\",\"\",IF(VLOOKUP(A49,'Structural Water Quality Calcs'!$A$9:$B$149,2,0)=\"Limited ROW\",VLOOKUP(A49,'Structural Water Quality Calcs'!$A$8:$AE$149,28,0)*F49*0.1/43560,VLOOKUP(A49,'Structural Water Quality Calcs'!$A$8:$AE$149,28,0)*F49/43560))","v":""},{"$f":"IF(A49=\"\",\"\",VLOOKUP(A49,'Structural Water Quality Calcs'!$A$8:$AE$149,28,0)*100)","v":""},{"$f":"IF(A49=\"\",\"\",VLOOKUP(A49,'Structural Water Quality Calcs'!$A$8:$AE$149,31,0))","v":""},{"$f":"IF(A49=\"\",\"\",VLOOKUP(A49,'Structural Water Quality Calcs'!$A$8:$AE$149,26,0))","v":""},{"$f":"IF(A49=\"\",\"\",VLOOKUP(A49,'Structural Water Quality Calcs'!$A$8:$AE$149,27,0))","v":""},{"$f":"IF(A49=\"\",\"\",(VLOOKUP(A49,'Structural Water Quality Calcs'!$A$8:$AE$149,25,0)))","v":""},{"$f":"IF(A49=\"\",\"\",VLOOKUP(A49,'Structural Water Quality Calcs'!$A$8:$AE$149,24,0))","v":""},{"$f":"IF(A49=\"\",\"\",VLOOKUP(A49,STU_Cost!$A$5:$G$150,4,0))","v":""},{"$f":"IF(A49=\"\",\"\",VLOOKUP(A49,STU_Cost!$A$5:$G$150,5,0))","v":""},{"$f":"IF(A49=\"\",\"\",VLOOKUP(A49,STU_Cost!$A$5:$G$150,6,0))","v":""},{"$f":"IF(A49=\"\",\"\",VLOOKUP(A49,STU_Cost!$A$5:$G$150,7,0))","v":""},null,null,{"$f":"IF(A49=\"\",\"\",VLOOKUP(A49,STU!$A$5:$E$300,5,0))","v":""}]
[null,{"$f":"IF(A50=\"\",\"\",VLOOKUP(A50,'Structural Water Quality Calcs'!$A$9:$F$79,6,0))","v":""},{"$f":"IF(A50=\"\",\"\",VLOOKUP(A50,'Structural Water Quality Calcs'!$A$8:$AE$149,3,0))","v":""},{"$f":"IF(A50=\"\",\"\",SUMIFS(Catchment!$V$5:$V$300,Catchment!$D$5:$D$300,\"RIDOT\",Catchment!$K$5:$K$300,A50))","v":""},{"$f":"IF(A50=\"\",\"\",VLOOKUP(A50,'Structural Water Quality Calcs'!$A$8:$AE$149,4,0))","v":""},{"$f":"IF(A50=\"\",\"\",SUMIFS(Catchment!$L$5:$L$300,Catchment!$D$5:$D$300,\"RIDOT\",Catchment!$K$5:$K$300,A50))","v":""},{"$f":"IF(A50=\"\",\"\",VLOOKUP(A50, 'Structural Water Quality Calcs'!$A$8:$AE$149,11,0))","v":""},{"$f":"IF(A50=\"\",\"\",SUMIFS(Catchment!$X$5:$X$300,Catchment!$D$5:$D$300,\"RIDOT\",Catchment!$K$5:$K$300,A50))","v":""},{"$f":"IF(A50=\"\",\"\",VLOOKUP(A50,'Structural Water Quality Calcs'!$A$8:$AE$149,12,0)*100)","v":""},{"$f":"IF(A50=\"\",\"\",VLOOKUP(A50,'Structural Water Quality Calcs'!$A$8:$AE$149,13,0))","v":""},{"$f":"IF(A50=\"\",\"\",IF(VLOOKUP(A50,'Structural Water Quality Calcs'!$A$9:$B$149,2,0)=\"Limited ROW\",H50*I50*0.1/100,H50*I50/100))","v":""},{"$f":"IF(A50=\"\",\"\",VLOOKUP(A50,'Structural Water Quality Calcs'!$A$8:$AE$149,17,0))","v":""},{"$f":"IF(A50=\"\",\"\",SUMIFS(Catchment!$Z$5:$Z$300,Catchment!$D$5:$D$300,\"RIDOT\",Catchment!$K$5:$K$300,A50))","v":""},{"$f":"IF(A50=\"\",\"\",VLOOKUP(A50,'Structural Water Quality Calcs'!$A$8:$AE$149,18,0)*100)","v":""},{"$f":"IF(A50=\"\",\"\",VLOOKUP(A50,'Structural Water Quality Calcs'!$A$8:$AE$149,19,0))","v":""},{"$f":"IF(A50=\"\",\"\",IF(VLOOKUP(A50,'Structural Water Quality Calcs'!$A$9:$B$149,2,0)=\"Limited ROW\",M50*N50*0.1/100,M50*N50/100))","v":""},{"$f":"IF(A50=\"\",\"\",VLOOKUP(A50,'Structural Water Quality Calcs'!$A$8:$AE$149,14,0))","v":""},{"$f":"IF(A50=\"\",\"\",SUMIFS(Catchment!$Y$5:$Y$300,Catchment!$D$5:$D$300,\"RIDOT\",Catchment!$K$5:$K$300,A50))","v":""},{"$f":"IF(A50=\"\",\"\",VLOOKUP(A50,'Structural Water Quality Calcs'!$A$8:$AE$149,15,0)*100)","v":""},{"$f":"IF(A50=\"\",\"\",VLOOKUP(A50,'Structural Water Quality Calcs'!$A$8:$AE$149,16,0))","v":""},{"$f":"IF(A50=\"\",\"\",IF(VLOOKUP(A50,'Structural Water Quality Calcs'!$A$9:$B$149,2,0)=\"Limited ROW\",R50*S50*0.1/100,R50*S50/100))","v":""},{"$f":"IF(A50=\"\",\"\",VLOOKUP(A50,'Structural Water Quality Calcs'!$A$8:$AE$149,20,0))","v":""},{"$f":"IF(A50=\"\",\"\",SUMIFS(Catchment!$AA$5:$AA$300,Catchment!$D$5:$D$300,\"RIDOT\",Catchment!$K$5:$K$300,A50))","v":""},{"$f":"IF(A50=\"\",\"\",VLOOKUP(A50,'Structural Water Quality Calcs'!$A$8:$AE$149,21,0)*100)","v":""},{"$f":"IF(A50=\"\",\"\",VLOOKUP(A50,'Structural Water Quality Calcs'!$A$8:$AE$149,22,0))","v":""},{"$f":"IF(A50=\"\",\"\",IF(VLOOKUP(A50,'Structural Water Quality Calcs'!$A$9:$B$149,2,0)=\"Limited ROW\",W50*X50*0.1/100,W50*X50/100))","v":""},{"$f":"IF(A50=\"\",\"\",VLOOKUP(A50,'Structural Water Quality Calcs'!$A$8:$AE$149,29,0))","v":""},{"$f":"IF(A50=\"\",\"\",IF(VLOOKUP(A50,'Structural Water Quality Calcs'!$A$9:$B$149,2,0)=\"Limited ROW\",VLOOKUP(A50,'Structural Water Quality Calcs'!$A$8:$AE$149,28,0)*F50*0.1/43560,VLOOKUP(A50,'Structural Water Quality Calcs'!$A$8:$AE$149,28,0)*F50/43560))","v":""},{"$f":"IF(A50=\"\",\"\",VLOOKUP(A50,'Structural Water Quality Calcs'!$A$8:$AE$149,28,0)*100)","v":""},{"$f":"IF(A50=\"\",\"\",VLOOKUP(A50,'Structural Water Quality Calcs'!$A$8:$AE$149,31,0))","v":""},{"$f":"IF(A50=\"\",\"\",VLOOKUP(A50,'Structural Water Quality Calcs'!$A$8:$AE$149,26,0))","v":""},{"$f":"IF(A50=\"\",\"\",VLOOKUP(A50,'Structural Water Quality Calcs'!$A$8:$AE$149,27,0))","v":""},{"$f":"IF(A50=\"\",\"\",(VLOOKUP(A50,'Structural Water Quality Calcs'!$A$8:$AE$149,25,0)))","v":""},{"$f":"IF(A50=\"\",\"\",VLOOKUP(A50,'Structural Water Quality Calcs'!$A$8:$AE$149,24,0))","v":""},{"$f":"IF(A50=\"\",\"\",VLOOKUP(A50,STU_Cost!$A$5:$G$150,4,0))","v":""},{"$f":"IF(A50=\"\",\"\",VLOOKUP(A50,STU_Cost!$A$5:$G$150,5,0))","v":""},{"$f":"IF(A50=\"\",\"\",VLOOKUP(A50,STU_Cost!$A$5:$G$150,6,0))","v":""},{"$f":"IF(A50=\"\",\"\",VLOOKUP(A50,STU_Cost!$A$5:$G$150,7,0))","v":""},null,null,{"$f":"IF(A50=\"\",\"\",VLOOKUP(A50,STU!$A$5:$E$300,5,0))","v":""}]
[null,{"$f":"IF(A51=\"\",\"\",VLOOKUP(A51,'Structural Water Quality Calcs'!$A$9:$F$79,6,0))","v":""},{"$f":"IF(A51=\"\",\"\",VLOOKUP(A51,'Structural Water Quality Calcs'!$A$8:$AE$149,3,0))","v":""},{"$f":"IF(A51=\"\",\"\",SUMIFS(Catchment!$V$5:$V$300,Catchment!$D$5:$D$300,\"RIDOT\",Catchment!$K$5:$K$300,A51))","v":""},{"$f":"IF(A51=\"\",\"\",VLOOKUP(A51,'Structural Water Quality Calcs'!$A$8:$AE$149,4,0))","v":""},{"$f":"IF(A51=\"\",\"\",SUMIFS(Catchment!$L$5:$L$300,Catchment!$D$5:$D$300,\"RIDOT\",Catchment!$K$5:$K$300,A51))","v":""},{"$f":"IF(A51=\"\",\"\",VLOOKUP(A51, 'Structural Water Quality Calcs'!$A$8:$AE$149,11,0))","v":""},{"$f":"IF(A51=\"\",\"\",SUMIFS(Catchment!$X$5:$X$300,Catchment!$D$5:$D$300,\"RIDOT\",Catchment!$K$5:$K$300,A51))","v":""},{"$f":"IF(A51=\"\",\"\",VLOOKUP(A51,'Structural Water Quality Calcs'!$A$8:$AE$149,12,0)*100)","v":""},{"$f":"IF(A51=\"\",\"\",VLOOKUP(A51,'Structural Water Quality Calcs'!$A$8:$AE$149,13,0))","v":""},{"$f":"IF(A51=\"\",\"\",IF(VLOOKUP(A51,'Structural Water Quality Calcs'!$A$9:$B$149,2,0)=\"Limited ROW\",H51*I51*0.1/100,H51*I51/100))","v":""},{"$f":"IF(A51=\"\",\"\",VLOOKUP(A51,'Structural Water Quality Calcs'!$A$8:$AE$149,17,0))","v":""},{"$f":"IF(A51=\"\",\"\",SUMIFS(Catchment!$Z$5:$Z$300,Catchment!$D$5:$D$300,\"RIDOT\",Catchment!$K$5:$K$300,A51))","v":""},{"$f":"IF(A51=\"\",\"\",VLOOKUP(A51,'Structural Water Quality Calcs'!$A$8:$AE$149,18,0)*100)","v":""},{"$f":"IF(A51=\"\",\"\",VLOOKUP(A51,'Structural Water Quality Calcs'!$A$8:$AE$149,19,0))","v":""},{"$f":"IF(A51=\"\",\"\",IF(VLOOKUP(A51,'Structural Water Quality Calcs'!$A$9:$B$149,2,0)=\"Limited ROW\",M51*N51*0.1/100,M51*N51/100))","v":""},{"$f":"IF(A51=\"\",\"\",VLOOKUP(A51,'Structural Water Quality Calcs'!$A$8:$AE$149,14,0))","v":""},{"$f":"IF(A51=\"\",\"\",SUMIFS(Catchment!$Y$5:$Y$300,Catchment!$D$5:$D$300,\"RIDOT\",Catchment!$K$5:$K$300,A51))","v":""},{"$f":"IF(A51=\"\",\"\",VLOOKUP(A51,'Structural Water Quality Calcs'!$A$8:$AE$149,15,0)*100)","v":""},{"$f":"IF(A51=\"\",\"\",VLOOKUP(A51,'Structural Water Quality Calcs'!$A$8:$AE$149,16,0))","v":""},{"$f":"IF(A51=\"\",\"\",IF(VLOOKUP(A51,'Structural Water Quality Calcs'!$A$9:$B$149,2,0)=\"Limited ROW\",R51*S51*0.1/100,R51*S51/100))","v":""},{"$f":"IF(A51=\"\",\"\",VLOOKUP(A51,'Structural Water Quality Calcs'!$A$8:$AE$149,20,0))","v":""},{"$f":"IF(A51=\"\",\"\",SUMIFS(Catchment!$AA$5:$AA$300,Catchment!$D$5:$D$300,\"RIDOT\",Catchment!$K$5:$K$300,A51))","v":""},{"$f":"IF(A51=\"\",\"\",VLOOKUP(A51,'Structural Water Quality Calcs'!$A$8:$AE$149,21,0)*100)","v":""},{"$f":"IF(A51=\"\",\"\",VLOOKUP(A51,'Structural Water Quality Calcs'!$A$8:$AE$149,22,0))","v":""},{"$f":"IF(A51=\"\",\"\",IF(VLOOKUP(A51,'Structural Water Quality Calcs'!$A$9:$B$149,2,0)=\"Limited ROW\",W51*X51*0.1/100,W51*X51/100))","v":""},{"$f":"IF(A51=\"\",\"\",VLOOKUP(A51,'Structural Water Quality Calcs'!$A$8:$AE$149,29,0))","v":""},{"$f":"IF(A51=\"\",\"\",IF(VLOOKUP(A51,'Structural Water Quality Calcs'!$A$9:$B$149,2,0)=\"Limited ROW\",VLOOKUP(A51,'Structural Water Quality Calcs'!$A$8:$AE$149,28,0)*F51*0.1/43560,VLOOKUP(A51,'Structural Water Quality Calcs'!$A$8:$AE$149,28,0)*F51/43560))","v":""},{"$f":"IF(A51=\"\",\"\",VLOOKUP(A51,'Structural Water Quality Calcs'!$A$8:$AE$149,28,0)*100)","v":""},{"$f":"IF(A51=\"\",\"\",VLOOKUP(A51,'Structural Water Quality Calcs'!$A$8:$AE$149,31,0))","v":""},{"$f":"IF(A51=\"\",\"\",VLOOKUP(A51,'Structural Water Quality Calcs'!$A$8:$AE$149,26,0))","v":""},{"$f":"IF(A51=\"\",\"\",VLOOKUP(A51,'Structural Water Quality Calcs'!$A$8:$AE$149,27,0))","v":""},{"$f":"IF(A51=\"\",\"\",(VLOOKUP(A51,'Structural Water Quality Calcs'!$A$8:$AE$149,25,0)))","v":""},{"$f":"IF(A51=\"\",\"\",VLOOKUP(A51,'Structural Water Quality Calcs'!$A$8:$AE$149,24,0))","v":""},{"$f":"IF(A51=\"\",\"\",VLOOKUP(A51,STU_Cost!$A$5:$G$150,4,0))","v":""},{"$f":"IF(A51=\"\",\"\",VLOOKUP(A51,STU_Cost!$A$5:$G$150,5,0))","v":""},{"$f":"IF(A51=\"\",\"\",VLOOKUP(A51,STU_Cost!$A$5:$G$150,6,0))","v":""},{"$f":"IF(A51=\"\",\"\",VLOOKUP(A51,STU_Cost!$A$5:$G$150,7,0))","v":""},null,null,{"$f":"IF(A51=\"\",\"\",VLOOKUP(A51,STU!$A$5:$E$300,5,0))","v":""}]
[null,{"$f":"IF(A52=\"\",\"\",VLOOKUP(A52,'Structural Water Quality Calcs'!$A$9:$F$79,6,0))","v":""},{"$f":"IF(A52=\"\",\"\",VLOOKUP(A52,'Structural Water Quality Calcs'!$A$8:$AE$149,3,0))","v":""},{"$f":"IF(A52=\"\",\"\",SUMIFS(Catchment!$V$5:$V$300,Catchment!$D$5:$D$300,\"RIDOT\",Catchment!$K$5:$K$300,A52))","v":""},{"$f":"IF(A52=\"\",\"\",VLOOKUP(A52,'Structural Water Quality Calcs'!$A$8:$AE$149,4,0))","v":""},{"$f":"IF(A52=\"\",\"\",SUMIFS(Catchment!$L$5:$L$300,Catchment!$D$5:$D$300,\"RIDOT\",Catchment!$K$5:$K$300,A52))","v":""},{"$f":"IF(A52=\"\",\"\",VLOOKUP(A52, 'Structural Water Quality Calcs'!$A$8:$AE$149,11,0))","v":""},{"$f":"IF(A52=\"\",\"\",SUMIFS(Catchment!$X$5:$X$300,Catchment!$D$5:$D$300,\"RIDOT\",Catchment!$K$5:$K$300,A52))","v":""},{"$f":"IF(A52=\"\",\"\",VLOOKUP(A52,'Structural Water Quality Calcs'!$A$8:$AE$149,12,0)*100)","v":""},{"$f":"IF(A52=\"\",\"\",VLOOKUP(A52,'Structural Water Quality Calcs'!$A$8:$AE$149,13,0))","v":""},{"$f":"IF(A52=\"\",\"\",IF(VLOOKUP(A52,'Structural Water Quality Calcs'!$A$9:$B$149,2,0)=\"Limited ROW\",H52*I52*0.1/100,H52*I52/100))","v":""},{"$f":"IF(A52=\"\",\"\",VLOOKUP(A52,'Structural Water Quality Calcs'!$A$8:$AE$149,17,0))","v":""},{"$f":"IF(A52=\"\",\"\",SUMIFS(Catchment!$Z$5:$Z$300,Catchment!$D$5:$D$300,\"RIDOT\",Catchment!$K$5:$K$300,A52))","v":""},{"$f":"IF(A52=\"\",\"\",VLOOKUP(A52,'Structural Water Quality Calcs'!$A$8:$AE$149,18,0)*100)","v":""},{"$f":"IF(A52=\"\",\"\",VLOOKUP(A52,'Structural Water Quality Calcs'!$A$8:$AE$149,19,0))","v":""},{"$f":"IF(A52=\"\",\"\",IF(VLOOKUP(A52,'Structural Water Quality Calcs'!$A$9:$B$149,2,0)=\"Limited ROW\",M52*N52*0.1/100,M52*N52/100))","v":""},{"$f":"IF(A52=\"\",\"\",VLOOKUP(A52,'Structural Water Quality Calcs'!$A$8:$AE$149,14,0))","v":""},{"$f":"IF(A52=\"\",\"\",SUMIFS(Catchment!$Y$5:$Y$300,Catchment!$D$5:$D$300,\"RIDOT\",Catchment!$K$5:$K$300,A52))","v":""},{"$f":"IF(A52=\"\",\"\",VLOOKUP(A52,'Structural Water Quality Calcs'!$A$8:$AE$149,15,0)*100)","v":""},{"$f":"IF(A52=\"\",\"\",VLOOKUP(A52,'Structural Water Quality Calcs'!$A$8:$AE$149,16,0))","v":""},{"$f":"IF(A52=\"\",\"\",IF(VLOOKUP(A52,'Structural Water Quality Calcs'!$A$9:$B$149,2,0)=\"Limited ROW\",R52*S52*0.1/100,R52*S52/100))","v":""},{"$f":"IF(A52=\"\",\"\",VLOOKUP(A52,'Structural Water Quality Calcs'!$A$8:$AE$149,20,0))","v":""},{"$f":"IF(A52=\"\",\"\",SUMIFS(Catchment!$AA$5:$AA$300,Catchment!$D$5:$D$300,\"RIDOT\",Catchment!$K$5:$K$300,A52))","v":""},{"$f":"IF(A52=\"\",\"\",VLOOKUP(A52,'Structural Water Quality Calcs'!$A$8:$AE$149,21,0)*100)","v":""},{"$f":"IF(A52=\"\",\"\",VLOOKUP(A52,'Structural Water Quality Calcs'!$A$8:$AE$149,22,0))","v":""},{"$f":"IF(A52=\"\",\"\",IF(VLOOKUP(A52,'Structural Water Quality Calcs'!$A$9:$B$149,2,0)=\"Limited ROW\",W52*X52*0.1/100,W52*X52/100))","v":""},{"$f":"IF(A52=\"\",\"\",VLOOKUP(A52,'Structural Water Quality Calcs'!$A$8:$AE$149,29,0))","v":""},{"$f":"IF(A52=\"\",\"\",IF(VLOOKUP(A52,'Structural Water Quality Calcs'!$A$9:$B$149,2,0)=\"Limited ROW\",VLOOKUP(A52,'Structural Water Quality Calcs'!$A$8:$AE$149,28,0)*F52*0.1/43560,VLOOKUP(A52,'Structural Water Quality Calcs'!$A$8:$AE$149,28,0)*F52/43560))","v":""},{"$f":"IF(A52=\"\",\"\",VLOOKUP(A52,'Structural Water Quality Calcs'!$A$8:$AE$149,28,0)*100)","v":""},{"$f":"IF(A52=\"\",\"\",VLOOKUP(A52,'Structural Water Quality Calcs'!$A$8:$AE$149,31,0))","v":""},{"$f":"IF(A52=\"\",\"\",VLOOKUP(A52,'Structural Water Quality Calcs'!$A$8:$AE$149,26,0))","v":""},{"$f":"IF(A52=\"\",\"\",VLOOKUP(A52,'Structural Water Quality Calcs'!$A$8:$AE$149,27,0))","v":""},{"$f":"IF(A52=\"\",\"\",(VLOOKUP(A52,'Structural Water Quality Calcs'!$A$8:$AE$149,25,0)))","v":""},{"$f":"IF(A52=\"\",\"\",VLOOKUP(A52,'Structural Water Quality Calcs'!$A$8:$AE$149,24,0))","v":""},{"$f":"IF(A52=\"\",\"\",VLOOKUP(A52,STU_Cost!$A$5:$G$150,4,0))","v":""},{"$f":"IF(A52=\"\",\"\",VLOOKUP(A52,STU_Cost!$A$5:$G$150,5,0))","v":""},{"$f":"IF(A52=\"\",\"\",VLOOKUP(A52,STU_Cost!$A$5:$G$150,6,0))","v":""},{"$f":"IF(A52=\"\",\"\",VLOOKUP(A52,STU_Cost!$A$5:$G$150,7,0))","v":""},null,null,{"$f":"IF(A52=\"\",\"\",VLOOKUP(A52,STU!$A$5:$E$300,5,0))","v":""}]
[null,{"$f":"IF(A53=\"\",\"\",VLOOKUP(A53,'Structural Water Quality Calcs'!$A$9:$F$79,6,0))","v":""},{"$f":"IF(A53=\"\",\"\",VLOOKUP(A53,'Structural Water Quality Calcs'!$A$8:$AE$149,3,0))","v":""},{"$f":"IF(A53=\"\",\"\",SUMIFS(Catchment!$V$5:$V$300,Catchment!$D$5:$D$300,\"RIDOT\",Catchment!$K$5:$K$300,A53))","v":""},{"$f":"IF(A53=\"\",\"\",VLOOKUP(A53,'Structural Water Quality Calcs'!$A$8:$AE$149,4,0))","v":""},{"$f":"IF(A53=\"\",\"\",SUMIFS(Catchment!$L$5:$L$300,Catchment!$D$5:$D$300,\"RIDOT\",Catchment!$K$5:$K$300,A53))","v":""},{"$f":"IF(A53=\"\",\"\",VLOOKUP(A53, 'Structural Water Quality Calcs'!$A$8:$AE$149,11,0))","v":""},{"$f":"IF(A53=\"\",\"\",SUMIFS(Catchment!$X$5:$X$300,Catchment!$D$5:$D$300,\"RIDOT\",Catchment!$K$5:$K$300,A53))","v":""},{"$f":"IF(A53=\"\",\"\",VLOOKUP(A53,'Structural Water Quality Calcs'!$A$8:$AE$149,12,0)*100)","v":""},{"$f":"IF(A53=\"\",\"\",VLOOKUP(A53,'Structural Water Quality Calcs'!$A$8:$AE$149,13,0))","v":""},{"$f":"IF(A53=\"\",\"\",IF(VLOOKUP(A53,'Structural Water Quality Calcs'!$A$9:$B$149,2,0)=\"Limited ROW\",H53*I53*0.1/100,H53*I53/100))","v":""},{"$f":"IF(A53=\"\",\"\",VLOOKUP(A53,'Structural Water Quality Calcs'!$A$8:$AE$149,17,0))","v":""},{"$f":"IF(A53=\"\",\"\",SUMIFS(Catchment!$Z$5:$Z$300,Catchment!$D$5:$D$300,\"RIDOT\",Catchment!$K$5:$K$300,A53))","v":""},{"$f":"IF(A53=\"\",\"\",VLOOKUP(A53,'Structural Water Quality Calcs'!$A$8:$AE$149,18,0)*100)","v":""},{"$f":"IF(A53=\"\",\"\",VLOOKUP(A53,'Structural Water Quality Calcs'!$A$8:$AE$149,19,0))","v":""},{"$f":"IF(A53=\"\",\"\",IF(VLOOKUP(A53,'Structural Water Quality Calcs'!$A$9:$B$149,2,0)=\"Limited ROW\",M53*N53*0.1/100,M53*N53/100))","v":""},{"$f":"IF(A53=\"\",\"\",VLOOKUP(A53,'Structural Water Quality Calcs'!$A$8:$AE$149,14,0))","v":""},{"$f":"IF(A53=\"\",\"\",SUMIFS(Catchment!$Y$5:$Y$300,Catchment!$D$5:$D$300,\"RIDOT\",Catchment!$K$5:$K$300,A53))","v":""},{"$f":"IF(A53=\"\",\"\",VLOOKUP(A53,'Structural Water Quality Calcs'!$A$8:$AE$149,15,0)*100)","v":""},{"$f":"IF(A53=\"\",\"\",VLOOKUP(A53,'Structural Water Quality Calcs'!$A$8:$AE$149,16,0))","v":""},{"$f":"IF(A53=\"\",\"\",IF(VLOOKUP(A53,'Structural Water Quality Calcs'!$A$9:$B$149,2,0)=\"Limited ROW\",R53*S53*0.1/100,R53*S53/100))","v":""},{"$f":"IF(A53=\"\",\"\",VLOOKUP(A53,'Structural Water Quality Calcs'!$A$8:$AE$149,20,0))","v":""},{"$f":"IF(A53=\"\",\"\",SUMIFS(Catchment!$AA$5:$AA$300,Catchment!$D$5:$D$300,\"RIDOT\",Catchment!$K$5:$K$300,A53))","v":""},{"$f":"IF(A53=\"\",\"\",VLOOKUP(A53,'Structural Water Quality Calcs'!$A$8:$AE$149,21,0)*100)","v":""},{"$f":"IF(A53=\"\",\"\",VLOOKUP(A53,'Structural Water Quality Calcs'!$A$8:$AE$149,22,0))","v":""},{"$f":"IF(A53=\"\",\"\",IF(VLOOKUP(A53,'Structural Water Quality Calcs'!$A$9:$B$149,2,0)=\"Limited ROW\",W53*X53*0.1/100,W53*X53/100))","v":""},{"$f":"IF(A53=\"\",\"\",VLOOKUP(A53,'Structural Water Quality Calcs'!$A$8:$AE$149,29,0))","v":""},{"$f":"IF(A53=\"\",\"\",IF(VLOOKUP(A53,'Structural Water Quality Calcs'!$A$9:$B$149,2,0)=\"Limited ROW\",VLOOKUP(A53,'Structural Water Quality Calcs'!$A$8:$AE$149,28,0)*F53*0.1/43560,VLOOKUP(A53,'Structural Water Quality Calcs'!$A$8:$AE$149,28,0)*F53/43560))","v":""},{"$f":"IF(A53=\"\",\"\",VLOOKUP(A53,'Structural Water Quality Calcs'!$A$8:$AE$149,28,0)*100)","v":""},{"$f":"IF(A53=\"\",\"\",VLOOKUP(A53,'Structural Water Quality Calcs'!$A$8:$AE$149,31,0))","v":""},{"$f":"IF(A53=\"\",\"\",VLOOKUP(A53,'Structural Water Quality Calcs'!$A$8:$AE$149,26,0))","v":""},{"$f":"IF(A53=\"\",\"\",VLOOKUP(A53,'Structural Water Quality Calcs'!$A$8:$AE$149,27,0))","v":""},{"$f":"IF(A53=\"\",\"\",(VLOOKUP(A53,'Structural Water Quality Calcs'!$A$8:$AE$149,25,0)))","v":""},{"$f":"IF(A53=\"\",\"\",VLOOKUP(A53,'Structural Water Quality Calcs'!$A$8:$AE$149,24,0))","v":""},{"$f":"IF(A53=\"\",\"\",VLOOKUP(A53,STU_Cost!$A$5:$G$150,4,0))","v":""},{"$f":"IF(A53=\"\",\"\",VLOOKUP(A53,STU_Cost!$A$5:$G$150,5,0))","v":""},{"$f":"IF(A53=\"\",\"\",VLOOKUP(A53,STU_Cost!$A$5:$G$150,6,0))","v":""},{"$f":"IF(A53=\"\",\"\",VLOOKUP(A53,STU_Cost!$A$5:$G$150,7,0))","v":""},null,null,{"$f":"IF(A53=\"\",\"\",VLOOKUP(A53,STU!$A$5:$E$300,5,0))","v":""}]
[null,{"$f":"IF(A54=\"\",\"\",VLOOKUP(A54,'Structural Water Quality Calcs'!$A$9:$F$79,6,0))","v":""},{"$f":"IF(A54=\"\",\"\",VLOOKUP(A54,'Structural Water Quality Calcs'!$A$8:$AE$149,3,0))","v":""},{"$f":"IF(A54=\"\",\"\",SUMIFS(Catchment!$V$5:$V$300,Catchment!$D$5:$D$300,\"RIDOT\",Catchment!$K$5:$K$300,A54))","v":""},{"$f":"IF(A54=\"\",\"\",VLOOKUP(A54,'Structural Water Quality Calcs'!$A$8:$AE$149,4,0))","v":""},{"$f":"IF(A54=\"\",\"\",SUMIFS(Catchment!$L$5:$L$300,Catchment!$D$5:$D$300,\"RIDOT\",Catchment!$K$5:$K$300,A54))","v":""},{"$f":"IF(A54=\"\",\"\",VLOOKUP(A54, 'Structural Water Quality Calcs'!$A$8:$AE$149,11,0))","v":""},{"$f":"IF(A54=\"\",\"\",SUMIFS(Catchment!$X$5:$X$300,Catchment!$D$5:$D$300,\"RIDOT\",Catchment!$K$5:$K$300,A54))","v":""},{"$f":"IF(A54=\"\",\"\",VLOOKUP(A54,'Structural Water Quality Calcs'!$A$8:$AE$149,12,0)*100)","v":""},{"$f":"IF(A54=\"\",\"\",VLOOKUP(A54,'Structural Water Quality Calcs'!$A$8:$AE$149,13,0))","v":""},{"$f":"IF(A54=\"\",\"\",IF(VLOOKUP(A54,'Structural Water Quality Calcs'!$A$9:$B$149,2,0)=\"Limited ROW\",H54*I54*0.1/100,H54*I54/100))","v":""},{"$f":"IF(A54=\"\",\"\",VLOOKUP(A54,'Structural Water Quality Calcs'!$A$8:$AE$149,17,0))","v":""},{"$f":"IF(A54=\"\",\"\",SUMIFS(Catchment!$Z$5:$Z$300,Catchment!$D$5:$D$300,\"RIDOT\",Catchment!$K$5:$K$300,A54))","v":""},{"$f":"IF(A54=\"\",\"\",VLOOKUP(A54,'Structural Water Quality Calcs'!$A$8:$AE$149,18,0)*100)","v":""},{"$f":"IF(A54=\"\",\"\",VLOOKUP(A54,'Structural Water Quality Calcs'!$A$8:$AE$149,19,0))","v":""},{"$f":"IF(A54=\"\",\"\",IF(VLOOKUP(A54,'Structural Water Quality Calcs'!$A$9:$B$149,2,0)=\"Limited ROW\",M54*N54*0.1/100,M54*N54/100))","v":""},{"$f":"IF(A54=\"\",\"\",VLOOKUP(A54,'Structural Water Quality Calcs'!$A$8:$AE$149,14,0))","v":""},{"$f":"IF(A54=\"\",\"\",SUMIFS(Catchment!$Y$5:$Y$300,Catchment!$D$5:$D$300,\"RIDOT\",Catchment!$K$5:$K$300,A54))","v":""},{"$f":"IF(A54=\"\",\"\",VLOOKUP(A54,'Structural Water Quality Calcs'!$A$8:$AE$149,15,0)*100)","v":""},{"$f":"IF(A54=\"\",\"\",VLOOKUP(A54,'Structural Water Quality Calcs'!$A$8:$AE$149,16,0))","v":""},{"$f":"IF(A54=\"\",\"\",IF(VLOOKUP(A54,'Structural Water Quality Calcs'!$A$9:$B$149,2,0)=\"Limited ROW\",R54*S54*0.1/100,R54*S54/100))","v":""},{"$f":"IF(A54=\"\",\"\",VLOOKUP(A54,'Structural Water Quality Calcs'!$A$8:$AE$149,20,0))","v":""},{"$f":"IF(A54=\"\",\"\",SUMIFS(Catchment!$AA$5:$AA$300,Catchment!$D$5:$D$300,\"RIDOT\",Catchment!$K$5:$K$300,A54))","v":""},{"$f":"IF(A54=\"\",\"\",VLOOKUP(A54,'Structural Water Quality Calcs'!$A$8:$AE$149,21,0)*100)","v":""},{"$f":"IF(A54=\"\",\"\",VLOOKUP(A54,'Structural Water Quality Calcs'!$A$8:$AE$149,22,0))","v":""},{"$f":"IF(A54=\"\",\"\",IF(VLOOKUP(A54,'Structural Water Quality Calcs'!$A$9:$B$149,2,0)=\"Limited ROW\",W54*X54*0.1/100,W54*X54/100))","v":""},{"$f":"IF(A54=\"\",\"\",VLOOKUP(A54,'Structural Water Quality Calcs'!$A$8:$AE$149,29,0))","v":""},{"$f":"IF(A54=\"\",\"\",IF(VLOOKUP(A54,'Structural Water Quality Calcs'!$A$9:$B$149,2,0)=\"Limited ROW\",VLOOKUP(A54,'Structural Water Quality Calcs'!$A$8:$AE$149,28,0)*F54*0.1/43560,VLOOKUP(A54,'Structural Water Quality Calcs'!$A$8:$AE$149,28,0)*F54/43560))","v":""},{"$f":"IF(A54=\"\",\"\",VLOOKUP(A54,'Structural Water Quality Calcs'!$A$8:$AE$149,28,0)*100)","v":""},{"$f":"IF(A54=\"\",\"\",VLOOKUP(A54,'Structural Water Quality Calcs'!$A$8:$AE$149,31,0))","v":""},{"$f":"IF(A54=\"\",\"\",VLOOKUP(A54,'Structural Water Quality Calcs'!$A$8:$AE$149,26,0))","v":""},{"$f":"IF(A54=\"\",\"\",VLOOKUP(A54,'Structural Water Quality Calcs'!$A$8:$AE$149,27,0))","v":""},{"$f":"IF(A54=\"\",\"\",(VLOOKUP(A54,'Structural Water Quality Calcs'!$A$8:$AE$149,25,0)))","v":""},{"$f":"IF(A54=\"\",\"\",VLOOKUP(A54,'Structural Water Quality Calcs'!$A$8:$AE$149,24,0))","v":""},{"$f":"IF(A54=\"\",\"\",VLOOKUP(A54,STU_Cost!$A$5:$G$150,4,0))","v":""},{"$f":"IF(A54=\"\",\"\",VLOOKUP(A54,STU_Cost!$A$5:$G$150,5,0))","v":""},{"$f":"IF(A54=\"\",\"\",VLOOKUP(A54,STU_Cost!$A$5:$G$150,6,0))","v":""},{"$f":"IF(A54=\"\",\"\",VLOOKUP(A54,STU_Cost!$A$5:$G$150,7,0))","v":""},null,null,{"$f":"IF(A54=\"\",\"\",VLOOKUP(A54,STU!$A$5:$E$300,5,0))","v":""}]
[null,{"$f":"IF(A55=\"\",\"\",VLOOKUP(A55,'Structural Water Quality Calcs'!$A$9:$F$79,6,0))","v":""},{"$f":"IF(A55=\"\",\"\",VLOOKUP(A55,'Structural Water Quality Calcs'!$A$8:$AE$149,3,0))","v":""},{"$f":"IF(A55=\"\",\"\",SUMIFS(Catchment!$V$5:$V$300,Catchment!$D$5:$D$300,\"RIDOT\",Catchment!$K$5:$K$300,A55))","v":""},{"$f":"IF(A55=\"\",\"\",VLOOKUP(A55,'Structural Water Quality Calcs'!$A$8:$AE$149,4,0))","v":""},{"$f":"IF(A55=\"\",\"\",SUMIFS(Catchment!$L$5:$L$300,Catchment!$D$5:$D$300,\"RIDOT\",Catchment!$K$5:$K$300,A55))","v":""},{"$f":"IF(A55=\"\",\"\",VLOOKUP(A55, 'Structural Water Quality Calcs'!$A$8:$AE$149,11,0))","v":""},{"$f":"IF(A55=\"\",\"\",SUMIFS(Catchment!$X$5:$X$300,Catchment!$D$5:$D$300,\"RIDOT\",Catchment!$K$5:$K$300,A55))","v":""},{"$f":"IF(A55=\"\",\"\",VLOOKUP(A55,'Structural Water Quality Calcs'!$A$8:$AE$149,12,0)*100)","v":""},{"$f":"IF(A55=\"\",\"\",VLOOKUP(A55,'Structural Water Quality Calcs'!$A$8:$AE$149,13,0))","v":""},{"$f":"IF(A55=\"\",\"\",IF(VLOOKUP(A55,'Structural Water Quality Calcs'!$A$9:$B$149,2,0)=\"Limited ROW\",H55*I55*0.1/100,H55*I55/100))","v":""},{"$f":"IF(A55=\"\",\"\",VLOOKUP(A55,'Structural Water Quality Calcs'!$A$8:$AE$149,17,0))","v":""},{"$f":"IF(A55=\"\",\"\",SUMIFS(Catchment!$Z$5:$Z$300,Catchment!$D$5:$D$300,\"RIDOT\",Catchment!$K$5:$K$300,A55))","v":""},{"$f":"IF(A55=\"\",\"\",VLOOKUP(A55,'Structural Water Quality Calcs'!$A$8:$AE$149,18,0)*100)","v":""},{"$f":"IF(A55=\"\",\"\",VLOOKUP(A55,'Structural Water Quality Calcs'!$A$8:$AE$149,19,0))","v":""},{"$f":"IF(A55=\"\",\"\",IF(VLOOKUP(A55,'Structural Water Quality Calcs'!$A$9:$B$149,2,0)=\"Limited ROW\",M55*N55*0.1/100,M55*N55/100))","v":""},{"$f":"IF(A55=\"\",\"\",VLOOKUP(A55,'Structural Water Quality Calcs'!$A$8:$AE$149,14,0))","v":""},{"$f":"IF(A55=\"\",\"\",SUMIFS(Catchment!$Y$5:$Y$300,Catchment!$D$5:$D$300,\"RIDOT\",Catchment!$K$5:$K$300,A55))","v":""},{"$f":"IF(A55=\"\",\"\",VLOOKUP(A55,'Structural Water Quality Calcs'!$A$8:$AE$149,15,0)*100)","v":""},{"$f":"IF(A55=\"\",\"\",VLOOKUP(A55,'Structural Water Quality Calcs'!$A$8:$AE$149,16,0))","v":""},{"$f":"IF(A55=\"\",\"\",IF(VLOOKUP(A55,'Structural Water Quality Calcs'!$A$9:$B$149,2,0)=\"Limited ROW\",R55*S55*0.1/100,R55*S55/100))","v":""},{"$f":"IF(A55=\"\",\"\",VLOOKUP(A55,'Structural Water Quality Calcs'!$A$8:$AE$149,20,0))","v":""},{"$f":"IF(A55=\"\",\"\",SUMIFS(Catchment!$AA$5:$AA$300,Catchment!$D$5:$D$300,\"RIDOT\",Catchment!$K$5:$K$300,A55))","v":""},{"$f":"IF(A55=\"\",\"\",VLOOKUP(A55,'Structural Water Quality Calcs'!$A$8:$AE$149,21,0)*100)","v":""},{"$f":"IF(A55=\"\",\"\",VLOOKUP(A55,'Structural Water Quality Calcs'!$A$8:$AE$149,22,0))","v":""},{"$f":"IF(A55=\"\",\"\",IF(VLOOKUP(A55,'Structural Water Quality Calcs'!$A$9:$B$149,2,0)=\"Limited ROW\",W55*X55*0.1/100,W55*X55/100))","v":""},{"$f":"IF(A55=\"\",\"\",VLOOKUP(A55,'Structural Water Quality Calcs'!$A$8:$AE$149,29,0))","v":""},{"$f":"IF(A55=\"\",\"\",IF(VLOOKUP(A55,'Structural Water Quality Calcs'!$A$9:$B$149,2,0)=\"Limited ROW\",VLOOKUP(A55,'Structural Water Quality Calcs'!$A$8:$AE$149,28,0)*F55*0.1/43560,VLOOKUP(A55,'Structural Water Quality Calcs'!$A$8:$AE$149,28,0)*F55/43560))","v":""},{"$f":"IF(A55=\"\",\"\",VLOOKUP(A55,'Structural Water Quality Calcs'!$A$8:$AE$149,28,0)*100)","v":""},{"$f":"IF(A55=\"\",\"\",VLOOKUP(A55,'Structural Water Quality Calcs'!$A$8:$AE$149,31,0))","v":""},{"$f":"IF(A55=\"\",\"\",VLOOKUP(A55,'Structural Water Quality Calcs'!$A$8:$AE$149,26,0))","v":""},{"$f":"IF(A55=\"\",\"\",VLOOKUP(A55,'Structural Water Quality Calcs'!$A$8:$AE$149,27,0))","v":""},{"$f":"IF(A55=\"\",\"\",(VLOOKUP(A55,'Structural Water Quality Calcs'!$A$8:$AE$149,25,0)))","v":""},{"$f":"IF(A55=\"\",\"\",VLOOKUP(A55,'Structural Water Quality Calcs'!$A$8:$AE$149,24,0))","v":""},{"$f":"IF(A55=\"\",\"\",VLOOKUP(A55,STU_Cost!$A$5:$G$150,4,0))","v":""},{"$f":"IF(A55=\"\",\"\",VLOOKUP(A55,STU_Cost!$A$5:$G$150,5,0))","v":""},{"$f":"IF(A55=\"\",\"\",VLOOKUP(A55,STU_Cost!$A$5:$G$150,6,0))","v":""},{"$f":"IF(A55=\"\",\"\",VLOOKUP(A55,STU_Cost!$A$5:$G$150,7,0))","v":""},null,null,{"$f":"IF(A55=\"\",\"\",VLOOKUP(A55,STU!$A$5:$E$300,5,0))","v":""}]
[null,{"$f":"IF(A56=\"\",\"\",VLOOKUP(A56,'Structural Water Quality Calcs'!$A$9:$F$79,6,0))","v":""},{"$f":"IF(A56=\"\",\"\",VLOOKUP(A56,'Structural Water Quality Calcs'!$A$8:$AE$149,3,0))","v":""},{"$f":"IF(A56=\"\",\"\",SUMIFS(Catchment!$V$5:$V$300,Catchment!$D$5:$D$300,\"RIDOT\",Catchment!$K$5:$K$300,A56))","v":""},{"$f":"IF(A56=\"\",\"\",VLOOKUP(A56,'Structural Water Quality Calcs'!$A$8:$AE$149,4,0))","v":""},{"$f":"IF(A56=\"\",\"\",SUMIFS(Catchment!$L$5:$L$300,Catchment!$D$5:$D$300,\"RIDOT\",Catchment!$K$5:$K$300,A56))","v":""},{"$f":"IF(A56=\"\",\"\",VLOOKUP(A56, 'Structural Water Quality Calcs'!$A$8:$AE$149,11,0))","v":""},{"$f":"IF(A56=\"\",\"\",SUMIFS(Catchment!$X$5:$X$300,Catchment!$D$5:$D$300,\"RIDOT\",Catchment!$K$5:$K$300,A56))","v":""},{"$f":"IF(A56=\"\",\"\",VLOOKUP(A56,'Structural Water Quality Calcs'!$A$8:$AE$149,12,0)*100)","v":""},{"$f":"IF(A56=\"\",\"\",VLOOKUP(A56,'Structural Water Quality Calcs'!$A$8:$AE$149,13,0))","v":""},{"$f":"IF(A56=\"\",\"\",IF(VLOOKUP(A56,'Structural Water Quality Calcs'!$A$9:$B$149,2,0)=\"Limited ROW\",H56*I56*0.1/100,H56*I56/100))","v":""},{"$f":"IF(A56=\"\",\"\",VLOOKUP(A56,'Structural Water Quality Calcs'!$A$8:$AE$149,17,0))","v":""},{"$f":"IF(A56=\"\",\"\",SUMIFS(Catchment!$Z$5:$Z$300,Catchment!$D$5:$D$300,\"RIDOT\",Catchment!$K$5:$K$300,A56))","v":""},{"$f":"IF(A56=\"\",\"\",VLOOKUP(A56,'Structural Water Quality Calcs'!$A$8:$AE$149,18,0)*100)","v":""},{"$f":"IF(A56=\"\",\"\",VLOOKUP(A56,'Structural Water Quality Calcs'!$A$8:$AE$149,19,0))","v":""},{"$f":"IF(A56=\"\",\"\",IF(VLOOKUP(A56,'Structural Water Quality Calcs'!$A$9:$B$149,2,0)=\"Limited ROW\",M56*N56*0.1/100,M56*N56/100))","v":""},{"$f":"IF(A56=\"\",\"\",VLOOKUP(A56,'Structural Water Quality Calcs'!$A$8:$AE$149,14,0))","v":""},{"$f":"IF(A56=\"\",\"\",SUMIFS(Catchment!$Y$5:$Y$300,Catchment!$D$5:$D$300,\"RIDOT\",Catchment!$K$5:$K$300,A56))","v":""},{"$f":"IF(A56=\"\",\"\",VLOOKUP(A56,'Structural Water Quality Calcs'!$A$8:$AE$149,15,0)*100)","v":""},{"$f":"IF(A56=\"\",\"\",VLOOKUP(A56,'Structural Water Quality Calcs'!$A$8:$AE$149,16,0))","v":""},{"$f":"IF(A56=\"\",\"\",IF(VLOOKUP(A56,'Structural Water Quality Calcs'!$A$9:$B$149,2,0)=\"Limited ROW\",R56*S56*0.1/100,R56*S56/100))","v":""},{"$f":"IF(A56=\"\",\"\",VLOOKUP(A56,'Structural Water Quality Calcs'!$A$8:$AE$149,20,0))","v":""},{"$f":"IF(A56=\"\",\"\",SUMIFS(Catchment!$AA$5:$AA$300,Catchment!$D$5:$D$300,\"RIDOT\",Catchment!$K$5:$K$300,A56))","v":""},{"$f":"IF(A56=\"\",\"\",VLOOKUP(A56,'Structural Water Quality Calcs'!$A$8:$AE$149,21,0)*100)","v":""},{"$f":"IF(A56=\"\",\"\",VLOOKUP(A56,'Structural Water Quality Calcs'!$A$8:$AE$149,22,0))","v":""},{"$f":"IF(A56=\"\",\"\",IF(VLOOKUP(A56,'Structural Water Quality Calcs'!$A$9:$B$149,2,0)=\"Limited ROW\",W56*X56*0.1/100,W56*X56/100))","v":""},{"$f":"IF(A56=\"\",\"\",VLOOKUP(A56,'Structural Water Quality Calcs'!$A$8:$AE$149,29,0))","v":""},{"$f":"IF(A56=\"\",\"\",IF(VLOOKUP(A56,'Structural Water Quality Calcs'!$A$9:$B$149,2,0)=\"Limited ROW\",VLOOKUP(A56,'Structural Water Quality Calcs'!$A$8:$AE$149,28,0)*F56*0.1/43560,VLOOKUP(A56,'Structural Water Quality Calcs'!$A$8:$AE$149,28,0)*F56/43560))","v":""},{"$f":"IF(A56=\"\",\"\",VLOOKUP(A56,'Structural Water Quality Calcs'!$A$8:$AE$149,28,0)*100)","v":""},{"$f":"IF(A56=\"\",\"\",VLOOKUP(A56,'Structural Water Quality Calcs'!$A$8:$AE$149,31,0))","v":""},{"$f":"IF(A56=\"\",\"\",VLOOKUP(A56,'Structural Water Quality Calcs'!$A$8:$AE$149,26,0))","v":""},{"$f":"IF(A56=\"\",\"\",VLOOKUP(A56,'Structural Water Quality Calcs'!$A$8:$AE$149,27,0))","v":""},{"$f":"IF(A56=\"\",\"\",(VLOOKUP(A56,'Structural Water Quality Calcs'!$A$8:$AE$149,25,0)))","v":""},{"$f":"IF(A56=\"\",\"\",VLOOKUP(A56,'Structural Water Quality Calcs'!$A$8:$AE$149,24,0))","v":""},{"$f":"IF(A56=\"\",\"\",VLOOKUP(A56,STU_Cost!$A$5:$G$150,4,0))","v":""},{"$f":"IF(A56=\"\",\"\",VLOOKUP(A56,STU_Cost!$A$5:$G$150,5,0))","v":""},{"$f":"IF(A56=\"\",\"\",VLOOKUP(A56,STU_Cost!$A$5:$G$150,6,0))","v":""},{"$f":"IF(A56=\"\",\"\",VLOOKUP(A56,STU_Cost!$A$5:$G$150,7,0))","v":""},null,null,{"$f":"IF(A56=\"\",\"\",VLOOKUP(A56,STU!$A$5:$E$300,5,0))","v":""}]
[null,{"$f":"IF(A57=\"\",\"\",VLOOKUP(A57,'Structural Water Quality Calcs'!$A$9:$F$79,6,0))","v":""},{"$f":"IF(A57=\"\",\"\",VLOOKUP(A57,'Structural Water Quality Calcs'!$A$8:$AE$149,3,0))","v":""},{"$f":"IF(A57=\"\",\"\",SUMIFS(Catchment!$V$5:$V$300,Catchment!$D$5:$D$300,\"RIDOT\",Catchment!$K$5:$K$300,A57))","v":""},{"$f":"IF(A57=\"\",\"\",VLOOKUP(A57,'Structural Water Quality Calcs'!$A$8:$AE$149,4,0))","v":""},{"$f":"IF(A57=\"\",\"\",SUMIFS(Catchment!$L$5:$L$300,Catchment!$D$5:$D$300,\"RIDOT\",Catchment!$K$5:$K$300,A57))","v":""},{"$f":"IF(A57=\"\",\"\",VLOOKUP(A57, 'Structural Water Quality Calcs'!$A$8:$AE$149,11,0))","v":""},{"$f":"IF(A57=\"\",\"\",SUMIFS(Catchment!$X$5:$X$300,Catchment!$D$5:$D$300,\"RIDOT\",Catchment!$K$5:$K$300,A57))","v":""},{"$f":"IF(A57=\"\",\"\",VLOOKUP(A57,'Structural Water Quality Calcs'!$A$8:$AE$149,12,0)*100)","v":""},{"$f":"IF(A57=\"\",\"\",VLOOKUP(A57,'Structural Water Quality Calcs'!$A$8:$AE$149,13,0))","v":""},{"$f":"IF(A57=\"\",\"\",IF(VLOOKUP(A57,'Structural Water Quality Calcs'!$A$9:$B$149,2,0)=\"Limited ROW\",H57*I57*0.1/100,H57*I57/100))","v":""},{"$f":"IF(A57=\"\",\"\",VLOOKUP(A57,'Structural Water Quality Calcs'!$A$8:$AE$149,17,0))","v":""},{"$f":"IF(A57=\"\",\"\",SUMIFS(Catchment!$Z$5:$Z$300,Catchment!$D$5:$D$300,\"RIDOT\",Catchment!$K$5:$K$300,A57))","v":""},{"$f":"IF(A57=\"\",\"\",VLOOKUP(A57,'Structural Water Quality Calcs'!$A$8:$AE$149,18,0)*100)","v":""},{"$f":"IF(A57=\"\",\"\",VLOOKUP(A57,'Structural Water Quality Calcs'!$A$8:$AE$149,19,0))","v":""},{"$f":"IF(A57=\"\",\"\",IF(VLOOKUP(A57,'Structural Water Quality Calcs'!$A$9:$B$149,2,0)=\"Limited ROW\",M57*N57*0.1/100,M57*N57/100))","v":""},{"$f":"IF(A57=\"\",\"\",VLOOKUP(A57,'Structural Water Quality Calcs'!$A$8:$AE$149,14,0))","v":""},{"$f":"IF(A57=\"\",\"\",SUMIFS(Catchment!$Y$5:$Y$300,Catchment!$D$5:$D$300,\"RIDOT\",Catchment!$K$5:$K$300,A57))","v":""},{"$f":"IF(A57=\"\",\"\",VLOOKUP(A57,'Structural Water Quality Calcs'!$A$8:$AE$149,15,0)*100)","v":""},{"$f":"IF(A57=\"\",\"\",VLOOKUP(A57,'Structural Water Quality Calcs'!$A$8:$AE$149,16,0))","v":""},{"$f":"IF(A57=\"\",\"\",IF(VLOOKUP(A57,'Structural Water Quality Calcs'!$A$9:$B$149,2,0)=\"Limited ROW\",R57*S57*0.1/100,R57*S57/100))","v":""},{"$f":"IF(A57=\"\",\"\",VLOOKUP(A57,'Structural Water Quality Calcs'!$A$8:$AE$149,20,0))","v":""},{"$f":"IF(A57=\"\",\"\",SUMIFS(Catchment!$AA$5:$AA$300,Catchment!$D$5:$D$300,\"RIDOT\",Catchment!$K$5:$K$300,A57))","v":""},{"$f":"IF(A57=\"\",\"\",VLOOKUP(A57,'Structural Water Quality Calcs'!$A$8:$AE$149,21,0)*100)","v":""},{"$f":"IF(A57=\"\",\"\",VLOOKUP(A57,'Structural Water Quality Calcs'!$A$8:$AE$149,22,0))","v":""},{"$f":"IF(A57=\"\",\"\",IF(VLOOKUP(A57,'Structural Water Quality Calcs'!$A$9:$B$149,2,0)=\"Limited ROW\",W57*X57*0.1/100,W57*X57/100))","v":""},{"$f":"IF(A57=\"\",\"\",VLOOKUP(A57,'Structural Water Quality Calcs'!$A$8:$AE$149,29,0))","v":""},{"$f":"IF(A57=\"\",\"\",IF(VLOOKUP(A57,'Structural Water Quality Calcs'!$A$9:$B$149,2,0)=\"Limited ROW\",VLOOKUP(A57,'Structural Water Quality Calcs'!$A$8:$AE$149,28,0)*F57*0.1/43560,VLOOKUP(A57,'Structural Water Quality Calcs'!$A$8:$AE$149,28,0)*F57/43560))","v":""},{"$f":"IF(A57=\"\",\"\",VLOOKUP(A57,'Structural Water Quality Calcs'!$A$8:$AE$149,28,0)*100)","v":""},{"$f":"IF(A57=\"\",\"\",VLOOKUP(A57,'Structural Water Quality Calcs'!$A$8:$AE$149,31,0))","v":""},{"$f":"IF(A57=\"\",\"\",VLOOKUP(A57,'Structural Water Quality Calcs'!$A$8:$AE$149,26,0))","v":""},{"$f":"IF(A57=\"\",\"\",VLOOKUP(A57,'Structural Water Quality Calcs'!$A$8:$AE$149,27,0))","v":""},{"$f":"IF(A57=\"\",\"\",(VLOOKUP(A57,'Structural Water Quality Calcs'!$A$8:$AE$149,25,0)))","v":""},{"$f":"IF(A57=\"\",\"\",VLOOKUP(A57,'Structural Water Quality Calcs'!$A$8:$AE$149,24,0))","v":""},{"$f":"IF(A57=\"\",\"\",VLOOKUP(A57,STU_Cost!$A$5:$G$150,4,0))","v":""},{"$f":"IF(A57=\"\",\"\",VLOOKUP(A57,STU_Cost!$A$5:$G$150,5,0))","v":""},{"$f":"IF(A57=\"\",\"\",VLOOKUP(A57,STU_Cost!$A$5:$G$150,6,0))","v":""},{"$f":"IF(A57=\"\",\"\",VLOOKUP(A57,STU_Cost!$A$5:$G$150,7,0))","v":""},null,null,{"$f":"IF(A57=\"\",\"\",VLOOKUP(A57,STU!$A$5:$E$300,5,0))","v":""}]
[null,{"$f":"IF(A58=\"\",\"\",VLOOKUP(A58,'Structural Water Quality Calcs'!$A$9:$F$79,6,0))","v":""},{"$f":"IF(A58=\"\",\"\",VLOOKUP(A58,'Structural Water Quality Calcs'!$A$8:$AE$149,3,0))","v":""},{"$f":"IF(A58=\"\",\"\",SUMIFS(Catchment!$V$5:$V$300,Catchment!$D$5:$D$300,\"RIDOT\",Catchment!$K$5:$K$300,A58))","v":""},{"$f":"IF(A58=\"\",\"\",VLOOKUP(A58,'Structural Water Quality Calcs'!$A$8:$AE$149,4,0))","v":""},{"$f":"IF(A58=\"\",\"\",SUMIFS(Catchment!$L$5:$L$300,Catchment!$D$5:$D$300,\"RIDOT\",Catchment!$K$5:$K$300,A58))","v":""},{"$f":"IF(A58=\"\",\"\",VLOOKUP(A58, 'Structural Water Quality Calcs'!$A$8:$AE$149,11,0))","v":""},{"$f":"IF(A58=\"\",\"\",SUMIFS(Catchment!$X$5:$X$300,Catchment!$D$5:$D$300,\"RIDOT\",Catchment!$K$5:$K$300,A58))","v":""},{"$f":"IF(A58=\"\",\"\",VLOOKUP(A58,'Structural Water Quality Calcs'!$A$8:$AE$149,12,0)*100)","v":""},{"$f":"IF(A58=\"\",\"\",VLOOKUP(A58,'Structural Water Quality Calcs'!$A$8:$AE$149,13,0))","v":""},{"$f":"IF(A58=\"\",\"\",IF(VLOOKUP(A58,'Structural Water Quality Calcs'!$A$9:$B$149,2,0)=\"Limited ROW\",H58*I58*0.1/100,H58*I58/100))","v":""},{"$f":"IF(A58=\"\",\"\",VLOOKUP(A58,'Structural Water Quality Calcs'!$A$8:$AE$149,17,0))","v":""},{"$f":"IF(A58=\"\",\"\",SUMIFS(Catchment!$Z$5:$Z$300,Catchment!$D$5:$D$300,\"RIDOT\",Catchment!$K$5:$K$300,A58))","v":""},{"$f":"IF(A58=\"\",\"\",VLOOKUP(A58,'Structural Water Quality Calcs'!$A$8:$AE$149,18,0)*100)","v":""},{"$f":"IF(A58=\"\",\"\",VLOOKUP(A58,'Structural Water Quality Calcs'!$A$8:$AE$149,19,0))","v":""},{"$f":"IF(A58=\"\",\"\",IF(VLOOKUP(A58,'Structural Water Quality Calcs'!$A$9:$B$149,2,0)=\"Limited ROW\",M58*N58*0.1/100,M58*N58/100))","v":""},{"$f":"IF(A58=\"\",\"\",VLOOKUP(A58,'Structural Water Quality Calcs'!$A$8:$AE$149,14,0))","v":""},{"$f":"IF(A58=\"\",\"\",SUMIFS(Catchment!$Y$5:$Y$300,Catchment!$D$5:$D$300,\"RIDOT\",Catchment!$K$5:$K$300,A58))","v":""},{"$f":"IF(A58=\"\",\"\",VLOOKUP(A58,'Structural Water Quality Calcs'!$A$8:$AE$149,15,0)*100)","v":""},{"$f":"IF(A58=\"\",\"\",VLOOKUP(A58,'Structural Water Quality Calcs'!$A$8:$AE$149,16,0))","v":""},{"$f":"IF(A58=\"\",\"\",IF(VLOOKUP(A58,'Structural Water Quality Calcs'!$A$9:$B$149,2,0)=\"Limited ROW\",R58*S58*0.1/100,R58*S58/100))","v":""},{"$f":"IF(A58=\"\",\"\",VLOOKUP(A58,'Structural Water Quality Calcs'!$A$8:$AE$149,20,0))","v":""},{"$f":"IF(A58=\"\",\"\",SUMIFS(Catchment!$AA$5:$AA$300,Catchment!$D$5:$D$300,\"RIDOT\",Catchment!$K$5:$K$300,A58))","v":""},{"$f":"IF(A58=\"\",\"\",VLOOKUP(A58,'Structural Water Quality Calcs'!$A$8:$AE$149,21,0)*100)","v":""},{"$f":"IF(A58=\"\",\"\",VLOOKUP(A58,'Structural Water Quality Calcs'!$A$8:$AE$149,22,0))","v":""},{"$f":"IF(A58=\"\",\"\",IF(VLOOKUP(A58,'Structural Water Quality Calcs'!$A$9:$B$149,2,0)=\"Limited ROW\",W58*X58*0.1/100,W58*X58/100))","v":""},{"$f":"IF(A58=\"\",\"\",VLOOKUP(A58,'Structural Water Quality Calcs'!$A$8:$AE$149,29,0))","v":""},{"$f":"IF(A58=\"\",\"\",IF(VLOOKUP(A58,'Structural Water Quality Calcs'!$A$9:$B$149,2,0)=\"Limited ROW\",VLOOKUP(A58,'Structural Water Quality Calcs'!$A$8:$AE$149,28,0)*F58*0.1/43560,VLOOKUP(A58,'Structural Water Quality Calcs'!$A$8:$AE$149,28,0)*F58/43560))","v":""},{"$f":"IF(A58=\"\",\"\",VLOOKUP(A58,'Structural Water Quality Calcs'!$A$8:$AE$149,28,0)*100)","v":""},{"$f":"IF(A58=\"\",\"\",VLOOKUP(A58,'Structural Water Quality Calcs'!$A$8:$AE$149,31,0))","v":""},{"$f":"IF(A58=\"\",\"\",VLOOKUP(A58,'Structural Water Quality Calcs'!$A$8:$AE$149,26,0))","v":""},{"$f":"IF(A58=\"\",\"\",VLOOKUP(A58,'Structural Water Quality Calcs'!$A$8:$AE$149,27,0))","v":""},{"$f":"IF(A58=\"\",\"\",(VLOOKUP(A58,'Structural Water Quality Calcs'!$A$8:$AE$149,25,0)))","v":""},{"$f":"IF(A58=\"\",\"\",VLOOKUP(A58,'Structural Water Quality Calcs'!$A$8:$AE$149,24,0))","v":""},{"$f":"IF(A58=\"\",\"\",VLOOKUP(A58,STU_Cost!$A$5:$G$150,4,0))","v":""},{"$f":"IF(A58=\"\",\"\",VLOOKUP(A58,STU_Cost!$A$5:$G$150,5,0))","v":""},{"$f":"IF(A58=\"\",\"\",VLOOKUP(A58,STU_Cost!$A$5:$G$150,6,0))","v":""},{"$f":"IF(A58=\"\",\"\",VLOOKUP(A58,STU_Cost!$A$5:$G$150,7,0))","v":""},null,null,{"$f":"IF(A58=\"\",\"\",VLOOKUP(A58,STU!$A$5:$E$300,5,0))","v":""}]
[null,{"$f":"IF(A59=\"\",\"\",VLOOKUP(A59,'Structural Water Quality Calcs'!$A$9:$F$79,6,0))","v":""},{"$f":"IF(A59=\"\",\"\",VLOOKUP(A59,'Structural Water Quality Calcs'!$A$8:$AE$149,3,0))","v":""},{"$f":"IF(A59=\"\",\"\",SUMIFS(Catchment!$V$5:$V$300,Catchment!$D$5:$D$300,\"RIDOT\",Catchment!$K$5:$K$300,A59))","v":""},{"$f":"IF(A59=\"\",\"\",VLOOKUP(A59,'Structural Water Quality Calcs'!$A$8:$AE$149,4,0))","v":""},{"$f":"IF(A59=\"\",\"\",SUMIFS(Catchment!$L$5:$L$300,Catchment!$D$5:$D$300,\"RIDOT\",Catchment!$K$5:$K$300,A59))","v":""},{"$f":"IF(A59=\"\",\"\",VLOOKUP(A59, 'Structural Water Quality Calcs'!$A$8:$AE$149,11,0))","v":""},{"$f":"IF(A59=\"\",\"\",SUMIFS(Catchment!$X$5:$X$300,Catchment!$D$5:$D$300,\"RIDOT\",Catchment!$K$5:$K$300,A59))","v":""},{"$f":"IF(A59=\"\",\"\",VLOOKUP(A59,'Structural Water Quality Calcs'!$A$8:$AE$149,12,0)*100)","v":""},{"$f":"IF(A59=\"\",\"\",VLOOKUP(A59,'Structural Water Quality Calcs'!$A$8:$AE$149,13,0))","v":""},{"$f":"IF(A59=\"\",\"\",IF(VLOOKUP(A59,'Structural Water Quality Calcs'!$A$9:$B$149,2,0)=\"Limited ROW\",H59*I59*0.1/100,H59*I59/100))","v":""},{"$f":"IF(A59=\"\",\"\",VLOOKUP(A59,'Structural Water Quality Calcs'!$A$8:$AE$149,17,0))","v":""},{"$f":"IF(A59=\"\",\"\",SUMIFS(Catchment!$Z$5:$Z$300,Catchment!$D$5:$D$300,\"RIDOT\",Catchment!$K$5:$K$300,A59))","v":""},{"$f":"IF(A59=\"\",\"\",VLOOKUP(A59,'Structural Water Quality Calcs'!$A$8:$AE$149,18,0)*100)","v":""},{"$f":"IF(A59=\"\",\"\",VLOOKUP(A59,'Structural Water Quality Calcs'!$A$8:$AE$149,19,0))","v":""},{"$f":"IF(A59=\"\",\"\",IF(VLOOKUP(A59,'Structural Water Quality Calcs'!$A$9:$B$149,2,0)=\"Limited ROW\",M59*N59*0.1/100,M59*N59/100))","v":""},{"$f":"IF(A59=\"\",\"\",VLOOKUP(A59,'Structural Water Quality Calcs'!$A$8:$AE$149,14,0))","v":""},{"$f":"IF(A59=\"\",\"\",SUMIFS(Catchment!$Y$5:$Y$300,Catchment!$D$5:$D$300,\"RIDOT\",Catchment!$K$5:$K$300,A59))","v":""},{"$f":"IF(A59=\"\",\"\",VLOOKUP(A59,'Structural Water Quality Calcs'!$A$8:$AE$149,15,0)*100)","v":""},{"$f":"IF(A59=\"\",\"\",VLOOKUP(A59,'Structural Water Quality Calcs'!$A$8:$AE$149,16,0))","v":""},{"$f":"IF(A59=\"\",\"\",IF(VLOOKUP(A59,'Structural Water Quality Calcs'!$A$9:$B$149,2,0)=\"Limited ROW\",R59*S59*0.1/100,R59*S59/100))","v":""},{"$f":"IF(A59=\"\",\"\",VLOOKUP(A59,'Structural Water Quality Calcs'!$A$8:$AE$149,20,0))","v":""},{"$f":"IF(A59=\"\",\"\",SUMIFS(Catchment!$AA$5:$AA$300,Catchment!$D$5:$D$300,\"RIDOT\",Catchment!$K$5:$K$300,A59))","v":""},{"$f":"IF(A59=\"\",\"\",VLOOKUP(A59,'Structural Water Quality Calcs'!$A$8:$AE$149,21,0)*100)","v":""},{"$f":"IF(A59=\"\",\"\",VLOOKUP(A59,'Structural Water Quality Calcs'!$A$8:$AE$149,22,0))","v":""},{"$f":"IF(A59=\"\",\"\",IF(VLOOKUP(A59,'Structural Water Quality Calcs'!$A$9:$B$149,2,0)=\"Limited ROW\",W59*X59*0.1/100,W59*X59/100))","v":""},{"$f":"IF(A59=\"\",\"\",VLOOKUP(A59,'Structural Water Quality Calcs'!$A$8:$AE$149,29,0))","v":""},{"$f":"IF(A59=\"\",\"\",IF(VLOOKUP(A59,'Structural Water Quality Calcs'!$A$9:$B$149,2,0)=\"Limited ROW\",VLOOKUP(A59,'Structural Water Quality Calcs'!$A$8:$AE$149,28,0)*F59*0.1/43560,VLOOKUP(A59,'Structural Water Quality Calcs'!$A$8:$AE$149,28,0)*F59/43560))","v":""},{"$f":"IF(A59=\"\",\"\",VLOOKUP(A59,'Structural Water Quality Calcs'!$A$8:$AE$149,28,0)*100)","v":""},{"$f":"IF(A59=\"\",\"\",VLOOKUP(A59,'Structural Water Quality Calcs'!$A$8:$AE$149,31,0))","v":""},{"$f":"IF(A59=\"\",\"\",VLOOKUP(A59,'Structural Water Quality Calcs'!$A$8:$AE$149,26,0))","v":""},{"$f":"IF(A59=\"\",\"\",VLOOKUP(A59,'Structural Water Quality Calcs'!$A$8:$AE$149,27,0))","v":""},{"$f":"IF(A59=\"\",\"\",(VLOOKUP(A59,'Structural Water Quality Calcs'!$A$8:$AE$149,25,0)))","v":""},{"$f":"IF(A59=\"\",\"\",VLOOKUP(A59,'Structural Water Quality Calcs'!$A$8:$AE$149,24,0))","v":""},{"$f":"IF(A59=\"\",\"\",VLOOKUP(A59,STU_Cost!$A$5:$G$150,4,0))","v":""},{"$f":"IF(A59=\"\",\"\",VLOOKUP(A59,STU_Cost!$A$5:$G$150,5,0))","v":""},{"$f":"IF(A59=\"\",\"\",VLOOKUP(A59,STU_Cost!$A$5:$G$150,6,0))","v":""},{"$f":"IF(A59=\"\",\"\",VLOOKUP(A59,STU_Cost!$A$5:$G$150,7,0))","v":""},null,null,{"$f":"IF(A59=\"\",\"\",VLOOKUP(A59,STU!$A$5:$E$300,5,0))","v":""}]
[null,{"$f":"IF(A60=\"\",\"\",VLOOKUP(A60,'Structural Water Quality Calcs'!$A$9:$F$79,6,0))","v":""},{"$f":"IF(A60=\"\",\"\",VLOOKUP(A60,'Structural Water Quality Calcs'!$A$8:$AE$149,3,0))","v":""},{"$f":"IF(A60=\"\",\"\",SUMIFS(Catchment!$V$5:$V$300,Catchment!$D$5:$D$300,\"RIDOT\",Catchment!$K$5:$K$300,A60))","v":""},{"$f":"IF(A60=\"\",\"\",VLOOKUP(A60,'Structural Water Quality Calcs'!$A$8:$AE$149,4,0))","v":""},{"$f":"IF(A60=\"\",\"\",SUMIFS(Catchment!$L$5:$L$300,Catchment!$D$5:$D$300,\"RIDOT\",Catchment!$K$5:$K$300,A60))","v":""},{"$f":"IF(A60=\"\",\"\",VLOOKUP(A60, 'Structural Water Quality Calcs'!$A$8:$AE$149,11,0))","v":""},{"$f":"IF(A60=\"\",\"\",SUMIFS(Catchment!$X$5:$X$300,Catchment!$D$5:$D$300,\"RIDOT\",Catchment!$K$5:$K$300,A60))","v":""},{"$f":"IF(A60=\"\",\"\",VLOOKUP(A60,'Structural Water Quality Calcs'!$A$8:$AE$149,12,0)*100)","v":""},{"$f":"IF(A60=\"\",\"\",VLOOKUP(A60,'Structural Water Quality Calcs'!$A$8:$AE$149,13,0))","v":""},{"$f":"IF(A60=\"\",\"\",IF(VLOOKUP(A60,'Structural Water Quality Calcs'!$A$9:$B$149,2,0)=\"Limited ROW\",H60*I60*0.1/100,H60*I60/100))","v":""},{"$f":"IF(A60=\"\",\"\",VLOOKUP(A60,'Structural Water Quality Calcs'!$A$8:$AE$149,17,0))","v":""},{"$f":"IF(A60=\"\",\"\",SUMIFS(Catchment!$Z$5:$Z$300,Catchment!$D$5:$D$300,\"RIDOT\",Catchment!$K$5:$K$300,A60))","v":""},{"$f":"IF(A60=\"\",\"\",VLOOKUP(A60,'Structural Water Quality Calcs'!$A$8:$AE$149,18,0)*100)","v":""},{"$f":"IF(A60=\"\",\"\",VLOOKUP(A60,'Structural Water Quality Calcs'!$A$8:$AE$149,19,0))","v":""},{"$f":"IF(A60=\"\",\"\",IF(VLOOKUP(A60,'Structural Water Quality Calcs'!$A$9:$B$149,2,0)=\"Limited ROW\",M60*N60*0.1/100,M60*N60/100))","v":""},{"$f":"IF(A60=\"\",\"\",VLOOKUP(A60,'Structural Water Quality Calcs'!$A$8:$AE$149,14,0))","v":""},{"$f":"IF(A60=\"\",\"\",SUMIFS(Catchment!$Y$5:$Y$300,Catchment!$D$5:$D$300,\"RIDOT\",Catchment!$K$5:$K$300,A60))","v":""},{"$f":"IF(A60=\"\",\"\",VLOOKUP(A60,'Structural Water Quality Calcs'!$A$8:$AE$149,15,0)*100)","v":""},{"$f":"IF(A60=\"\",\"\",VLOOKUP(A60,'Structural Water Quality Calcs'!$A$8:$AE$149,16,0))","v":""},{"$f":"IF(A60=\"\",\"\",IF(VLOOKUP(A60,'Structural Water Quality Calcs'!$A$9:$B$149,2,0)=\"Limited ROW\",R60*S60*0.1/100,R60*S60/100))","v":""},{"$f":"IF(A60=\"\",\"\",VLOOKUP(A60,'Structural Water Quality Calcs'!$A$8:$AE$149,20,0))","v":""},{"$f":"IF(A60=\"\",\"\",SUMIFS(Catchment!$AA$5:$AA$300,Catchment!$D$5:$D$300,\"RIDOT\",Catchment!$K$5:$K$300,A60))","v":""},{"$f":"IF(A60=\"\",\"\",VLOOKUP(A60,'Structural Water Quality Calcs'!$A$8:$AE$149,21,0)*100)","v":""},{"$f":"IF(A60=\"\",\"\",VLOOKUP(A60,'Structural Water Quality Calcs'!$A$8:$AE$149,22,0))","v":""},{"$f":"IF(A60=\"\",\"\",IF(VLOOKUP(A60,'Structural Water Quality Calcs'!$A$9:$B$149,2,0)=\"Limited ROW\",W60*X60*0.1/100,W60*X60/100))","v":""},{"$f":"IF(A60=\"\",\"\",VLOOKUP(A60,'Structural Water Quality Calcs'!$A$8:$AE$149,29,0))","v":""},{"$f":"IF(A60=\"\",\"\",IF(VLOOKUP(A60,'Structural Water Quality Calcs'!$A$9:$B$149,2,0)=\"Limited ROW\",VLOOKUP(A60,'Structural Water Quality Calcs'!$A$8:$AE$149,28,0)*F60*0.1/43560,VLOOKUP(A60,'Structural Water Quality Calcs'!$A$8:$AE$149,28,0)*F60/43560))","v":""},{"$f":"IF(A60=\"\",\"\",VLOOKUP(A60,'Structural Water Quality Calcs'!$A$8:$AE$149,28,0)*100)","v":""},{"$f":"IF(A60=\"\",\"\",VLOOKUP(A60,'Structural Water Quality Calcs'!$A$8:$AE$149,31,0))","v":""},{"$f":"IF(A60=\"\",\"\",VLOOKUP(A60,'Structural Water Quality Calcs'!$A$8:$AE$149,26,0))","v":""},{"$f":"IF(A60=\"\",\"\",VLOOKUP(A60,'Structural Water Quality Calcs'!$A$8:$AE$149,27,0))","v":""},{"$f":"IF(A60=\"\",\"\",(VLOOKUP(A60,'Structural Water Quality Calcs'!$A$8:$AE$149,25,0)))","v":""},{"$f":"IF(A60=\"\",\"\",VLOOKUP(A60,'Structural Water Quality Calcs'!$A$8:$AE$149,24,0))","v":""},{"$f":"IF(A60=\"\",\"\",VLOOKUP(A60,STU_Cost!$A$5:$G$150,4,0))","v":""},{"$f":"IF(A60=\"\",\"\",VLOOKUP(A60,STU_Cost!$A$5:$G$150,5,0))","v":""},{"$f":"IF(A60=\"\",\"\",VLOOKUP(A60,STU_Cost!$A$5:$G$150,6,0))","v":""},{"$f":"IF(A60=\"\",\"\",VLOOKUP(A60,STU_Cost!$A$5:$G$150,7,0))","v":""},null,null,{"$f":"IF(A60=\"\",\"\",VLOOKUP(A60,STU!$A$5:$E$300,5,0))","v":""}]
[null,{"$f":"IF(A61=\"\",\"\",VLOOKUP(A61,'Structural Water Quality Calcs'!$A$9:$F$79,6,0))","v":""},{"$f":"IF(A61=\"\",\"\",VLOOKUP(A61,'Structural Water Quality Calcs'!$A$8:$AE$149,3,0))","v":""},{"$f":"IF(A61=\"\",\"\",SUMIFS(Catchment!$V$5:$V$300,Catchment!$D$5:$D$300,\"RIDOT\",Catchment!$K$5:$K$300,A61))","v":""},{"$f":"IF(A61=\"\",\"\",VLOOKUP(A61,'Structural Water Quality Calcs'!$A$8:$AE$149,4,0))","v":""},{"$f":"IF(A61=\"\",\"\",SUMIFS(Catchment!$L$5:$L$300,Catchment!$D$5:$D$300,\"RIDOT\",Catchment!$K$5:$K$300,A61))","v":""},{"$f":"IF(A61=\"\",\"\",VLOOKUP(A61, 'Structural Water Quality Calcs'!$A$8:$AE$149,11,0))","v":""},{"$f":"IF(A61=\"\",\"\",SUMIFS(Catchment!$X$5:$X$300,Catchment!$D$5:$D$300,\"RIDOT\",Catchment!$K$5:$K$300,A61))","v":""},{"$f":"IF(A61=\"\",\"\",VLOOKUP(A61,'Structural Water Quality Calcs'!$A$8:$AE$149,12,0)*100)","v":""},{"$f":"IF(A61=\"\",\"\",VLOOKUP(A61,'Structural Water Quality Calcs'!$A$8:$AE$149,13,0))","v":""},{"$f":"IF(A61=\"\",\"\",IF(VLOOKUP(A61,'Structural Water Quality Calcs'!$A$9:$B$149,2,0)=\"Limited ROW\",H61*I61*0.1/100,H61*I61/100))","v":""},{"$f":"IF(A61=\"\",\"\",VLOOKUP(A61,'Structural Water Quality Calcs'!$A$8:$AE$149,17,0))","v":""},{"$f":"IF(A61=\"\",\"\",SUMIFS(Catchment!$Z$5:$Z$300,Catchment!$D$5:$D$300,\"RIDOT\",Catchment!$K$5:$K$300,A61))","v":""},{"$f":"IF(A61=\"\",\"\",VLOOKUP(A61,'Structural Water Quality Calcs'!$A$8:$AE$149,18,0)*100)","v":""},{"$f":"IF(A61=\"\",\"\",VLOOKUP(A61,'Structural Water Quality Calcs'!$A$8:$AE$149,19,0))","v":""},{"$f":"IF(A61=\"\",\"\",IF(VLOOKUP(A61,'Structural Water Quality Calcs'!$A$9:$B$149,2,0)=\"Limited ROW\",M61*N61*0.1/100,M61*N61/100))","v":""},{"$f":"IF(A61=\"\",\"\",VLOOKUP(A61,'Structural Water Quality Calcs'!$A$8:$AE$149,14,0))","v":""},{"$f":"IF(A61=\"\",\"\",SUMIFS(Catchment!$Y$5:$Y$300,Catchment!$D$5:$D$300,\"RIDOT\",Catchment!$K$5:$K$300,A61))","v":""},{"$f":"IF(A61=\"\",\"\",VLOOKUP(A61,'Structural Water Quality Calcs'!$A$8:$AE$149,15,0)*100)","v":""},{"$f":"IF(A61=\"\",\"\",VLOOKUP(A61,'Structural Water Quality Calcs'!$A$8:$AE$149,16,0))","v":""},{"$f":"IF(A61=\"\",\"\",IF(VLOOKUP(A61,'Structural Water Quality Calcs'!$A$9:$B$149,2,0)=\"Limited ROW\",R61*S61*0.1/100,R61*S61/100))","v":""},{"$f":"IF(A61=\"\",\"\",VLOOKUP(A61,'Structural Water Quality Calcs'!$A$8:$AE$149,20,0))","v":""},{"$f":"IF(A61=\"\",\"\",SUMIFS(Catchment!$AA$5:$AA$300,Catchment!$D$5:$D$300,\"RIDOT\",Catchment!$K$5:$K$300,A61))","v":""},{"$f":"IF(A61=\"\",\"\",VLOOKUP(A61,'Structural Water Quality Calcs'!$A$8:$AE$149,21,0)*100)","v":""},{"$f":"IF(A61=\"\",\"\",VLOOKUP(A61,'Structural Water Quality Calcs'!$A$8:$AE$149,22,0))","v":""},{"$f":"IF(A61=\"\",\"\",IF(VLOOKUP(A61,'Structural Water Quality Calcs'!$A$9:$B$149,2,0)=\"Limited ROW\",W61*X61*0.1/100,W61*X61/100))","v":""},{"$f":"IF(A61=\"\",\"\",VLOOKUP(A61,'Structural Water Quality Calcs'!$A$8:$AE$149,29,0))","v":""},{"$f":"IF(A61=\"\",\"\",IF(VLOOKUP(A61,'Structural Water Quality Calcs'!$A$9:$B$149,2,0)=\"Limited ROW\",VLOOKUP(A61,'Structural Water Quality Calcs'!$A$8:$AE$149,28,0)*F61*0.1/43560,VLOOKUP(A61,'Structural Water Quality Calcs'!$A$8:$AE$149,28,0)*F61/43560))","v":""},{"$f":"IF(A61=\"\",\"\",VLOOKUP(A61,'Structural Water Quality Calcs'!$A$8:$AE$149,28,0)*100)","v":""},{"$f":"IF(A61=\"\",\"\",VLOOKUP(A61,'Structural Water Quality Calcs'!$A$8:$AE$149,31,0))","v":""},{"$f":"IF(A61=\"\",\"\",VLOOKUP(A61,'Structural Water Quality Calcs'!$A$8:$AE$149,26,0))","v":""},{"$f":"IF(A61=\"\",\"\",VLOOKUP(A61,'Structural Water Quality Calcs'!$A$8:$AE$149,27,0))","v":""},{"$f":"IF(A61=\"\",\"\",(VLOOKUP(A61,'Structural Water Quality Calcs'!$A$8:$AE$149,25,0)))","v":""},{"$f":"IF(A61=\"\",\"\",VLOOKUP(A61,'Structural Water Quality Calcs'!$A$8:$AE$149,24,0))","v":""},{"$f":"IF(A61=\"\",\"\",VLOOKUP(A61,STU_Cost!$A$5:$G$150,4,0))","v":""},{"$f":"IF(A61=\"\",\"\",VLOOKUP(A61,STU_Cost!$A$5:$G$150,5,0))","v":""},{"$f":"IF(A61=\"\",\"\",VLOOKUP(A61,STU_Cost!$A$5:$G$150,6,0))","v":""},{"$f":"IF(A61=\"\",\"\",VLOOKUP(A61,STU_Cost!$A$5:$G$150,7,0))","v":""},null,null,{"$f":"IF(A61=\"\",\"\",VLOOKUP(A61,STU!$A$5:$E$300,5,0))","v":""}]
[null,{"$f":"IF(A62=\"\",\"\",VLOOKUP(A62,'Structural Water Quality Calcs'!$A$9:$F$79,6,0))","v":""},{"$f":"IF(A62=\"\",\"\",VLOOKUP(A62,'Structural Water Quality Calcs'!$A$8:$AE$149,3,0))","v":""},{"$f":"IF(A62=\"\",\"\",SUMIFS(Catchment!$V$5:$V$300,Catchment!$D$5:$D$300,\"RIDOT\",Catchment!$K$5:$K$300,A62))","v":""},{"$f":"IF(A62=\"\",\"\",VLOOKUP(A62,'Structural Water Quality Calcs'!$A$8:$AE$149,4,0))","v":""},{"$f":"IF(A62=\"\",\"\",SUMIFS(Catchment!$L$5:$L$300,Catchment!$D$5:$D$300,\"RIDOT\",Catchment!$K$5:$K$300,A62))","v":""},{"$f":"IF(A62=\"\",\"\",VLOOKUP(A62, 'Structural Water Quality Calcs'!$A$8:$AE$149,11,0))","v":""},{"$f":"IF(A62=\"\",\"\",SUMIFS(Catchment!$X$5:$X$300,Catchment!$D$5:$D$300,\"RIDOT\",Catchment!$K$5:$K$300,A62))","v":""},{"$f":"IF(A62=\"\",\"\",VLOOKUP(A62,'Structural Water Quality Calcs'!$A$8:$AE$149,12,0)*100)","v":""},{"$f":"IF(A62=\"\",\"\",VLOOKUP(A62,'Structural Water Quality Calcs'!$A$8:$AE$149,13,0))","v":""},{"$f":"IF(A62=\"\",\"\",IF(VLOOKUP(A62,'Structural Water Quality Calcs'!$A$9:$B$149,2,0)=\"Limited ROW\",H62*I62*0.1/100,H62*I62/100))","v":""},{"$f":"IF(A62=\"\",\"\",VLOOKUP(A62,'Structural Water Quality Calcs'!$A$8:$AE$149,17,0))","v":""},{"$f":"IF(A62=\"\",\"\",SUMIFS(Catchment!$Z$5:$Z$300,Catchment!$D$5:$D$300,\"RIDOT\",Catchment!$K$5:$K$300,A62))","v":""},{"$f":"IF(A62=\"\",\"\",VLOOKUP(A62,'Structural Water Quality Calcs'!$A$8:$AE$149,18,0)*100)","v":""},{"$f":"IF(A62=\"\",\"\",VLOOKUP(A62,'Structural Water Quality Calcs'!$A$8:$AE$149,19,0))","v":""},{"$f":"IF(A62=\"\",\"\",IF(VLOOKUP(A62,'Structural Water Quality Calcs'!$A$9:$B$149,2,0)=\"Limited ROW\",M62*N62*0.1/100,M62*N62/100))","v":""},{"$f":"IF(A62=\"\",\"\",VLOOKUP(A62,'Structural Water Quality Calcs'!$A$8:$AE$149,14,0))","v":""},{"$f":"IF(A62=\"\",\"\",SUMIFS(Catchment!$Y$5:$Y$300,Catchment!$D$5:$D$300,\"RIDOT\",Catchment!$K$5:$K$300,A62))","v":""},{"$f":"IF(A62=\"\",\"\",VLOOKUP(A62,'Structural Water Quality Calcs'!$A$8:$AE$149,15,0)*100)","v":""},{"$f":"IF(A62=\"\",\"\",VLOOKUP(A62,'Structural Water Quality Calcs'!$A$8:$AE$149,16,0))","v":""},{"$f":"IF(A62=\"\",\"\",IF(VLOOKUP(A62,'Structural Water Quality Calcs'!$A$9:$B$149,2,0)=\"Limited ROW\",R62*S62*0.1/100,R62*S62/100))","v":""},{"$f":"IF(A62=\"\",\"\",VLOOKUP(A62,'Structural Water Quality Calcs'!$A$8:$AE$149,20,0))","v":""},{"$f":"IF(A62=\"\",\"\",SUMIFS(Catchment!$AA$5:$AA$300,Catchment!$D$5:$D$300,\"RIDOT\",Catchment!$K$5:$K$300,A62))","v":""},{"$f":"IF(A62=\"\",\"\",VLOOKUP(A62,'Structural Water Quality Calcs'!$A$8:$AE$149,21,0)*100)","v":""},{"$f":"IF(A62=\"\",\"\",VLOOKUP(A62,'Structural Water Quality Calcs'!$A$8:$AE$149,22,0))","v":""},{"$f":"IF(A62=\"\",\"\",IF(VLOOKUP(A62,'Structural Water Quality Calcs'!$A$9:$B$149,2,0)=\"Limited ROW\",W62*X62*0.1/100,W62*X62/100))","v":""},{"$f":"IF(A62=\"\",\"\",VLOOKUP(A62,'Structural Water Quality Calcs'!$A$8:$AE$149,29,0))","v":""},{"$f":"IF(A62=\"\",\"\",IF(VLOOKUP(A62,'Structural Water Quality Calcs'!$A$9:$B$149,2,0)=\"Limited ROW\",VLOOKUP(A62,'Structural Water Quality Calcs'!$A$8:$AE$149,28,0)*F62*0.1/43560,VLOOKUP(A62,'Structural Water Quality Calcs'!$A$8:$AE$149,28,0)*F62/43560))","v":""},{"$f":"IF(A62=\"\",\"\",VLOOKUP(A62,'Structural Water Quality Calcs'!$A$8:$AE$149,28,0)*100)","v":""},{"$f":"IF(A62=\"\",\"\",VLOOKUP(A62,'Structural Water Quality Calcs'!$A$8:$AE$149,31,0))","v":""},{"$f":"IF(A62=\"\",\"\",VLOOKUP(A62,'Structural Water Quality Calcs'!$A$8:$AE$149,26,0))","v":""},{"$f":"IF(A62=\"\",\"\",VLOOKUP(A62,'Structural Water Quality Calcs'!$A$8:$AE$149,27,0))","v":""},{"$f":"IF(A62=\"\",\"\",(VLOOKUP(A62,'Structural Water Quality Calcs'!$A$8:$AE$149,25,0)))","v":""},{"$f":"IF(A62=\"\",\"\",VLOOKUP(A62,'Structural Water Quality Calcs'!$A$8:$AE$149,24,0))","v":""},{"$f":"IF(A62=\"\",\"\",VLOOKUP(A62,STU_Cost!$A$5:$G$150,4,0))","v":""},{"$f":"IF(A62=\"\",\"\",VLOOKUP(A62,STU_Cost!$A$5:$G$150,5,0))","v":""},{"$f":"IF(A62=\"\",\"\",VLOOKUP(A62,STU_Cost!$A$5:$G$150,6,0))","v":""},{"$f":"IF(A62=\"\",\"\",VLOOKUP(A62,STU_Cost!$A$5:$G$150,7,0))","v":""},null,null,{"$f":"IF(A62=\"\",\"\",VLOOKUP(A62,STU!$A$5:$E$300,5,0))","v":""}]
[null,{"$f":"IF(A63=\"\",\"\",VLOOKUP(A63,'Structural Water Quality Calcs'!$A$9:$F$79,6,0))","v":""},{"$f":"IF(A63=\"\",\"\",VLOOKUP(A63,'Structural Water Quality Calcs'!$A$8:$AE$149,3,0))","v":""},{"$f":"IF(A63=\"\",\"\",SUMIFS(Catchment!$V$5:$V$300,Catchment!$D$5:$D$300,\"RIDOT\",Catchment!$K$5:$K$300,A63))","v":""},{"$f":"IF(A63=\"\",\"\",VLOOKUP(A63,'Structural Water Quality Calcs'!$A$8:$AE$149,4,0))","v":""},{"$f":"IF(A63=\"\",\"\",SUMIFS(Catchment!$L$5:$L$300,Catchment!$D$5:$D$300,\"RIDOT\",Catchment!$K$5:$K$300,A63))","v":""},{"$f":"IF(A63=\"\",\"\",VLOOKUP(A63, 'Structural Water Quality Calcs'!$A$8:$AE$149,11,0))","v":""},{"$f":"IF(A63=\"\",\"\",SUMIFS(Catchment!$X$5:$X$300,Catchment!$D$5:$D$300,\"RIDOT\",Catchment!$K$5:$K$300,A63))","v":""},{"$f":"IF(A63=\"\",\"\",VLOOKUP(A63,'Structural Water Quality Calcs'!$A$8:$AE$149,12,0)*100)","v":""},{"$f":"IF(A63=\"\",\"\",VLOOKUP(A63,'Structural Water Quality Calcs'!$A$8:$AE$149,13,0))","v":""},{"$f":"IF(A63=\"\",\"\",IF(VLOOKUP(A63,'Structural Water Quality Calcs'!$A$9:$B$149,2,0)=\"Limited ROW\",H63*I63*0.1/100,H63*I63/100))","v":""},{"$f":"IF(A63=\"\",\"\",VLOOKUP(A63,'Structural Water Quality Calcs'!$A$8:$AE$149,17,0))","v":""},{"$f":"IF(A63=\"\",\"\",SUMIFS(Catchment!$Z$5:$Z$300,Catchment!$D$5:$D$300,\"RIDOT\",Catchment!$K$5:$K$300,A63))","v":""},{"$f":"IF(A63=\"\",\"\",VLOOKUP(A63,'Structural Water Quality Calcs'!$A$8:$AE$149,18,0)*100)","v":""},{"$f":"IF(A63=\"\",\"\",VLOOKUP(A63,'Structural Water Quality Calcs'!$A$8:$AE$149,19,0))","v":""},{"$f":"IF(A63=\"\",\"\",IF(VLOOKUP(A63,'Structural Water Quality Calcs'!$A$9:$B$149,2,0)=\"Limited ROW\",M63*N63*0.1/100,M63*N63/100))","v":""},{"$f":"IF(A63=\"\",\"\",VLOOKUP(A63,'Structural Water Quality Calcs'!$A$8:$AE$149,14,0))","v":""},{"$f":"IF(A63=\"\",\"\",SUMIFS(Catchment!$Y$5:$Y$300,Catchment!$D$5:$D$300,\"RIDOT\",Catchment!$K$5:$K$300,A63))","v":""},{"$f":"IF(A63=\"\",\"\",VLOOKUP(A63,'Structural Water Quality Calcs'!$A$8:$AE$149,15,0)*100)","v":""},{"$f":"IF(A63=\"\",\"\",VLOOKUP(A63,'Structural Water Quality Calcs'!$A$8:$AE$149,16,0))","v":""},{"$f":"IF(A63=\"\",\"\",IF(VLOOKUP(A63,'Structural Water Quality Calcs'!$A$9:$B$149,2,0)=\"Limited ROW\",R63*S63*0.1/100,R63*S63/100))","v":""},{"$f":"IF(A63=\"\",\"\",VLOOKUP(A63,'Structural Water Quality Calcs'!$A$8:$AE$149,20,0))","v":""},{"$f":"IF(A63=\"\",\"\",SUMIFS(Catchment!$AA$5:$AA$300,Catchment!$D$5:$D$300,\"RIDOT\",Catchment!$K$5:$K$300,A63))","v":""},{"$f":"IF(A63=\"\",\"\",VLOOKUP(A63,'Structural Water Quality Calcs'!$A$8:$AE$149,21,0)*100)","v":""},{"$f":"IF(A63=\"\",\"\",VLOOKUP(A63,'Structural Water Quality Calcs'!$A$8:$AE$149,22,0))","v":""},{"$f":"IF(A63=\"\",\"\",IF(VLOOKUP(A63,'Structural Water Quality Calcs'!$A$9:$B$149,2,0)=\"Limited ROW\",W63*X63*0.1/100,W63*X63/100))","v":""},{"$f":"IF(A63=\"\",\"\",VLOOKUP(A63,'Structural Water Quality Calcs'!$A$8:$AE$149,29,0))","v":""},{"$f":"IF(A63=\"\",\"\",IF(VLOOKUP(A63,'Structural Water Quality Calcs'!$A$9:$B$149,2,0)=\"Limited ROW\",VLOOKUP(A63,'Structural Water Quality Calcs'!$A$8:$AE$149,28,0)*F63*0.1/43560,VLOOKUP(A63,'Structural Water Quality Calcs'!$A$8:$AE$149,28,0)*F63/43560))","v":""},{"$f":"IF(A63=\"\",\"\",VLOOKUP(A63,'Structural Water Quality Calcs'!$A$8:$AE$149,28,0)*100)","v":""},{"$f":"IF(A63=\"\",\"\",VLOOKUP(A63,'Structural Water Quality Calcs'!$A$8:$AE$149,31,0))","v":""},{"$f":"IF(A63=\"\",\"\",VLOOKUP(A63,'Structural Water Quality Calcs'!$A$8:$AE$149,26,0))","v":""},{"$f":"IF(A63=\"\",\"\",VLOOKUP(A63,'Structural Water Quality Calcs'!$A$8:$AE$149,27,0))","v":""},{"$f":"IF(A63=\"\",\"\",(VLOOKUP(A63,'Structural Water Quality Calcs'!$A$8:$AE$149,25,0)))","v":""},{"$f":"IF(A63=\"\",\"\",VLOOKUP(A63,'Structural Water Quality Calcs'!$A$8:$AE$149,24,0))","v":""},{"$f":"IF(A63=\"\",\"\",VLOOKUP(A63,STU_Cost!$A$5:$G$150,4,0))","v":""},{"$f":"IF(A63=\"\",\"\",VLOOKUP(A63,STU_Cost!$A$5:$G$150,5,0))","v":""},{"$f":"IF(A63=\"\",\"\",VLOOKUP(A63,STU_Cost!$A$5:$G$150,6,0))","v":""},{"$f":"IF(A63=\"\",\"\",VLOOKUP(A63,STU_Cost!$A$5:$G$150,7,0))","v":""},null,null,{"$f":"IF(A63=\"\",\"\",VLOOKUP(A63,STU!$A$5:$E$300,5,0))","v":""}]
[null,{"$f":"IF(A64=\"\",\"\",VLOOKUP(A64,'Structural Water Quality Calcs'!$A$9:$F$79,6,0))","v":""},{"$f":"IF(A64=\"\",\"\",VLOOKUP(A64,'Structural Water Quality Calcs'!$A$8:$AE$149,3,0))","v":""},{"$f":"IF(A64=\"\",\"\",SUMIFS(Catchment!$V$5:$V$300,Catchment!$D$5:$D$300,\"RIDOT\",Catchment!$K$5:$K$300,A64))","v":""},{"$f":"IF(A64=\"\",\"\",VLOOKUP(A64,'Structural Water Quality Calcs'!$A$8:$AE$149,4,0))","v":""},{"$f":"IF(A64=\"\",\"\",SUMIFS(Catchment!$L$5:$L$300,Catchment!$D$5:$D$300,\"RIDOT\",Catchment!$K$5:$K$300,A64))","v":""},{"$f":"IF(A64=\"\",\"\",VLOOKUP(A64, 'Structural Water Quality Calcs'!$A$8:$AE$149,11,0))","v":""},{"$f":"IF(A64=\"\",\"\",SUMIFS(Catchment!$X$5:$X$300,Catchment!$D$5:$D$300,\"RIDOT\",Catchment!$K$5:$K$300,A64))","v":""},{"$f":"IF(A64=\"\",\"\",VLOOKUP(A64,'Structural Water Quality Calcs'!$A$8:$AE$149,12,0)*100)","v":""},{"$f":"IF(A64=\"\",\"\",VLOOKUP(A64,'Structural Water Quality Calcs'!$A$8:$AE$149,13,0))","v":""},{"$f":"IF(A64=\"\",\"\",IF(VLOOKUP(A64,'Structural Water Quality Calcs'!$A$9:$B$149,2,0)=\"Limited ROW\",H64*I64*0.1/100,H64*I64/100))","v":""},{"$f":"IF(A64=\"\",\"\",VLOOKUP(A64,'Structural Water Quality Calcs'!$A$8:$AE$149,17,0))","v":""},{"$f":"IF(A64=\"\",\"\",SUMIFS(Catchment!$Z$5:$Z$300,Catchment!$D$5:$D$300,\"RIDOT\",Catchment!$K$5:$K$300,A64))","v":""},{"$f":"IF(A64=\"\",\"\",VLOOKUP(A64,'Structural Water Quality Calcs'!$A$8:$AE$149,18,0)*100)","v":""},{"$f":"IF(A64=\"\",\"\",VLOOKUP(A64,'Structural Water Quality Calcs'!$A$8:$AE$149,19,0))","v":""},{"$f":"IF(A64=\"\",\"\",IF(VLOOKUP(A64,'Structural Water Quality Calcs'!$A$9:$B$149,2,0)=\"Limited ROW\",M64*N64*0.1/100,M64*N64/100))","v":""},{"$f":"IF(A64=\"\",\"\",VLOOKUP(A64,'Structural Water Quality Calcs'!$A$8:$AE$149,14,0))","v":""},{"$f":"IF(A64=\"\",\"\",SUMIFS(Catchment!$Y$5:$Y$300,Catchment!$D$5:$D$300,\"RIDOT\",Catchment!$K$5:$K$300,A64))","v":""},{"$f":"IF(A64=\"\",\"\",VLOOKUP(A64,'Structural Water Quality Calcs'!$A$8:$AE$149,15,0)*100)","v":""},{"$f":"IF(A64=\"\",\"\",VLOOKUP(A64,'Structural Water Quality Calcs'!$A$8:$AE$149,16,0))","v":""},{"$f":"IF(A64=\"\",\"\",IF(VLOOKUP(A64,'Structural Water Quality Calcs'!$A$9:$B$149,2,0)=\"Limited ROW\",R64*S64*0.1/100,R64*S64/100))","v":""},{"$f":"IF(A64=\"\",\"\",VLOOKUP(A64,'Structural Water Quality Calcs'!$A$8:$AE$149,20,0))","v":""},{"$f":"IF(A64=\"\",\"\",SUMIFS(Catchment!$AA$5:$AA$300,Catchment!$D$5:$D$300,\"RIDOT\",Catchment!$K$5:$K$300,A64))","v":""},{"$f":"IF(A64=\"\",\"\",VLOOKUP(A64,'Structural Water Quality Calcs'!$A$8:$AE$149,21,0)*100)","v":""},{"$f":"IF(A64=\"\",\"\",VLOOKUP(A64,'Structural Water Quality Calcs'!$A$8:$AE$149,22,0))","v":""},{"$f":"IF(A64=\"\",\"\",IF(VLOOKUP(A64,'Structural Water Quality Calcs'!$A$9:$B$149,2,0)=\"Limited ROW\",W64*X64*0.1/100,W64*X64/100))","v":""},{"$f":"IF(A64=\"\",\"\",VLOOKUP(A64,'Structural Water Quality Calcs'!$A$8:$AE$149,29,0))","v":""},{"$f":"IF(A64=\"\",\"\",IF(VLOOKUP(A64,'Structural Water Quality Calcs'!$A$9:$B$149,2,0)=\"Limited ROW\",VLOOKUP(A64,'Structural Water Quality Calcs'!$A$8:$AE$149,28,0)*F64*0.1/43560,VLOOKUP(A64,'Structural Water Quality Calcs'!$A$8:$AE$149,28,0)*F64/43560))","v":""},{"$f":"IF(A64=\"\",\"\",VLOOKUP(A64,'Structural Water Quality Calcs'!$A$8:$AE$149,28,0)*100)","v":""},{"$f":"IF(A64=\"\",\"\",VLOOKUP(A64,'Structural Water Quality Calcs'!$A$8:$AE$149,31,0))","v":""},{"$f":"IF(A64=\"\",\"\",VLOOKUP(A64,'Structural Water Quality Calcs'!$A$8:$AE$149,26,0))","v":""},{"$f":"IF(A64=\"\",\"\",VLOOKUP(A64,'Structural Water Quality Calcs'!$A$8:$AE$149,27,0))","v":""},{"$f":"IF(A64=\"\",\"\",(VLOOKUP(A64,'Structural Water Quality Calcs'!$A$8:$AE$149,25,0)))","v":""},{"$f":"IF(A64=\"\",\"\",VLOOKUP(A64,'Structural Water Quality Calcs'!$A$8:$AE$149,24,0))","v":""},{"$f":"IF(A64=\"\",\"\",VLOOKUP(A64,STU_Cost!$A$5:$G$150,4,0))","v":""},{"$f":"IF(A64=\"\",\"\",VLOOKUP(A64,STU_Cost!$A$5:$G$150,5,0))","v":""},{"$f":"IF(A64=\"\",\"\",VLOOKUP(A64,STU_Cost!$A$5:$G$150,6,0))","v":""},{"$f":"IF(A64=\"\",\"\",VLOOKUP(A64,STU_Cost!$A$5:$G$150,7,0))","v":""},null,null,{"$f":"IF(A64=\"\",\"\",VLOOKUP(A64,STU!$A$5:$E$300,5,0))","v":""}]
[null,{"$f":"IF(A65=\"\",\"\",VLOOKUP(A65,'Structural Water Quality Calcs'!$A$9:$F$79,6,0))","v":""},{"$f":"IF(A65=\"\",\"\",VLOOKUP(A65,'Structural Water Quality Calcs'!$A$8:$AE$149,3,0))","v":""},{"$f":"IF(A65=\"\",\"\",SUMIFS(Catchment!$V$5:$V$300,Catchment!$D$5:$D$300,\"RIDOT\",Catchment!$K$5:$K$300,A65))","v":""},{"$f":"IF(A65=\"\",\"\",VLOOKUP(A65,'Structural Water Quality Calcs'!$A$8:$AE$149,4,0))","v":""},{"$f":"IF(A65=\"\",\"\",SUMIFS(Catchment!$L$5:$L$300,Catchment!$D$5:$D$300,\"RIDOT\",Catchment!$K$5:$K$300,A65))","v":""},{"$f":"IF(A65=\"\",\"\",VLOOKUP(A65, 'Structural Water Quality Calcs'!$A$8:$AE$149,11,0))","v":""},{"$f":"IF(A65=\"\",\"\",SUMIFS(Catchment!$X$5:$X$300,Catchment!$D$5:$D$300,\"RIDOT\",Catchment!$K$5:$K$300,A65))","v":""},{"$f":"IF(A65=\"\",\"\",VLOOKUP(A65,'Structural Water Quality Calcs'!$A$8:$AE$149,12,0)*100)","v":""},{"$f":"IF(A65=\"\",\"\",VLOOKUP(A65,'Structural Water Quality Calcs'!$A$8:$AE$149,13,0))","v":""},{"$f":"IF(A65=\"\",\"\",IF(VLOOKUP(A65,'Structural Water Quality Calcs'!$A$9:$B$149,2,0)=\"Limited ROW\",H65*I65*0.1/100,H65*I65/100))","v":""},{"$f":"IF(A65=\"\",\"\",VLOOKUP(A65,'Structural Water Quality Calcs'!$A$8:$AE$149,17,0))","v":""},{"$f":"IF(A65=\"\",\"\",SUMIFS(Catchment!$Z$5:$Z$300,Catchment!$D$5:$D$300,\"RIDOT\",Catchment!$K$5:$K$300,A65))","v":""},{"$f":"IF(A65=\"\",\"\",VLOOKUP(A65,'Structural Water Quality Calcs'!$A$8:$AE$149,18,0)*100)","v":""},{"$f":"IF(A65=\"\",\"\",VLOOKUP(A65,'Structural Water Quality Calcs'!$A$8:$AE$149,19,0))","v":""},{"$f":"IF(A65=\"\",\"\",IF(VLOOKUP(A65,'Structural Water Quality Calcs'!$A$9:$B$149,2,0)=\"Limited ROW\",M65*N65*0.1/100,M65*N65/100))","v":""},{"$f":"IF(A65=\"\",\"\",VLOOKUP(A65,'Structural Water Quality Calcs'!$A$8:$AE$149,14,0))","v":""},{"$f":"IF(A65=\"\",\"\",SUMIFS(Catchment!$Y$5:$Y$300,Catchment!$D$5:$D$300,\"RIDOT\",Catchment!$K$5:$K$300,A65))","v":""},{"$f":"IF(A65=\"\",\"\",VLOOKUP(A65,'Structural Water Quality Calcs'!$A$8:$AE$149,15,0)*100)","v":""},{"$f":"IF(A65=\"\",\"\",VLOOKUP(A65,'Structural Water Quality Calcs'!$A$8:$AE$149,16,0))","v":""},{"$f":"IF(A65=\"\",\"\",IF(VLOOKUP(A65,'Structural Water Quality Calcs'!$A$9:$B$149,2,0)=\"Limited ROW\",R65*S65*0.1/100,R65*S65/100))","v":""},{"$f":"IF(A65=\"\",\"\",VLOOKUP(A65,'Structural Water Quality Calcs'!$A$8:$AE$149,20,0))","v":""},{"$f":"IF(A65=\"\",\"\",SUMIFS(Catchment!$AA$5:$AA$300,Catchment!$D$5:$D$300,\"RIDOT\",Catchment!$K$5:$K$300,A65))","v":""},{"$f":"IF(A65=\"\",\"\",VLOOKUP(A65,'Structural Water Quality Calcs'!$A$8:$AE$149,21,0)*100)","v":""},{"$f":"IF(A65=\"\",\"\",VLOOKUP(A65,'Structural Water Quality Calcs'!$A$8:$AE$149,22,0))","v":""},{"$f":"IF(A65=\"\",\"\",IF(VLOOKUP(A65,'Structural Water Quality Calcs'!$A$9:$B$149,2,0)=\"Limited ROW\",W65*X65*0.1/100,W65*X65/100))","v":""},{"$f":"IF(A65=\"\",\"\",VLOOKUP(A65,'Structural Water Quality Calcs'!$A$8:$AE$149,29,0))","v":""},{"$f":"IF(A65=\"\",\"\",IF(VLOOKUP(A65,'Structural Water Quality Calcs'!$A$9:$B$149,2,0)=\"Limited ROW\",VLOOKUP(A65,'Structural Water Quality Calcs'!$A$8:$AE$149,28,0)*F65*0.1/43560,VLOOKUP(A65,'Structural Water Quality Calcs'!$A$8:$AE$149,28,0)*F65/43560))","v":""},{"$f":"IF(A65=\"\",\"\",VLOOKUP(A65,'Structural Water Quality Calcs'!$A$8:$AE$149,28,0)*100)","v":""},{"$f":"IF(A65=\"\",\"\",VLOOKUP(A65,'Structural Water Quality Calcs'!$A$8:$AE$149,31,0))","v":""},{"$f":"IF(A65=\"\",\"\",VLOOKUP(A65,'Structural Water Quality Calcs'!$A$8:$AE$149,26,0))","v":""},{"$f":"IF(A65=\"\",\"\",VLOOKUP(A65,'Structural Water Quality Calcs'!$A$8:$AE$149,27,0))","v":""},{"$f":"IF(A65=\"\",\"\",(VLOOKUP(A65,'Structural Water Quality Calcs'!$A$8:$AE$149,25,0)))","v":""},{"$f":"IF(A65=\"\",\"\",VLOOKUP(A65,'Structural Water Quality Calcs'!$A$8:$AE$149,24,0))","v":""},{"$f":"IF(A65=\"\",\"\",VLOOKUP(A65,STU_Cost!$A$5:$G$150,4,0))","v":""},{"$f":"IF(A65=\"\",\"\",VLOOKUP(A65,STU_Cost!$A$5:$G$150,5,0))","v":""},{"$f":"IF(A65=\"\",\"\",VLOOKUP(A65,STU_Cost!$A$5:$G$150,6,0))","v":""},{"$f":"IF(A65=\"\",\"\",VLOOKUP(A65,STU_Cost!$A$5:$G$150,7,0))","v":""},null,null,{"$f":"IF(A65=\"\",\"\",VLOOKUP(A65,STU!$A$5:$E$300,5,0))","v":""}]
[null,{"$f":"IF(A66=\"\",\"\",VLOOKUP(A66,'Structural Water Quality Calcs'!$A$9:$F$79,6,0))","v":""},{"$f":"IF(A66=\"\",\"\",VLOOKUP(A66,'Structural Water Quality Calcs'!$A$8:$AE$149,3,0))","v":""},{"$f":"IF(A66=\"\",\"\",SUMIFS(Catchment!$V$5:$V$300,Catchment!$D$5:$D$300,\"RIDOT\",Catchment!$K$5:$K$300,A66))","v":""},{"$f":"IF(A66=\"\",\"\",VLOOKUP(A66,'Structural Water Quality Calcs'!$A$8:$AE$149,4,0))","v":""},{"$f":"IF(A66=\"\",\"\",SUMIFS(Catchment!$L$5:$L$300,Catchment!$D$5:$D$300,\"RIDOT\",Catchment!$K$5:$K$300,A66))","v":""},{"$f":"IF(A66=\"\",\"\",VLOOKUP(A66, 'Structural Water Quality Calcs'!$A$8:$AE$149,11,0))","v":""},{"$f":"IF(A66=\"\",\"\",SUMIFS(Catchment!$X$5:$X$300,Catchment!$D$5:$D$300,\"RIDOT\",Catchment!$K$5:$K$300,A66))","v":""},{"$f":"IF(A66=\"\",\"\",VLOOKUP(A66,'Structural Water Quality Calcs'!$A$8:$AE$149,12,0)*100)","v":""},{"$f":"IF(A66=\"\",\"\",VLOOKUP(A66,'Structural Water Quality Calcs'!$A$8:$AE$149,13,0))","v":""},{"$f":"IF(A66=\"\",\"\",IF(VLOOKUP(A66,'Structural Water Quality Calcs'!$A$9:$B$149,2,0)=\"Limited ROW\",H66*I66*0.1/100,H66*I66/100))","v":""},{"$f":"IF(A66=\"\",\"\",VLOOKUP(A66,'Structural Water Quality Calcs'!$A$8:$AE$149,17,0))","v":""},{"$f":"IF(A66=\"\",\"\",SUMIFS(Catchment!$Z$5:$Z$300,Catchment!$D$5:$D$300,\"RIDOT\",Catchment!$K$5:$K$300,A66))","v":""},{"$f":"IF(A66=\"\",\"\",VLOOKUP(A66,'Structural Water Quality Calcs'!$A$8:$AE$149,18,0)*100)","v":""},{"$f":"IF(A66=\"\",\"\",VLOOKUP(A66,'Structural Water Quality Calcs'!$A$8:$AE$149,19,0))","v":""},{"$f":"IF(A66=\"\",\"\",IF(VLOOKUP(A66,'Structural Water Quality Calcs'!$A$9:$B$149,2,0)=\"Limited ROW\",M66*N66*0.1/100,M66*N66/100))","v":""},{"$f":"IF(A66=\"\",\"\",VLOOKUP(A66,'Structural Water Quality Calcs'!$A$8:$AE$149,14,0))","v":""},{"$f":"IF(A66=\"\",\"\",SUMIFS(Catchment!$Y$5:$Y$300,Catchment!$D$5:$D$300,\"RIDOT\",Catchment!$K$5:$K$300,A66))","v":""},{"$f":"IF(A66=\"\",\"\",VLOOKUP(A66,'Structural Water Quality Calcs'!$A$8:$AE$149,15,0)*100)","v":""},{"$f":"IF(A66=\"\",\"\",VLOOKUP(A66,'Structural Water Quality Calcs'!$A$8:$AE$149,16,0))","v":""},{"$f":"IF(A66=\"\",\"\",IF(VLOOKUP(A66,'Structural Water Quality Calcs'!$A$9:$B$149,2,0)=\"Limited ROW\",R66*S66*0.1/100,R66*S66/100))","v":""},{"$f":"IF(A66=\"\",\"\",VLOOKUP(A66,'Structural Water Quality Calcs'!$A$8:$AE$149,20,0))","v":""},{"$f":"IF(A66=\"\",\"\",SUMIFS(Catchment!$AA$5:$AA$300,Catchment!$D$5:$D$300,\"RIDOT\",Catchment!$K$5:$K$300,A66))","v":""},{"$f":"IF(A66=\"\",\"\",VLOOKUP(A66,'Structural Water Quality Calcs'!$A$8:$AE$149,21,0)*100)","v":""},{"$f":"IF(A66=\"\",\"\",VLOOKUP(A66,'Structural Water Quality Calcs'!$A$8:$AE$149,22,0))","v":""},{"$f":"IF(A66=\"\",\"\",IF(VLOOKUP(A66,'Structural Water Quality Calcs'!$A$9:$B$149,2,0)=\"Limited ROW\",W66*X66*0.1/100,W66*X66/100))","v":""},{"$f":"IF(A66=\"\",\"\",VLOOKUP(A66,'Structural Water Quality Calcs'!$A$8:$AE$149,29,0))","v":""},{"$f":"IF(A66=\"\",\"\",IF(VLOOKUP(A66,'Structural Water Quality Calcs'!$A$9:$B$149,2,0)=\"Limited ROW\",VLOOKUP(A66,'Structural Water Quality Calcs'!$A$8:$AE$149,28,0)*F66*0.1/43560,VLOOKUP(A66,'Structural Water Quality Calcs'!$A$8:$AE$149,28,0)*F66/43560))","v":""},{"$f":"IF(A66=\"\",\"\",VLOOKUP(A66,'Structural Water Quality Calcs'!$A$8:$AE$149,28,0)*100)","v":""},{"$f":"IF(A66=\"\",\"\",VLOOKUP(A66,'Structural Water Quality Calcs'!$A$8:$AE$149,31,0))","v":""},{"$f":"IF(A66=\"\",\"\",VLOOKUP(A66,'Structural Water Quality Calcs'!$A$8:$AE$149,26,0))","v":""},{"$f":"IF(A66=\"\",\"\",VLOOKUP(A66,'Structural Water Quality Calcs'!$A$8:$AE$149,27,0))","v":""},{"$f":"IF(A66=\"\",\"\",(VLOOKUP(A66,'Structural Water Quality Calcs'!$A$8:$AE$149,25,0)))","v":""},{"$f":"IF(A66=\"\",\"\",VLOOKUP(A66,'Structural Water Quality Calcs'!$A$8:$AE$149,24,0))","v":""},{"$f":"IF(A66=\"\",\"\",VLOOKUP(A66,STU_Cost!$A$5:$G$150,4,0))","v":""},{"$f":"IF(A66=\"\",\"\",VLOOKUP(A66,STU_Cost!$A$5:$G$150,5,0))","v":""},{"$f":"IF(A66=\"\",\"\",VLOOKUP(A66,STU_Cost!$A$5:$G$150,6,0))","v":""},{"$f":"IF(A66=\"\",\"\",VLOOKUP(A66,STU_Cost!$A$5:$G$150,7,0))","v":""},null,null,{"$f":"IF(A66=\"\",\"\",VLOOKUP(A66,STU!$A$5:$E$300,5,0))","v":""}]
[null,{"$f":"IF(A67=\"\",\"\",VLOOKUP(A67,'Structural Water Quality Calcs'!$A$9:$F$79,6,0))","v":""},{"$f":"IF(A67=\"\",\"\",VLOOKUP(A67,'Structural Water Quality Calcs'!$A$8:$AE$149,3,0))","v":""},{"$f":"IF(A67=\"\",\"\",SUMIFS(Catchment!$V$5:$V$300,Catchment!$D$5:$D$300,\"RIDOT\",Catchment!$K$5:$K$300,A67))","v":""},{"$f":"IF(A67=\"\",\"\",VLOOKUP(A67,'Structural Water Quality Calcs'!$A$8:$AE$149,4,0))","v":""},{"$f":"IF(A67=\"\",\"\",SUMIFS(Catchment!$L$5:$L$300,Catchment!$D$5:$D$300,\"RIDOT\",Catchment!$K$5:$K$300,A67))","v":""},{"$f":"IF(A67=\"\",\"\",VLOOKUP(A67, 'Structural Water Quality Calcs'!$A$8:$AE$149,11,0))","v":""},{"$f":"IF(A67=\"\",\"\",SUMIFS(Catchment!$X$5:$X$300,Catchment!$D$5:$D$300,\"RIDOT\",Catchment!$K$5:$K$300,A67))","v":""},{"$f":"IF(A67=\"\",\"\",VLOOKUP(A67,'Structural Water Quality Calcs'!$A$8:$AE$149,12,0)*100)","v":""},{"$f":"IF(A67=\"\",\"\",VLOOKUP(A67,'Structural Water Quality Calcs'!$A$8:$AE$149,13,0))","v":""},{"$f":"IF(A67=\"\",\"\",IF(VLOOKUP(A67,'Structural Water Quality Calcs'!$A$9:$B$149,2,0)=\"Limited ROW\",H67*I67*0.1/100,H67*I67/100))","v":""},{"$f":"IF(A67=\"\",\"\",VLOOKUP(A67,'Structural Water Quality Calcs'!$A$8:$AE$149,17,0))","v":""},{"$f":"IF(A67=\"\",\"\",SUMIFS(Catchment!$Z$5:$Z$300,Catchment!$D$5:$D$300,\"RIDOT\",Catchment!$K$5:$K$300,A67))","v":""},{"$f":"IF(A67=\"\",\"\",VLOOKUP(A67,'Structural Water Quality Calcs'!$A$8:$AE$149,18,0)*100)","v":""},{"$f":"IF(A67=\"\",\"\",VLOOKUP(A67,'Structural Water Quality Calcs'!$A$8:$AE$149,19,0))","v":""},{"$f":"IF(A67=\"\",\"\",IF(VLOOKUP(A67,'Structural Water Quality Calcs'!$A$9:$B$149,2,0)=\"Limited ROW\",M67*N67*0.1/100,M67*N67/100))","v":""},{"$f":"IF(A67=\"\",\"\",VLOOKUP(A67,'Structural Water Quality Calcs'!$A$8:$AE$149,14,0))","v":""},{"$f":"IF(A67=\"\",\"\",SUMIFS(Catchment!$Y$5:$Y$300,Catchment!$D$5:$D$300,\"RIDOT\",Catchment!$K$5:$K$300,A67))","v":""},{"$f":"IF(A67=\"\",\"\",VLOOKUP(A67,'Structural Water Quality Calcs'!$A$8:$AE$149,15,0)*100)","v":""},{"$f":"IF(A67=\"\",\"\",VLOOKUP(A67,'Structural Water Quality Calcs'!$A$8:$AE$149,16,0))","v":""},{"$f":"IF(A67=\"\",\"\",IF(VLOOKUP(A67,'Structural Water Quality Calcs'!$A$9:$B$149,2,0)=\"Limited ROW\",R67*S67*0.1/100,R67*S67/100))","v":""},{"$f":"IF(A67=\"\",\"\",VLOOKUP(A67,'Structural Water Quality Calcs'!$A$8:$AE$149,20,0))","v":""},{"$f":"IF(A67=\"\",\"\",SUMIFS(Catchment!$AA$5:$AA$300,Catchment!$D$5:$D$300,\"RIDOT\",Catchment!$K$5:$K$300,A67))","v":""},{"$f":"IF(A67=\"\",\"\",VLOOKUP(A67,'Structural Water Quality Calcs'!$A$8:$AE$149,21,0)*100)","v":""},{"$f":"IF(A67=\"\",\"\",VLOOKUP(A67,'Structural Water Quality Calcs'!$A$8:$AE$149,22,0))","v":""},{"$f":"IF(A67=\"\",\"\",IF(VLOOKUP(A67,'Structural Water Quality Calcs'!$A$9:$B$149,2,0)=\"Limited ROW\",W67*X67*0.1/100,W67*X67/100))","v":""},{"$f":"IF(A67=\"\",\"\",VLOOKUP(A67,'Structural Water Quality Calcs'!$A$8:$AE$149,29,0))","v":""},{"$f":"IF(A67=\"\",\"\",IF(VLOOKUP(A67,'Structural Water Quality Calcs'!$A$9:$B$149,2,0)=\"Limited ROW\",VLOOKUP(A67,'Structural Water Quality Calcs'!$A$8:$AE$149,28,0)*F67*0.1/43560,VLOOKUP(A67,'Structural Water Quality Calcs'!$A$8:$AE$149,28,0)*F67/43560))","v":""},{"$f":"IF(A67=\"\",\"\",VLOOKUP(A67,'Structural Water Quality Calcs'!$A$8:$AE$149,28,0)*100)","v":""},{"$f":"IF(A67=\"\",\"\",VLOOKUP(A67,'Structural Water Quality Calcs'!$A$8:$AE$149,31,0))","v":""},{"$f":"IF(A67=\"\",\"\",VLOOKUP(A67,'Structural Water Quality Calcs'!$A$8:$AE$149,26,0))","v":""},{"$f":"IF(A67=\"\",\"\",VLOOKUP(A67,'Structural Water Quality Calcs'!$A$8:$AE$149,27,0))","v":""},{"$f":"IF(A67=\"\",\"\",(VLOOKUP(A67,'Structural Water Quality Calcs'!$A$8:$AE$149,25,0)))","v":""},{"$f":"IF(A67=\"\",\"\",VLOOKUP(A67,'Structural Water Quality Calcs'!$A$8:$AE$149,24,0))","v":""},{"$f":"IF(A67=\"\",\"\",VLOOKUP(A67,STU_Cost!$A$5:$G$150,4,0))","v":""},{"$f":"IF(A67=\"\",\"\",VLOOKUP(A67,STU_Cost!$A$5:$G$150,5,0))","v":""},{"$f":"IF(A67=\"\",\"\",VLOOKUP(A67,STU_Cost!$A$5:$G$150,6,0))","v":""},{"$f":"IF(A67=\"\",\"\",VLOOKUP(A67,STU_Cost!$A$5:$G$150,7,0))","v":""},null,null,{"$f":"IF(A67=\"\",\"\",VLOOKUP(A67,STU!$A$5:$E$300,5,0))","v":""}]
[null,{"$f":"IF(A68=\"\",\"\",VLOOKUP(A68,'Structural Water Quality Calcs'!$A$9:$F$79,6,0))","v":""},{"$f":"IF(A68=\"\",\"\",VLOOKUP(A68,'Structural Water Quality Calcs'!$A$8:$AE$149,3,0))","v":""},{"$f":"IF(A68=\"\",\"\",SUMIFS(Catchment!$V$5:$V$300,Catchment!$D$5:$D$300,\"RIDOT\",Catchment!$K$5:$K$300,A68))","v":""},{"$f":"IF(A68=\"\",\"\",VLOOKUP(A68,'Structural Water Quality Calcs'!$A$8:$AE$149,4,0))","v":""},{"$f":"IF(A68=\"\",\"\",SUMIFS(Catchment!$L$5:$L$300,Catchment!$D$5:$D$300,\"RIDOT\",Catchment!$K$5:$K$300,A68))","v":""},{"$f":"IF(A68=\"\",\"\",VLOOKUP(A68, 'Structural Water Quality Calcs'!$A$8:$AE$149,11,0))","v":""},{"$f":"IF(A68=\"\",\"\",SUMIFS(Catchment!$X$5:$X$300,Catchment!$D$5:$D$300,\"RIDOT\",Catchment!$K$5:$K$300,A68))","v":""},{"$f":"IF(A68=\"\",\"\",VLOOKUP(A68,'Structural Water Quality Calcs'!$A$8:$AE$149,12,0)*100)","v":""},{"$f":"IF(A68=\"\",\"\",VLOOKUP(A68,'Structural Water Quality Calcs'!$A$8:$AE$149,13,0))","v":""},{"$f":"IF(A68=\"\",\"\",IF(VLOOKUP(A68,'Structural Water Quality Calcs'!$A$9:$B$149,2,0)=\"Limited ROW\",H68*I68*0.1/100,H68*I68/100))","v":""},{"$f":"IF(A68=\"\",\"\",VLOOKUP(A68,'Structural Water Quality Calcs'!$A$8:$AE$149,17,0))","v":""},{"$f":"IF(A68=\"\",\"\",SUMIFS(Catchment!$Z$5:$Z$300,Catchment!$D$5:$D$300,\"RIDOT\",Catchment!$K$5:$K$300,A68))","v":""},{"$f":"IF(A68=\"\",\"\",VLOOKUP(A68,'Structural Water Quality Calcs'!$A$8:$AE$149,18,0)*100)","v":""},{"$f":"IF(A68=\"\",\"\",VLOOKUP(A68,'Structural Water Quality Calcs'!$A$8:$AE$149,19,0))","v":""},{"$f":"IF(A68=\"\",\"\",IF(VLOOKUP(A68,'Structural Water Quality Calcs'!$A$9:$B$149,2,0)=\"Limited ROW\",M68*N68*0.1/100,M68*N68/100))","v":""},{"$f":"IF(A68=\"\",\"\",VLOOKUP(A68,'Structural Water Quality Calcs'!$A$8:$AE$149,14,0))","v":""},{"$f":"IF(A68=\"\",\"\",SUMIFS(Catchment!$Y$5:$Y$300,Catchment!$D$5:$D$300,\"RIDOT\",Catchment!$K$5:$K$300,A68))","v":""},{"$f":"IF(A68=\"\",\"\",VLOOKUP(A68,'Structural Water Quality Calcs'!$A$8:$AE$149,15,0)*100)","v":""},{"$f":"IF(A68=\"\",\"\",VLOOKUP(A68,'Structural Water Quality Calcs'!$A$8:$AE$149,16,0))","v":""},{"$f":"IF(A68=\"\",\"\",IF(VLOOKUP(A68,'Structural Water Quality Calcs'!$A$9:$B$149,2,0)=\"Limited ROW\",R68*S68*0.1/100,R68*S68/100))","v":""},{"$f":"IF(A68=\"\",\"\",VLOOKUP(A68,'Structural Water Quality Calcs'!$A$8:$AE$149,20,0))","v":""},{"$f":"IF(A68=\"\",\"\",SUMIFS(Catchment!$AA$5:$AA$300,Catchment!$D$5:$D$300,\"RIDOT\",Catchment!$K$5:$K$300,A68))","v":""},{"$f":"IF(A68=\"\",\"\",VLOOKUP(A68,'Structural Water Quality Calcs'!$A$8:$AE$149,21,0)*100)","v":""},{"$f":"IF(A68=\"\",\"\",VLOOKUP(A68,'Structural Water Quality Calcs'!$A$8:$AE$149,22,0))","v":""},{"$f":"IF(A68=\"\",\"\",IF(VLOOKUP(A68,'Structural Water Quality Calcs'!$A$9:$B$149,2,0)=\"Limited ROW\",W68*X68*0.1/100,W68*X68/100))","v":""},{"$f":"IF(A68=\"\",\"\",VLOOKUP(A68,'Structural Water Quality Calcs'!$A$8:$AE$149,29,0))","v":""},{"$f":"IF(A68=\"\",\"\",IF(VLOOKUP(A68,'Structural Water Quality Calcs'!$A$9:$B$149,2,0)=\"Limited ROW\",VLOOKUP(A68,'Structural Water Quality Calcs'!$A$8:$AE$149,28,0)*F68*0.1/43560,VLOOKUP(A68,'Structural Water Quality Calcs'!$A$8:$AE$149,28,0)*F68/43560))","v":""},{"$f":"IF(A68=\"\",\"\",VLOOKUP(A68,'Structural Water Quality Calcs'!$A$8:$AE$149,28,0)*100)","v":""},{"$f":"IF(A68=\"\",\"\",VLOOKUP(A68,'Structural Water Quality Calcs'!$A$8:$AE$149,31,0))","v":""},{"$f":"IF(A68=\"\",\"\",VLOOKUP(A68,'Structural Water Quality Calcs'!$A$8:$AE$149,26,0))","v":""},{"$f":"IF(A68=\"\",\"\",VLOOKUP(A68,'Structural Water Quality Calcs'!$A$8:$AE$149,27,0))","v":""},{"$f":"IF(A68=\"\",\"\",(VLOOKUP(A68,'Structural Water Quality Calcs'!$A$8:$AE$149,25,0)))","v":""},{"$f":"IF(A68=\"\",\"\",VLOOKUP(A68,'Structural Water Quality Calcs'!$A$8:$AE$149,24,0))","v":""},{"$f":"IF(A68=\"\",\"\",VLOOKUP(A68,STU_Cost!$A$5:$G$150,4,0))","v":""},{"$f":"IF(A68=\"\",\"\",VLOOKUP(A68,STU_Cost!$A$5:$G$150,5,0))","v":""},{"$f":"IF(A68=\"\",\"\",VLOOKUP(A68,STU_Cost!$A$5:$G$150,6,0))","v":""},{"$f":"IF(A68=\"\",\"\",VLOOKUP(A68,STU_Cost!$A$5:$G$150,7,0))","v":""},null,null,{"$f":"IF(A68=\"\",\"\",VLOOKUP(A68,STU!$A$5:$E$300,5,0))","v":""}]
[null,{"$f":"IF(A69=\"\",\"\",VLOOKUP(A69,'Structural Water Quality Calcs'!$A$9:$F$79,6,0))","v":""},{"$f":"IF(A69=\"\",\"\",VLOOKUP(A69,'Structural Water Quality Calcs'!$A$8:$AE$149,3,0))","v":""},{"$f":"IF(A69=\"\",\"\",SUMIFS(Catchment!$V$5:$V$300,Catchment!$D$5:$D$300,\"RIDOT\",Catchment!$K$5:$K$300,A69))","v":""},{"$f":"IF(A69=\"\",\"\",VLOOKUP(A69,'Structural Water Quality Calcs'!$A$8:$AE$149,4,0))","v":""},{"$f":"IF(A69=\"\",\"\",SUMIFS(Catchment!$L$5:$L$300,Catchment!$D$5:$D$300,\"RIDOT\",Catchment!$K$5:$K$300,A69))","v":""},{"$f":"IF(A69=\"\",\"\",VLOOKUP(A69, 'Structural Water Quality Calcs'!$A$8:$AE$149,11,0))","v":""},{"$f":"IF(A69=\"\",\"\",SUMIFS(Catchment!$X$5:$X$300,Catchment!$D$5:$D$300,\"RIDOT\",Catchment!$K$5:$K$300,A69))","v":""},{"$f":"IF(A69=\"\",\"\",VLOOKUP(A69,'Structural Water Quality Calcs'!$A$8:$AE$149,12,0)*100)","v":""},{"$f":"IF(A69=\"\",\"\",VLOOKUP(A69,'Structural Water Quality Calcs'!$A$8:$AE$149,13,0))","v":""},{"$f":"IF(A69=\"\",\"\",IF(VLOOKUP(A69,'Structural Water Quality Calcs'!$A$9:$B$149,2,0)=\"Limited ROW\",H69*I69*0.1/100,H69*I69/100))","v":""},{"$f":"IF(A69=\"\",\"\",VLOOKUP(A69,'Structural Water Quality Calcs'!$A$8:$AE$149,17,0))","v":""},{"$f":"IF(A69=\"\",\"\",SUMIFS(Catchment!$Z$5:$Z$300,Catchment!$D$5:$D$300,\"RIDOT\",Catchment!$K$5:$K$300,A69))","v":""},{"$f":"IF(A69=\"\",\"\",VLOOKUP(A69,'Structural Water Quality Calcs'!$A$8:$AE$149,18,0)*100)","v":""},{"$f":"IF(A69=\"\",\"\",VLOOKUP(A69,'Structural Water Quality Calcs'!$A$8:$AE$149,19,0))","v":""},{"$f":"IF(A69=\"\",\"\",IF(VLOOKUP(A69,'Structural Water Quality Calcs'!$A$9:$B$149,2,0)=\"Limited ROW\",M69*N69*0.1/100,M69*N69/100))","v":""},{"$f":"IF(A69=\"\",\"\",VLOOKUP(A69,'Structural Water Quality Calcs'!$A$8:$AE$149,14,0))","v":""},{"$f":"IF(A69=\"\",\"\",SUMIFS(Catchment!$Y$5:$Y$300,Catchment!$D$5:$D$300,\"RIDOT\",Catchment!$K$5:$K$300,A69))","v":""},{"$f":"IF(A69=\"\",\"\",VLOOKUP(A69,'Structural Water Quality Calcs'!$A$8:$AE$149,15,0)*100)","v":""},{"$f":"IF(A69=\"\",\"\",VLOOKUP(A69,'Structural Water Quality Calcs'!$A$8:$AE$149,16,0))","v":""},{"$f":"IF(A69=\"\",\"\",IF(VLOOKUP(A69,'Structural Water Quality Calcs'!$A$9:$B$149,2,0)=\"Limited ROW\",R69*S69*0.1/100,R69*S69/100))","v":""},{"$f":"IF(A69=\"\",\"\",VLOOKUP(A69,'Structural Water Quality Calcs'!$A$8:$AE$149,20,0))","v":""},{"$f":"IF(A69=\"\",\"\",SUMIFS(Catchment!$AA$5:$AA$300,Catchment!$D$5:$D$300,\"RIDOT\",Catchment!$K$5:$K$300,A69))","v":""},{"$f":"IF(A69=\"\",\"\",VLOOKUP(A69,'Structural Water Quality Calcs'!$A$8:$AE$149,21,0)*100)","v":""},{"$f":"IF(A69=\"\",\"\",VLOOKUP(A69,'Structural Water Quality Calcs'!$A$8:$AE$149,22,0))","v":""},{"$f":"IF(A69=\"\",\"\",IF(VLOOKUP(A69,'Structural Water Quality Calcs'!$A$9:$B$149,2,0)=\"Limited ROW\",W69*X69*0.1/100,W69*X69/100))","v":""},{"$f":"IF(A69=\"\",\"\",VLOOKUP(A69,'Structural Water Quality Calcs'!$A$8:$AE$149,29,0))","v":""},{"$f":"IF(A69=\"\",\"\",IF(VLOOKUP(A69,'Structural Water Quality Calcs'!$A$9:$B$149,2,0)=\"Limited ROW\",VLOOKUP(A69,'Structural Water Quality Calcs'!$A$8:$AE$149,28,0)*F69*0.1/43560,VLOOKUP(A69,'Structural Water Quality Calcs'!$A$8:$AE$149,28,0)*F69/43560))","v":""},{"$f":"IF(A69=\"\",\"\",VLOOKUP(A69,'Structural Water Quality Calcs'!$A$8:$AE$149,28,0)*100)","v":""},{"$f":"IF(A69=\"\",\"\",VLOOKUP(A69,'Structural Water Quality Calcs'!$A$8:$AE$149,31,0))","v":""},{"$f":"IF(A69=\"\",\"\",VLOOKUP(A69,'Structural Water Quality Calcs'!$A$8:$AE$149,26,0))","v":""},{"$f":"IF(A69=\"\",\"\",VLOOKUP(A69,'Structural Water Quality Calcs'!$A$8:$AE$149,27,0))","v":""},{"$f":"IF(A69=\"\",\"\",(VLOOKUP(A69,'Structural Water Quality Calcs'!$A$8:$AE$149,25,0)))","v":""},{"$f":"IF(A69=\"\",\"\",VLOOKUP(A69,'Structural Water Quality Calcs'!$A$8:$AE$149,24,0))","v":""},{"$f":"IF(A69=\"\",\"\",VLOOKUP(A69,STU_Cost!$A$5:$G$150,4,0))","v":""},{"$f":"IF(A69=\"\",\"\",VLOOKUP(A69,STU_Cost!$A$5:$G$150,5,0))","v":""},{"$f":"IF(A69=\"\",\"\",VLOOKUP(A69,STU_Cost!$A$5:$G$150,6,0))","v":""},{"$f":"IF(A69=\"\",\"\",VLOOKUP(A69,STU_Cost!$A$5:$G$150,7,0))","v":""},null,null,{"$f":"IF(A69=\"\",\"\",VLOOKUP(A69,STU!$A$5:$E$300,5,0))","v":""}]
[null,{"$f":"IF(A70=\"\",\"\",VLOOKUP(A70,'Structural Water Quality Calcs'!$A$9:$F$79,6,0))","v":""},{"$f":"IF(A70=\"\",\"\",VLOOKUP(A70,'Structural Water Quality Calcs'!$A$8:$AE$149,3,0))","v":""},{"$f":"IF(A70=\"\",\"\",SUMIFS(Catchment!$V$5:$V$300,Catchment!$D$5:$D$300,\"RIDOT\",Catchment!$K$5:$K$300,A70))","v":""},{"$f":"IF(A70=\"\",\"\",VLOOKUP(A70,'Structural Water Quality Calcs'!$A$8:$AE$149,4,0))","v":""},{"$f":"IF(A70=\"\",\"\",SUMIFS(Catchment!$L$5:$L$300,Catchment!$D$5:$D$300,\"RIDOT\",Catchment!$K$5:$K$300,A70))","v":""},{"$f":"IF(A70=\"\",\"\",VLOOKUP(A70, 'Structural Water Quality Calcs'!$A$8:$AE$149,11,0))","v":""},{"$f":"IF(A70=\"\",\"\",SUMIFS(Catchment!$X$5:$X$300,Catchment!$D$5:$D$300,\"RIDOT\",Catchment!$K$5:$K$300,A70))","v":""},{"$f":"IF(A70=\"\",\"\",VLOOKUP(A70,'Structural Water Quality Calcs'!$A$8:$AE$149,12,0)*100)","v":""},{"$f":"IF(A70=\"\",\"\",VLOOKUP(A70,'Structural Water Quality Calcs'!$A$8:$AE$149,13,0))","v":""},{"$f":"IF(A70=\"\",\"\",IF(VLOOKUP(A70,'Structural Water Quality Calcs'!$A$9:$B$149,2,0)=\"Limited ROW\",H70*I70*0.1/100,H70*I70/100))","v":""},{"$f":"IF(A70=\"\",\"\",VLOOKUP(A70,'Structural Water Quality Calcs'!$A$8:$AE$149,17,0))","v":""},{"$f":"IF(A70=\"\",\"\",SUMIFS(Catchment!$Z$5:$Z$300,Catchment!$D$5:$D$300,\"RIDOT\",Catchment!$K$5:$K$300,A70))","v":""},{"$f":"IF(A70=\"\",\"\",VLOOKUP(A70,'Structural Water Quality Calcs'!$A$8:$AE$149,18,0)*100)","v":""},{"$f":"IF(A70=\"\",\"\",VLOOKUP(A70,'Structural Water Quality Calcs'!$A$8:$AE$149,19,0))","v":""},{"$f":"IF(A70=\"\",\"\",IF(VLOOKUP(A70,'Structural Water Quality Calcs'!$A$9:$B$149,2,0)=\"Limited ROW\",M70*N70*0.1/100,M70*N70/100))","v":""},{"$f":"IF(A70=\"\",\"\",VLOOKUP(A70,'Structural Water Quality Calcs'!$A$8:$AE$149,14,0))","v":""},{"$f":"IF(A70=\"\",\"\",SUMIFS(Catchment!$Y$5:$Y$300,Catchment!$D$5:$D$300,\"RIDOT\",Catchment!$K$5:$K$300,A70))","v":""},{"$f":"IF(A70=\"\",\"\",VLOOKUP(A70,'Structural Water Quality Calcs'!$A$8:$AE$149,15,0)*100)","v":""},{"$f":"IF(A70=\"\",\"\",VLOOKUP(A70,'Structural Water Quality Calcs'!$A$8:$AE$149,16,0))","v":""},{"$f":"IF(A70=\"\",\"\",IF(VLOOKUP(A70,'Structural Water Quality Calcs'!$A$9:$B$149,2,0)=\"Limited ROW\",R70*S70*0.1/100,R70*S70/100))","v":""},{"$f":"IF(A70=\"\",\"\",VLOOKUP(A70,'Structural Water Quality Calcs'!$A$8:$AE$149,20,0))","v":""},{"$f":"IF(A70=\"\",\"\",SUMIFS(Catchment!$AA$5:$AA$300,Catchment!$D$5:$D$300,\"RIDOT\",Catchment!$K$5:$K$300,A70))","v":""},{"$f":"IF(A70=\"\",\"\",VLOOKUP(A70,'Structural Water Quality Calcs'!$A$8:$AE$149,21,0)*100)","v":""},{"$f":"IF(A70=\"\",\"\",VLOOKUP(A70,'Structural Water Quality Calcs'!$A$8:$AE$149,22,0))","v":""},{"$f":"IF(A70=\"\",\"\",IF(VLOOKUP(A70,'Structural Water Quality Calcs'!$A$9:$B$149,2,0)=\"Limited ROW\",W70*X70*0.1/100,W70*X70/100))","v":""},{"$f":"IF(A70=\"\",\"\",VLOOKUP(A70,'Structural Water Quality Calcs'!$A$8:$AE$149,29,0))","v":""},{"$f":"IF(A70=\"\",\"\",IF(VLOOKUP(A70,'Structural Water Quality Calcs'!$A$9:$B$149,2,0)=\"Limited ROW\",VLOOKUP(A70,'Structural Water Quality Calcs'!$A$8:$AE$149,28,0)*F70*0.1/43560,VLOOKUP(A70,'Structural Water Quality Calcs'!$A$8:$AE$149,28,0)*F70/43560))","v":""},{"$f":"IF(A70=\"\",\"\",VLOOKUP(A70,'Structural Water Quality Calcs'!$A$8:$AE$149,28,0)*100)","v":""},{"$f":"IF(A70=\"\",\"\",VLOOKUP(A70,'Structural Water Quality Calcs'!$A$8:$AE$149,31,0))","v":""},{"$f":"IF(A70=\"\",\"\",VLOOKUP(A70,'Structural Water Quality Calcs'!$A$8:$AE$149,26,0))","v":""},{"$f":"IF(A70=\"\",\"\",VLOOKUP(A70,'Structural Water Quality Calcs'!$A$8:$AE$149,27,0))","v":""},{"$f":"IF(A70=\"\",\"\",(VLOOKUP(A70,'Structural Water Quality Calcs'!$A$8:$AE$149,25,0)))","v":""},{"$f":"IF(A70=\"\",\"\",VLOOKUP(A70,'Structural Water Quality Calcs'!$A$8:$AE$149,24,0))","v":""},{"$f":"IF(A70=\"\",\"\",VLOOKUP(A70,STU_Cost!$A$5:$G$150,4,0))","v":""},{"$f":"IF(A70=\"\",\"\",VLOOKUP(A70,STU_Cost!$A$5:$G$150,5,0))","v":""},{"$f":"IF(A70=\"\",\"\",VLOOKUP(A70,STU_Cost!$A$5:$G$150,6,0))","v":""},{"$f":"IF(A70=\"\",\"\",VLOOKUP(A70,STU_Cost!$A$5:$G$150,7,0))","v":""},null,null,{"$f":"IF(A70=\"\",\"\",VLOOKUP(A70,STU!$A$5:$E$300,5,0))","v":""}]
[null,{"$f":"IF(A71=\"\",\"\",VLOOKUP(A71,'Structural Water Quality Calcs'!$A$9:$F$79,6,0))","v":""},{"$f":"IF(A71=\"\",\"\",VLOOKUP(A71,'Structural Water Quality Calcs'!$A$8:$AE$149,3,0))","v":""},{"$f":"IF(A71=\"\",\"\",SUMIFS(Catchment!$V$5:$V$300,Catchment!$D$5:$D$300,\"RIDOT\",Catchment!$K$5:$K$300,A71))","v":""},{"$f":"IF(A71=\"\",\"\",VLOOKUP(A71,'Structural Water Quality Calcs'!$A$8:$AE$149,4,0))","v":""},{"$f":"IF(A71=\"\",\"\",SUMIFS(Catchment!$L$5:$L$300,Catchment!$D$5:$D$300,\"RIDOT\",Catchment!$K$5:$K$300,A71))","v":""},{"$f":"IF(A71=\"\",\"\",VLOOKUP(A71, 'Structural Water Quality Calcs'!$A$8:$AE$149,11,0))","v":""},{"$f":"IF(A71=\"\",\"\",SUMIFS(Catchment!$X$5:$X$300,Catchment!$D$5:$D$300,\"RIDOT\",Catchment!$K$5:$K$300,A71))","v":""},{"$f":"IF(A71=\"\",\"\",VLOOKUP(A71,'Structural Water Quality Calcs'!$A$8:$AE$149,12,0)*100)","v":""},{"$f":"IF(A71=\"\",\"\",VLOOKUP(A71,'Structural Water Quality Calcs'!$A$8:$AE$149,13,0))","v":""},{"$f":"IF(A71=\"\",\"\",IF(VLOOKUP(A71,'Structural Water Quality Calcs'!$A$9:$B$149,2,0)=\"Limited ROW\",H71*I71*0.1/100,H71*I71/100))","v":""},{"$f":"IF(A71=\"\",\"\",VLOOKUP(A71,'Structural Water Quality Calcs'!$A$8:$AE$149,17,0))","v":""},{"$f":"IF(A71=\"\",\"\",SUMIFS(Catchment!$Z$5:$Z$300,Catchment!$D$5:$D$300,\"RIDOT\",Catchment!$K$5:$K$300,A71))","v":""},{"$f":"IF(A71=\"\",\"\",VLOOKUP(A71,'Structural Water Quality Calcs'!$A$8:$AE$149,18,0)*100)","v":""},{"$f":"IF(A71=\"\",\"\",VLOOKUP(A71,'Structural Water Quality Calcs'!$A$8:$AE$149,19,0))","v":""},{"$f":"IF(A71=\"\",\"\",IF(VLOOKUP(A71,'Structural Water Quality Calcs'!$A$9:$B$149,2,0)=\"Limited ROW\",M71*N71*0.1/100,M71*N71/100))","v":""},{"$f":"IF(A71=\"\",\"\",VLOOKUP(A71,'Structural Water Quality Calcs'!$A$8:$AE$149,14,0))","v":""},{"$f":"IF(A71=\"\",\"\",SUMIFS(Catchment!$Y$5:$Y$300,Catchment!$D$5:$D$300,\"RIDOT\",Catchment!$K$5:$K$300,A71))","v":""},{"$f":"IF(A71=\"\",\"\",VLOOKUP(A71,'Structural Water Quality Calcs'!$A$8:$AE$149,15,0)*100)","v":""},{"$f":"IF(A71=\"\",\"\",VLOOKUP(A71,'Structural Water Quality Calcs'!$A$8:$AE$149,16,0))","v":""},{"$f":"IF(A71=\"\",\"\",IF(VLOOKUP(A71,'Structural Water Quality Calcs'!$A$9:$B$149,2,0)=\"Limited ROW\",R71*S71*0.1/100,R71*S71/100))","v":""},{"$f":"IF(A71=\"\",\"\",VLOOKUP(A71,'Structural Water Quality Calcs'!$A$8:$AE$149,20,0))","v":""},{"$f":"IF(A71=\"\",\"\",SUMIFS(Catchment!$AA$5:$AA$300,Catchment!$D$5:$D$300,\"RIDOT\",Catchment!$K$5:$K$300,A71))","v":""},{"$f":"IF(A71=\"\",\"\",VLOOKUP(A71,'Structural Water Quality Calcs'!$A$8:$AE$149,21,0)*100)","v":""},{"$f":"IF(A71=\"\",\"\",VLOOKUP(A71,'Structural Water Quality Calcs'!$A$8:$AE$149,22,0))","v":""},{"$f":"IF(A71=\"\",\"\",IF(VLOOKUP(A71,'Structural Water Quality Calcs'!$A$9:$B$149,2,0)=\"Limited ROW\",W71*X71*0.1/100,W71*X71/100))","v":""},{"$f":"IF(A71=\"\",\"\",VLOOKUP(A71,'Structural Water Quality Calcs'!$A$8:$AE$149,29,0))","v":""},{"$f":"IF(A71=\"\",\"\",IF(VLOOKUP(A71,'Structural Water Quality Calcs'!$A$9:$B$149,2,0)=\"Limited ROW\",VLOOKUP(A71,'Structural Water Quality Calcs'!$A$8:$AE$149,28,0)*F71*0.1/43560,VLOOKUP(A71,'Structural Water Quality Calcs'!$A$8:$AE$149,28,0)*F71/43560))","v":""},{"$f":"IF(A71=\"\",\"\",VLOOKUP(A71,'Structural Water Quality Calcs'!$A$8:$AE$149,28,0)*100)","v":""},{"$f":"IF(A71=\"\",\"\",VLOOKUP(A71,'Structural Water Quality Calcs'!$A$8:$AE$149,31,0))","v":""},{"$f":"IF(A71=\"\",\"\",VLOOKUP(A71,'Structural Water Quality Calcs'!$A$8:$AE$149,26,0))","v":""},{"$f":"IF(A71=\"\",\"\",VLOOKUP(A71,'Structural Water Quality Calcs'!$A$8:$AE$149,27,0))","v":""},{"$f":"IF(A71=\"\",\"\",(VLOOKUP(A71,'Structural Water Quality Calcs'!$A$8:$AE$149,25,0)))","v":""},{"$f":"IF(A71=\"\",\"\",VLOOKUP(A71,'Structural Water Quality Calcs'!$A$8:$AE$149,24,0))","v":""},{"$f":"IF(A71=\"\",\"\",VLOOKUP(A71,STU_Cost!$A$5:$G$150,4,0))","v":""},{"$f":"IF(A71=\"\",\"\",VLOOKUP(A71,STU_Cost!$A$5:$G$150,5,0))","v":""},{"$f":"IF(A71=\"\",\"\",VLOOKUP(A71,STU_Cost!$A$5:$G$150,6,0))","v":""},{"$f":"IF(A71=\"\",\"\",VLOOKUP(A71,STU_Cost!$A$5:$G$150,7,0))","v":""},null,null,{"$f":"IF(A71=\"\",\"\",VLOOKUP(A71,STU!$A$5:$E$300,5,0))","v":""}]
[null,{"$f":"IF(A72=\"\",\"\",VLOOKUP(A72,'Structural Water Quality Calcs'!$A$9:$F$79,6,0))","v":""},{"$f":"IF(A72=\"\",\"\",VLOOKUP(A72,'Structural Water Quality Calcs'!$A$8:$AE$149,3,0))","v":""},{"$f":"IF(A72=\"\",\"\",SUMIFS(Catchment!$V$5:$V$300,Catchment!$D$5:$D$300,\"RIDOT\",Catchment!$K$5:$K$300,A72))","v":""},{"$f":"IF(A72=\"\",\"\",VLOOKUP(A72,'Structural Water Quality Calcs'!$A$8:$AE$149,4,0))","v":""},{"$f":"IF(A72=\"\",\"\",SUMIFS(Catchment!$L$5:$L$300,Catchment!$D$5:$D$300,\"RIDOT\",Catchment!$K$5:$K$300,A72))","v":""},{"$f":"IF(A72=\"\",\"\",VLOOKUP(A72, 'Structural Water Quality Calcs'!$A$8:$AE$149,11,0))","v":""},{"$f":"IF(A72=\"\",\"\",SUMIFS(Catchment!$X$5:$X$300,Catchment!$D$5:$D$300,\"RIDOT\",Catchment!$K$5:$K$300,A72))","v":""},{"$f":"IF(A72=\"\",\"\",VLOOKUP(A72,'Structural Water Quality Calcs'!$A$8:$AE$149,12,0)*100)","v":""},{"$f":"IF(A72=\"\",\"\",VLOOKUP(A72,'Structural Water Quality Calcs'!$A$8:$AE$149,13,0))","v":""},{"$f":"IF(A72=\"\",\"\",IF(VLOOKUP(A72,'Structural Water Quality Calcs'!$A$9:$B$149,2,0)=\"Limited ROW\",H72*I72*0.1/100,H72*I72/100))","v":""},{"$f":"IF(A72=\"\",\"\",VLOOKUP(A72,'Structural Water Quality Calcs'!$A$8:$AE$149,17,0))","v":""},{"$f":"IF(A72=\"\",\"\",SUMIFS(Catchment!$Z$5:$Z$300,Catchment!$D$5:$D$300,\"RIDOT\",Catchment!$K$5:$K$300,A72))","v":""},{"$f":"IF(A72=\"\",\"\",VLOOKUP(A72,'Structural Water Quality Calcs'!$A$8:$AE$149,18,0)*100)","v":""},{"$f":"IF(A72=\"\",\"\",VLOOKUP(A72,'Structural Water Quality Calcs'!$A$8:$AE$149,19,0))","v":""},{"$f":"IF(A72=\"\",\"\",IF(VLOOKUP(A72,'Structural Water Quality Calcs'!$A$9:$B$149,2,0)=\"Limited ROW\",M72*N72*0.1/100,M72*N72/100))","v":""},{"$f":"IF(A72=\"\",\"\",VLOOKUP(A72,'Structural Water Quality Calcs'!$A$8:$AE$149,14,0))","v":""},{"$f":"IF(A72=\"\",\"\",SUMIFS(Catchment!$Y$5:$Y$300,Catchment!$D$5:$D$300,\"RIDOT\",Catchment!$K$5:$K$300,A72))","v":""},{"$f":"IF(A72=\"\",\"\",VLOOKUP(A72,'Structural Water Quality Calcs'!$A$8:$AE$149,15,0)*100)","v":""},{"$f":"IF(A72=\"\",\"\",VLOOKUP(A72,'Structural Water Quality Calcs'!$A$8:$AE$149,16,0))","v":""},{"$f":"IF(A72=\"\",\"\",IF(VLOOKUP(A72,'Structural Water Quality Calcs'!$A$9:$B$149,2,0)=\"Limited ROW\",R72*S72*0.1/100,R72*S72/100))","v":""},{"$f":"IF(A72=\"\",\"\",VLOOKUP(A72,'Structural Water Quality Calcs'!$A$8:$AE$149,20,0))","v":""},{"$f":"IF(A72=\"\",\"\",SUMIFS(Catchment!$AA$5:$AA$300,Catchment!$D$5:$D$300,\"RIDOT\",Catchment!$K$5:$K$300,A72))","v":""},{"$f":"IF(A72=\"\",\"\",VLOOKUP(A72,'Structural Water Quality Calcs'!$A$8:$AE$149,21,0)*100)","v":""},{"$f":"IF(A72=\"\",\"\",VLOOKUP(A72,'Structural Water Quality Calcs'!$A$8:$AE$149,22,0))","v":""},{"$f":"IF(A72=\"\",\"\",IF(VLOOKUP(A72,'Structural Water Quality Calcs'!$A$9:$B$149,2,0)=\"Limited ROW\",W72*X72*0.1/100,W72*X72/100))","v":""},{"$f":"IF(A72=\"\",\"\",VLOOKUP(A72,'Structural Water Quality Calcs'!$A$8:$AE$149,29,0))","v":""},{"$f":"IF(A72=\"\",\"\",IF(VLOOKUP(A72,'Structural Water Quality Calcs'!$A$9:$B$149,2,0)=\"Limited ROW\",VLOOKUP(A72,'Structural Water Quality Calcs'!$A$8:$AE$149,28,0)*F72*0.1/43560,VLOOKUP(A72,'Structural Water Quality Calcs'!$A$8:$AE$149,28,0)*F72/43560))","v":""},{"$f":"IF(A72=\"\",\"\",VLOOKUP(A72,'Structural Water Quality Calcs'!$A$8:$AE$149,28,0)*100)","v":""},{"$f":"IF(A72=\"\",\"\",VLOOKUP(A72,'Structural Water Quality Calcs'!$A$8:$AE$149,31,0))","v":""},{"$f":"IF(A72=\"\",\"\",VLOOKUP(A72,'Structural Water Quality Calcs'!$A$8:$AE$149,26,0))","v":""},{"$f":"IF(A72=\"\",\"\",VLOOKUP(A72,'Structural Water Quality Calcs'!$A$8:$AE$149,27,0))","v":""},{"$f":"IF(A72=\"\",\"\",(VLOOKUP(A72,'Structural Water Quality Calcs'!$A$8:$AE$149,25,0)))","v":""},{"$f":"IF(A72=\"\",\"\",VLOOKUP(A72,'Structural Water Quality Calcs'!$A$8:$AE$149,24,0))","v":""},{"$f":"IF(A72=\"\",\"\",VLOOKUP(A72,STU_Cost!$A$5:$G$150,4,0))","v":""},{"$f":"IF(A72=\"\",\"\",VLOOKUP(A72,STU_Cost!$A$5:$G$150,5,0))","v":""},{"$f":"IF(A72=\"\",\"\",VLOOKUP(A72,STU_Cost!$A$5:$G$150,6,0))","v":""},{"$f":"IF(A72=\"\",\"\",VLOOKUP(A72,STU_Cost!$A$5:$G$150,7,0))","v":""},null,null,{"$f":"IF(A72=\"\",\"\",VLOOKUP(A72,STU!$A$5:$E$300,5,0))","v":""}]
[null,{"$f":"IF(A73=\"\",\"\",VLOOKUP(A73,'Structural Water Quality Calcs'!$A$9:$F$79,6,0))","v":""},{"$f":"IF(A73=\"\",\"\",VLOOKUP(A73,'Structural Water Quality Calcs'!$A$8:$AE$149,3,0))","v":""},{"$f":"IF(A73=\"\",\"\",SUMIFS(Catchment!$V$5:$V$300,Catchment!$D$5:$D$300,\"RIDOT\",Catchment!$K$5:$K$300,A73))","v":""},{"$f":"IF(A73=\"\",\"\",VLOOKUP(A73,'Structural Water Quality Calcs'!$A$8:$AE$149,4,0))","v":""},{"$f":"IF(A73=\"\",\"\",SUMIFS(Catchment!$L$5:$L$300,Catchment!$D$5:$D$300,\"RIDOT\",Catchment!$K$5:$K$300,A73))","v":""},{"$f":"IF(A73=\"\",\"\",VLOOKUP(A73, 'Structural Water Quality Calcs'!$A$8:$AE$149,11,0))","v":""},{"$f":"IF(A73=\"\",\"\",SUMIFS(Catchment!$X$5:$X$300,Catchment!$D$5:$D$300,\"RIDOT\",Catchment!$K$5:$K$300,A73))","v":""},{"$f":"IF(A73=\"\",\"\",VLOOKUP(A73,'Structural Water Quality Calcs'!$A$8:$AE$149,12,0)*100)","v":""},{"$f":"IF(A73=\"\",\"\",VLOOKUP(A73,'Structural Water Quality Calcs'!$A$8:$AE$149,13,0))","v":""},{"$f":"IF(A73=\"\",\"\",IF(VLOOKUP(A73,'Structural Water Quality Calcs'!$A$9:$B$149,2,0)=\"Limited ROW\",H73*I73*0.1/100,H73*I73/100))","v":""},{"$f":"IF(A73=\"\",\"\",VLOOKUP(A73,'Structural Water Quality Calcs'!$A$8:$AE$149,17,0))","v":""},{"$f":"IF(A73=\"\",\"\",SUMIFS(Catchment!$Z$5:$Z$300,Catchment!$D$5:$D$300,\"RIDOT\",Catchment!$K$5:$K$300,A73))","v":""},{"$f":"IF(A73=\"\",\"\",VLOOKUP(A73,'Structural Water Quality Calcs'!$A$8:$AE$149,18,0)*100)","v":""},{"$f":"IF(A73=\"\",\"\",VLOOKUP(A73,'Structural Water Quality Calcs'!$A$8:$AE$149,19,0))","v":""},{"$f":"IF(A73=\"\",\"\",IF(VLOOKUP(A73,'Structural Water Quality Calcs'!$A$9:$B$149,2,0)=\"Limited ROW\",M73*N73*0.1/100,M73*N73/100))","v":""},{"$f":"IF(A73=\"\",\"\",VLOOKUP(A73,'Structural Water Quality Calcs'!$A$8:$AE$149,14,0))","v":""},{"$f":"IF(A73=\"\",\"\",SUMIFS(Catchment!$Y$5:$Y$300,Catchment!$D$5:$D$300,\"RIDOT\",Catchment!$K$5:$K$300,A73))","v":""},{"$f":"IF(A73=\"\",\"\",VLOOKUP(A73,'Structural Water Quality Calcs'!$A$8:$AE$149,15,0)*100)","v":""},{"$f":"IF(A73=\"\",\"\",VLOOKUP(A73,'Structural Water Quality Calcs'!$A$8:$AE$149,16,0))","v":""},{"$f":"IF(A73=\"\",\"\",IF(VLOOKUP(A73,'Structural Water Quality Calcs'!$A$9:$B$149,2,0)=\"Limited ROW\",R73*S73*0.1/100,R73*S73/100))","v":""},{"$f":"IF(A73=\"\",\"\",VLOOKUP(A73,'Structural Water Quality Calcs'!$A$8:$AE$149,20,0))","v":""},{"$f":"IF(A73=\"\",\"\",SUMIFS(Catchment!$AA$5:$AA$300,Catchment!$D$5:$D$300,\"RIDOT\",Catchment!$K$5:$K$300,A73))","v":""},{"$f":"IF(A73=\"\",\"\",VLOOKUP(A73,'Structural Water Quality Calcs'!$A$8:$AE$149,21,0)*100)","v":""},{"$f":"IF(A73=\"\",\"\",VLOOKUP(A73,'Structural Water Quality Calcs'!$A$8:$AE$149,22,0))","v":""},{"$f":"IF(A73=\"\",\"\",IF(VLOOKUP(A73,'Structural Water Quality Calcs'!$A$9:$B$149,2,0)=\"Limited ROW\",W73*X73*0.1/100,W73*X73/100))","v":""},{"$f":"IF(A73=\"\",\"\",VLOOKUP(A73,'Structural Water Quality Calcs'!$A$8:$AE$149,29,0))","v":""},{"$f":"IF(A73=\"\",\"\",IF(VLOOKUP(A73,'Structural Water Quality Calcs'!$A$9:$B$149,2,0)=\"Limited ROW\",VLOOKUP(A73,'Structural Water Quality Calcs'!$A$8:$AE$149,28,0)*F73*0.1/43560,VLOOKUP(A73,'Structural Water Quality Calcs'!$A$8:$AE$149,28,0)*F73/43560))","v":""},{"$f":"IF(A73=\"\",\"\",VLOOKUP(A73,'Structural Water Quality Calcs'!$A$8:$AE$149,28,0)*100)","v":""},{"$f":"IF(A73=\"\",\"\",VLOOKUP(A73,'Structural Water Quality Calcs'!$A$8:$AE$149,31,0))","v":""},{"$f":"IF(A73=\"\",\"\",VLOOKUP(A73,'Structural Water Quality Calcs'!$A$8:$AE$149,26,0))","v":""},{"$f":"IF(A73=\"\",\"\",VLOOKUP(A73,'Structural Water Quality Calcs'!$A$8:$AE$149,27,0))","v":""},{"$f":"IF(A73=\"\",\"\",(VLOOKUP(A73,'Structural Water Quality Calcs'!$A$8:$AE$149,25,0)))","v":""},{"$f":"IF(A73=\"\",\"\",VLOOKUP(A73,'Structural Water Quality Calcs'!$A$8:$AE$149,24,0))","v":""},{"$f":"IF(A73=\"\",\"\",VLOOKUP(A73,STU_Cost!$A$5:$G$150,4,0))","v":""},{"$f":"IF(A73=\"\",\"\",VLOOKUP(A73,STU_Cost!$A$5:$G$150,5,0))","v":""},{"$f":"IF(A73=\"\",\"\",VLOOKUP(A73,STU_Cost!$A$5:$G$150,6,0))","v":""},{"$f":"IF(A73=\"\",\"\",VLOOKUP(A73,STU_Cost!$A$5:$G$150,7,0))","v":""},null,null,{"$f":"IF(A73=\"\",\"\",VLOOKUP(A73,STU!$A$5:$E$300,5,0))","v":""}]
[null,{"$f":"IF(A74=\"\",\"\",VLOOKUP(A74,'Structural Water Quality Calcs'!$A$9:$F$79,6,0))","v":""},{"$f":"IF(A74=\"\",\"\",VLOOKUP(A74,'Structural Water Quality Calcs'!$A$8:$AE$149,3,0))","v":""},{"$f":"IF(A74=\"\",\"\",SUMIFS(Catchment!$V$5:$V$300,Catchment!$D$5:$D$300,\"RIDOT\",Catchment!$K$5:$K$300,A74))","v":""},{"$f":"IF(A74=\"\",\"\",VLOOKUP(A74,'Structural Water Quality Calcs'!$A$8:$AE$149,4,0))","v":""},{"$f":"IF(A74=\"\",\"\",SUMIFS(Catchment!$L$5:$L$300,Catchment!$D$5:$D$300,\"RIDOT\",Catchment!$K$5:$K$300,A74))","v":""},{"$f":"IF(A74=\"\",\"\",VLOOKUP(A74, 'Structural Water Quality Calcs'!$A$8:$AE$149,11,0))","v":""},{"$f":"IF(A74=\"\",\"\",SUMIFS(Catchment!$X$5:$X$300,Catchment!$D$5:$D$300,\"RIDOT\",Catchment!$K$5:$K$300,A74))","v":""},{"$f":"IF(A74=\"\",\"\",VLOOKUP(A74,'Structural Water Quality Calcs'!$A$8:$AE$149,12,0)*100)","v":""},{"$f":"IF(A74=\"\",\"\",VLOOKUP(A74,'Structural Water Quality Calcs'!$A$8:$AE$149,13,0))","v":""},{"$f":"IF(A74=\"\",\"\",IF(VLOOKUP(A74,'Structural Water Quality Calcs'!$A$9:$B$149,2,0)=\"Limited ROW\",H74*I74*0.1/100,H74*I74/100))","v":""},{"$f":"IF(A74=\"\",\"\",VLOOKUP(A74,'Structural Water Quality Calcs'!$A$8:$AE$149,17,0))","v":""},{"$f":"IF(A74=\"\",\"\",SUMIFS(Catchment!$Z$5:$Z$300,Catchment!$D$5:$D$300,\"RIDOT\",Catchment!$K$5:$K$300,A74))","v":""},{"$f":"IF(A74=\"\",\"\",VLOOKUP(A74,'Structural Water Quality Calcs'!$A$8:$AE$149,18,0)*100)","v":""},{"$f":"IF(A74=\"\",\"\",VLOOKUP(A74,'Structural Water Quality Calcs'!$A$8:$AE$149,19,0))","v":""},{"$f":"IF(A74=\"\",\"\",IF(VLOOKUP(A74,'Structural Water Quality Calcs'!$A$9:$B$149,2,0)=\"Limited ROW\",M74*N74*0.1/100,M74*N74/100))","v":""},{"$f":"IF(A74=\"\",\"\",VLOOKUP(A74,'Structural Water Quality Calcs'!$A$8:$AE$149,14,0))","v":""},{"$f":"IF(A74=\"\",\"\",SUMIFS(Catchment!$Y$5:$Y$300,Catchment!$D$5:$D$300,\"RIDOT\",Catchment!$K$5:$K$300,A74))","v":""},{"$f":"IF(A74=\"\",\"\",VLOOKUP(A74,'Structural Water Quality Calcs'!$A$8:$AE$149,15,0)*100)","v":""},{"$f":"IF(A74=\"\",\"\",VLOOKUP(A74,'Structural Water Quality Calcs'!$A$8:$AE$149,16,0))","v":""},{"$f":"IF(A74=\"\",\"\",IF(VLOOKUP(A74,'Structural Water Quality Calcs'!$A$9:$B$149,2,0)=\"Limited ROW\",R74*S74*0.1/100,R74*S74/100))","v":""},{"$f":"IF(A74=\"\",\"\",VLOOKUP(A74,'Structural Water Quality Calcs'!$A$8:$AE$149,20,0))","v":""},{"$f":"IF(A74=\"\",\"\",SUMIFS(Catchment!$AA$5:$AA$300,Catchment!$D$5:$D$300,\"RIDOT\",Catchment!$K$5:$K$300,A74))","v":""},{"$f":"IF(A74=\"\",\"\",VLOOKUP(A74,'Structural Water Quality Calcs'!$A$8:$AE$149,21,0)*100)","v":""},{"$f":"IF(A74=\"\",\"\",VLOOKUP(A74,'Structural Water Quality Calcs'!$A$8:$AE$149,22,0))","v":""},{"$f":"IF(A74=\"\",\"\",IF(VLOOKUP(A74,'Structural Water Quality Calcs'!$A$9:$B$149,2,0)=\"Limited ROW\",W74*X74*0.1/100,W74*X74/100))","v":""},{"$f":"IF(A74=\"\",\"\",VLOOKUP(A74,'Structural Water Quality Calcs'!$A$8:$AE$149,29,0))","v":""},{"$f":"IF(A74=\"\",\"\",IF(VLOOKUP(A74,'Structural Water Quality Calcs'!$A$9:$B$149,2,0)=\"Limited ROW\",VLOOKUP(A74,'Structural Water Quality Calcs'!$A$8:$AE$149,28,0)*F74*0.1/43560,VLOOKUP(A74,'Structural Water Quality Calcs'!$A$8:$AE$149,28,0)*F74/43560))","v":""},{"$f":"IF(A74=\"\",\"\",VLOOKUP(A74,'Structural Water Quality Calcs'!$A$8:$AE$149,28,0)*100)","v":""},{"$f":"IF(A74=\"\",\"\",VLOOKUP(A74,'Structural Water Quality Calcs'!$A$8:$AE$149,31,0))","v":""},{"$f":"IF(A74=\"\",\"\",VLOOKUP(A74,'Structural Water Quality Calcs'!$A$8:$AE$149,26,0))","v":""},{"$f":"IF(A74=\"\",\"\",VLOOKUP(A74,'Structural Water Quality Calcs'!$A$8:$AE$149,27,0))","v":""},{"$f":"IF(A74=\"\",\"\",(VLOOKUP(A74,'Structural Water Quality Calcs'!$A$8:$AE$149,25,0)))","v":""},{"$f":"IF(A74=\"\",\"\",VLOOKUP(A74,'Structural Water Quality Calcs'!$A$8:$AE$149,24,0))","v":""},{"$f":"IF(A74=\"\",\"\",VLOOKUP(A74,STU_Cost!$A$5:$G$150,4,0))","v":""},{"$f":"IF(A74=\"\",\"\",VLOOKUP(A74,STU_Cost!$A$5:$G$150,5,0))","v":""},{"$f":"IF(A74=\"\",\"\",VLOOKUP(A74,STU_Cost!$A$5:$G$150,6,0))","v":""},{"$f":"IF(A74=\"\",\"\",VLOOKUP(A74,STU_Cost!$A$5:$G$150,7,0))","v":""},null,null,{"$f":"IF(A74=\"\",\"\",VLOOKUP(A74,STU!$A$5:$E$300,5,0))","v":""}]
[null,{"$f":"IF(A75=\"\",\"\",VLOOKUP(A75,'Structural Water Quality Calcs'!$A$9:$F$79,6,0))","v":""},{"$f":"IF(A75=\"\",\"\",VLOOKUP(A75,'Structural Water Quality Calcs'!$A$8:$AE$149,3,0))","v":""},{"$f":"IF(A75=\"\",\"\",SUMIFS(Catchment!$V$5:$V$300,Catchment!$D$5:$D$300,\"RIDOT\",Catchment!$K$5:$K$300,A75))","v":""},{"$f":"IF(A75=\"\",\"\",VLOOKUP(A75,'Structural Water Quality Calcs'!$A$8:$AE$149,4,0))","v":""},{"$f":"IF(A75=\"\",\"\",SUMIFS(Catchment!$L$5:$L$300,Catchment!$D$5:$D$300,\"RIDOT\",Catchment!$K$5:$K$300,A75))","v":""},{"$f":"IF(A75=\"\",\"\",VLOOKUP(A75, 'Structural Water Quality Calcs'!$A$8:$AE$149,11,0))","v":""},{"$f":"IF(A75=\"\",\"\",SUMIFS(Catchment!$X$5:$X$300,Catchment!$D$5:$D$300,\"RIDOT\",Catchment!$K$5:$K$300,A75))","v":""},{"$f":"IF(A75=\"\",\"\",VLOOKUP(A75,'Structural Water Quality Calcs'!$A$8:$AE$149,12,0)*100)","v":""},{"$f":"IF(A75=\"\",\"\",VLOOKUP(A75,'Structural Water Quality Calcs'!$A$8:$AE$149,13,0))","v":""},{"$f":"IF(A75=\"\",\"\",IF(VLOOKUP(A75,'Structural Water Quality Calcs'!$A$9:$B$149,2,0)=\"Limited ROW\",H75*I75*0.1/100,H75*I75/100))","v":""},{"$f":"IF(A75=\"\",\"\",VLOOKUP(A75,'Structural Water Quality Calcs'!$A$8:$AE$149,17,0))","v":""},{"$f":"IF(A75=\"\",\"\",SUMIFS(Catchment!$Z$5:$Z$300,Catchment!$D$5:$D$300,\"RIDOT\",Catchment!$K$5:$K$300,A75))","v":""},{"$f":"IF(A75=\"\",\"\",VLOOKUP(A75,'Structural Water Quality Calcs'!$A$8:$AE$149,18,0)*100)","v":""},{"$f":"IF(A75=\"\",\"\",VLOOKUP(A75,'Structural Water Quality Calcs'!$A$8:$AE$149,19,0))","v":""},{"$f":"IF(A75=\"\",\"\",IF(VLOOKUP(A75,'Structural Water Quality Calcs'!$A$9:$B$149,2,0)=\"Limited ROW\",M75*N75*0.1/100,M75*N75/100))","v":""},{"$f":"IF(A75=\"\",\"\",VLOOKUP(A75,'Structural Water Quality Calcs'!$A$8:$AE$149,14,0))","v":""},{"$f":"IF(A75=\"\",\"\",SUMIFS(Catchment!$Y$5:$Y$300,Catchment!$D$5:$D$300,\"RIDOT\",Catchment!$K$5:$K$300,A75))","v":""},{"$f":"IF(A75=\"\",\"\",VLOOKUP(A75,'Structural Water Quality Calcs'!$A$8:$AE$149,15,0)*100)","v":""},{"$f":"IF(A75=\"\",\"\",VLOOKUP(A75,'Structural Water Quality Calcs'!$A$8:$AE$149,16,0))","v":""},{"$f":"IF(A75=\"\",\"\",IF(VLOOKUP(A75,'Structural Water Quality Calcs'!$A$9:$B$149,2,0)=\"Limited ROW\",R75*S75*0.1/100,R75*S75/100))","v":""},{"$f":"IF(A75=\"\",\"\",VLOOKUP(A75,'Structural Water Quality Calcs'!$A$8:$AE$149,20,0))","v":""},{"$f":"IF(A75=\"\",\"\",SUMIFS(Catchment!$AA$5:$AA$300,Catchment!$D$5:$D$300,\"RIDOT\",Catchment!$K$5:$K$300,A75))","v":""},{"$f":"IF(A75=\"\",\"\",VLOOKUP(A75,'Structural Water Quality Calcs'!$A$8:$AE$149,21,0)*100)","v":""},{"$f":"IF(A75=\"\",\"\",VLOOKUP(A75,'Structural Water Quality Calcs'!$A$8:$AE$149,22,0))","v":""},{"$f":"IF(A75=\"\",\"\",IF(VLOOKUP(A75,'Structural Water Quality Calcs'!$A$9:$B$149,2,0)=\"Limited ROW\",W75*X75*0.1/100,W75*X75/100))","v":""},{"$f":"IF(A75=\"\",\"\",VLOOKUP(A75,'Structural Water Quality Calcs'!$A$8:$AE$149,29,0))","v":""},{"$f":"IF(A75=\"\",\"\",IF(VLOOKUP(A75,'Structural Water Quality Calcs'!$A$9:$B$149,2,0)=\"Limited ROW\",VLOOKUP(A75,'Structural Water Quality Calcs'!$A$8:$AE$149,28,0)*F75*0.1/43560,VLOOKUP(A75,'Structural Water Quality Calcs'!$A$8:$AE$149,28,0)*F75/43560))","v":""},{"$f":"IF(A75=\"\",\"\",VLOOKUP(A75,'Structural Water Quality Calcs'!$A$8:$AE$149,28,0)*100)","v":""},{"$f":"IF(A75=\"\",\"\",VLOOKUP(A75,'Structural Water Quality Calcs'!$A$8:$AE$149,31,0))","v":""},{"$f":"IF(A75=\"\",\"\",VLOOKUP(A75,'Structural Water Quality Calcs'!$A$8:$AE$149,26,0))","v":""},{"$f":"IF(A75=\"\",\"\",VLOOKUP(A75,'Structural Water Quality Calcs'!$A$8:$AE$149,27,0))","v":""},{"$f":"IF(A75=\"\",\"\",(VLOOKUP(A75,'Structural Water Quality Calcs'!$A$8:$AE$149,25,0)))","v":""},{"$f":"IF(A75=\"\",\"\",VLOOKUP(A75,'Structural Water Quality Calcs'!$A$8:$AE$149,24,0))","v":""},{"$f":"IF(A75=\"\",\"\",VLOOKUP(A75,STU_Cost!$A$5:$G$150,4,0))","v":""},{"$f":"IF(A75=\"\",\"\",VLOOKUP(A75,STU_Cost!$A$5:$G$150,5,0))","v":""},{"$f":"IF(A75=\"\",\"\",VLOOKUP(A75,STU_Cost!$A$5:$G$150,6,0))","v":""},{"$f":"IF(A75=\"\",\"\",VLOOKUP(A75,STU_Cost!$A$5:$G$150,7,0))","v":""},null,null,{"$f":"IF(A75=\"\",\"\",VLOOKUP(A75,STU!$A$5:$E$300,5,0))","v":""}]
[null,{"$f":"IF(A76=\"\",\"\",VLOOKUP(A76,'Structural Water Quality Calcs'!$A$9:$F$79,6,0))","v":""},{"$f":"IF(A76=\"\",\"\",VLOOKUP(A76,'Structural Water Quality Calcs'!$A$8:$AE$149,3,0))","v":""},{"$f":"IF(A76=\"\",\"\",SUMIFS(Catchment!$V$5:$V$300,Catchment!$D$5:$D$300,\"RIDOT\",Catchment!$K$5:$K$300,A76))","v":""},{"$f":"IF(A76=\"\",\"\",VLOOKUP(A76,'Structural Water Quality Calcs'!$A$8:$AE$149,4,0))","v":""},{"$f":"IF(A76=\"\",\"\",SUMIFS(Catchment!$L$5:$L$300,Catchment!$D$5:$D$300,\"RIDOT\",Catchment!$K$5:$K$300,A76))","v":""},{"$f":"IF(A76=\"\",\"\",VLOOKUP(A76, 'Structural Water Quality Calcs'!$A$8:$AE$149,11,0))","v":""},{"$f":"IF(A76=\"\",\"\",SUMIFS(Catchment!$X$5:$X$300,Catchment!$D$5:$D$300,\"RIDOT\",Catchment!$K$5:$K$300,A76))","v":""},{"$f":"IF(A76=\"\",\"\",VLOOKUP(A76,'Structural Water Quality Calcs'!$A$8:$AE$149,12,0)*100)","v":""},{"$f":"IF(A76=\"\",\"\",VLOOKUP(A76,'Structural Water Quality Calcs'!$A$8:$AE$149,13,0))","v":""},{"$f":"IF(A76=\"\",\"\",IF(VLOOKUP(A76,'Structural Water Quality Calcs'!$A$9:$B$149,2,0)=\"Limited ROW\",H76*I76*0.1/100,H76*I76/100))","v":""},{"$f":"IF(A76=\"\",\"\",VLOOKUP(A76,'Structural Water Quality Calcs'!$A$8:$AE$149,17,0))","v":""},{"$f":"IF(A76=\"\",\"\",SUMIFS(Catchment!$Z$5:$Z$300,Catchment!$D$5:$D$300,\"RIDOT\",Catchment!$K$5:$K$300,A76))","v":""},{"$f":"IF(A76=\"\",\"\",VLOOKUP(A76,'Structural Water Quality Calcs'!$A$8:$AE$149,18,0)*100)","v":""},{"$f":"IF(A76=\"\",\"\",VLOOKUP(A76,'Structural Water Quality Calcs'!$A$8:$AE$149,19,0))","v":""},{"$f":"IF(A76=\"\",\"\",IF(VLOOKUP(A76,'Structural Water Quality Calcs'!$A$9:$B$149,2,0)=\"Limited ROW\",M76*N76*0.1/100,M76*N76/100))","v":""},{"$f":"IF(A76=\"\",\"\",VLOOKUP(A76,'Structural Water Quality Calcs'!$A$8:$AE$149,14,0))","v":""},{"$f":"IF(A76=\"\",\"\",SUMIFS(Catchment!$Y$5:$Y$300,Catchment!$D$5:$D$300,\"RIDOT\",Catchment!$K$5:$K$300,A76))","v":""},{"$f":"IF(A76=\"\",\"\",VLOOKUP(A76,'Structural Water Quality Calcs'!$A$8:$AE$149,15,0)*100)","v":""},{"$f":"IF(A76=\"\",\"\",VLOOKUP(A76,'Structural Water Quality Calcs'!$A$8:$AE$149,16,0))","v":""},{"$f":"IF(A76=\"\",\"\",IF(VLOOKUP(A76,'Structural Water Quality Calcs'!$A$9:$B$149,2,0)=\"Limited ROW\",R76*S76*0.1/100,R76*S76/100))","v":""},{"$f":"IF(A76=\"\",\"\",VLOOKUP(A76,'Structural Water Quality Calcs'!$A$8:$AE$149,20,0))","v":""},{"$f":"IF(A76=\"\",\"\",SUMIFS(Catchment!$AA$5:$AA$300,Catchment!$D$5:$D$300,\"RIDOT\",Catchment!$K$5:$K$300,A76))","v":""},{"$f":"IF(A76=\"\",\"\",VLOOKUP(A76,'Structural Water Quality Calcs'!$A$8:$AE$149,21,0)*100)","v":""},{"$f":"IF(A76=\"\",\"\",VLOOKUP(A76,'Structural Water Quality Calcs'!$A$8:$AE$149,22,0))","v":""},{"$f":"IF(A76=\"\",\"\",IF(VLOOKUP(A76,'Structural Water Quality Calcs'!$A$9:$B$149,2,0)=\"Limited ROW\",W76*X76*0.1/100,W76*X76/100))","v":""},{"$f":"IF(A76=\"\",\"\",VLOOKUP(A76,'Structural Water Quality Calcs'!$A$8:$AE$149,29,0))","v":""},{"$f":"IF(A76=\"\",\"\",IF(VLOOKUP(A76,'Structural Water Quality Calcs'!$A$9:$B$149,2,0)=\"Limited ROW\",VLOOKUP(A76,'Structural Water Quality Calcs'!$A$8:$AE$149,28,0)*F76*0.1/43560,VLOOKUP(A76,'Structural Water Quality Calcs'!$A$8:$AE$149,28,0)*F76/43560))","v":""},{"$f":"IF(A76=\"\",\"\",VLOOKUP(A76,'Structural Water Quality Calcs'!$A$8:$AE$149,28,0)*100)","v":""},{"$f":"IF(A76=\"\",\"\",VLOOKUP(A76,'Structural Water Quality Calcs'!$A$8:$AE$149,31,0))","v":""},{"$f":"IF(A76=\"\",\"\",VLOOKUP(A76,'Structural Water Quality Calcs'!$A$8:$AE$149,26,0))","v":""},{"$f":"IF(A76=\"\",\"\",VLOOKUP(A76,'Structural Water Quality Calcs'!$A$8:$AE$149,27,0))","v":""},{"$f":"IF(A76=\"\",\"\",(VLOOKUP(A76,'Structural Water Quality Calcs'!$A$8:$AE$149,25,0)))","v":""},{"$f":"IF(A76=\"\",\"\",VLOOKUP(A76,'Structural Water Quality Calcs'!$A$8:$AE$149,24,0))","v":""},{"$f":"IF(A76=\"\",\"\",VLOOKUP(A76,STU_Cost!$A$5:$G$150,4,0))","v":""},{"$f":"IF(A76=\"\",\"\",VLOOKUP(A76,STU_Cost!$A$5:$G$150,5,0))","v":""},{"$f":"IF(A76=\"\",\"\",VLOOKUP(A76,STU_Cost!$A$5:$G$150,6,0))","v":""},{"$f":"IF(A76=\"\",\"\",VLOOKUP(A76,STU_Cost!$A$5:$G$150,7,0))","v":""},null,null,{"$f":"IF(A76=\"\",\"\",VLOOKUP(A76,STU!$A$5:$E$300,5,0))","v":""}]
[null,{"$f":"IF(A77=\"\",\"\",VLOOKUP(A77,'Structural Water Quality Calcs'!$A$9:$F$79,6,0))","v":""},{"$f":"IF(A77=\"\",\"\",VLOOKUP(A77,'Structural Water Quality Calcs'!$A$8:$AE$149,3,0))","v":""},{"$f":"IF(A77=\"\",\"\",SUMIFS(Catchment!$V$5:$V$300,Catchment!$D$5:$D$300,\"RIDOT\",Catchment!$K$5:$K$300,A77))","v":""},{"$f":"IF(A77=\"\",\"\",VLOOKUP(A77,'Structural Water Quality Calcs'!$A$8:$AE$149,4,0))","v":""},{"$f":"IF(A77=\"\",\"\",SUMIFS(Catchment!$L$5:$L$300,Catchment!$D$5:$D$300,\"RIDOT\",Catchment!$K$5:$K$300,A77))","v":""},{"$f":"IF(A77=\"\",\"\",VLOOKUP(A77, 'Structural Water Quality Calcs'!$A$8:$AE$149,11,0))","v":""},{"$f":"IF(A77=\"\",\"\",SUMIFS(Catchment!$X$5:$X$300,Catchment!$D$5:$D$300,\"RIDOT\",Catchment!$K$5:$K$300,A77))","v":""},{"$f":"IF(A77=\"\",\"\",VLOOKUP(A77,'Structural Water Quality Calcs'!$A$8:$AE$149,12,0)*100)","v":""},{"$f":"IF(A77=\"\",\"\",VLOOKUP(A77,'Structural Water Quality Calcs'!$A$8:$AE$149,13,0))","v":""},{"$f":"IF(A77=\"\",\"\",IF(VLOOKUP(A77,'Structural Water Quality Calcs'!$A$9:$B$149,2,0)=\"Limited ROW\",H77*I77*0.1/100,H77*I77/100))","v":""},{"$f":"IF(A77=\"\",\"\",VLOOKUP(A77,'Structural Water Quality Calcs'!$A$8:$AE$149,17,0))","v":""},{"$f":"IF(A77=\"\",\"\",SUMIFS(Catchment!$Z$5:$Z$300,Catchment!$D$5:$D$300,\"RIDOT\",Catchment!$K$5:$K$300,A77))","v":""},{"$f":"IF(A77=\"\",\"\",VLOOKUP(A77,'Structural Water Quality Calcs'!$A$8:$AE$149,18,0)*100)","v":""},{"$f":"IF(A77=\"\",\"\",VLOOKUP(A77,'Structural Water Quality Calcs'!$A$8:$AE$149,19,0))","v":""},{"$f":"IF(A77=\"\",\"\",IF(VLOOKUP(A77,'Structural Water Quality Calcs'!$A$9:$B$149,2,0)=\"Limited ROW\",M77*N77*0.1/100,M77*N77/100))","v":""},{"$f":"IF(A77=\"\",\"\",VLOOKUP(A77,'Structural Water Quality Calcs'!$A$8:$AE$149,14,0))","v":""},{"$f":"IF(A77=\"\",\"\",SUMIFS(Catchment!$Y$5:$Y$300,Catchment!$D$5:$D$300,\"RIDOT\",Catchment!$K$5:$K$300,A77))","v":""},{"$f":"IF(A77=\"\",\"\",VLOOKUP(A77,'Structural Water Quality Calcs'!$A$8:$AE$149,15,0)*100)","v":""},{"$f":"IF(A77=\"\",\"\",VLOOKUP(A77,'Structural Water Quality Calcs'!$A$8:$AE$149,16,0))","v":""},{"$f":"IF(A77=\"\",\"\",IF(VLOOKUP(A77,'Structural Water Quality Calcs'!$A$9:$B$149,2,0)=\"Limited ROW\",R77*S77*0.1/100,R77*S77/100))","v":""},{"$f":"IF(A77=\"\",\"\",VLOOKUP(A77,'Structural Water Quality Calcs'!$A$8:$AE$149,20,0))","v":""},{"$f":"IF(A77=\"\",\"\",SUMIFS(Catchment!$AA$5:$AA$300,Catchment!$D$5:$D$300,\"RIDOT\",Catchment!$K$5:$K$300,A77))","v":""},{"$f":"IF(A77=\"\",\"\",VLOOKUP(A77,'Structural Water Quality Calcs'!$A$8:$AE$149,21,0)*100)","v":""},{"$f":"IF(A77=\"\",\"\",VLOOKUP(A77,'Structural Water Quality Calcs'!$A$8:$AE$149,22,0))","v":""},{"$f":"IF(A77=\"\",\"\",IF(VLOOKUP(A77,'Structural Water Quality Calcs'!$A$9:$B$149,2,0)=\"Limited ROW\",W77*X77*0.1/100,W77*X77/100))","v":""},{"$f":"IF(A77=\"\",\"\",VLOOKUP(A77,'Structural Water Quality Calcs'!$A$8:$AE$149,29,0))","v":""},{"$f":"IF(A77=\"\",\"\",IF(VLOOKUP(A77,'Structural Water Quality Calcs'!$A$9:$B$149,2,0)=\"Limited ROW\",VLOOKUP(A77,'Structural Water Quality Calcs'!$A$8:$AE$149,28,0)*F77*0.1/43560,VLOOKUP(A77,'Structural Water Quality Calcs'!$A$8:$AE$149,28,0)*F77/43560))","v":""},{"$f":"IF(A77=\"\",\"\",VLOOKUP(A77,'Structural Water Quality Calcs'!$A$8:$AE$149,28,0)*100)","v":""},{"$f":"IF(A77=\"\",\"\",VLOOKUP(A77,'Structural Water Quality Calcs'!$A$8:$AE$149,31,0))","v":""},{"$f":"IF(A77=\"\",\"\",VLOOKUP(A77,'Structural Water Quality Calcs'!$A$8:$AE$149,26,0))","v":""},{"$f":"IF(A77=\"\",\"\",VLOOKUP(A77,'Structural Water Quality Calcs'!$A$8:$AE$149,27,0))","v":""},{"$f":"IF(A77=\"\",\"\",(VLOOKUP(A77,'Structural Water Quality Calcs'!$A$8:$AE$149,25,0)))","v":""},{"$f":"IF(A77=\"\",\"\",VLOOKUP(A77,'Structural Water Quality Calcs'!$A$8:$AE$149,24,0))","v":""},{"$f":"IF(A77=\"\",\"\",VLOOKUP(A77,STU_Cost!$A$5:$G$150,4,0))","v":""},{"$f":"IF(A77=\"\",\"\",VLOOKUP(A77,STU_Cost!$A$5:$G$150,5,0))","v":""},{"$f":"IF(A77=\"\",\"\",VLOOKUP(A77,STU_Cost!$A$5:$G$150,6,0))","v":""},{"$f":"IF(A77=\"\",\"\",VLOOKUP(A77,STU_Cost!$A$5:$G$150,7,0))","v":""},null,null,{"$f":"IF(A77=\"\",\"\",VLOOKUP(A77,STU!$A$5:$E$300,5,0))","v":""}]
[null,{"$f":"IF(A78=\"\",\"\",VLOOKUP(A78,'Structural Water Quality Calcs'!$A$9:$F$79,6,0))","v":""},{"$f":"IF(A78=\"\",\"\",VLOOKUP(A78,'Structural Water Quality Calcs'!$A$8:$AE$149,3,0))","v":""},{"$f":"IF(A78=\"\",\"\",SUMIFS(Catchment!$V$5:$V$300,Catchment!$D$5:$D$300,\"RIDOT\",Catchment!$K$5:$K$300,A78))","v":""},{"$f":"IF(A78=\"\",\"\",VLOOKUP(A78,'Structural Water Quality Calcs'!$A$8:$AE$149,4,0))","v":""},{"$f":"IF(A78=\"\",\"\",SUMIFS(Catchment!$L$5:$L$300,Catchment!$D$5:$D$300,\"RIDOT\",Catchment!$K$5:$K$300,A78))","v":""},{"$f":"IF(A78=\"\",\"\",VLOOKUP(A78, 'Structural Water Quality Calcs'!$A$8:$AE$149,11,0))","v":""},{"$f":"IF(A78=\"\",\"\",SUMIFS(Catchment!$X$5:$X$300,Catchment!$D$5:$D$300,\"RIDOT\",Catchment!$K$5:$K$300,A78))","v":""},{"$f":"IF(A78=\"\",\"\",VLOOKUP(A78,'Structural Water Quality Calcs'!$A$8:$AE$149,12,0)*100)","v":""},{"$f":"IF(A78=\"\",\"\",VLOOKUP(A78,'Structural Water Quality Calcs'!$A$8:$AE$149,13,0))","v":""},{"$f":"IF(A78=\"\",\"\",IF(VLOOKUP(A78,'Structural Water Quality Calcs'!$A$9:$B$149,2,0)=\"Limited ROW\",H78*I78*0.1/100,H78*I78/100))","v":""},{"$f":"IF(A78=\"\",\"\",VLOOKUP(A78,'Structural Water Quality Calcs'!$A$8:$AE$149,17,0))","v":""},{"$f":"IF(A78=\"\",\"\",SUMIFS(Catchment!$Z$5:$Z$300,Catchment!$D$5:$D$300,\"RIDOT\",Catchment!$K$5:$K$300,A78))","v":""},{"$f":"IF(A78=\"\",\"\",VLOOKUP(A78,'Structural Water Quality Calcs'!$A$8:$AE$149,18,0)*100)","v":""},{"$f":"IF(A78=\"\",\"\",VLOOKUP(A78,'Structural Water Quality Calcs'!$A$8:$AE$149,19,0))","v":""},{"$f":"IF(A78=\"\",\"\",IF(VLOOKUP(A78,'Structural Water Quality Calcs'!$A$9:$B$149,2,0)=\"Limited ROW\",M78*N78*0.1/100,M78*N78/100))","v":""},{"$f":"IF(A78=\"\",\"\",VLOOKUP(A78,'Structural Water Quality Calcs'!$A$8:$AE$149,14,0))","v":""},{"$f":"IF(A78=\"\",\"\",SUMIFS(Catchment!$Y$5:$Y$300,Catchment!$D$5:$D$300,\"RIDOT\",Catchment!$K$5:$K$300,A78))","v":""},{"$f":"IF(A78=\"\",\"\",VLOOKUP(A78,'Structural Water Quality Calcs'!$A$8:$AE$149,15,0)*100)","v":""},{"$f":"IF(A78=\"\",\"\",VLOOKUP(A78,'Structural Water Quality Calcs'!$A$8:$AE$149,16,0))","v":""},{"$f":"IF(A78=\"\",\"\",IF(VLOOKUP(A78,'Structural Water Quality Calcs'!$A$9:$B$149,2,0)=\"Limited ROW\",R78*S78*0.1/100,R78*S78/100))","v":""},{"$f":"IF(A78=\"\",\"\",VLOOKUP(A78,'Structural Water Quality Calcs'!$A$8:$AE$149,20,0))","v":""},{"$f":"IF(A78=\"\",\"\",SUMIFS(Catchment!$AA$5:$AA$300,Catchment!$D$5:$D$300,\"RIDOT\",Catchment!$K$5:$K$300,A78))","v":""},{"$f":"IF(A78=\"\",\"\",VLOOKUP(A78,'Structural Water Quality Calcs'!$A$8:$AE$149,21,0)*100)","v":""},{"$f":"IF(A78=\"\",\"\",VLOOKUP(A78,'Structural Water Quality Calcs'!$A$8:$AE$149,22,0))","v":""},{"$f":"IF(A78=\"\",\"\",IF(VLOOKUP(A78,'Structural Water Quality Calcs'!$A$9:$B$149,2,0)=\"Limited ROW\",W78*X78*0.1/100,W78*X78/100))","v":""},{"$f":"IF(A78=\"\",\"\",VLOOKUP(A78,'Structural Water Quality Calcs'!$A$8:$AE$149,29,0))","v":""},{"$f":"IF(A78=\"\",\"\",IF(VLOOKUP(A78,'Structural Water Quality Calcs'!$A$9:$B$149,2,0)=\"Limited ROW\",VLOOKUP(A78,'Structural Water Quality Calcs'!$A$8:$AE$149,28,0)*F78*0.1/43560,VLOOKUP(A78,'Structural Water Quality Calcs'!$A$8:$AE$149,28,0)*F78/43560))","v":""},{"$f":"IF(A78=\"\",\"\",VLOOKUP(A78,'Structural Water Quality Calcs'!$A$8:$AE$149,28,0)*100)","v":""},{"$f":"IF(A78=\"\",\"\",VLOOKUP(A78,'Structural Water Quality Calcs'!$A$8:$AE$149,31,0))","v":""},{"$f":"IF(A78=\"\",\"\",VLOOKUP(A78,'Structural Water Quality Calcs'!$A$8:$AE$149,26,0))","v":""},{"$f":"IF(A78=\"\",\"\",VLOOKUP(A78,'Structural Water Quality Calcs'!$A$8:$AE$149,27,0))","v":""},{"$f":"IF(A78=\"\",\"\",(VLOOKUP(A78,'Structural Water Quality Calcs'!$A$8:$AE$149,25,0)))","v":""},{"$f":"IF(A78=\"\",\"\",VLOOKUP(A78,'Structural Water Quality Calcs'!$A$8:$AE$149,24,0))","v":""},{"$f":"IF(A78=\"\",\"\",VLOOKUP(A78,STU_Cost!$A$5:$G$150,4,0))","v":""},{"$f":"IF(A78=\"\",\"\",VLOOKUP(A78,STU_Cost!$A$5:$G$150,5,0))","v":""},{"$f":"IF(A78=\"\",\"\",VLOOKUP(A78,STU_Cost!$A$5:$G$150,6,0))","v":""},{"$f":"IF(A78=\"\",\"\",VLOOKUP(A78,STU_Cost!$A$5:$G$150,7,0))","v":""},null,null,{"$f":"IF(A78=\"\",\"\",VLOOKUP(A78,STU!$A$5:$E$300,5,0))","v":""}]
[null,{"$f":"IF(A79=\"\",\"\",VLOOKUP(A79,'Structural Water Quality Calcs'!$A$9:$F$79,6,0))","v":""},{"$f":"IF(A79=\"\",\"\",VLOOKUP(A79,'Structural Water Quality Calcs'!$A$8:$AE$149,3,0))","v":""},{"$f":"IF(A79=\"\",\"\",SUMIFS(Catchment!$V$5:$V$300,Catchment!$D$5:$D$300,\"RIDOT\",Catchment!$K$5:$K$300,A79))","v":""},{"$f":"IF(A79=\"\",\"\",VLOOKUP(A79,'Structural Water Quality Calcs'!$A$8:$AE$149,4,0))","v":""},{"$f":"IF(A79=\"\",\"\",SUMIFS(Catchment!$L$5:$L$300,Catchment!$D$5:$D$300,\"RIDOT\",Catchment!$K$5:$K$300,A79))","v":""},{"$f":"IF(A79=\"\",\"\",VLOOKUP(A79, 'Structural Water Quality Calcs'!$A$8:$AE$149,11,0))","v":""},{"$f":"IF(A79=\"\",\"\",SUMIFS(Catchment!$X$5:$X$300,Catchment!$D$5:$D$300,\"RIDOT\",Catchment!$K$5:$K$300,A79))","v":""},{"$f":"IF(A79=\"\",\"\",VLOOKUP(A79,'Structural Water Quality Calcs'!$A$8:$AE$149,12,0)*100)","v":""},{"$f":"IF(A79=\"\",\"\",VLOOKUP(A79,'Structural Water Quality Calcs'!$A$8:$AE$149,13,0))","v":""},{"$f":"IF(A79=\"\",\"\",IF(VLOOKUP(A79,'Structural Water Quality Calcs'!$A$9:$B$149,2,0)=\"Limited ROW\",H79*I79*0.1/100,H79*I79/100))","v":""},{"$f":"IF(A79=\"\",\"\",VLOOKUP(A79,'Structural Water Quality Calcs'!$A$8:$AE$149,17,0))","v":""},{"$f":"IF(A79=\"\",\"\",SUMIFS(Catchment!$Z$5:$Z$300,Catchment!$D$5:$D$300,\"RIDOT\",Catchment!$K$5:$K$300,A79))","v":""},{"$f":"IF(A79=\"\",\"\",VLOOKUP(A79,'Structural Water Quality Calcs'!$A$8:$AE$149,18,0)*100)","v":""},{"$f":"IF(A79=\"\",\"\",VLOOKUP(A79,'Structural Water Quality Calcs'!$A$8:$AE$149,19,0))","v":""},{"$f":"IF(A79=\"\",\"\",IF(VLOOKUP(A79,'Structural Water Quality Calcs'!$A$9:$B$149,2,0)=\"Limited ROW\",M79*N79*0.1/100,M79*N79/100))","v":""},{"$f":"IF(A79=\"\",\"\",VLOOKUP(A79,'Structural Water Quality Calcs'!$A$8:$AE$149,14,0))","v":""},{"$f":"IF(A79=\"\",\"\",SUMIFS(Catchment!$Y$5:$Y$300,Catchment!$D$5:$D$300,\"RIDOT\",Catchment!$K$5:$K$300,A79))","v":""},{"$f":"IF(A79=\"\",\"\",VLOOKUP(A79,'Structural Water Quality Calcs'!$A$8:$AE$149,15,0)*100)","v":""},{"$f":"IF(A79=\"\",\"\",VLOOKUP(A79,'Structural Water Quality Calcs'!$A$8:$AE$149,16,0))","v":""},{"$f":"IF(A79=\"\",\"\",IF(VLOOKUP(A79,'Structural Water Quality Calcs'!$A$9:$B$149,2,0)=\"Limited ROW\",R79*S79*0.1/100,R79*S79/100))","v":""},{"$f":"IF(A79=\"\",\"\",VLOOKUP(A79,'Structural Water Quality Calcs'!$A$8:$AE$149,20,0))","v":""},{"$f":"IF(A79=\"\",\"\",SUMIFS(Catchment!$AA$5:$AA$300,Catchment!$D$5:$D$300,\"RIDOT\",Catchment!$K$5:$K$300,A79))","v":""},{"$f":"IF(A79=\"\",\"\",VLOOKUP(A79,'Structural Water Quality Calcs'!$A$8:$AE$149,21,0)*100)","v":""},{"$f":"IF(A79=\"\",\"\",VLOOKUP(A79,'Structural Water Quality Calcs'!$A$8:$AE$149,22,0))","v":""},{"$f":"IF(A79=\"\",\"\",IF(VLOOKUP(A79,'Structural Water Quality Calcs'!$A$9:$B$149,2,0)=\"Limited ROW\",W79*X79*0.1/100,W79*X79/100))","v":""},{"$f":"IF(A79=\"\",\"\",VLOOKUP(A79,'Structural Water Quality Calcs'!$A$8:$AE$149,29,0))","v":""},{"$f":"IF(A79=\"\",\"\",IF(VLOOKUP(A79,'Structural Water Quality Calcs'!$A$9:$B$149,2,0)=\"Limited ROW\",VLOOKUP(A79,'Structural Water Quality Calcs'!$A$8:$AE$149,28,0)*F79*0.1/43560,VLOOKUP(A79,'Structural Water Quality Calcs'!$A$8:$AE$149,28,0)*F79/43560))","v":""},{"$f":"IF(A79=\"\",\"\",VLOOKUP(A79,'Structural Water Quality Calcs'!$A$8:$AE$149,28,0)*100)","v":""},{"$f":"IF(A79=\"\",\"\",VLOOKUP(A79,'Structural Water Quality Calcs'!$A$8:$AE$149,31,0))","v":""},{"$f":"IF(A79=\"\",\"\",VLOOKUP(A79,'Structural Water Quality Calcs'!$A$8:$AE$149,26,0))","v":""},{"$f":"IF(A79=\"\",\"\",VLOOKUP(A79,'Structural Water Quality Calcs'!$A$8:$AE$149,27,0))","v":""},{"$f":"IF(A79=\"\",\"\",(VLOOKUP(A79,'Structural Water Quality Calcs'!$A$8:$AE$149,25,0)))","v":""},{"$f":"IF(A79=\"\",\"\",VLOOKUP(A79,'Structural Water Quality Calcs'!$A$8:$AE$149,24,0))","v":""},{"$f":"IF(A79=\"\",\"\",VLOOKUP(A79,STU_Cost!$A$5:$G$150,4,0))","v":""},{"$f":"IF(A79=\"\",\"\",VLOOKUP(A79,STU_Cost!$A$5:$G$150,5,0))","v":""},{"$f":"IF(A79=\"\",\"\",VLOOKUP(A79,STU_Cost!$A$5:$G$150,6,0))","v":""},{"$f":"IF(A79=\"\",\"\",VLOOKUP(A79,STU_Cost!$A$5:$G$150,7,0))","v":""},null,null,{"$f":"IF(A79=\"\",\"\",VLOOKUP(A79,STU!$A$5:$E$300,5,0))","v":""}]
[null,{"$f":"IF(A80=\"\",\"\",VLOOKUP(A80,'Structural Water Quality Calcs'!$A$9:$F$79,6,0))","v":""},{"$f":"IF(A80=\"\",\"\",VLOOKUP(A80,'Structural Water Quality Calcs'!$A$8:$AE$149,3,0))","v":""},{"$f":"IF(A80=\"\",\"\",SUMIFS(Catchment!$V$5:$V$300,Catchment!$D$5:$D$300,\"RIDOT\",Catchment!$K$5:$K$300,A80))","v":""},{"$f":"IF(A80=\"\",\"\",VLOOKUP(A80,'Structural Water Quality Calcs'!$A$8:$AE$149,4,0))","v":""},{"$f":"IF(A80=\"\",\"\",SUMIFS(Catchment!$L$5:$L$300,Catchment!$D$5:$D$300,\"RIDOT\",Catchment!$K$5:$K$300,A80))","v":""},{"$f":"IF(A80=\"\",\"\",VLOOKUP(A80, 'Structural Water Quality Calcs'!$A$8:$AE$149,11,0))","v":""},{"$f":"IF(A80=\"\",\"\",SUMIFS(Catchment!$X$5:$X$300,Catchment!$D$5:$D$300,\"RIDOT\",Catchment!$K$5:$K$300,A80))","v":""},{"$f":"IF(A80=\"\",\"\",VLOOKUP(A80,'Structural Water Quality Calcs'!$A$8:$AE$149,12,0)*100)","v":""},{"$f":"IF(A80=\"\",\"\",VLOOKUP(A80,'Structural Water Quality Calcs'!$A$8:$AE$149,13,0))","v":""},{"$f":"IF(A80=\"\",\"\",IF(VLOOKUP(A80,'Structural Water Quality Calcs'!$A$9:$B$149,2,0)=\"Limited ROW\",H80*I80*0.1/100,H80*I80/100))","v":""},{"$f":"IF(A80=\"\",\"\",VLOOKUP(A80,'Structural Water Quality Calcs'!$A$8:$AE$149,17,0))","v":""},{"$f":"IF(A80=\"\",\"\",SUMIFS(Catchment!$Z$5:$Z$300,Catchment!$D$5:$D$300,\"RIDOT\",Catchment!$K$5:$K$300,A80))","v":""},{"$f":"IF(A80=\"\",\"\",VLOOKUP(A80,'Structural Water Quality Calcs'!$A$8:$AE$149,18,0)*100)","v":""},{"$f":"IF(A80=\"\",\"\",VLOOKUP(A80,'Structural Water Quality Calcs'!$A$8:$AE$149,19,0))","v":""},{"$f":"IF(A80=\"\",\"\",IF(VLOOKUP(A80,'Structural Water Quality Calcs'!$A$9:$B$149,2,0)=\"Limited ROW\",M80*N80*0.1/100,M80*N80/100))","v":""},{"$f":"IF(A80=\"\",\"\",VLOOKUP(A80,'Structural Water Quality Calcs'!$A$8:$AE$149,14,0))","v":""},{"$f":"IF(A80=\"\",\"\",SUMIFS(Catchment!$Y$5:$Y$300,Catchment!$D$5:$D$300,\"RIDOT\",Catchment!$K$5:$K$300,A80))","v":""},{"$f":"IF(A80=\"\",\"\",VLOOKUP(A80,'Structural Water Quality Calcs'!$A$8:$AE$149,15,0)*100)","v":""},{"$f":"IF(A80=\"\",\"\",VLOOKUP(A80,'Structural Water Quality Calcs'!$A$8:$AE$149,16,0))","v":""},{"$f":"IF(A80=\"\",\"\",IF(VLOOKUP(A80,'Structural Water Quality Calcs'!$A$9:$B$149,2,0)=\"Limited ROW\",R80*S80*0.1/100,R80*S80/100))","v":""},{"$f":"IF(A80=\"\",\"\",VLOOKUP(A80,'Structural Water Quality Calcs'!$A$8:$AE$149,20,0))","v":""},{"$f":"IF(A80=\"\",\"\",SUMIFS(Catchment!$AA$5:$AA$300,Catchment!$D$5:$D$300,\"RIDOT\",Catchment!$K$5:$K$300,A80))","v":""},{"$f":"IF(A80=\"\",\"\",VLOOKUP(A80,'Structural Water Quality Calcs'!$A$8:$AE$149,21,0)*100)","v":""},{"$f":"IF(A80=\"\",\"\",VLOOKUP(A80,'Structural Water Quality Calcs'!$A$8:$AE$149,22,0))","v":""},{"$f":"IF(A80=\"\",\"\",IF(VLOOKUP(A80,'Structural Water Quality Calcs'!$A$9:$B$149,2,0)=\"Limited ROW\",W80*X80*0.1/100,W80*X80/100))","v":""},{"$f":"IF(A80=\"\",\"\",VLOOKUP(A80,'Structural Water Quality Calcs'!$A$8:$AE$149,29,0))","v":""},{"$f":"IF(A80=\"\",\"\",IF(VLOOKUP(A80,'Structural Water Quality Calcs'!$A$9:$B$149,2,0)=\"Limited ROW\",VLOOKUP(A80,'Structural Water Quality Calcs'!$A$8:$AE$149,28,0)*F80*0.1/43560,VLOOKUP(A80,'Structural Water Quality Calcs'!$A$8:$AE$149,28,0)*F80/43560))","v":""},{"$f":"IF(A80=\"\",\"\",VLOOKUP(A80,'Structural Water Quality Calcs'!$A$8:$AE$149,28,0)*100)","v":""},{"$f":"IF(A80=\"\",\"\",VLOOKUP(A80,'Structural Water Quality Calcs'!$A$8:$AE$149,31,0))","v":""},{"$f":"IF(A80=\"\",\"\",VLOOKUP(A80,'Structural Water Quality Calcs'!$A$8:$AE$149,26,0))","v":""},{"$f":"IF(A80=\"\",\"\",VLOOKUP(A80,'Structural Water Quality Calcs'!$A$8:$AE$149,27,0))","v":""},{"$f":"IF(A80=\"\",\"\",(VLOOKUP(A80,'Structural Water Quality Calcs'!$A$8:$AE$149,25,0)))","v":""},{"$f":"IF(A80=\"\",\"\",VLOOKUP(A80,'Structural Water Quality Calcs'!$A$8:$AE$149,24,0))","v":""},{"$f":"IF(A80=\"\",\"\",VLOOKUP(A80,STU_Cost!$A$5:$G$150,4,0))","v":""},{"$f":"IF(A80=\"\",\"\",VLOOKUP(A80,STU_Cost!$A$5:$G$150,5,0))","v":""},{"$f":"IF(A80=\"\",\"\",VLOOKUP(A80,STU_Cost!$A$5:$G$150,6,0))","v":""},{"$f":"IF(A80=\"\",\"\",VLOOKUP(A80,STU_Cost!$A$5:$G$150,7,0))","v":""},null,null,{"$f":"IF(A80=\"\",\"\",VLOOKUP(A80,STU!$A$5:$E$300,5,0))","v":""}]
[null,{"$f":"IF(A81=\"\",\"\",VLOOKUP(A81,'Structural Water Quality Calcs'!$A$9:$F$79,6,0))","v":""},{"$f":"IF(A81=\"\",\"\",VLOOKUP(A81,'Structural Water Quality Calcs'!$A$8:$AE$149,3,0))","v":""},{"$f":"IF(A81=\"\",\"\",SUMIFS(Catchment!$V$5:$V$300,Catchment!$D$5:$D$300,\"RIDOT\",Catchment!$K$5:$K$300,A81))","v":""},{"$f":"IF(A81=\"\",\"\",VLOOKUP(A81,'Structural Water Quality Calcs'!$A$8:$AE$149,4,0))","v":""},{"$f":"IF(A81=\"\",\"\",SUMIFS(Catchment!$L$5:$L$300,Catchment!$D$5:$D$300,\"RIDOT\",Catchment!$K$5:$K$300,A81))","v":""},{"$f":"IF(A81=\"\",\"\",VLOOKUP(A81, 'Structural Water Quality Calcs'!$A$8:$AE$149,11,0))","v":""},{"$f":"IF(A81=\"\",\"\",SUMIFS(Catchment!$X$5:$X$300,Catchment!$D$5:$D$300,\"RIDOT\",Catchment!$K$5:$K$300,A81))","v":""},{"$f":"IF(A81=\"\",\"\",VLOOKUP(A81,'Structural Water Quality Calcs'!$A$8:$AE$149,12,0)*100)","v":""},{"$f":"IF(A81=\"\",\"\",VLOOKUP(A81,'Structural Water Quality Calcs'!$A$8:$AE$149,13,0))","v":""},{"$f":"IF(A81=\"\",\"\",IF(VLOOKUP(A81,'Structural Water Quality Calcs'!$A$9:$B$149,2,0)=\"Limited ROW\",H81*I81*0.1/100,H81*I81/100))","v":""},{"$f":"IF(A81=\"\",\"\",VLOOKUP(A81,'Structural Water Quality Calcs'!$A$8:$AE$149,17,0))","v":""},{"$f":"IF(A81=\"\",\"\",SUMIFS(Catchment!$Z$5:$Z$300,Catchment!$D$5:$D$300,\"RIDOT\",Catchment!$K$5:$K$300,A81))","v":""},{"$f":"IF(A81=\"\",\"\",VLOOKUP(A81,'Structural Water Quality Calcs'!$A$8:$AE$149,18,0)*100)","v":""},{"$f":"IF(A81=\"\",\"\",VLOOKUP(A81,'Structural Water Quality Calcs'!$A$8:$AE$149,19,0))","v":""},{"$f":"IF(A81=\"\",\"\",IF(VLOOKUP(A81,'Structural Water Quality Calcs'!$A$9:$B$149,2,0)=\"Limited ROW\",M81*N81*0.1/100,M81*N81/100))","v":""},{"$f":"IF(A81=\"\",\"\",VLOOKUP(A81,'Structural Water Quality Calcs'!$A$8:$AE$149,14,0))","v":""},{"$f":"IF(A81=\"\",\"\",SUMIFS(Catchment!$Y$5:$Y$300,Catchment!$D$5:$D$300,\"RIDOT\",Catchment!$K$5:$K$300,A81))","v":""},{"$f":"IF(A81=\"\",\"\",VLOOKUP(A81,'Structural Water Quality Calcs'!$A$8:$AE$149,15,0)*100)","v":""},{"$f":"IF(A81=\"\",\"\",VLOOKUP(A81,'Structural Water Quality Calcs'!$A$8:$AE$149,16,0))","v":""},{"$f":"IF(A81=\"\",\"\",IF(VLOOKUP(A81,'Structural Water Quality Calcs'!$A$9:$B$149,2,0)=\"Limited ROW\",R81*S81*0.1/100,R81*S81/100))","v":""},{"$f":"IF(A81=\"\",\"\",VLOOKUP(A81,'Structural Water Quality Calcs'!$A$8:$AE$149,20,0))","v":""},{"$f":"IF(A81=\"\",\"\",SUMIFS(Catchment!$AA$5:$AA$300,Catchment!$D$5:$D$300,\"RIDOT\",Catchment!$K$5:$K$300,A81))","v":""},{"$f":"IF(A81=\"\",\"\",VLOOKUP(A81,'Structural Water Quality Calcs'!$A$8:$AE$149,21,0)*100)","v":""},{"$f":"IF(A81=\"\",\"\",VLOOKUP(A81,'Structural Water Quality Calcs'!$A$8:$AE$149,22,0))","v":""},{"$f":"IF(A81=\"\",\"\",IF(VLOOKUP(A81,'Structural Water Quality Calcs'!$A$9:$B$149,2,0)=\"Limited ROW\",W81*X81*0.1/100,W81*X81/100))","v":""},{"$f":"IF(A81=\"\",\"\",VLOOKUP(A81,'Structural Water Quality Calcs'!$A$8:$AE$149,29,0))","v":""},{"$f":"IF(A81=\"\",\"\",IF(VLOOKUP(A81,'Structural Water Quality Calcs'!$A$9:$B$149,2,0)=\"Limited ROW\",VLOOKUP(A81,'Structural Water Quality Calcs'!$A$8:$AE$149,28,0)*F81*0.1/43560,VLOOKUP(A81,'Structural Water Quality Calcs'!$A$8:$AE$149,28,0)*F81/43560))","v":""},{"$f":"IF(A81=\"\",\"\",VLOOKUP(A81,'Structural Water Quality Calcs'!$A$8:$AE$149,28,0)*100)","v":""},{"$f":"IF(A81=\"\",\"\",VLOOKUP(A81,'Structural Water Quality Calcs'!$A$8:$AE$149,31,0))","v":""},{"$f":"IF(A81=\"\",\"\",VLOOKUP(A81,'Structural Water Quality Calcs'!$A$8:$AE$149,26,0))","v":""},{"$f":"IF(A81=\"\",\"\",VLOOKUP(A81,'Structural Water Quality Calcs'!$A$8:$AE$149,27,0))","v":""},{"$f":"IF(A81=\"\",\"\",(VLOOKUP(A81,'Structural Water Quality Calcs'!$A$8:$AE$149,25,0)))","v":""},{"$f":"IF(A81=\"\",\"\",VLOOKUP(A81,'Structural Water Quality Calcs'!$A$8:$AE$149,24,0))","v":""},{"$f":"IF(A81=\"\",\"\",VLOOKUP(A81,STU_Cost!$A$5:$G$150,4,0))","v":""},{"$f":"IF(A81=\"\",\"\",VLOOKUP(A81,STU_Cost!$A$5:$G$150,5,0))","v":""},{"$f":"IF(A81=\"\",\"\",VLOOKUP(A81,STU_Cost!$A$5:$G$150,6,0))","v":""},{"$f":"IF(A81=\"\",\"\",VLOOKUP(A81,STU_Cost!$A$5:$G$150,7,0))","v":""},null,null,{"$f":"IF(A81=\"\",\"\",VLOOKUP(A81,STU!$A$5:$E$300,5,0))","v":""}]
[null,{"$f":"IF(A82=\"\",\"\",VLOOKUP(A82,'Structural Water Quality Calcs'!$A$9:$F$79,6,0))","v":""},{"$f":"IF(A82=\"\",\"\",VLOOKUP(A82,'Structural Water Quality Calcs'!$A$8:$AE$149,3,0))","v":""},{"$f":"IF(A82=\"\",\"\",SUMIFS(Catchment!$V$5:$V$300,Catchment!$D$5:$D$300,\"RIDOT\",Catchment!$K$5:$K$300,A82))","v":""},{"$f":"IF(A82=\"\",\"\",VLOOKUP(A82,'Structural Water Quality Calcs'!$A$8:$AE$149,4,0))","v":""},{"$f":"IF(A82=\"\",\"\",SUMIFS(Catchment!$L$5:$L$300,Catchment!$D$5:$D$300,\"RIDOT\",Catchment!$K$5:$K$300,A82))","v":""},{"$f":"IF(A82=\"\",\"\",VLOOKUP(A82, 'Structural Water Quality Calcs'!$A$8:$AE$149,11,0))","v":""},{"$f":"IF(A82=\"\",\"\",SUMIFS(Catchment!$X$5:$X$300,Catchment!$D$5:$D$300,\"RIDOT\",Catchment!$K$5:$K$300,A82))","v":""},{"$f":"IF(A82=\"\",\"\",VLOOKUP(A82,'Structural Water Quality Calcs'!$A$8:$AE$149,12,0)*100)","v":""},{"$f":"IF(A82=\"\",\"\",VLOOKUP(A82,'Structural Water Quality Calcs'!$A$8:$AE$149,13,0))","v":""},{"$f":"IF(A82=\"\",\"\",IF(VLOOKUP(A82,'Structural Water Quality Calcs'!$A$9:$B$149,2,0)=\"Limited ROW\",H82*I82*0.1/100,H82*I82/100))","v":""},{"$f":"IF(A82=\"\",\"\",VLOOKUP(A82,'Structural Water Quality Calcs'!$A$8:$AE$149,17,0))","v":""},{"$f":"IF(A82=\"\",\"\",SUMIFS(Catchment!$Z$5:$Z$300,Catchment!$D$5:$D$300,\"RIDOT\",Catchment!$K$5:$K$300,A82))","v":""},{"$f":"IF(A82=\"\",\"\",VLOOKUP(A82,'Structural Water Quality Calcs'!$A$8:$AE$149,18,0)*100)","v":""},{"$f":"IF(A82=\"\",\"\",VLOOKUP(A82,'Structural Water Quality Calcs'!$A$8:$AE$149,19,0))","v":""},{"$f":"IF(A82=\"\",\"\",IF(VLOOKUP(A82,'Structural Water Quality Calcs'!$A$9:$B$149,2,0)=\"Limited ROW\",M82*N82*0.1/100,M82*N82/100))","v":""},{"$f":"IF(A82=\"\",\"\",VLOOKUP(A82,'Structural Water Quality Calcs'!$A$8:$AE$149,14,0))","v":""},{"$f":"IF(A82=\"\",\"\",SUMIFS(Catchment!$Y$5:$Y$300,Catchment!$D$5:$D$300,\"RIDOT\",Catchment!$K$5:$K$300,A82))","v":""},{"$f":"IF(A82=\"\",\"\",VLOOKUP(A82,'Structural Water Quality Calcs'!$A$8:$AE$149,15,0)*100)","v":""},{"$f":"IF(A82=\"\",\"\",VLOOKUP(A82,'Structural Water Quality Calcs'!$A$8:$AE$149,16,0))","v":""},{"$f":"IF(A82=\"\",\"\",IF(VLOOKUP(A82,'Structural Water Quality Calcs'!$A$9:$B$149,2,0)=\"Limited ROW\",R82*S82*0.1/100,R82*S82/100))","v":""},{"$f":"IF(A82=\"\",\"\",VLOOKUP(A82,'Structural Water Quality Calcs'!$A$8:$AE$149,20,0))","v":""},{"$f":"IF(A82=\"\",\"\",SUMIFS(Catchment!$AA$5:$AA$300,Catchment!$D$5:$D$300,\"RIDOT\",Catchment!$K$5:$K$300,A82))","v":""},{"$f":"IF(A82=\"\",\"\",VLOOKUP(A82,'Structural Water Quality Calcs'!$A$8:$AE$149,21,0)*100)","v":""},{"$f":"IF(A82=\"\",\"\",VLOOKUP(A82,'Structural Water Quality Calcs'!$A$8:$AE$149,22,0))","v":""},{"$f":"IF(A82=\"\",\"\",IF(VLOOKUP(A82,'Structural Water Quality Calcs'!$A$9:$B$149,2,0)=\"Limited ROW\",W82*X82*0.1/100,W82*X82/100))","v":""},{"$f":"IF(A82=\"\",\"\",VLOOKUP(A82,'Structural Water Quality Calcs'!$A$8:$AE$149,29,0))","v":""},{"$f":"IF(A82=\"\",\"\",IF(VLOOKUP(A82,'Structural Water Quality Calcs'!$A$9:$B$149,2,0)=\"Limited ROW\",VLOOKUP(A82,'Structural Water Quality Calcs'!$A$8:$AE$149,28,0)*F82*0.1/43560,VLOOKUP(A82,'Structural Water Quality Calcs'!$A$8:$AE$149,28,0)*F82/43560))","v":""},{"$f":"IF(A82=\"\",\"\",VLOOKUP(A82,'Structural Water Quality Calcs'!$A$8:$AE$149,28,0)*100)","v":""},{"$f":"IF(A82=\"\",\"\",VLOOKUP(A82,'Structural Water Quality Calcs'!$A$8:$AE$149,31,0))","v":""},{"$f":"IF(A82=\"\",\"\",VLOOKUP(A82,'Structural Water Quality Calcs'!$A$8:$AE$149,26,0))","v":""},{"$f":"IF(A82=\"\",\"\",VLOOKUP(A82,'Structural Water Quality Calcs'!$A$8:$AE$149,27,0))","v":""},{"$f":"IF(A82=\"\",\"\",(VLOOKUP(A82,'Structural Water Quality Calcs'!$A$8:$AE$149,25,0)))","v":""},{"$f":"IF(A82=\"\",\"\",VLOOKUP(A82,'Structural Water Quality Calcs'!$A$8:$AE$149,24,0))","v":""},{"$f":"IF(A82=\"\",\"\",VLOOKUP(A82,STU_Cost!$A$5:$G$150,4,0))","v":""},{"$f":"IF(A82=\"\",\"\",VLOOKUP(A82,STU_Cost!$A$5:$G$150,5,0))","v":""},{"$f":"IF(A82=\"\",\"\",VLOOKUP(A82,STU_Cost!$A$5:$G$150,6,0))","v":""},{"$f":"IF(A82=\"\",\"\",VLOOKUP(A82,STU_Cost!$A$5:$G$150,7,0))","v":""},null,null,{"$f":"IF(A82=\"\",\"\",VLOOKUP(A82,STU!$A$5:$E$300,5,0))","v":""}]
[null,{"$f":"IF(A83=\"\",\"\",VLOOKUP(A83,'Structural Water Quality Calcs'!$A$9:$F$79,6,0))","v":""},{"$f":"IF(A83=\"\",\"\",VLOOKUP(A83,'Structural Water Quality Calcs'!$A$8:$AE$149,3,0))","v":""},{"$f":"IF(A83=\"\",\"\",SUMIFS(Catchment!$V$5:$V$300,Catchment!$D$5:$D$300,\"RIDOT\",Catchment!$K$5:$K$300,A83))","v":""},{"$f":"IF(A83=\"\",\"\",VLOOKUP(A83,'Structural Water Quality Calcs'!$A$8:$AE$149,4,0))","v":""},{"$f":"IF(A83=\"\",\"\",SUMIFS(Catchment!$L$5:$L$300,Catchment!$D$5:$D$300,\"RIDOT\",Catchment!$K$5:$K$300,A83))","v":""},{"$f":"IF(A83=\"\",\"\",VLOOKUP(A83, 'Structural Water Quality Calcs'!$A$8:$AE$149,11,0))","v":""},{"$f":"IF(A83=\"\",\"\",SUMIFS(Catchment!$X$5:$X$300,Catchment!$D$5:$D$300,\"RIDOT\",Catchment!$K$5:$K$300,A83))","v":""},{"$f":"IF(A83=\"\",\"\",VLOOKUP(A83,'Structural Water Quality Calcs'!$A$8:$AE$149,12,0)*100)","v":""},{"$f":"IF(A83=\"\",\"\",VLOOKUP(A83,'Structural Water Quality Calcs'!$A$8:$AE$149,13,0))","v":""},{"$f":"IF(A83=\"\",\"\",IF(VLOOKUP(A83,'Structural Water Quality Calcs'!$A$9:$B$149,2,0)=\"Limited ROW\",H83*I83*0.1/100,H83*I83/100))","v":""},{"$f":"IF(A83=\"\",\"\",VLOOKUP(A83,'Structural Water Quality Calcs'!$A$8:$AE$149,17,0))","v":""},{"$f":"IF(A83=\"\",\"\",SUMIFS(Catchment!$Z$5:$Z$300,Catchment!$D$5:$D$300,\"RIDOT\",Catchment!$K$5:$K$300,A83))","v":""},{"$f":"IF(A83=\"\",\"\",VLOOKUP(A83,'Structural Water Quality Calcs'!$A$8:$AE$149,18,0)*100)","v":""},{"$f":"IF(A83=\"\",\"\",VLOOKUP(A83,'Structural Water Quality Calcs'!$A$8:$AE$149,19,0))","v":""},{"$f":"IF(A83=\"\",\"\",IF(VLOOKUP(A83,'Structural Water Quality Calcs'!$A$9:$B$149,2,0)=\"Limited ROW\",M83*N83*0.1/100,M83*N83/100))","v":""},{"$f":"IF(A83=\"\",\"\",VLOOKUP(A83,'Structural Water Quality Calcs'!$A$8:$AE$149,14,0))","v":""},{"$f":"IF(A83=\"\",\"\",SUMIFS(Catchment!$Y$5:$Y$300,Catchment!$D$5:$D$300,\"RIDOT\",Catchment!$K$5:$K$300,A83))","v":""},{"$f":"IF(A83=\"\",\"\",VLOOKUP(A83,'Structural Water Quality Calcs'!$A$8:$AE$149,15,0)*100)","v":""},{"$f":"IF(A83=\"\",\"\",VLOOKUP(A83,'Structural Water Quality Calcs'!$A$8:$AE$149,16,0))","v":""},{"$f":"IF(A83=\"\",\"\",IF(VLOOKUP(A83,'Structural Water Quality Calcs'!$A$9:$B$149,2,0)=\"Limited ROW\",R83*S83*0.1/100,R83*S83/100))","v":""},{"$f":"IF(A83=\"\",\"\",VLOOKUP(A83,'Structural Water Quality Calcs'!$A$8:$AE$149,20,0))","v":""},{"$f":"IF(A83=\"\",\"\",SUMIFS(Catchment!$AA$5:$AA$300,Catchment!$D$5:$D$300,\"RIDOT\",Catchment!$K$5:$K$300,A83))","v":""},{"$f":"IF(A83=\"\",\"\",VLOOKUP(A83,'Structural Water Quality Calcs'!$A$8:$AE$149,21,0)*100)","v":""},{"$f":"IF(A83=\"\",\"\",VLOOKUP(A83,'Structural Water Quality Calcs'!$A$8:$AE$149,22,0))","v":""},{"$f":"IF(A83=\"\",\"\",IF(VLOOKUP(A83,'Structural Water Quality Calcs'!$A$9:$B$149,2,0)=\"Limited ROW\",W83*X83*0.1/100,W83*X83/100))","v":""},{"$f":"IF(A83=\"\",\"\",VLOOKUP(A83,'Structural Water Quality Calcs'!$A$8:$AE$149,29,0))","v":""},{"$f":"IF(A83=\"\",\"\",IF(VLOOKUP(A83,'Structural Water Quality Calcs'!$A$9:$B$149,2,0)=\"Limited ROW\",VLOOKUP(A83,'Structural Water Quality Calcs'!$A$8:$AE$149,28,0)*F83*0.1/43560,VLOOKUP(A83,'Structural Water Quality Calcs'!$A$8:$AE$149,28,0)*F83/43560))","v":""},{"$f":"IF(A83=\"\",\"\",VLOOKUP(A83,'Structural Water Quality Calcs'!$A$8:$AE$149,28,0)*100)","v":""},{"$f":"IF(A83=\"\",\"\",VLOOKUP(A83,'Structural Water Quality Calcs'!$A$8:$AE$149,31,0))","v":""},{"$f":"IF(A83=\"\",\"\",VLOOKUP(A83,'Structural Water Quality Calcs'!$A$8:$AE$149,26,0))","v":""},{"$f":"IF(A83=\"\",\"\",VLOOKUP(A83,'Structural Water Quality Calcs'!$A$8:$AE$149,27,0))","v":""},{"$f":"IF(A83=\"\",\"\",(VLOOKUP(A83,'Structural Water Quality Calcs'!$A$8:$AE$149,25,0)))","v":""},{"$f":"IF(A83=\"\",\"\",VLOOKUP(A83,'Structural Water Quality Calcs'!$A$8:$AE$149,24,0))","v":""},{"$f":"IF(A83=\"\",\"\",VLOOKUP(A83,STU_Cost!$A$5:$G$150,4,0))","v":""},{"$f":"IF(A83=\"\",\"\",VLOOKUP(A83,STU_Cost!$A$5:$G$150,5,0))","v":""},{"$f":"IF(A83=\"\",\"\",VLOOKUP(A83,STU_Cost!$A$5:$G$150,6,0))","v":""},{"$f":"IF(A83=\"\",\"\",VLOOKUP(A83,STU_Cost!$A$5:$G$150,7,0))","v":""},null,null,{"$f":"IF(A83=\"\",\"\",VLOOKUP(A83,STU!$A$5:$E$300,5,0))","v":""}]
[null,{"$f":"IF(A84=\"\",\"\",VLOOKUP(A84,'Structural Water Quality Calcs'!$A$9:$F$79,6,0))","v":""},{"$f":"IF(A84=\"\",\"\",VLOOKUP(A84,'Structural Water Quality Calcs'!$A$8:$AE$149,3,0))","v":""},{"$f":"IF(A84=\"\",\"\",SUMIFS(Catchment!$V$5:$V$300,Catchment!$D$5:$D$300,\"RIDOT\",Catchment!$K$5:$K$300,A84))","v":""},{"$f":"IF(A84=\"\",\"\",VLOOKUP(A84,'Structural Water Quality Calcs'!$A$8:$AE$149,4,0))","v":""},{"$f":"IF(A84=\"\",\"\",SUMIFS(Catchment!$L$5:$L$300,Catchment!$D$5:$D$300,\"RIDOT\",Catchment!$K$5:$K$300,A84))","v":""},{"$f":"IF(A84=\"\",\"\",VLOOKUP(A84, 'Structural Water Quality Calcs'!$A$8:$AE$149,11,0))","v":""},{"$f":"IF(A84=\"\",\"\",SUMIFS(Catchment!$X$5:$X$300,Catchment!$D$5:$D$300,\"RIDOT\",Catchment!$K$5:$K$300,A84))","v":""},{"$f":"IF(A84=\"\",\"\",VLOOKUP(A84,'Structural Water Quality Calcs'!$A$8:$AE$149,12,0)*100)","v":""},{"$f":"IF(A84=\"\",\"\",VLOOKUP(A84,'Structural Water Quality Calcs'!$A$8:$AE$149,13,0))","v":""},{"$f":"IF(A84=\"\",\"\",IF(VLOOKUP(A84,'Structural Water Quality Calcs'!$A$9:$B$149,2,0)=\"Limited ROW\",H84*I84*0.1/100,H84*I84/100))","v":""},{"$f":"IF(A84=\"\",\"\",VLOOKUP(A84,'Structural Water Quality Calcs'!$A$8:$AE$149,17,0))","v":""},{"$f":"IF(A84=\"\",\"\",SUMIFS(Catchment!$Z$5:$Z$300,Catchment!$D$5:$D$300,\"RIDOT\",Catchment!$K$5:$K$300,A84))","v":""},{"$f":"IF(A84=\"\",\"\",VLOOKUP(A84,'Structural Water Quality Calcs'!$A$8:$AE$149,18,0)*100)","v":""},{"$f":"IF(A84=\"\",\"\",VLOOKUP(A84,'Structural Water Quality Calcs'!$A$8:$AE$149,19,0))","v":""},{"$f":"IF(A84=\"\",\"\",IF(VLOOKUP(A84,'Structural Water Quality Calcs'!$A$9:$B$149,2,0)=\"Limited ROW\",M84*N84*0.1/100,M84*N84/100))","v":""},{"$f":"IF(A84=\"\",\"\",VLOOKUP(A84,'Structural Water Quality Calcs'!$A$8:$AE$149,14,0))","v":""},{"$f":"IF(A84=\"\",\"\",SUMIFS(Catchment!$Y$5:$Y$300,Catchment!$D$5:$D$300,\"RIDOT\",Catchment!$K$5:$K$300,A84))","v":""},{"$f":"IF(A84=\"\",\"\",VLOOKUP(A84,'Structural Water Quality Calcs'!$A$8:$AE$149,15,0)*100)","v":""},{"$f":"IF(A84=\"\",\"\",VLOOKUP(A84,'Structural Water Quality Calcs'!$A$8:$AE$149,16,0))","v":""},{"$f":"IF(A84=\"\",\"\",IF(VLOOKUP(A84,'Structural Water Quality Calcs'!$A$9:$B$149,2,0)=\"Limited ROW\",R84*S84*0.1/100,R84*S84/100))","v":""},{"$f":"IF(A84=\"\",\"\",VLOOKUP(A84,'Structural Water Quality Calcs'!$A$8:$AE$149,20,0))","v":""},{"$f":"IF(A84=\"\",\"\",SUMIFS(Catchment!$AA$5:$AA$300,Catchment!$D$5:$D$300,\"RIDOT\",Catchment!$K$5:$K$300,A84))","v":""},{"$f":"IF(A84=\"\",\"\",VLOOKUP(A84,'Structural Water Quality Calcs'!$A$8:$AE$149,21,0)*100)","v":""},{"$f":"IF(A84=\"\",\"\",VLOOKUP(A84,'Structural Water Quality Calcs'!$A$8:$AE$149,22,0))","v":""},{"$f":"IF(A84=\"\",\"\",IF(VLOOKUP(A84,'Structural Water Quality Calcs'!$A$9:$B$149,2,0)=\"Limited ROW\",W84*X84*0.1/100,W84*X84/100))","v":""},{"$f":"IF(A84=\"\",\"\",VLOOKUP(A84,'Structural Water Quality Calcs'!$A$8:$AE$149,29,0))","v":""},{"$f":"IF(A84=\"\",\"\",IF(VLOOKUP(A84,'Structural Water Quality Calcs'!$A$9:$B$149,2,0)=\"Limited ROW\",VLOOKUP(A84,'Structural Water Quality Calcs'!$A$8:$AE$149,28,0)*F84*0.1/43560,VLOOKUP(A84,'Structural Water Quality Calcs'!$A$8:$AE$149,28,0)*F84/43560))","v":""},{"$f":"IF(A84=\"\",\"\",VLOOKUP(A84,'Structural Water Quality Calcs'!$A$8:$AE$149,28,0)*100)","v":""},{"$f":"IF(A84=\"\",\"\",VLOOKUP(A84,'Structural Water Quality Calcs'!$A$8:$AE$149,31,0))","v":""},{"$f":"IF(A84=\"\",\"\",VLOOKUP(A84,'Structural Water Quality Calcs'!$A$8:$AE$149,26,0))","v":""},{"$f":"IF(A84=\"\",\"\",VLOOKUP(A84,'Structural Water Quality Calcs'!$A$8:$AE$149,27,0))","v":""},{"$f":"IF(A84=\"\",\"\",(VLOOKUP(A84,'Structural Water Quality Calcs'!$A$8:$AE$149,25,0)))","v":""},{"$f":"IF(A84=\"\",\"\",VLOOKUP(A84,'Structural Water Quality Calcs'!$A$8:$AE$149,24,0))","v":""},{"$f":"IF(A84=\"\",\"\",VLOOKUP(A84,STU_Cost!$A$5:$G$150,4,0))","v":""},{"$f":"IF(A84=\"\",\"\",VLOOKUP(A84,STU_Cost!$A$5:$G$150,5,0))","v":""},{"$f":"IF(A84=\"\",\"\",VLOOKUP(A84,STU_Cost!$A$5:$G$150,6,0))","v":""},{"$f":"IF(A84=\"\",\"\",VLOOKUP(A84,STU_Cost!$A$5:$G$150,7,0))","v":""},null,null,{"$f":"IF(A84=\"\",\"\",VLOOKUP(A84,STU!$A$5:$E$300,5,0))","v":""}]
[null,{"$f":"IF(A85=\"\",\"\",VLOOKUP(A85,'Structural Water Quality Calcs'!$A$9:$F$79,6,0))","v":""},{"$f":"IF(A85=\"\",\"\",VLOOKUP(A85,'Structural Water Quality Calcs'!$A$8:$AE$149,3,0))","v":""},{"$f":"IF(A85=\"\",\"\",SUMIFS(Catchment!$V$5:$V$300,Catchment!$D$5:$D$300,\"RIDOT\",Catchment!$K$5:$K$300,A85))","v":""},{"$f":"IF(A85=\"\",\"\",VLOOKUP(A85,'Structural Water Quality Calcs'!$A$8:$AE$149,4,0))","v":""},{"$f":"IF(A85=\"\",\"\",SUMIFS(Catchment!$L$5:$L$300,Catchment!$D$5:$D$300,\"RIDOT\",Catchment!$K$5:$K$300,A85))","v":""},{"$f":"IF(A85=\"\",\"\",VLOOKUP(A85, 'Structural Water Quality Calcs'!$A$8:$AE$149,11,0))","v":""},{"$f":"IF(A85=\"\",\"\",SUMIFS(Catchment!$X$5:$X$300,Catchment!$D$5:$D$300,\"RIDOT\",Catchment!$K$5:$K$300,A85))","v":""},{"$f":"IF(A85=\"\",\"\",VLOOKUP(A85,'Structural Water Quality Calcs'!$A$8:$AE$149,12,0)*100)","v":""},{"$f":"IF(A85=\"\",\"\",VLOOKUP(A85,'Structural Water Quality Calcs'!$A$8:$AE$149,13,0))","v":""},{"$f":"IF(A85=\"\",\"\",IF(VLOOKUP(A85,'Structural Water Quality Calcs'!$A$9:$B$149,2,0)=\"Limited ROW\",H85*I85*0.1/100,H85*I85/100))","v":""},{"$f":"IF(A85=\"\",\"\",VLOOKUP(A85,'Structural Water Quality Calcs'!$A$8:$AE$149,17,0))","v":""},{"$f":"IF(A85=\"\",\"\",SUMIFS(Catchment!$Z$5:$Z$300,Catchment!$D$5:$D$300,\"RIDOT\",Catchment!$K$5:$K$300,A85))","v":""},{"$f":"IF(A85=\"\",\"\",VLOOKUP(A85,'Structural Water Quality Calcs'!$A$8:$AE$149,18,0)*100)","v":""},{"$f":"IF(A85=\"\",\"\",VLOOKUP(A85,'Structural Water Quality Calcs'!$A$8:$AE$149,19,0))","v":""},{"$f":"IF(A85=\"\",\"\",IF(VLOOKUP(A85,'Structural Water Quality Calcs'!$A$9:$B$149,2,0)=\"Limited ROW\",M85*N85*0.1/100,M85*N85/100))","v":""},{"$f":"IF(A85=\"\",\"\",VLOOKUP(A85,'Structural Water Quality Calcs'!$A$8:$AE$149,14,0))","v":""},{"$f":"IF(A85=\"\",\"\",SUMIFS(Catchment!$Y$5:$Y$300,Catchment!$D$5:$D$300,\"RIDOT\",Catchment!$K$5:$K$300,A85))","v":""},{"$f":"IF(A85=\"\",\"\",VLOOKUP(A85,'Structural Water Quality Calcs'!$A$8:$AE$149,15,0)*100)","v":""},{"$f":"IF(A85=\"\",\"\",VLOOKUP(A85,'Structural Water Quality Calcs'!$A$8:$AE$149,16,0))","v":""},{"$f":"IF(A85=\"\",\"\",IF(VLOOKUP(A85,'Structural Water Quality Calcs'!$A$9:$B$149,2,0)=\"Limited ROW\",R85*S85*0.1/100,R85*S85/100))","v":""},{"$f":"IF(A85=\"\",\"\",VLOOKUP(A85,'Structural Water Quality Calcs'!$A$8:$AE$149,20,0))","v":""},{"$f":"IF(A85=\"\",\"\",SUMIFS(Catchment!$AA$5:$AA$300,Catchment!$D$5:$D$300,\"RIDOT\",Catchment!$K$5:$K$300,A85))","v":""},{"$f":"IF(A85=\"\",\"\",VLOOKUP(A85,'Structural Water Quality Calcs'!$A$8:$AE$149,21,0)*100)","v":""},{"$f":"IF(A85=\"\",\"\",VLOOKUP(A85,'Structural Water Quality Calcs'!$A$8:$AE$149,22,0))","v":""},{"$f":"IF(A85=\"\",\"\",IF(VLOOKUP(A85,'Structural Water Quality Calcs'!$A$9:$B$149,2,0)=\"Limited ROW\",W85*X85*0.1/100,W85*X85/100))","v":""},{"$f":"IF(A85=\"\",\"\",VLOOKUP(A85,'Structural Water Quality Calcs'!$A$8:$AE$149,29,0))","v":""},{"$f":"IF(A85=\"\",\"\",IF(VLOOKUP(A85,'Structural Water Quality Calcs'!$A$9:$B$149,2,0)=\"Limited ROW\",VLOOKUP(A85,'Structural Water Quality Calcs'!$A$8:$AE$149,28,0)*F85*0.1/43560,VLOOKUP(A85,'Structural Water Quality Calcs'!$A$8:$AE$149,28,0)*F85/43560))","v":""},{"$f":"IF(A85=\"\",\"\",VLOOKUP(A85,'Structural Water Quality Calcs'!$A$8:$AE$149,28,0)*100)","v":""},{"$f":"IF(A85=\"\",\"\",VLOOKUP(A85,'Structural Water Quality Calcs'!$A$8:$AE$149,31,0))","v":""},{"$f":"IF(A85=\"\",\"\",VLOOKUP(A85,'Structural Water Quality Calcs'!$A$8:$AE$149,26,0))","v":""},{"$f":"IF(A85=\"\",\"\",VLOOKUP(A85,'Structural Water Quality Calcs'!$A$8:$AE$149,27,0))","v":""},{"$f":"IF(A85=\"\",\"\",(VLOOKUP(A85,'Structural Water Quality Calcs'!$A$8:$AE$149,25,0)))","v":""},{"$f":"IF(A85=\"\",\"\",VLOOKUP(A85,'Structural Water Quality Calcs'!$A$8:$AE$149,24,0))","v":""},{"$f":"IF(A85=\"\",\"\",VLOOKUP(A85,STU_Cost!$A$5:$G$150,4,0))","v":""},{"$f":"IF(A85=\"\",\"\",VLOOKUP(A85,STU_Cost!$A$5:$G$150,5,0))","v":""},{"$f":"IF(A85=\"\",\"\",VLOOKUP(A85,STU_Cost!$A$5:$G$150,6,0))","v":""},{"$f":"IF(A85=\"\",\"\",VLOOKUP(A85,STU_Cost!$A$5:$G$150,7,0))","v":""},null,null,{"$f":"IF(A85=\"\",\"\",VLOOKUP(A85,STU!$A$5:$E$300,5,0))","v":""}]
[null,{"$f":"IF(A86=\"\",\"\",VLOOKUP(A86,'Structural Water Quality Calcs'!$A$9:$F$79,6,0))","v":""},{"$f":"IF(A86=\"\",\"\",VLOOKUP(A86,'Structural Water Quality Calcs'!$A$8:$AE$149,3,0))","v":""},{"$f":"IF(A86=\"\",\"\",SUMIFS(Catchment!$V$5:$V$300,Catchment!$D$5:$D$300,\"RIDOT\",Catchment!$K$5:$K$300,A86))","v":""},{"$f":"IF(A86=\"\",\"\",VLOOKUP(A86,'Structural Water Quality Calcs'!$A$8:$AE$149,4,0))","v":""},{"$f":"IF(A86=\"\",\"\",SUMIFS(Catchment!$L$5:$L$300,Catchment!$D$5:$D$300,\"RIDOT\",Catchment!$K$5:$K$300,A86))","v":""},{"$f":"IF(A86=\"\",\"\",VLOOKUP(A86, 'Structural Water Quality Calcs'!$A$8:$AE$149,11,0))","v":""},{"$f":"IF(A86=\"\",\"\",SUMIFS(Catchment!$X$5:$X$300,Catchment!$D$5:$D$300,\"RIDOT\",Catchment!$K$5:$K$300,A86))","v":""},{"$f":"IF(A86=\"\",\"\",VLOOKUP(A86,'Structural Water Quality Calcs'!$A$8:$AE$149,12,0)*100)","v":""},{"$f":"IF(A86=\"\",\"\",VLOOKUP(A86,'Structural Water Quality Calcs'!$A$8:$AE$149,13,0))","v":""},{"$f":"IF(A86=\"\",\"\",IF(VLOOKUP(A86,'Structural Water Quality Calcs'!$A$9:$B$149,2,0)=\"Limited ROW\",H86*I86*0.1/100,H86*I86/100))","v":""},{"$f":"IF(A86=\"\",\"\",VLOOKUP(A86,'Structural Water Quality Calcs'!$A$8:$AE$149,17,0))","v":""},{"$f":"IF(A86=\"\",\"\",SUMIFS(Catchment!$Z$5:$Z$300,Catchment!$D$5:$D$300,\"RIDOT\",Catchment!$K$5:$K$300,A86))","v":""},{"$f":"IF(A86=\"\",\"\",VLOOKUP(A86,'Structural Water Quality Calcs'!$A$8:$AE$149,18,0)*100)","v":""},{"$f":"IF(A86=\"\",\"\",VLOOKUP(A86,'Structural Water Quality Calcs'!$A$8:$AE$149,19,0))","v":""},{"$f":"IF(A86=\"\",\"\",IF(VLOOKUP(A86,'Structural Water Quality Calcs'!$A$9:$B$149,2,0)=\"Limited ROW\",M86*N86*0.1/100,M86*N86/100))","v":""},{"$f":"IF(A86=\"\",\"\",VLOOKUP(A86,'Structural Water Quality Calcs'!$A$8:$AE$149,14,0))","v":""},{"$f":"IF(A86=\"\",\"\",SUMIFS(Catchment!$Y$5:$Y$300,Catchment!$D$5:$D$300,\"RIDOT\",Catchment!$K$5:$K$300,A86))","v":""},{"$f":"IF(A86=\"\",\"\",VLOOKUP(A86,'Structural Water Quality Calcs'!$A$8:$AE$149,15,0)*100)","v":""},{"$f":"IF(A86=\"\",\"\",VLOOKUP(A86,'Structural Water Quality Calcs'!$A$8:$AE$149,16,0))","v":""},{"$f":"IF(A86=\"\",\"\",IF(VLOOKUP(A86,'Structural Water Quality Calcs'!$A$9:$B$149,2,0)=\"Limited ROW\",R86*S86*0.1/100,R86*S86/100))","v":""},{"$f":"IF(A86=\"\",\"\",VLOOKUP(A86,'Structural Water Quality Calcs'!$A$8:$AE$149,20,0))","v":""},{"$f":"IF(A86=\"\",\"\",SUMIFS(Catchment!$AA$5:$AA$300,Catchment!$D$5:$D$300,\"RIDOT\",Catchment!$K$5:$K$300,A86))","v":""},{"$f":"IF(A86=\"\",\"\",VLOOKUP(A86,'Structural Water Quality Calcs'!$A$8:$AE$149,21,0)*100)","v":""},{"$f":"IF(A86=\"\",\"\",VLOOKUP(A86,'Structural Water Quality Calcs'!$A$8:$AE$149,22,0))","v":""},{"$f":"IF(A86=\"\",\"\",IF(VLOOKUP(A86,'Structural Water Quality Calcs'!$A$9:$B$149,2,0)=\"Limited ROW\",W86*X86*0.1/100,W86*X86/100))","v":""},{"$f":"IF(A86=\"\",\"\",VLOOKUP(A86,'Structural Water Quality Calcs'!$A$8:$AE$149,29,0))","v":""},{"$f":"IF(A86=\"\",\"\",IF(VLOOKUP(A86,'Structural Water Quality Calcs'!$A$9:$B$149,2,0)=\"Limited ROW\",VLOOKUP(A86,'Structural Water Quality Calcs'!$A$8:$AE$149,28,0)*F86*0.1/43560,VLOOKUP(A86,'Structural Water Quality Calcs'!$A$8:$AE$149,28,0)*F86/43560))","v":""},{"$f":"IF(A86=\"\",\"\",VLOOKUP(A86,'Structural Water Quality Calcs'!$A$8:$AE$149,28,0)*100)","v":""},{"$f":"IF(A86=\"\",\"\",VLOOKUP(A86,'Structural Water Quality Calcs'!$A$8:$AE$149,31,0))","v":""},{"$f":"IF(A86=\"\",\"\",VLOOKUP(A86,'Structural Water Quality Calcs'!$A$8:$AE$149,26,0))","v":""},{"$f":"IF(A86=\"\",\"\",VLOOKUP(A86,'Structural Water Quality Calcs'!$A$8:$AE$149,27,0))","v":""},{"$f":"IF(A86=\"\",\"\",(VLOOKUP(A86,'Structural Water Quality Calcs'!$A$8:$AE$149,25,0)))","v":""},{"$f":"IF(A86=\"\",\"\",VLOOKUP(A86,'Structural Water Quality Calcs'!$A$8:$AE$149,24,0))","v":""},{"$f":"IF(A86=\"\",\"\",VLOOKUP(A86,STU_Cost!$A$5:$G$150,4,0))","v":""},{"$f":"IF(A86=\"\",\"\",VLOOKUP(A86,STU_Cost!$A$5:$G$150,5,0))","v":""},{"$f":"IF(A86=\"\",\"\",VLOOKUP(A86,STU_Cost!$A$5:$G$150,6,0))","v":""},{"$f":"IF(A86=\"\",\"\",VLOOKUP(A86,STU_Cost!$A$5:$G$150,7,0))","v":""},null,null,{"$f":"IF(A86=\"\",\"\",VLOOKUP(A86,STU!$A$5:$E$300,5,0))","v":""}]
[null,{"$f":"IF(A87=\"\",\"\",VLOOKUP(A87,'Structural Water Quality Calcs'!$A$9:$F$79,6,0))","v":""},{"$f":"IF(A87=\"\",\"\",VLOOKUP(A87,'Structural Water Quality Calcs'!$A$8:$AE$149,3,0))","v":""},{"$f":"IF(A87=\"\",\"\",SUMIFS(Catchment!$V$5:$V$300,Catchment!$D$5:$D$300,\"RIDOT\",Catchment!$K$5:$K$300,A87))","v":""},{"$f":"IF(A87=\"\",\"\",VLOOKUP(A87,'Structural Water Quality Calcs'!$A$8:$AE$149,4,0))","v":""},{"$f":"IF(A87=\"\",\"\",SUMIFS(Catchment!$L$5:$L$300,Catchment!$D$5:$D$300,\"RIDOT\",Catchment!$K$5:$K$300,A87))","v":""},{"$f":"IF(A87=\"\",\"\",VLOOKUP(A87, 'Structural Water Quality Calcs'!$A$8:$AE$149,11,0))","v":""},{"$f":"IF(A87=\"\",\"\",SUMIFS(Catchment!$X$5:$X$300,Catchment!$D$5:$D$300,\"RIDOT\",Catchment!$K$5:$K$300,A87))","v":""},{"$f":"IF(A87=\"\",\"\",VLOOKUP(A87,'Structural Water Quality Calcs'!$A$8:$AE$149,12,0)*100)","v":""},{"$f":"IF(A87=\"\",\"\",VLOOKUP(A87,'Structural Water Quality Calcs'!$A$8:$AE$149,13,0))","v":""},{"$f":"IF(A87=\"\",\"\",IF(VLOOKUP(A87,'Structural Water Quality Calcs'!$A$9:$B$149,2,0)=\"Limited ROW\",H87*I87*0.1/100,H87*I87/100))","v":""},{"$f":"IF(A87=\"\",\"\",VLOOKUP(A87,'Structural Water Quality Calcs'!$A$8:$AE$149,17,0))","v":""},{"$f":"IF(A87=\"\",\"\",SUMIFS(Catchment!$Z$5:$Z$300,Catchment!$D$5:$D$300,\"RIDOT\",Catchment!$K$5:$K$300,A87))","v":""},{"$f":"IF(A87=\"\",\"\",VLOOKUP(A87,'Structural Water Quality Calcs'!$A$8:$AE$149,18,0)*100)","v":""},{"$f":"IF(A87=\"\",\"\",VLOOKUP(A87,'Structural Water Quality Calcs'!$A$8:$AE$149,19,0))","v":""},{"$f":"IF(A87=\"\",\"\",IF(VLOOKUP(A87,'Structural Water Quality Calcs'!$A$9:$B$149,2,0)=\"Limited ROW\",M87*N87*0.1/100,M87*N87/100))","v":""},{"$f":"IF(A87=\"\",\"\",VLOOKUP(A87,'Structural Water Quality Calcs'!$A$8:$AE$149,14,0))","v":""},{"$f":"IF(A87=\"\",\"\",SUMIFS(Catchment!$Y$5:$Y$300,Catchment!$D$5:$D$300,\"RIDOT\",Catchment!$K$5:$K$300,A87))","v":""},{"$f":"IF(A87=\"\",\"\",VLOOKUP(A87,'Structural Water Quality Calcs'!$A$8:$AE$149,15,0)*100)","v":""},{"$f":"IF(A87=\"\",\"\",VLOOKUP(A87,'Structural Water Quality Calcs'!$A$8:$AE$149,16,0))","v":""},{"$f":"IF(A87=\"\",\"\",IF(VLOOKUP(A87,'Structural Water Quality Calcs'!$A$9:$B$149,2,0)=\"Limited ROW\",R87*S87*0.1/100,R87*S87/100))","v":""},{"$f":"IF(A87=\"\",\"\",VLOOKUP(A87,'Structural Water Quality Calcs'!$A$8:$AE$149,20,0))","v":""},{"$f":"IF(A87=\"\",\"\",SUMIFS(Catchment!$AA$5:$AA$300,Catchment!$D$5:$D$300,\"RIDOT\",Catchment!$K$5:$K$300,A87))","v":""},{"$f":"IF(A87=\"\",\"\",VLOOKUP(A87,'Structural Water Quality Calcs'!$A$8:$AE$149,21,0)*100)","v":""},{"$f":"IF(A87=\"\",\"\",VLOOKUP(A87,'Structural Water Quality Calcs'!$A$8:$AE$149,22,0))","v":""},{"$f":"IF(A87=\"\",\"\",IF(VLOOKUP(A87,'Structural Water Quality Calcs'!$A$9:$B$149,2,0)=\"Limited ROW\",W87*X87*0.1/100,W87*X87/100))","v":""},{"$f":"IF(A87=\"\",\"\",VLOOKUP(A87,'Structural Water Quality Calcs'!$A$8:$AE$149,29,0))","v":""},{"$f":"IF(A87=\"\",\"\",IF(VLOOKUP(A87,'Structural Water Quality Calcs'!$A$9:$B$149,2,0)=\"Limited ROW\",VLOOKUP(A87,'Structural Water Quality Calcs'!$A$8:$AE$149,28,0)*F87*0.1/43560,VLOOKUP(A87,'Structural Water Quality Calcs'!$A$8:$AE$149,28,0)*F87/43560))","v":""},{"$f":"IF(A87=\"\",\"\",VLOOKUP(A87,'Structural Water Quality Calcs'!$A$8:$AE$149,28,0)*100)","v":""},{"$f":"IF(A87=\"\",\"\",VLOOKUP(A87,'Structural Water Quality Calcs'!$A$8:$AE$149,31,0))","v":""},{"$f":"IF(A87=\"\",\"\",VLOOKUP(A87,'Structural Water Quality Calcs'!$A$8:$AE$149,26,0))","v":""},{"$f":"IF(A87=\"\",\"\",VLOOKUP(A87,'Structural Water Quality Calcs'!$A$8:$AE$149,27,0))","v":""},{"$f":"IF(A87=\"\",\"\",(VLOOKUP(A87,'Structural Water Quality Calcs'!$A$8:$AE$149,25,0)))","v":""},{"$f":"IF(A87=\"\",\"\",VLOOKUP(A87,'Structural Water Quality Calcs'!$A$8:$AE$149,24,0))","v":""},{"$f":"IF(A87=\"\",\"\",VLOOKUP(A87,STU_Cost!$A$5:$G$150,4,0))","v":""},{"$f":"IF(A87=\"\",\"\",VLOOKUP(A87,STU_Cost!$A$5:$G$150,5,0))","v":""},{"$f":"IF(A87=\"\",\"\",VLOOKUP(A87,STU_Cost!$A$5:$G$150,6,0))","v":""},{"$f":"IF(A87=\"\",\"\",VLOOKUP(A87,STU_Cost!$A$5:$G$150,7,0))","v":""},null,null,{"$f":"IF(A87=\"\",\"\",VLOOKUP(A87,STU!$A$5:$E$300,5,0))","v":""}]
[null,{"$f":"IF(A88=\"\",\"\",VLOOKUP(A88,'Structural Water Quality Calcs'!$A$9:$F$79,6,0))","v":""},{"$f":"IF(A88=\"\",\"\",VLOOKUP(A88,'Structural Water Quality Calcs'!$A$8:$AE$149,3,0))","v":""},{"$f":"IF(A88=\"\",\"\",SUMIFS(Catchment!$V$5:$V$300,Catchment!$D$5:$D$300,\"RIDOT\",Catchment!$K$5:$K$300,A88))","v":""},{"$f":"IF(A88=\"\",\"\",VLOOKUP(A88,'Structural Water Quality Calcs'!$A$8:$AE$149,4,0))","v":""},{"$f":"IF(A88=\"\",\"\",SUMIFS(Catchment!$L$5:$L$300,Catchment!$D$5:$D$300,\"RIDOT\",Catchment!$K$5:$K$300,A88))","v":""},{"$f":"IF(A88=\"\",\"\",VLOOKUP(A88, 'Structural Water Quality Calcs'!$A$8:$AE$149,11,0))","v":""},{"$f":"IF(A88=\"\",\"\",SUMIFS(Catchment!$X$5:$X$300,Catchment!$D$5:$D$300,\"RIDOT\",Catchment!$K$5:$K$300,A88))","v":""},{"$f":"IF(A88=\"\",\"\",VLOOKUP(A88,'Structural Water Quality Calcs'!$A$8:$AE$149,12,0)*100)","v":""},{"$f":"IF(A88=\"\",\"\",VLOOKUP(A88,'Structural Water Quality Calcs'!$A$8:$AE$149,13,0))","v":""},{"$f":"IF(A88=\"\",\"\",IF(VLOOKUP(A88,'Structural Water Quality Calcs'!$A$9:$B$149,2,0)=\"Limited ROW\",H88*I88*0.1/100,H88*I88/100))","v":""},{"$f":"IF(A88=\"\",\"\",VLOOKUP(A88,'Structural Water Quality Calcs'!$A$8:$AE$149,17,0))","v":""},{"$f":"IF(A88=\"\",\"\",SUMIFS(Catchment!$Z$5:$Z$300,Catchment!$D$5:$D$300,\"RIDOT\",Catchment!$K$5:$K$300,A88))","v":""},{"$f":"IF(A88=\"\",\"\",VLOOKUP(A88,'Structural Water Quality Calcs'!$A$8:$AE$149,18,0)*100)","v":""},{"$f":"IF(A88=\"\",\"\",VLOOKUP(A88,'Structural Water Quality Calcs'!$A$8:$AE$149,19,0))","v":""},{"$f":"IF(A88=\"\",\"\",IF(VLOOKUP(A88,'Structural Water Quality Calcs'!$A$9:$B$149,2,0)=\"Limited ROW\",M88*N88*0.1/100,M88*N88/100))","v":""},{"$f":"IF(A88=\"\",\"\",VLOOKUP(A88,'Structural Water Quality Calcs'!$A$8:$AE$149,14,0))","v":""},{"$f":"IF(A88=\"\",\"\",SUMIFS(Catchment!$Y$5:$Y$300,Catchment!$D$5:$D$300,\"RIDOT\",Catchment!$K$5:$K$300,A88))","v":""},{"$f":"IF(A88=\"\",\"\",VLOOKUP(A88,'Structural Water Quality Calcs'!$A$8:$AE$149,15,0)*100)","v":""},{"$f":"IF(A88=\"\",\"\",VLOOKUP(A88,'Structural Water Quality Calcs'!$A$8:$AE$149,16,0))","v":""},{"$f":"IF(A88=\"\",\"\",IF(VLOOKUP(A88,'Structural Water Quality Calcs'!$A$9:$B$149,2,0)=\"Limited ROW\",R88*S88*0.1/100,R88*S88/100))","v":""},{"$f":"IF(A88=\"\",\"\",VLOOKUP(A88,'Structural Water Quality Calcs'!$A$8:$AE$149,20,0))","v":""},{"$f":"IF(A88=\"\",\"\",SUMIFS(Catchment!$AA$5:$AA$300,Catchment!$D$5:$D$300,\"RIDOT\",Catchment!$K$5:$K$300,A88))","v":""},{"$f":"IF(A88=\"\",\"\",VLOOKUP(A88,'Structural Water Quality Calcs'!$A$8:$AE$149,21,0)*100)","v":""},{"$f":"IF(A88=\"\",\"\",VLOOKUP(A88,'Structural Water Quality Calcs'!$A$8:$AE$149,22,0))","v":""},{"$f":"IF(A88=\"\",\"\",IF(VLOOKUP(A88,'Structural Water Quality Calcs'!$A$9:$B$149,2,0)=\"Limited ROW\",W88*X88*0.1/100,W88*X88/100))","v":""},{"$f":"IF(A88=\"\",\"\",VLOOKUP(A88,'Structural Water Quality Calcs'!$A$8:$AE$149,29,0))","v":""},{"$f":"IF(A88=\"\",\"\",IF(VLOOKUP(A88,'Structural Water Quality Calcs'!$A$9:$B$149,2,0)=\"Limited ROW\",VLOOKUP(A88,'Structural Water Quality Calcs'!$A$8:$AE$149,28,0)*F88*0.1/43560,VLOOKUP(A88,'Structural Water Quality Calcs'!$A$8:$AE$149,28,0)*F88/43560))","v":""},{"$f":"IF(A88=\"\",\"\",VLOOKUP(A88,'Structural Water Quality Calcs'!$A$8:$AE$149,28,0)*100)","v":""},{"$f":"IF(A88=\"\",\"\",VLOOKUP(A88,'Structural Water Quality Calcs'!$A$8:$AE$149,31,0))","v":""},{"$f":"IF(A88=\"\",\"\",VLOOKUP(A88,'Structural Water Quality Calcs'!$A$8:$AE$149,26,0))","v":""},{"$f":"IF(A88=\"\",\"\",VLOOKUP(A88,'Structural Water Quality Calcs'!$A$8:$AE$149,27,0))","v":""},{"$f":"IF(A88=\"\",\"\",(VLOOKUP(A88,'Structural Water Quality Calcs'!$A$8:$AE$149,25,0)))","v":""},{"$f":"IF(A88=\"\",\"\",VLOOKUP(A88,'Structural Water Quality Calcs'!$A$8:$AE$149,24,0))","v":""},{"$f":"IF(A88=\"\",\"\",VLOOKUP(A88,STU_Cost!$A$5:$G$150,4,0))","v":""},{"$f":"IF(A88=\"\",\"\",VLOOKUP(A88,STU_Cost!$A$5:$G$150,5,0))","v":""},{"$f":"IF(A88=\"\",\"\",VLOOKUP(A88,STU_Cost!$A$5:$G$150,6,0))","v":""},{"$f":"IF(A88=\"\",\"\",VLOOKUP(A88,STU_Cost!$A$5:$G$150,7,0))","v":""},null,null,{"$f":"IF(A88=\"\",\"\",VLOOKUP(A88,STU!$A$5:$E$300,5,0))","v":""}]
[null,{"$f":"IF(A89=\"\",\"\",VLOOKUP(A89,'Structural Water Quality Calcs'!$A$9:$F$79,6,0))","v":""},{"$f":"IF(A89=\"\",\"\",VLOOKUP(A89,'Structural Water Quality Calcs'!$A$8:$AE$149,3,0))","v":""},{"$f":"IF(A89=\"\",\"\",SUMIFS(Catchment!$V$5:$V$300,Catchment!$D$5:$D$300,\"RIDOT\",Catchment!$K$5:$K$300,A89))","v":""},{"$f":"IF(A89=\"\",\"\",VLOOKUP(A89,'Structural Water Quality Calcs'!$A$8:$AE$149,4,0))","v":""},{"$f":"IF(A89=\"\",\"\",SUMIFS(Catchment!$L$5:$L$300,Catchment!$D$5:$D$300,\"RIDOT\",Catchment!$K$5:$K$300,A89))","v":""},{"$f":"IF(A89=\"\",\"\",VLOOKUP(A89, 'Structural Water Quality Calcs'!$A$8:$AE$149,11,0))","v":""},{"$f":"IF(A89=\"\",\"\",SUMIFS(Catchment!$X$5:$X$300,Catchment!$D$5:$D$300,\"RIDOT\",Catchment!$K$5:$K$300,A89))","v":""},{"$f":"IF(A89=\"\",\"\",VLOOKUP(A89,'Structural Water Quality Calcs'!$A$8:$AE$149,12,0)*100)","v":""},{"$f":"IF(A89=\"\",\"\",VLOOKUP(A89,'Structural Water Quality Calcs'!$A$8:$AE$149,13,0))","v":""},{"$f":"IF(A89=\"\",\"\",IF(VLOOKUP(A89,'Structural Water Quality Calcs'!$A$9:$B$149,2,0)=\"Limited ROW\",H89*I89*0.1/100,H89*I89/100))","v":""},{"$f":"IF(A89=\"\",\"\",VLOOKUP(A89,'Structural Water Quality Calcs'!$A$8:$AE$149,17,0))","v":""},{"$f":"IF(A89=\"\",\"\",SUMIFS(Catchment!$Z$5:$Z$300,Catchment!$D$5:$D$300,\"RIDOT\",Catchment!$K$5:$K$300,A89))","v":""},{"$f":"IF(A89=\"\",\"\",VLOOKUP(A89,'Structural Water Quality Calcs'!$A$8:$AE$149,18,0)*100)","v":""},{"$f":"IF(A89=\"\",\"\",VLOOKUP(A89,'Structural Water Quality Calcs'!$A$8:$AE$149,19,0))","v":""},{"$f":"IF(A89=\"\",\"\",IF(VLOOKUP(A89,'Structural Water Quality Calcs'!$A$9:$B$149,2,0)=\"Limited ROW\",M89*N89*0.1/100,M89*N89/100))","v":""},{"$f":"IF(A89=\"\",\"\",VLOOKUP(A89,'Structural Water Quality Calcs'!$A$8:$AE$149,14,0))","v":""},{"$f":"IF(A89=\"\",\"\",SUMIFS(Catchment!$Y$5:$Y$300,Catchment!$D$5:$D$300,\"RIDOT\",Catchment!$K$5:$K$300,A89))","v":""},{"$f":"IF(A89=\"\",\"\",VLOOKUP(A89,'Structural Water Quality Calcs'!$A$8:$AE$149,15,0)*100)","v":""},{"$f":"IF(A89=\"\",\"\",VLOOKUP(A89,'Structural Water Quality Calcs'!$A$8:$AE$149,16,0))","v":""},{"$f":"IF(A89=\"\",\"\",IF(VLOOKUP(A89,'Structural Water Quality Calcs'!$A$9:$B$149,2,0)=\"Limited ROW\",R89*S89*0.1/100,R89*S89/100))","v":""},{"$f":"IF(A89=\"\",\"\",VLOOKUP(A89,'Structural Water Quality Calcs'!$A$8:$AE$149,20,0))","v":""},{"$f":"IF(A89=\"\",\"\",SUMIFS(Catchment!$AA$5:$AA$300,Catchment!$D$5:$D$300,\"RIDOT\",Catchment!$K$5:$K$300,A89))","v":""},{"$f":"IF(A89=\"\",\"\",VLOOKUP(A89,'Structural Water Quality Calcs'!$A$8:$AE$149,21,0)*100)","v":""},{"$f":"IF(A89=\"\",\"\",VLOOKUP(A89,'Structural Water Quality Calcs'!$A$8:$AE$149,22,0))","v":""},{"$f":"IF(A89=\"\",\"\",IF(VLOOKUP(A89,'Structural Water Quality Calcs'!$A$9:$B$149,2,0)=\"Limited ROW\",W89*X89*0.1/100,W89*X89/100))","v":""},{"$f":"IF(A89=\"\",\"\",VLOOKUP(A89,'Structural Water Quality Calcs'!$A$8:$AE$149,29,0))","v":""},{"$f":"IF(A89=\"\",\"\",IF(VLOOKUP(A89,'Structural Water Quality Calcs'!$A$9:$B$149,2,0)=\"Limited ROW\",VLOOKUP(A89,'Structural Water Quality Calcs'!$A$8:$AE$149,28,0)*F89*0.1/43560,VLOOKUP(A89,'Structural Water Quality Calcs'!$A$8:$AE$149,28,0)*F89/43560))","v":""},{"$f":"IF(A89=\"\",\"\",VLOOKUP(A89,'Structural Water Quality Calcs'!$A$8:$AE$149,28,0)*100)","v":""},{"$f":"IF(A89=\"\",\"\",VLOOKUP(A89,'Structural Water Quality Calcs'!$A$8:$AE$149,31,0))","v":""},{"$f":"IF(A89=\"\",\"\",VLOOKUP(A89,'Structural Water Quality Calcs'!$A$8:$AE$149,26,0))","v":""},{"$f":"IF(A89=\"\",\"\",VLOOKUP(A89,'Structural Water Quality Calcs'!$A$8:$AE$149,27,0))","v":""},{"$f":"IF(A89=\"\",\"\",(VLOOKUP(A89,'Structural Water Quality Calcs'!$A$8:$AE$149,25,0)))","v":""},{"$f":"IF(A89=\"\",\"\",VLOOKUP(A89,'Structural Water Quality Calcs'!$A$8:$AE$149,24,0))","v":""},{"$f":"IF(A89=\"\",\"\",VLOOKUP(A89,STU_Cost!$A$5:$G$150,4,0))","v":""},{"$f":"IF(A89=\"\",\"\",VLOOKUP(A89,STU_Cost!$A$5:$G$150,5,0))","v":""},{"$f":"IF(A89=\"\",\"\",VLOOKUP(A89,STU_Cost!$A$5:$G$150,6,0))","v":""},{"$f":"IF(A89=\"\",\"\",VLOOKUP(A89,STU_Cost!$A$5:$G$150,7,0))","v":""},null,null,{"$f":"IF(A89=\"\",\"\",VLOOKUP(A89,STU!$A$5:$E$300,5,0))","v":""}]
[null,{"$f":"IF(A90=\"\",\"\",VLOOKUP(A90,'Structural Water Quality Calcs'!$A$9:$F$79,6,0))","v":""},{"$f":"IF(A90=\"\",\"\",VLOOKUP(A90,'Structural Water Quality Calcs'!$A$8:$AE$149,3,0))","v":""},{"$f":"IF(A90=\"\",\"\",SUMIFS(Catchment!$V$5:$V$300,Catchment!$D$5:$D$300,\"RIDOT\",Catchment!$K$5:$K$300,A90))","v":""},{"$f":"IF(A90=\"\",\"\",VLOOKUP(A90,'Structural Water Quality Calcs'!$A$8:$AE$149,4,0))","v":""},{"$f":"IF(A90=\"\",\"\",SUMIFS(Catchment!$L$5:$L$300,Catchment!$D$5:$D$300,\"RIDOT\",Catchment!$K$5:$K$300,A90))","v":""},{"$f":"IF(A90=\"\",\"\",VLOOKUP(A90, 'Structural Water Quality Calcs'!$A$8:$AE$149,11,0))","v":""},{"$f":"IF(A90=\"\",\"\",SUMIFS(Catchment!$X$5:$X$300,Catchment!$D$5:$D$300,\"RIDOT\",Catchment!$K$5:$K$300,A90))","v":""},{"$f":"IF(A90=\"\",\"\",VLOOKUP(A90,'Structural Water Quality Calcs'!$A$8:$AE$149,12,0)*100)","v":""},{"$f":"IF(A90=\"\",\"\",VLOOKUP(A90,'Structural Water Quality Calcs'!$A$8:$AE$149,13,0))","v":""},{"$f":"IF(A90=\"\",\"\",IF(VLOOKUP(A90,'Structural Water Quality Calcs'!$A$9:$B$149,2,0)=\"Limited ROW\",H90*I90*0.1/100,H90*I90/100))","v":""},{"$f":"IF(A90=\"\",\"\",VLOOKUP(A90,'Structural Water Quality Calcs'!$A$8:$AE$149,17,0))","v":""},{"$f":"IF(A90=\"\",\"\",SUMIFS(Catchment!$Z$5:$Z$300,Catchment!$D$5:$D$300,\"RIDOT\",Catchment!$K$5:$K$300,A90))","v":""},{"$f":"IF(A90=\"\",\"\",VLOOKUP(A90,'Structural Water Quality Calcs'!$A$8:$AE$149,18,0)*100)","v":""},{"$f":"IF(A90=\"\",\"\",VLOOKUP(A90,'Structural Water Quality Calcs'!$A$8:$AE$149,19,0))","v":""},{"$f":"IF(A90=\"\",\"\",IF(VLOOKUP(A90,'Structural Water Quality Calcs'!$A$9:$B$149,2,0)=\"Limited ROW\",M90*N90*0.1/100,M90*N90/100))","v":""},{"$f":"IF(A90=\"\",\"\",VLOOKUP(A90,'Structural Water Quality Calcs'!$A$8:$AE$149,14,0))","v":""},{"$f":"IF(A90=\"\",\"\",SUMIFS(Catchment!$Y$5:$Y$300,Catchment!$D$5:$D$300,\"RIDOT\",Catchment!$K$5:$K$300,A90))","v":""},{"$f":"IF(A90=\"\",\"\",VLOOKUP(A90,'Structural Water Quality Calcs'!$A$8:$AE$149,15,0)*100)","v":""},{"$f":"IF(A90=\"\",\"\",VLOOKUP(A90,'Structural Water Quality Calcs'!$A$8:$AE$149,16,0))","v":""},{"$f":"IF(A90=\"\",\"\",IF(VLOOKUP(A90,'Structural Water Quality Calcs'!$A$9:$B$149,2,0)=\"Limited ROW\",R90*S90*0.1/100,R90*S90/100))","v":""},{"$f":"IF(A90=\"\",\"\",VLOOKUP(A90,'Structural Water Quality Calcs'!$A$8:$AE$149,20,0))","v":""},{"$f":"IF(A90=\"\",\"\",SUMIFS(Catchment!$AA$5:$AA$300,Catchment!$D$5:$D$300,\"RIDOT\",Catchment!$K$5:$K$300,A90))","v":""},{"$f":"IF(A90=\"\",\"\",VLOOKUP(A90,'Structural Water Quality Calcs'!$A$8:$AE$149,21,0)*100)","v":""},{"$f":"IF(A90=\"\",\"\",VLOOKUP(A90,'Structural Water Quality Calcs'!$A$8:$AE$149,22,0))","v":""},{"$f":"IF(A90=\"\",\"\",IF(VLOOKUP(A90,'Structural Water Quality Calcs'!$A$9:$B$149,2,0)=\"Limited ROW\",W90*X90*0.1/100,W90*X90/100))","v":""},{"$f":"IF(A90=\"\",\"\",VLOOKUP(A90,'Structural Water Quality Calcs'!$A$8:$AE$149,29,0))","v":""},{"$f":"IF(A90=\"\",\"\",IF(VLOOKUP(A90,'Structural Water Quality Calcs'!$A$9:$B$149,2,0)=\"Limited ROW\",VLOOKUP(A90,'Structural Water Quality Calcs'!$A$8:$AE$149,28,0)*F90*0.1/43560,VLOOKUP(A90,'Structural Water Quality Calcs'!$A$8:$AE$149,28,0)*F90/43560))","v":""},{"$f":"IF(A90=\"\",\"\",VLOOKUP(A90,'Structural Water Quality Calcs'!$A$8:$AE$149,28,0)*100)","v":""},{"$f":"IF(A90=\"\",\"\",VLOOKUP(A90,'Structural Water Quality Calcs'!$A$8:$AE$149,31,0))","v":""},{"$f":"IF(A90=\"\",\"\",VLOOKUP(A90,'Structural Water Quality Calcs'!$A$8:$AE$149,26,0))","v":""},{"$f":"IF(A90=\"\",\"\",VLOOKUP(A90,'Structural Water Quality Calcs'!$A$8:$AE$149,27,0))","v":""},{"$f":"IF(A90=\"\",\"\",(VLOOKUP(A90,'Structural Water Quality Calcs'!$A$8:$AE$149,25,0)))","v":""},{"$f":"IF(A90=\"\",\"\",VLOOKUP(A90,'Structural Water Quality Calcs'!$A$8:$AE$149,24,0))","v":""},{"$f":"IF(A90=\"\",\"\",VLOOKUP(A90,STU_Cost!$A$5:$G$150,4,0))","v":""},{"$f":"IF(A90=\"\",\"\",VLOOKUP(A90,STU_Cost!$A$5:$G$150,5,0))","v":""},{"$f":"IF(A90=\"\",\"\",VLOOKUP(A90,STU_Cost!$A$5:$G$150,6,0))","v":""},{"$f":"IF(A90=\"\",\"\",VLOOKUP(A90,STU_Cost!$A$5:$G$150,7,0))","v":""},null,null,{"$f":"IF(A90=\"\",\"\",VLOOKUP(A90,STU!$A$5:$E$300,5,0))","v":""}]
[null,{"$f":"IF(A91=\"\",\"\",VLOOKUP(A91,'Structural Water Quality Calcs'!$A$9:$F$79,6,0))","v":""},{"$f":"IF(A91=\"\",\"\",VLOOKUP(A91,'Structural Water Quality Calcs'!$A$8:$AE$149,3,0))","v":""},{"$f":"IF(A91=\"\",\"\",SUMIFS(Catchment!$V$5:$V$300,Catchment!$D$5:$D$300,\"RIDOT\",Catchment!$K$5:$K$300,A91))","v":""},{"$f":"IF(A91=\"\",\"\",VLOOKUP(A91,'Structural Water Quality Calcs'!$A$8:$AE$149,4,0))","v":""},{"$f":"IF(A91=\"\",\"\",SUMIFS(Catchment!$L$5:$L$300,Catchment!$D$5:$D$300,\"RIDOT\",Catchment!$K$5:$K$300,A91))","v":""},{"$f":"IF(A91=\"\",\"\",VLOOKUP(A91, 'Structural Water Quality Calcs'!$A$8:$AE$149,11,0))","v":""},{"$f":"IF(A91=\"\",\"\",SUMIFS(Catchment!$X$5:$X$300,Catchment!$D$5:$D$300,\"RIDOT\",Catchment!$K$5:$K$300,A91))","v":""},{"$f":"IF(A91=\"\",\"\",VLOOKUP(A91,'Structural Water Quality Calcs'!$A$8:$AE$149,12,0)*100)","v":""},{"$f":"IF(A91=\"\",\"\",VLOOKUP(A91,'Structural Water Quality Calcs'!$A$8:$AE$149,13,0))","v":""},{"$f":"IF(A91=\"\",\"\",IF(VLOOKUP(A91,'Structural Water Quality Calcs'!$A$9:$B$149,2,0)=\"Limited ROW\",H91*I91*0.1/100,H91*I91/100))","v":""},{"$f":"IF(A91=\"\",\"\",VLOOKUP(A91,'Structural Water Quality Calcs'!$A$8:$AE$149,17,0))","v":""},{"$f":"IF(A91=\"\",\"\",SUMIFS(Catchment!$Z$5:$Z$300,Catchment!$D$5:$D$300,\"RIDOT\",Catchment!$K$5:$K$300,A91))","v":""},{"$f":"IF(A91=\"\",\"\",VLOOKUP(A91,'Structural Water Quality Calcs'!$A$8:$AE$149,18,0)*100)","v":""},{"$f":"IF(A91=\"\",\"\",VLOOKUP(A91,'Structural Water Quality Calcs'!$A$8:$AE$149,19,0))","v":""},{"$f":"IF(A91=\"\",\"\",IF(VLOOKUP(A91,'Structural Water Quality Calcs'!$A$9:$B$149,2,0)=\"Limited ROW\",M91*N91*0.1/100,M91*N91/100))","v":""},{"$f":"IF(A91=\"\",\"\",VLOOKUP(A91,'Structural Water Quality Calcs'!$A$8:$AE$149,14,0))","v":""},{"$f":"IF(A91=\"\",\"\",SUMIFS(Catchment!$Y$5:$Y$300,Catchment!$D$5:$D$300,\"RIDOT\",Catchment!$K$5:$K$300,A91))","v":""},{"$f":"IF(A91=\"\",\"\",VLOOKUP(A91,'Structural Water Quality Calcs'!$A$8:$AE$149,15,0)*100)","v":""},{"$f":"IF(A91=\"\",\"\",VLOOKUP(A91,'Structural Water Quality Calcs'!$A$8:$AE$149,16,0))","v":""},{"$f":"IF(A91=\"\",\"\",IF(VLOOKUP(A91,'Structural Water Quality Calcs'!$A$9:$B$149,2,0)=\"Limited ROW\",R91*S91*0.1/100,R91*S91/100))","v":""},{"$f":"IF(A91=\"\",\"\",VLOOKUP(A91,'Structural Water Quality Calcs'!$A$8:$AE$149,20,0))","v":""},{"$f":"IF(A91=\"\",\"\",SUMIFS(Catchment!$AA$5:$AA$300,Catchment!$D$5:$D$300,\"RIDOT\",Catchment!$K$5:$K$300,A91))","v":""},{"$f":"IF(A91=\"\",\"\",VLOOKUP(A91,'Structural Water Quality Calcs'!$A$8:$AE$149,21,0)*100)","v":""},{"$f":"IF(A91=\"\",\"\",VLOOKUP(A91,'Structural Water Quality Calcs'!$A$8:$AE$149,22,0))","v":""},{"$f":"IF(A91=\"\",\"\",IF(VLOOKUP(A91,'Structural Water Quality Calcs'!$A$9:$B$149,2,0)=\"Limited ROW\",W91*X91*0.1/100,W91*X91/100))","v":""},{"$f":"IF(A91=\"\",\"\",VLOOKUP(A91,'Structural Water Quality Calcs'!$A$8:$AE$149,29,0))","v":""},{"$f":"IF(A91=\"\",\"\",IF(VLOOKUP(A91,'Structural Water Quality Calcs'!$A$9:$B$149,2,0)=\"Limited ROW\",VLOOKUP(A91,'Structural Water Quality Calcs'!$A$8:$AE$149,28,0)*F91*0.1/43560,VLOOKUP(A91,'Structural Water Quality Calcs'!$A$8:$AE$149,28,0)*F91/43560))","v":""},{"$f":"IF(A91=\"\",\"\",VLOOKUP(A91,'Structural Water Quality Calcs'!$A$8:$AE$149,28,0)*100)","v":""},{"$f":"IF(A91=\"\",\"\",VLOOKUP(A91,'Structural Water Quality Calcs'!$A$8:$AE$149,31,0))","v":""},{"$f":"IF(A91=\"\",\"\",VLOOKUP(A91,'Structural Water Quality Calcs'!$A$8:$AE$149,26,0))","v":""},{"$f":"IF(A91=\"\",\"\",VLOOKUP(A91,'Structural Water Quality Calcs'!$A$8:$AE$149,27,0))","v":""},{"$f":"IF(A91=\"\",\"\",(VLOOKUP(A91,'Structural Water Quality Calcs'!$A$8:$AE$149,25,0)))","v":""},{"$f":"IF(A91=\"\",\"\",VLOOKUP(A91,'Structural Water Quality Calcs'!$A$8:$AE$149,24,0))","v":""},{"$f":"IF(A91=\"\",\"\",VLOOKUP(A91,STU_Cost!$A$5:$G$150,4,0))","v":""},{"$f":"IF(A91=\"\",\"\",VLOOKUP(A91,STU_Cost!$A$5:$G$150,5,0))","v":""},{"$f":"IF(A91=\"\",\"\",VLOOKUP(A91,STU_Cost!$A$5:$G$150,6,0))","v":""},{"$f":"IF(A91=\"\",\"\",VLOOKUP(A91,STU_Cost!$A$5:$G$150,7,0))","v":""},null,null,{"$f":"IF(A91=\"\",\"\",VLOOKUP(A91,STU!$A$5:$E$300,5,0))","v":""}]
[null,{"$f":"IF(A92=\"\",\"\",VLOOKUP(A92,'Structural Water Quality Calcs'!$A$9:$F$79,6,0))","v":""},{"$f":"IF(A92=\"\",\"\",VLOOKUP(A92,'Structural Water Quality Calcs'!$A$8:$AE$149,3,0))","v":""},{"$f":"IF(A92=\"\",\"\",SUMIFS(Catchment!$V$5:$V$300,Catchment!$D$5:$D$300,\"RIDOT\",Catchment!$K$5:$K$300,A92))","v":""},{"$f":"IF(A92=\"\",\"\",VLOOKUP(A92,'Structural Water Quality Calcs'!$A$8:$AE$149,4,0))","v":""},{"$f":"IF(A92=\"\",\"\",SUMIFS(Catchment!$L$5:$L$300,Catchment!$D$5:$D$300,\"RIDOT\",Catchment!$K$5:$K$300,A92))","v":""},{"$f":"IF(A92=\"\",\"\",VLOOKUP(A92, 'Structural Water Quality Calcs'!$A$8:$AE$149,11,0))","v":""},{"$f":"IF(A92=\"\",\"\",SUMIFS(Catchment!$X$5:$X$300,Catchment!$D$5:$D$300,\"RIDOT\",Catchment!$K$5:$K$300,A92))","v":""},{"$f":"IF(A92=\"\",\"\",VLOOKUP(A92,'Structural Water Quality Calcs'!$A$8:$AE$149,12,0)*100)","v":""},{"$f":"IF(A92=\"\",\"\",VLOOKUP(A92,'Structural Water Quality Calcs'!$A$8:$AE$149,13,0))","v":""},{"$f":"IF(A92=\"\",\"\",IF(VLOOKUP(A92,'Structural Water Quality Calcs'!$A$9:$B$149,2,0)=\"Limited ROW\",H92*I92*0.1/100,H92*I92/100))","v":""},{"$f":"IF(A92=\"\",\"\",VLOOKUP(A92,'Structural Water Quality Calcs'!$A$8:$AE$149,17,0))","v":""},{"$f":"IF(A92=\"\",\"\",SUMIFS(Catchment!$Z$5:$Z$300,Catchment!$D$5:$D$300,\"RIDOT\",Catchment!$K$5:$K$300,A92))","v":""},{"$f":"IF(A92=\"\",\"\",VLOOKUP(A92,'Structural Water Quality Calcs'!$A$8:$AE$149,18,0)*100)","v":""},{"$f":"IF(A92=\"\",\"\",VLOOKUP(A92,'Structural Water Quality Calcs'!$A$8:$AE$149,19,0))","v":""},{"$f":"IF(A92=\"\",\"\",IF(VLOOKUP(A92,'Structural Water Quality Calcs'!$A$9:$B$149,2,0)=\"Limited ROW\",M92*N92*0.1/100,M92*N92/100))","v":""},{"$f":"IF(A92=\"\",\"\",VLOOKUP(A92,'Structural Water Quality Calcs'!$A$8:$AE$149,14,0))","v":""},{"$f":"IF(A92=\"\",\"\",SUMIFS(Catchment!$Y$5:$Y$300,Catchment!$D$5:$D$300,\"RIDOT\",Catchment!$K$5:$K$300,A92))","v":""},{"$f":"IF(A92=\"\",\"\",VLOOKUP(A92,'Structural Water Quality Calcs'!$A$8:$AE$149,15,0)*100)","v":""},{"$f":"IF(A92=\"\",\"\",VLOOKUP(A92,'Structural Water Quality Calcs'!$A$8:$AE$149,16,0))","v":""},{"$f":"IF(A92=\"\",\"\",IF(VLOOKUP(A92,'Structural Water Quality Calcs'!$A$9:$B$149,2,0)=\"Limited ROW\",R92*S92*0.1/100,R92*S92/100))","v":""},{"$f":"IF(A92=\"\",\"\",VLOOKUP(A92,'Structural Water Quality Calcs'!$A$8:$AE$149,20,0))","v":""},{"$f":"IF(A92=\"\",\"\",SUMIFS(Catchment!$AA$5:$AA$300,Catchment!$D$5:$D$300,\"RIDOT\",Catchment!$K$5:$K$300,A92))","v":""},{"$f":"IF(A92=\"\",\"\",VLOOKUP(A92,'Structural Water Quality Calcs'!$A$8:$AE$149,21,0)*100)","v":""},{"$f":"IF(A92=\"\",\"\",VLOOKUP(A92,'Structural Water Quality Calcs'!$A$8:$AE$149,22,0))","v":""},{"$f":"IF(A92=\"\",\"\",IF(VLOOKUP(A92,'Structural Water Quality Calcs'!$A$9:$B$149,2,0)=\"Limited ROW\",W92*X92*0.1/100,W92*X92/100))","v":""},{"$f":"IF(A92=\"\",\"\",VLOOKUP(A92,'Structural Water Quality Calcs'!$A$8:$AE$149,29,0))","v":""},{"$f":"IF(A92=\"\",\"\",IF(VLOOKUP(A92,'Structural Water Quality Calcs'!$A$9:$B$149,2,0)=\"Limited ROW\",VLOOKUP(A92,'Structural Water Quality Calcs'!$A$8:$AE$149,28,0)*F92*0.1/43560,VLOOKUP(A92,'Structural Water Quality Calcs'!$A$8:$AE$149,28,0)*F92/43560))","v":""},{"$f":"IF(A92=\"\",\"\",VLOOKUP(A92,'Structural Water Quality Calcs'!$A$8:$AE$149,28,0)*100)","v":""},{"$f":"IF(A92=\"\",\"\",VLOOKUP(A92,'Structural Water Quality Calcs'!$A$8:$AE$149,31,0))","v":""},{"$f":"IF(A92=\"\",\"\",VLOOKUP(A92,'Structural Water Quality Calcs'!$A$8:$AE$149,26,0))","v":""},{"$f":"IF(A92=\"\",\"\",VLOOKUP(A92,'Structural Water Quality Calcs'!$A$8:$AE$149,27,0))","v":""},{"$f":"IF(A92=\"\",\"\",(VLOOKUP(A92,'Structural Water Quality Calcs'!$A$8:$AE$149,25,0)))","v":""},{"$f":"IF(A92=\"\",\"\",VLOOKUP(A92,'Structural Water Quality Calcs'!$A$8:$AE$149,24,0))","v":""},{"$f":"IF(A92=\"\",\"\",VLOOKUP(A92,STU_Cost!$A$5:$G$150,4,0))","v":""},{"$f":"IF(A92=\"\",\"\",VLOOKUP(A92,STU_Cost!$A$5:$G$150,5,0))","v":""},{"$f":"IF(A92=\"\",\"\",VLOOKUP(A92,STU_Cost!$A$5:$G$150,6,0))","v":""},{"$f":"IF(A92=\"\",\"\",VLOOKUP(A92,STU_Cost!$A$5:$G$150,7,0))","v":""},null,null,{"$f":"IF(A92=\"\",\"\",VLOOKUP(A92,STU!$A$5:$E$300,5,0))","v":""}]
[null,{"$f":"IF(A93=\"\",\"\",VLOOKUP(A93,'Structural Water Quality Calcs'!$A$9:$F$79,6,0))","v":""},{"$f":"IF(A93=\"\",\"\",VLOOKUP(A93,'Structural Water Quality Calcs'!$A$8:$AE$149,3,0))","v":""},{"$f":"IF(A93=\"\",\"\",SUMIFS(Catchment!$V$5:$V$300,Catchment!$D$5:$D$300,\"RIDOT\",Catchment!$K$5:$K$300,A93))","v":""},{"$f":"IF(A93=\"\",\"\",VLOOKUP(A93,'Structural Water Quality Calcs'!$A$8:$AE$149,4,0))","v":""},{"$f":"IF(A93=\"\",\"\",SUMIFS(Catchment!$L$5:$L$300,Catchment!$D$5:$D$300,\"RIDOT\",Catchment!$K$5:$K$300,A93))","v":""},{"$f":"IF(A93=\"\",\"\",VLOOKUP(A93, 'Structural Water Quality Calcs'!$A$8:$AE$149,11,0))","v":""},{"$f":"IF(A93=\"\",\"\",SUMIFS(Catchment!$X$5:$X$300,Catchment!$D$5:$D$300,\"RIDOT\",Catchment!$K$5:$K$300,A93))","v":""},{"$f":"IF(A93=\"\",\"\",VLOOKUP(A93,'Structural Water Quality Calcs'!$A$8:$AE$149,12,0)*100)","v":""},{"$f":"IF(A93=\"\",\"\",VLOOKUP(A93,'Structural Water Quality Calcs'!$A$8:$AE$149,13,0))","v":""},{"$f":"IF(A93=\"\",\"\",IF(VLOOKUP(A93,'Structural Water Quality Calcs'!$A$9:$B$149,2,0)=\"Limited ROW\",H93*I93*0.1/100,H93*I93/100))","v":""},{"$f":"IF(A93=\"\",\"\",VLOOKUP(A93,'Structural Water Quality Calcs'!$A$8:$AE$149,17,0))","v":""},{"$f":"IF(A93=\"\",\"\",SUMIFS(Catchment!$Z$5:$Z$300,Catchment!$D$5:$D$300,\"RIDOT\",Catchment!$K$5:$K$300,A93))","v":""},{"$f":"IF(A93=\"\",\"\",VLOOKUP(A93,'Structural Water Quality Calcs'!$A$8:$AE$149,18,0)*100)","v":""},{"$f":"IF(A93=\"\",\"\",VLOOKUP(A93,'Structural Water Quality Calcs'!$A$8:$AE$149,19,0))","v":""},{"$f":"IF(A93=\"\",\"\",IF(VLOOKUP(A93,'Structural Water Quality Calcs'!$A$9:$B$149,2,0)=\"Limited ROW\",M93*N93*0.1/100,M93*N93/100))","v":""},{"$f":"IF(A93=\"\",\"\",VLOOKUP(A93,'Structural Water Quality Calcs'!$A$8:$AE$149,14,0))","v":""},{"$f":"IF(A93=\"\",\"\",SUMIFS(Catchment!$Y$5:$Y$300,Catchment!$D$5:$D$300,\"RIDOT\",Catchment!$K$5:$K$300,A93))","v":""},{"$f":"IF(A93=\"\",\"\",VLOOKUP(A93,'Structural Water Quality Calcs'!$A$8:$AE$149,15,0)*100)","v":""},{"$f":"IF(A93=\"\",\"\",VLOOKUP(A93,'Structural Water Quality Calcs'!$A$8:$AE$149,16,0))","v":""},{"$f":"IF(A93=\"\",\"\",IF(VLOOKUP(A93,'Structural Water Quality Calcs'!$A$9:$B$149,2,0)=\"Limited ROW\",R93*S93*0.1/100,R93*S93/100))","v":""},{"$f":"IF(A93=\"\",\"\",VLOOKUP(A93,'Structural Water Quality Calcs'!$A$8:$AE$149,20,0))","v":""},{"$f":"IF(A93=\"\",\"\",SUMIFS(Catchment!$AA$5:$AA$300,Catchment!$D$5:$D$300,\"RIDOT\",Catchment!$K$5:$K$300,A93))","v":""},{"$f":"IF(A93=\"\",\"\",VLOOKUP(A93,'Structural Water Quality Calcs'!$A$8:$AE$149,21,0)*100)","v":""},{"$f":"IF(A93=\"\",\"\",VLOOKUP(A93,'Structural Water Quality Calcs'!$A$8:$AE$149,22,0))","v":""},{"$f":"IF(A93=\"\",\"\",IF(VLOOKUP(A93,'Structural Water Quality Calcs'!$A$9:$B$149,2,0)=\"Limited ROW\",W93*X93*0.1/100,W93*X93/100))","v":""},{"$f":"IF(A93=\"\",\"\",VLOOKUP(A93,'Structural Water Quality Calcs'!$A$8:$AE$149,29,0))","v":""},{"$f":"IF(A93=\"\",\"\",IF(VLOOKUP(A93,'Structural Water Quality Calcs'!$A$9:$B$149,2,0)=\"Limited ROW\",VLOOKUP(A93,'Structural Water Quality Calcs'!$A$8:$AE$149,28,0)*F93*0.1/43560,VLOOKUP(A93,'Structural Water Quality Calcs'!$A$8:$AE$149,28,0)*F93/43560))","v":""},{"$f":"IF(A93=\"\",\"\",VLOOKUP(A93,'Structural Water Quality Calcs'!$A$8:$AE$149,28,0)*100)","v":""},{"$f":"IF(A93=\"\",\"\",VLOOKUP(A93,'Structural Water Quality Calcs'!$A$8:$AE$149,31,0))","v":""},{"$f":"IF(A93=\"\",\"\",VLOOKUP(A93,'Structural Water Quality Calcs'!$A$8:$AE$149,26,0))","v":""},{"$f":"IF(A93=\"\",\"\",VLOOKUP(A93,'Structural Water Quality Calcs'!$A$8:$AE$149,27,0))","v":""},{"$f":"IF(A93=\"\",\"\",(VLOOKUP(A93,'Structural Water Quality Calcs'!$A$8:$AE$149,25,0)))","v":""},{"$f":"IF(A93=\"\",\"\",VLOOKUP(A93,'Structural Water Quality Calcs'!$A$8:$AE$149,24,0))","v":""},{"$f":"IF(A93=\"\",\"\",VLOOKUP(A93,STU_Cost!$A$5:$G$150,4,0))","v":""},{"$f":"IF(A93=\"\",\"\",VLOOKUP(A93,STU_Cost!$A$5:$G$150,5,0))","v":""},{"$f":"IF(A93=\"\",\"\",VLOOKUP(A93,STU_Cost!$A$5:$G$150,6,0))","v":""},{"$f":"IF(A93=\"\",\"\",VLOOKUP(A93,STU_Cost!$A$5:$G$150,7,0))","v":""},null,null,{"$f":"IF(A93=\"\",\"\",VLOOKUP(A93,STU!$A$5:$E$300,5,0))","v":""}]
[null,{"$f":"IF(A94=\"\",\"\",VLOOKUP(A94,'Structural Water Quality Calcs'!$A$9:$F$79,6,0))","v":""},{"$f":"IF(A94=\"\",\"\",VLOOKUP(A94,'Structural Water Quality Calcs'!$A$8:$AE$149,3,0))","v":""},{"$f":"IF(A94=\"\",\"\",SUMIFS(Catchment!$V$5:$V$300,Catchment!$D$5:$D$300,\"RIDOT\",Catchment!$K$5:$K$300,A94))","v":""},{"$f":"IF(A94=\"\",\"\",VLOOKUP(A94,'Structural Water Quality Calcs'!$A$8:$AE$149,4,0))","v":""},{"$f":"IF(A94=\"\",\"\",SUMIFS(Catchment!$L$5:$L$300,Catchment!$D$5:$D$300,\"RIDOT\",Catchment!$K$5:$K$300,A94))","v":""},{"$f":"IF(A94=\"\",\"\",VLOOKUP(A94, 'Structural Water Quality Calcs'!$A$8:$AE$149,11,0))","v":""},{"$f":"IF(A94=\"\",\"\",SUMIFS(Catchment!$X$5:$X$300,Catchment!$D$5:$D$300,\"RIDOT\",Catchment!$K$5:$K$300,A94))","v":""},{"$f":"IF(A94=\"\",\"\",VLOOKUP(A94,'Structural Water Quality Calcs'!$A$8:$AE$149,12,0)*100)","v":""},{"$f":"IF(A94=\"\",\"\",VLOOKUP(A94,'Structural Water Quality Calcs'!$A$8:$AE$149,13,0))","v":""},{"$f":"IF(A94=\"\",\"\",IF(VLOOKUP(A94,'Structural Water Quality Calcs'!$A$9:$B$149,2,0)=\"Limited ROW\",H94*I94*0.1/100,H94*I94/100))","v":""},{"$f":"IF(A94=\"\",\"\",VLOOKUP(A94,'Structural Water Quality Calcs'!$A$8:$AE$149,17,0))","v":""},{"$f":"IF(A94=\"\",\"\",SUMIFS(Catchment!$Z$5:$Z$300,Catchment!$D$5:$D$300,\"RIDOT\",Catchment!$K$5:$K$300,A94))","v":""},{"$f":"IF(A94=\"\",\"\",VLOOKUP(A94,'Structural Water Quality Calcs'!$A$8:$AE$149,18,0)*100)","v":""},{"$f":"IF(A94=\"\",\"\",VLOOKUP(A94,'Structural Water Quality Calcs'!$A$8:$AE$149,19,0))","v":""},{"$f":"IF(A94=\"\",\"\",IF(VLOOKUP(A94,'Structural Water Quality Calcs'!$A$9:$B$149,2,0)=\"Limited ROW\",M94*N94*0.1/100,M94*N94/100))","v":""},{"$f":"IF(A94=\"\",\"\",VLOOKUP(A94,'Structural Water Quality Calcs'!$A$8:$AE$149,14,0))","v":""},{"$f":"IF(A94=\"\",\"\",SUMIFS(Catchment!$Y$5:$Y$300,Catchment!$D$5:$D$300,\"RIDOT\",Catchment!$K$5:$K$300,A94))","v":""},{"$f":"IF(A94=\"\",\"\",VLOOKUP(A94,'Structural Water Quality Calcs'!$A$8:$AE$149,15,0)*100)","v":""},{"$f":"IF(A94=\"\",\"\",VLOOKUP(A94,'Structural Water Quality Calcs'!$A$8:$AE$149,16,0))","v":""},{"$f":"IF(A94=\"\",\"\",IF(VLOOKUP(A94,'Structural Water Quality Calcs'!$A$9:$B$149,2,0)=\"Limited ROW\",R94*S94*0.1/100,R94*S94/100))","v":""},{"$f":"IF(A94=\"\",\"\",VLOOKUP(A94,'Structural Water Quality Calcs'!$A$8:$AE$149,20,0))","v":""},{"$f":"IF(A94=\"\",\"\",SUMIFS(Catchment!$AA$5:$AA$300,Catchment!$D$5:$D$300,\"RIDOT\",Catchment!$K$5:$K$300,A94))","v":""},{"$f":"IF(A94=\"\",\"\",VLOOKUP(A94,'Structural Water Quality Calcs'!$A$8:$AE$149,21,0)*100)","v":""},{"$f":"IF(A94=\"\",\"\",VLOOKUP(A94,'Structural Water Quality Calcs'!$A$8:$AE$149,22,0))","v":""},{"$f":"IF(A94=\"\",\"\",IF(VLOOKUP(A94,'Structural Water Quality Calcs'!$A$9:$B$149,2,0)=\"Limited ROW\",W94*X94*0.1/100,W94*X94/100))","v":""},{"$f":"IF(A94=\"\",\"\",VLOOKUP(A94,'Structural Water Quality Calcs'!$A$8:$AE$149,29,0))","v":""},{"$f":"IF(A94=\"\",\"\",IF(VLOOKUP(A94,'Structural Water Quality Calcs'!$A$9:$B$149,2,0)=\"Limited ROW\",VLOOKUP(A94,'Structural Water Quality Calcs'!$A$8:$AE$149,28,0)*F94*0.1/43560,VLOOKUP(A94,'Structural Water Quality Calcs'!$A$8:$AE$149,28,0)*F94/43560))","v":""},{"$f":"IF(A94=\"\",\"\",VLOOKUP(A94,'Structural Water Quality Calcs'!$A$8:$AE$149,28,0)*100)","v":""},{"$f":"IF(A94=\"\",\"\",VLOOKUP(A94,'Structural Water Quality Calcs'!$A$8:$AE$149,31,0))","v":""},{"$f":"IF(A94=\"\",\"\",VLOOKUP(A94,'Structural Water Quality Calcs'!$A$8:$AE$149,26,0))","v":""},{"$f":"IF(A94=\"\",\"\",VLOOKUP(A94,'Structural Water Quality Calcs'!$A$8:$AE$149,27,0))","v":""},{"$f":"IF(A94=\"\",\"\",(VLOOKUP(A94,'Structural Water Quality Calcs'!$A$8:$AE$149,25,0)))","v":""},{"$f":"IF(A94=\"\",\"\",VLOOKUP(A94,'Structural Water Quality Calcs'!$A$8:$AE$149,24,0))","v":""},{"$f":"IF(A94=\"\",\"\",VLOOKUP(A94,STU_Cost!$A$5:$G$150,4,0))","v":""},{"$f":"IF(A94=\"\",\"\",VLOOKUP(A94,STU_Cost!$A$5:$G$150,5,0))","v":""},{"$f":"IF(A94=\"\",\"\",VLOOKUP(A94,STU_Cost!$A$5:$G$150,6,0))","v":""},{"$f":"IF(A94=\"\",\"\",VLOOKUP(A94,STU_Cost!$A$5:$G$150,7,0))","v":""},null,null,{"$f":"IF(A94=\"\",\"\",VLOOKUP(A94,STU!$A$5:$E$300,5,0))","v":""}]
[null,{"$f":"IF(A95=\"\",\"\",VLOOKUP(A95,'Structural Water Quality Calcs'!$A$9:$F$79,6,0))","v":""},{"$f":"IF(A95=\"\",\"\",VLOOKUP(A95,'Structural Water Quality Calcs'!$A$8:$AE$149,3,0))","v":""},{"$f":"IF(A95=\"\",\"\",SUMIFS(Catchment!$V$5:$V$300,Catchment!$D$5:$D$300,\"RIDOT\",Catchment!$K$5:$K$300,A95))","v":""},{"$f":"IF(A95=\"\",\"\",VLOOKUP(A95,'Structural Water Quality Calcs'!$A$8:$AE$149,4,0))","v":""},{"$f":"IF(A95=\"\",\"\",SUMIFS(Catchment!$L$5:$L$300,Catchment!$D$5:$D$300,\"RIDOT\",Catchment!$K$5:$K$300,A95))","v":""},{"$f":"IF(A95=\"\",\"\",VLOOKUP(A95, 'Structural Water Quality Calcs'!$A$8:$AE$149,11,0))","v":""},{"$f":"IF(A95=\"\",\"\",SUMIFS(Catchment!$X$5:$X$300,Catchment!$D$5:$D$300,\"RIDOT\",Catchment!$K$5:$K$300,A95))","v":""},{"$f":"IF(A95=\"\",\"\",VLOOKUP(A95,'Structural Water Quality Calcs'!$A$8:$AE$149,12,0)*100)","v":""},{"$f":"IF(A95=\"\",\"\",VLOOKUP(A95,'Structural Water Quality Calcs'!$A$8:$AE$149,13,0))","v":""},{"$f":"IF(A95=\"\",\"\",IF(VLOOKUP(A95,'Structural Water Quality Calcs'!$A$9:$B$149,2,0)=\"Limited ROW\",H95*I95*0.1/100,H95*I95/100))","v":""},{"$f":"IF(A95=\"\",\"\",VLOOKUP(A95,'Structural Water Quality Calcs'!$A$8:$AE$149,17,0))","v":""},{"$f":"IF(A95=\"\",\"\",SUMIFS(Catchment!$Z$5:$Z$300,Catchment!$D$5:$D$300,\"RIDOT\",Catchment!$K$5:$K$300,A95))","v":""},{"$f":"IF(A95=\"\",\"\",VLOOKUP(A95,'Structural Water Quality Calcs'!$A$8:$AE$149,18,0)*100)","v":""},{"$f":"IF(A95=\"\",\"\",VLOOKUP(A95,'Structural Water Quality Calcs'!$A$8:$AE$149,19,0))","v":""},{"$f":"IF(A95=\"\",\"\",IF(VLOOKUP(A95,'Structural Water Quality Calcs'!$A$9:$B$149,2,0)=\"Limited ROW\",M95*N95*0.1/100,M95*N95/100))","v":""},{"$f":"IF(A95=\"\",\"\",VLOOKUP(A95,'Structural Water Quality Calcs'!$A$8:$AE$149,14,0))","v":""},{"$f":"IF(A95=\"\",\"\",SUMIFS(Catchment!$Y$5:$Y$300,Catchment!$D$5:$D$300,\"RIDOT\",Catchment!$K$5:$K$300,A95))","v":""},{"$f":"IF(A95=\"\",\"\",VLOOKUP(A95,'Structural Water Quality Calcs'!$A$8:$AE$149,15,0)*100)","v":""},{"$f":"IF(A95=\"\",\"\",VLOOKUP(A95,'Structural Water Quality Calcs'!$A$8:$AE$149,16,0))","v":""},{"$f":"IF(A95=\"\",\"\",IF(VLOOKUP(A95,'Structural Water Quality Calcs'!$A$9:$B$149,2,0)=\"Limited ROW\",R95*S95*0.1/100,R95*S95/100))","v":""},{"$f":"IF(A95=\"\",\"\",VLOOKUP(A95,'Structural Water Quality Calcs'!$A$8:$AE$149,20,0))","v":""},{"$f":"IF(A95=\"\",\"\",SUMIFS(Catchment!$AA$5:$AA$300,Catchment!$D$5:$D$300,\"RIDOT\",Catchment!$K$5:$K$300,A95))","v":""},{"$f":"IF(A95=\"\",\"\",VLOOKUP(A95,'Structural Water Quality Calcs'!$A$8:$AE$149,21,0)*100)","v":""},{"$f":"IF(A95=\"\",\"\",VLOOKUP(A95,'Structural Water Quality Calcs'!$A$8:$AE$149,22,0))","v":""},{"$f":"IF(A95=\"\",\"\",IF(VLOOKUP(A95,'Structural Water Quality Calcs'!$A$9:$B$149,2,0)=\"Limited ROW\",W95*X95*0.1/100,W95*X95/100))","v":""},{"$f":"IF(A95=\"\",\"\",VLOOKUP(A95,'Structural Water Quality Calcs'!$A$8:$AE$149,29,0))","v":""},{"$f":"IF(A95=\"\",\"\",IF(VLOOKUP(A95,'Structural Water Quality Calcs'!$A$9:$B$149,2,0)=\"Limited ROW\",VLOOKUP(A95,'Structural Water Quality Calcs'!$A$8:$AE$149,28,0)*F95*0.1/43560,VLOOKUP(A95,'Structural Water Quality Calcs'!$A$8:$AE$149,28,0)*F95/43560))","v":""},{"$f":"IF(A95=\"\",\"\",VLOOKUP(A95,'Structural Water Quality Calcs'!$A$8:$AE$149,28,0)*100)","v":""},{"$f":"IF(A95=\"\",\"\",VLOOKUP(A95,'Structural Water Quality Calcs'!$A$8:$AE$149,31,0))","v":""},{"$f":"IF(A95=\"\",\"\",VLOOKUP(A95,'Structural Water Quality Calcs'!$A$8:$AE$149,26,0))","v":""},{"$f":"IF(A95=\"\",\"\",VLOOKUP(A95,'Structural Water Quality Calcs'!$A$8:$AE$149,27,0))","v":""},{"$f":"IF(A95=\"\",\"\",(VLOOKUP(A95,'Structural Water Quality Calcs'!$A$8:$AE$149,25,0)))","v":""},{"$f":"IF(A95=\"\",\"\",VLOOKUP(A95,'Structural Water Quality Calcs'!$A$8:$AE$149,24,0))","v":""},{"$f":"IF(A95=\"\",\"\",VLOOKUP(A95,STU_Cost!$A$5:$G$150,4,0))","v":""},{"$f":"IF(A95=\"\",\"\",VLOOKUP(A95,STU_Cost!$A$5:$G$150,5,0))","v":""},{"$f":"IF(A95=\"\",\"\",VLOOKUP(A95,STU_Cost!$A$5:$G$150,6,0))","v":""},{"$f":"IF(A95=\"\",\"\",VLOOKUP(A95,STU_Cost!$A$5:$G$150,7,0))","v":""},null,null,{"$f":"IF(A95=\"\",\"\",VLOOKUP(A95,STU!$A$5:$E$300,5,0))","v":""}]
[null,{"$f":"IF(A96=\"\",\"\",VLOOKUP(A96,'Structural Water Quality Calcs'!$A$9:$F$79,6,0))","v":""},{"$f":"IF(A96=\"\",\"\",VLOOKUP(A96,'Structural Water Quality Calcs'!$A$8:$AE$149,3,0))","v":""},{"$f":"IF(A96=\"\",\"\",SUMIFS(Catchment!$V$5:$V$300,Catchment!$D$5:$D$300,\"RIDOT\",Catchment!$K$5:$K$300,A96))","v":""},{"$f":"IF(A96=\"\",\"\",VLOOKUP(A96,'Structural Water Quality Calcs'!$A$8:$AE$149,4,0))","v":""},{"$f":"IF(A96=\"\",\"\",SUMIFS(Catchment!$L$5:$L$300,Catchment!$D$5:$D$300,\"RIDOT\",Catchment!$K$5:$K$300,A96))","v":""},{"$f":"IF(A96=\"\",\"\",VLOOKUP(A96, 'Structural Water Quality Calcs'!$A$8:$AE$149,11,0))","v":""},{"$f":"IF(A96=\"\",\"\",SUMIFS(Catchment!$X$5:$X$300,Catchment!$D$5:$D$300,\"RIDOT\",Catchment!$K$5:$K$300,A96))","v":""},{"$f":"IF(A96=\"\",\"\",VLOOKUP(A96,'Structural Water Quality Calcs'!$A$8:$AE$149,12,0)*100)","v":""},{"$f":"IF(A96=\"\",\"\",VLOOKUP(A96,'Structural Water Quality Calcs'!$A$8:$AE$149,13,0))","v":""},{"$f":"IF(A96=\"\",\"\",IF(VLOOKUP(A96,'Structural Water Quality Calcs'!$A$9:$B$149,2,0)=\"Limited ROW\",H96*I96*0.1/100,H96*I96/100))","v":""},{"$f":"IF(A96=\"\",\"\",VLOOKUP(A96,'Structural Water Quality Calcs'!$A$8:$AE$149,17,0))","v":""},{"$f":"IF(A96=\"\",\"\",SUMIFS(Catchment!$Z$5:$Z$300,Catchment!$D$5:$D$300,\"RIDOT\",Catchment!$K$5:$K$300,A96))","v":""},{"$f":"IF(A96=\"\",\"\",VLOOKUP(A96,'Structural Water Quality Calcs'!$A$8:$AE$149,18,0)*100)","v":""},{"$f":"IF(A96=\"\",\"\",VLOOKUP(A96,'Structural Water Quality Calcs'!$A$8:$AE$149,19,0))","v":""},{"$f":"IF(A96=\"\",\"\",IF(VLOOKUP(A96,'Structural Water Quality Calcs'!$A$9:$B$149,2,0)=\"Limited ROW\",M96*N96*0.1/100,M96*N96/100))","v":""},{"$f":"IF(A96=\"\",\"\",VLOOKUP(A96,'Structural Water Quality Calcs'!$A$8:$AE$149,14,0))","v":""},{"$f":"IF(A96=\"\",\"\",SUMIFS(Catchment!$Y$5:$Y$300,Catchment!$D$5:$D$300,\"RIDOT\",Catchment!$K$5:$K$300,A96))","v":""},{"$f":"IF(A96=\"\",\"\",VLOOKUP(A96,'Structural Water Quality Calcs'!$A$8:$AE$149,15,0)*100)","v":""},{"$f":"IF(A96=\"\",\"\",VLOOKUP(A96,'Structural Water Quality Calcs'!$A$8:$AE$149,16,0))","v":""},{"$f":"IF(A96=\"\",\"\",IF(VLOOKUP(A96,'Structural Water Quality Calcs'!$A$9:$B$149,2,0)=\"Limited ROW\",R96*S96*0.1/100,R96*S96/100))","v":""},{"$f":"IF(A96=\"\",\"\",VLOOKUP(A96,'Structural Water Quality Calcs'!$A$8:$AE$149,20,0))","v":""},{"$f":"IF(A96=\"\",\"\",SUMIFS(Catchment!$AA$5:$AA$300,Catchment!$D$5:$D$300,\"RIDOT\",Catchment!$K$5:$K$300,A96))","v":""},{"$f":"IF(A96=\"\",\"\",VLOOKUP(A96,'Structural Water Quality Calcs'!$A$8:$AE$149,21,0)*100)","v":""},{"$f":"IF(A96=\"\",\"\",VLOOKUP(A96,'Structural Water Quality Calcs'!$A$8:$AE$149,22,0))","v":""},{"$f":"IF(A96=\"\",\"\",IF(VLOOKUP(A96,'Structural Water Quality Calcs'!$A$9:$B$149,2,0)=\"Limited ROW\",W96*X96*0.1/100,W96*X96/100))","v":""},{"$f":"IF(A96=\"\",\"\",VLOOKUP(A96,'Structural Water Quality Calcs'!$A$8:$AE$149,29,0))","v":""},{"$f":"IF(A96=\"\",\"\",IF(VLOOKUP(A96,'Structural Water Quality Calcs'!$A$9:$B$149,2,0)=\"Limited ROW\",VLOOKUP(A96,'Structural Water Quality Calcs'!$A$8:$AE$149,28,0)*F96*0.1/43560,VLOOKUP(A96,'Structural Water Quality Calcs'!$A$8:$AE$149,28,0)*F96/43560))","v":""},{"$f":"IF(A96=\"\",\"\",VLOOKUP(A96,'Structural Water Quality Calcs'!$A$8:$AE$149,28,0)*100)","v":""},{"$f":"IF(A96=\"\",\"\",VLOOKUP(A96,'Structural Water Quality Calcs'!$A$8:$AE$149,31,0))","v":""},{"$f":"IF(A96=\"\",\"\",VLOOKUP(A96,'Structural Water Quality Calcs'!$A$8:$AE$149,26,0))","v":""},{"$f":"IF(A96=\"\",\"\",VLOOKUP(A96,'Structural Water Quality Calcs'!$A$8:$AE$149,27,0))","v":""},{"$f":"IF(A96=\"\",\"\",(VLOOKUP(A96,'Structural Water Quality Calcs'!$A$8:$AE$149,25,0)))","v":""},{"$f":"IF(A96=\"\",\"\",VLOOKUP(A96,'Structural Water Quality Calcs'!$A$8:$AE$149,24,0))","v":""},{"$f":"IF(A96=\"\",\"\",VLOOKUP(A96,STU_Cost!$A$5:$G$150,4,0))","v":""},{"$f":"IF(A96=\"\",\"\",VLOOKUP(A96,STU_Cost!$A$5:$G$150,5,0))","v":""},{"$f":"IF(A96=\"\",\"\",VLOOKUP(A96,STU_Cost!$A$5:$G$150,6,0))","v":""},{"$f":"IF(A96=\"\",\"\",VLOOKUP(A96,STU_Cost!$A$5:$G$150,7,0))","v":""},null,null,{"$f":"IF(A96=\"\",\"\",VLOOKUP(A96,STU!$A$5:$E$300,5,0))","v":""}]
[null,{"$f":"IF(A97=\"\",\"\",VLOOKUP(A97,'Structural Water Quality Calcs'!$A$9:$F$79,6,0))","v":""},{"$f":"IF(A97=\"\",\"\",VLOOKUP(A97,'Structural Water Quality Calcs'!$A$8:$AE$149,3,0))","v":""},{"$f":"IF(A97=\"\",\"\",SUMIFS(Catchment!$V$5:$V$300,Catchment!$D$5:$D$300,\"RIDOT\",Catchment!$K$5:$K$300,A97))","v":""},{"$f":"IF(A97=\"\",\"\",VLOOKUP(A97,'Structural Water Quality Calcs'!$A$8:$AE$149,4,0))","v":""},{"$f":"IF(A97=\"\",\"\",SUMIFS(Catchment!$L$5:$L$300,Catchment!$D$5:$D$300,\"RIDOT\",Catchment!$K$5:$K$300,A97))","v":""},{"$f":"IF(A97=\"\",\"\",VLOOKUP(A97, 'Structural Water Quality Calcs'!$A$8:$AE$149,11,0))","v":""},{"$f":"IF(A97=\"\",\"\",SUMIFS(Catchment!$X$5:$X$300,Catchment!$D$5:$D$300,\"RIDOT\",Catchment!$K$5:$K$300,A97))","v":""},{"$f":"IF(A97=\"\",\"\",VLOOKUP(A97,'Structural Water Quality Calcs'!$A$8:$AE$149,12,0)*100)","v":""},{"$f":"IF(A97=\"\",\"\",VLOOKUP(A97,'Structural Water Quality Calcs'!$A$8:$AE$149,13,0))","v":""},{"$f":"IF(A97=\"\",\"\",IF(VLOOKUP(A97,'Structural Water Quality Calcs'!$A$9:$B$149,2,0)=\"Limited ROW\",H97*I97*0.1/100,H97*I97/100))","v":""},{"$f":"IF(A97=\"\",\"\",VLOOKUP(A97,'Structural Water Quality Calcs'!$A$8:$AE$149,17,0))","v":""},{"$f":"IF(A97=\"\",\"\",SUMIFS(Catchment!$Z$5:$Z$300,Catchment!$D$5:$D$300,\"RIDOT\",Catchment!$K$5:$K$300,A97))","v":""},{"$f":"IF(A97=\"\",\"\",VLOOKUP(A97,'Structural Water Quality Calcs'!$A$8:$AE$149,18,0)*100)","v":""},{"$f":"IF(A97=\"\",\"\",VLOOKUP(A97,'Structural Water Quality Calcs'!$A$8:$AE$149,19,0))","v":""},{"$f":"IF(A97=\"\",\"\",IF(VLOOKUP(A97,'Structural Water Quality Calcs'!$A$9:$B$149,2,0)=\"Limited ROW\",M97*N97*0.1/100,M97*N97/100))","v":""},{"$f":"IF(A97=\"\",\"\",VLOOKUP(A97,'Structural Water Quality Calcs'!$A$8:$AE$149,14,0))","v":""},{"$f":"IF(A97=\"\",\"\",SUMIFS(Catchment!$Y$5:$Y$300,Catchment!$D$5:$D$300,\"RIDOT\",Catchment!$K$5:$K$300,A97))","v":""},{"$f":"IF(A97=\"\",\"\",VLOOKUP(A97,'Structural Water Quality Calcs'!$A$8:$AE$149,15,0)*100)","v":""},{"$f":"IF(A97=\"\",\"\",VLOOKUP(A97,'Structural Water Quality Calcs'!$A$8:$AE$149,16,0))","v":""},{"$f":"IF(A97=\"\",\"\",IF(VLOOKUP(A97,'Structural Water Quality Calcs'!$A$9:$B$149,2,0)=\"Limited ROW\",R97*S97*0.1/100,R97*S97/100))","v":""},{"$f":"IF(A97=\"\",\"\",VLOOKUP(A97,'Structural Water Quality Calcs'!$A$8:$AE$149,20,0))","v":""},{"$f":"IF(A97=\"\",\"\",SUMIFS(Catchment!$AA$5:$AA$300,Catchment!$D$5:$D$300,\"RIDOT\",Catchment!$K$5:$K$300,A97))","v":""},{"$f":"IF(A97=\"\",\"\",VLOOKUP(A97,'Structural Water Quality Calcs'!$A$8:$AE$149,21,0)*100)","v":""},{"$f":"IF(A97=\"\",\"\",VLOOKUP(A97,'Structural Water Quality Calcs'!$A$8:$AE$149,22,0))","v":""},{"$f":"IF(A97=\"\",\"\",IF(VLOOKUP(A97,'Structural Water Quality Calcs'!$A$9:$B$149,2,0)=\"Limited ROW\",W97*X97*0.1/100,W97*X97/100))","v":""},{"$f":"IF(A97=\"\",\"\",VLOOKUP(A97,'Structural Water Quality Calcs'!$A$8:$AE$149,29,0))","v":""},{"$f":"IF(A97=\"\",\"\",IF(VLOOKUP(A97,'Structural Water Quality Calcs'!$A$9:$B$149,2,0)=\"Limited ROW\",VLOOKUP(A97,'Structural Water Quality Calcs'!$A$8:$AE$149,28,0)*F97*0.1/43560,VLOOKUP(A97,'Structural Water Quality Calcs'!$A$8:$AE$149,28,0)*F97/43560))","v":""},{"$f":"IF(A97=\"\",\"\",VLOOKUP(A97,'Structural Water Quality Calcs'!$A$8:$AE$149,28,0)*100)","v":""},{"$f":"IF(A97=\"\",\"\",VLOOKUP(A97,'Structural Water Quality Calcs'!$A$8:$AE$149,31,0))","v":""},{"$f":"IF(A97=\"\",\"\",VLOOKUP(A97,'Structural Water Quality Calcs'!$A$8:$AE$149,26,0))","v":""},{"$f":"IF(A97=\"\",\"\",VLOOKUP(A97,'Structural Water Quality Calcs'!$A$8:$AE$149,27,0))","v":""},{"$f":"IF(A97=\"\",\"\",(VLOOKUP(A97,'Structural Water Quality Calcs'!$A$8:$AE$149,25,0)))","v":""},{"$f":"IF(A97=\"\",\"\",VLOOKUP(A97,'Structural Water Quality Calcs'!$A$8:$AE$149,24,0))","v":""},{"$f":"IF(A97=\"\",\"\",VLOOKUP(A97,STU_Cost!$A$5:$G$150,4,0))","v":""},{"$f":"IF(A97=\"\",\"\",VLOOKUP(A97,STU_Cost!$A$5:$G$150,5,0))","v":""},{"$f":"IF(A97=\"\",\"\",VLOOKUP(A97,STU_Cost!$A$5:$G$150,6,0))","v":""},{"$f":"IF(A97=\"\",\"\",VLOOKUP(A97,STU_Cost!$A$5:$G$150,7,0))","v":""},null,null,{"$f":"IF(A97=\"\",\"\",VLOOKUP(A97,STU!$A$5:$E$300,5,0))","v":""}]
[null,{"$f":"IF(A98=\"\",\"\",VLOOKUP(A98,'Structural Water Quality Calcs'!$A$9:$F$79,6,0))","v":""},{"$f":"IF(A98=\"\",\"\",VLOOKUP(A98,'Structural Water Quality Calcs'!$A$8:$AE$149,3,0))","v":""},{"$f":"IF(A98=\"\",\"\",SUMIFS(Catchment!$V$5:$V$300,Catchment!$D$5:$D$300,\"RIDOT\",Catchment!$K$5:$K$300,A98))","v":""},{"$f":"IF(A98=\"\",\"\",VLOOKUP(A98,'Structural Water Quality Calcs'!$A$8:$AE$149,4,0))","v":""},{"$f":"IF(A98=\"\",\"\",SUMIFS(Catchment!$L$5:$L$300,Catchment!$D$5:$D$300,\"RIDOT\",Catchment!$K$5:$K$300,A98))","v":""},{"$f":"IF(A98=\"\",\"\",VLOOKUP(A98, 'Structural Water Quality Calcs'!$A$8:$AE$149,11,0))","v":""},{"$f":"IF(A98=\"\",\"\",SUMIFS(Catchment!$X$5:$X$300,Catchment!$D$5:$D$300,\"RIDOT\",Catchment!$K$5:$K$300,A98))","v":""},{"$f":"IF(A98=\"\",\"\",VLOOKUP(A98,'Structural Water Quality Calcs'!$A$8:$AE$149,12,0)*100)","v":""},{"$f":"IF(A98=\"\",\"\",VLOOKUP(A98,'Structural Water Quality Calcs'!$A$8:$AE$149,13,0))","v":""},{"$f":"IF(A98=\"\",\"\",IF(VLOOKUP(A98,'Structural Water Quality Calcs'!$A$9:$B$149,2,0)=\"Limited ROW\",H98*I98*0.1/100,H98*I98/100))","v":""},{"$f":"IF(A98=\"\",\"\",VLOOKUP(A98,'Structural Water Quality Calcs'!$A$8:$AE$149,17,0))","v":""},{"$f":"IF(A98=\"\",\"\",SUMIFS(Catchment!$Z$5:$Z$300,Catchment!$D$5:$D$300,\"RIDOT\",Catchment!$K$5:$K$300,A98))","v":""},{"$f":"IF(A98=\"\",\"\",VLOOKUP(A98,'Structural Water Quality Calcs'!$A$8:$AE$149,18,0)*100)","v":""},{"$f":"IF(A98=\"\",\"\",VLOOKUP(A98,'Structural Water Quality Calcs'!$A$8:$AE$149,19,0))","v":""},{"$f":"IF(A98=\"\",\"\",IF(VLOOKUP(A98,'Structural Water Quality Calcs'!$A$9:$B$149,2,0)=\"Limited ROW\",M98*N98*0.1/100,M98*N98/100))","v":""},{"$f":"IF(A98=\"\",\"\",VLOOKUP(A98,'Structural Water Quality Calcs'!$A$8:$AE$149,14,0))","v":""},{"$f":"IF(A98=\"\",\"\",SUMIFS(Catchment!$Y$5:$Y$300,Catchment!$D$5:$D$300,\"RIDOT\",Catchment!$K$5:$K$300,A98))","v":""},{"$f":"IF(A98=\"\",\"\",VLOOKUP(A98,'Structural Water Quality Calcs'!$A$8:$AE$149,15,0)*100)","v":""},{"$f":"IF(A98=\"\",\"\",VLOOKUP(A98,'Structural Water Quality Calcs'!$A$8:$AE$149,16,0))","v":""},{"$f":"IF(A98=\"\",\"\",IF(VLOOKUP(A98,'Structural Water Quality Calcs'!$A$9:$B$149,2,0)=\"Limited ROW\",R98*S98*0.1/100,R98*S98/100))","v":""},{"$f":"IF(A98=\"\",\"\",VLOOKUP(A98,'Structural Water Quality Calcs'!$A$8:$AE$149,20,0))","v":""},{"$f":"IF(A98=\"\",\"\",SUMIFS(Catchment!$AA$5:$AA$300,Catchment!$D$5:$D$300,\"RIDOT\",Catchment!$K$5:$K$300,A98))","v":""},{"$f":"IF(A98=\"\",\"\",VLOOKUP(A98,'Structural Water Quality Calcs'!$A$8:$AE$149,21,0)*100)","v":""},{"$f":"IF(A98=\"\",\"\",VLOOKUP(A98,'Structural Water Quality Calcs'!$A$8:$AE$149,22,0))","v":""},{"$f":"IF(A98=\"\",\"\",IF(VLOOKUP(A98,'Structural Water Quality Calcs'!$A$9:$B$149,2,0)=\"Limited ROW\",W98*X98*0.1/100,W98*X98/100))","v":""},{"$f":"IF(A98=\"\",\"\",VLOOKUP(A98,'Structural Water Quality Calcs'!$A$8:$AE$149,29,0))","v":""},{"$f":"IF(A98=\"\",\"\",IF(VLOOKUP(A98,'Structural Water Quality Calcs'!$A$9:$B$149,2,0)=\"Limited ROW\",VLOOKUP(A98,'Structural Water Quality Calcs'!$A$8:$AE$149,28,0)*F98*0.1/43560,VLOOKUP(A98,'Structural Water Quality Calcs'!$A$8:$AE$149,28,0)*F98/43560))","v":""},{"$f":"IF(A98=\"\",\"\",VLOOKUP(A98,'Structural Water Quality Calcs'!$A$8:$AE$149,28,0)*100)","v":""},{"$f":"IF(A98=\"\",\"\",VLOOKUP(A98,'Structural Water Quality Calcs'!$A$8:$AE$149,31,0))","v":""},{"$f":"IF(A98=\"\",\"\",VLOOKUP(A98,'Structural Water Quality Calcs'!$A$8:$AE$149,26,0))","v":""},{"$f":"IF(A98=\"\",\"\",VLOOKUP(A98,'Structural Water Quality Calcs'!$A$8:$AE$149,27,0))","v":""},{"$f":"IF(A98=\"\",\"\",(VLOOKUP(A98,'Structural Water Quality Calcs'!$A$8:$AE$149,25,0)))","v":""},{"$f":"IF(A98=\"\",\"\",VLOOKUP(A98,'Structural Water Quality Calcs'!$A$8:$AE$149,24,0))","v":""},{"$f":"IF(A98=\"\",\"\",VLOOKUP(A98,STU_Cost!$A$5:$G$150,4,0))","v":""},{"$f":"IF(A98=\"\",\"\",VLOOKUP(A98,STU_Cost!$A$5:$G$150,5,0))","v":""},{"$f":"IF(A98=\"\",\"\",VLOOKUP(A98,STU_Cost!$A$5:$G$150,6,0))","v":""},{"$f":"IF(A98=\"\",\"\",VLOOKUP(A98,STU_Cost!$A$5:$G$150,7,0))","v":""},null,null,{"$f":"IF(A98=\"\",\"\",VLOOKUP(A98,STU!$A$5:$E$300,5,0))","v":""}]
[null,{"$f":"IF(A99=\"\",\"\",VLOOKUP(A99,'Structural Water Quality Calcs'!$A$9:$F$79,6,0))","v":""},{"$f":"IF(A99=\"\",\"\",VLOOKUP(A99,'Structural Water Quality Calcs'!$A$8:$AE$149,3,0))","v":""},{"$f":"IF(A99=\"\",\"\",SUMIFS(Catchment!$V$5:$V$300,Catchment!$D$5:$D$300,\"RIDOT\",Catchment!$K$5:$K$300,A99))","v":""},{"$f":"IF(A99=\"\",\"\",VLOOKUP(A99,'Structural Water Quality Calcs'!$A$8:$AE$149,4,0))","v":""},{"$f":"IF(A99=\"\",\"\",SUMIFS(Catchment!$L$5:$L$300,Catchment!$D$5:$D$300,\"RIDOT\",Catchment!$K$5:$K$300,A99))","v":""},{"$f":"IF(A99=\"\",\"\",VLOOKUP(A99, 'Structural Water Quality Calcs'!$A$8:$AE$149,11,0))","v":""},{"$f":"IF(A99=\"\",\"\",SUMIFS(Catchment!$X$5:$X$300,Catchment!$D$5:$D$300,\"RIDOT\",Catchment!$K$5:$K$300,A99))","v":""},{"$f":"IF(A99=\"\",\"\",VLOOKUP(A99,'Structural Water Quality Calcs'!$A$8:$AE$149,12,0)*100)","v":""},{"$f":"IF(A99=\"\",\"\",VLOOKUP(A99,'Structural Water Quality Calcs'!$A$8:$AE$149,13,0))","v":""},{"$f":"IF(A99=\"\",\"\",IF(VLOOKUP(A99,'Structural Water Quality Calcs'!$A$9:$B$149,2,0)=\"Limited ROW\",H99*I99*0.1/100,H99*I99/100))","v":""},{"$f":"IF(A99=\"\",\"\",VLOOKUP(A99,'Structural Water Quality Calcs'!$A$8:$AE$149,17,0))","v":""},{"$f":"IF(A99=\"\",\"\",SUMIFS(Catchment!$Z$5:$Z$300,Catchment!$D$5:$D$300,\"RIDOT\",Catchment!$K$5:$K$300,A99))","v":""},{"$f":"IF(A99=\"\",\"\",VLOOKUP(A99,'Structural Water Quality Calcs'!$A$8:$AE$149,18,0)*100)","v":""},{"$f":"IF(A99=\"\",\"\",VLOOKUP(A99,'Structural Water Quality Calcs'!$A$8:$AE$149,19,0))","v":""},{"$f":"IF(A99=\"\",\"\",IF(VLOOKUP(A99,'Structural Water Quality Calcs'!$A$9:$B$149,2,0)=\"Limited ROW\",M99*N99*0.1/100,M99*N99/100))","v":""},{"$f":"IF(A99=\"\",\"\",VLOOKUP(A99,'Structural Water Quality Calcs'!$A$8:$AE$149,14,0))","v":""},{"$f":"IF(A99=\"\",\"\",SUMIFS(Catchment!$Y$5:$Y$300,Catchment!$D$5:$D$300,\"RIDOT\",Catchment!$K$5:$K$300,A99))","v":""},{"$f":"IF(A99=\"\",\"\",VLOOKUP(A99,'Structural Water Quality Calcs'!$A$8:$AE$149,15,0)*100)","v":""},{"$f":"IF(A99=\"\",\"\",VLOOKUP(A99,'Structural Water Quality Calcs'!$A$8:$AE$149,16,0))","v":""},{"$f":"IF(A99=\"\",\"\",IF(VLOOKUP(A99,'Structural Water Quality Calcs'!$A$9:$B$149,2,0)=\"Limited ROW\",R99*S99*0.1/100,R99*S99/100))","v":""},{"$f":"IF(A99=\"\",\"\",VLOOKUP(A99,'Structural Water Quality Calcs'!$A$8:$AE$149,20,0))","v":""},{"$f":"IF(A99=\"\",\"\",SUMIFS(Catchment!$AA$5:$AA$300,Catchment!$D$5:$D$300,\"RIDOT\",Catchment!$K$5:$K$300,A99))","v":""},{"$f":"IF(A99=\"\",\"\",VLOOKUP(A99,'Structural Water Quality Calcs'!$A$8:$AE$149,21,0)*100)","v":""},{"$f":"IF(A99=\"\",\"\",VLOOKUP(A99,'Structural Water Quality Calcs'!$A$8:$AE$149,22,0))","v":""},{"$f":"IF(A99=\"\",\"\",IF(VLOOKUP(A99,'Structural Water Quality Calcs'!$A$9:$B$149,2,0)=\"Limited ROW\",W99*X99*0.1/100,W99*X99/100))","v":""},{"$f":"IF(A99=\"\",\"\",VLOOKUP(A99,'Structural Water Quality Calcs'!$A$8:$AE$149,29,0))","v":""},{"$f":"IF(A99=\"\",\"\",IF(VLOOKUP(A99,'Structural Water Quality Calcs'!$A$9:$B$149,2,0)=\"Limited ROW\",VLOOKUP(A99,'Structural Water Quality Calcs'!$A$8:$AE$149,28,0)*F99*0.1/43560,VLOOKUP(A99,'Structural Water Quality Calcs'!$A$8:$AE$149,28,0)*F99/43560))","v":""},{"$f":"IF(A99=\"\",\"\",VLOOKUP(A99,'Structural Water Quality Calcs'!$A$8:$AE$149,28,0)*100)","v":""},{"$f":"IF(A99=\"\",\"\",VLOOKUP(A99,'Structural Water Quality Calcs'!$A$8:$AE$149,31,0))","v":""},{"$f":"IF(A99=\"\",\"\",VLOOKUP(A99,'Structural Water Quality Calcs'!$A$8:$AE$149,26,0))","v":""},{"$f":"IF(A99=\"\",\"\",VLOOKUP(A99,'Structural Water Quality Calcs'!$A$8:$AE$149,27,0))","v":""},{"$f":"IF(A99=\"\",\"\",(VLOOKUP(A99,'Structural Water Quality Calcs'!$A$8:$AE$149,25,0)))","v":""},{"$f":"IF(A99=\"\",\"\",VLOOKUP(A99,'Structural Water Quality Calcs'!$A$8:$AE$149,24,0))","v":""},{"$f":"IF(A99=\"\",\"\",VLOOKUP(A99,STU_Cost!$A$5:$G$150,4,0))","v":""},{"$f":"IF(A99=\"\",\"\",VLOOKUP(A99,STU_Cost!$A$5:$G$150,5,0))","v":""},{"$f":"IF(A99=\"\",\"\",VLOOKUP(A99,STU_Cost!$A$5:$G$150,6,0))","v":""},{"$f":"IF(A99=\"\",\"\",VLOOKUP(A99,STU_Cost!$A$5:$G$150,7,0))","v":""},null,null,{"$f":"IF(A99=\"\",\"\",VLOOKUP(A99,STU!$A$5:$E$300,5,0))","v":""}]
[null,{"$f":"IF(A100=\"\",\"\",VLOOKUP(A100,'Structural Water Quality Calcs'!$A$9:$F$79,6,0))","v":""},{"$f":"IF(A100=\"\",\"\",VLOOKUP(A100,'Structural Water Quality Calcs'!$A$8:$AE$149,3,0))","v":""},{"$f":"IF(A100=\"\",\"\",SUMIFS(Catchment!$V$5:$V$300,Catchment!$D$5:$D$300,\"RIDOT\",Catchment!$K$5:$K$300,A100))","v":""},{"$f":"IF(A100=\"\",\"\",VLOOKUP(A100,'Structural Water Quality Calcs'!$A$8:$AE$149,4,0))","v":""},{"$f":"IF(A100=\"\",\"\",SUMIFS(Catchment!$L$5:$L$300,Catchment!$D$5:$D$300,\"RIDOT\",Catchment!$K$5:$K$300,A100))","v":""},{"$f":"IF(A100=\"\",\"\",VLOOKUP(A100, 'Structural Water Quality Calcs'!$A$8:$AE$149,11,0))","v":""},{"$f":"IF(A100=\"\",\"\",SUMIFS(Catchment!$X$5:$X$300,Catchment!$D$5:$D$300,\"RIDOT\",Catchment!$K$5:$K$300,A100))","v":""},{"$f":"IF(A100=\"\",\"\",VLOOKUP(A100,'Structural Water Quality Calcs'!$A$8:$AE$149,12,0)*100)","v":""},{"$f":"IF(A100=\"\",\"\",VLOOKUP(A100,'Structural Water Quality Calcs'!$A$8:$AE$149,13,0))","v":""},{"$f":"IF(A100=\"\",\"\",IF(VLOOKUP(A100,'Structural Water Quality Calcs'!$A$9:$B$149,2,0)=\"Limited ROW\",H100*I100*0.1/100,H100*I100/100))","v":""},{"$f":"IF(A100=\"\",\"\",VLOOKUP(A100,'Structural Water Quality Calcs'!$A$8:$AE$149,17,0))","v":""},{"$f":"IF(A100=\"\",\"\",SUMIFS(Catchment!$Z$5:$Z$300,Catchment!$D$5:$D$300,\"RIDOT\",Catchment!$K$5:$K$300,A100))","v":""},{"$f":"IF(A100=\"\",\"\",VLOOKUP(A100,'Structural Water Quality Calcs'!$A$8:$AE$149,18,0)*100)","v":""},{"$f":"IF(A100=\"\",\"\",VLOOKUP(A100,'Structural Water Quality Calcs'!$A$8:$AE$149,19,0))","v":""},{"$f":"IF(A100=\"\",\"\",IF(VLOOKUP(A100,'Structural Water Quality Calcs'!$A$9:$B$149,2,0)=\"Limited ROW\",M100*N100*0.1/100,M100*N100/100))","v":""},{"$f":"IF(A100=\"\",\"\",VLOOKUP(A100,'Structural Water Quality Calcs'!$A$8:$AE$149,14,0))","v":""},{"$f":"IF(A100=\"\",\"\",SUMIFS(Catchment!$Y$5:$Y$300,Catchment!$D$5:$D$300,\"RIDOT\",Catchment!$K$5:$K$300,A100))","v":""},{"$f":"IF(A100=\"\",\"\",VLOOKUP(A100,'Structural Water Quality Calcs'!$A$8:$AE$149,15,0)*100)","v":""},{"$f":"IF(A100=\"\",\"\",VLOOKUP(A100,'Structural Water Quality Calcs'!$A$8:$AE$149,16,0))","v":""},{"$f":"IF(A100=\"\",\"\",IF(VLOOKUP(A100,'Structural Water Quality Calcs'!$A$9:$B$149,2,0)=\"Limited ROW\",R100*S100*0.1/100,R100*S100/100))","v":""},{"$f":"IF(A100=\"\",\"\",VLOOKUP(A100,'Structural Water Quality Calcs'!$A$8:$AE$149,20,0))","v":""},{"$f":"IF(A100=\"\",\"\",SUMIFS(Catchment!$AA$5:$AA$300,Catchment!$D$5:$D$300,\"RIDOT\",Catchment!$K$5:$K$300,A100))","v":""},{"$f":"IF(A100=\"\",\"\",VLOOKUP(A100,'Structural Water Quality Calcs'!$A$8:$AE$149,21,0)*100)","v":""},{"$f":"IF(A100=\"\",\"\",VLOOKUP(A100,'Structural Water Quality Calcs'!$A$8:$AE$149,22,0))","v":""},{"$f":"IF(A100=\"\",\"\",IF(VLOOKUP(A100,'Structural Water Quality Calcs'!$A$9:$B$149,2,0)=\"Limited ROW\",W100*X100*0.1/100,W100*X100/100))","v":""},{"$f":"IF(A100=\"\",\"\",VLOOKUP(A100,'Structural Water Quality Calcs'!$A$8:$AE$149,29,0))","v":""},{"$f":"IF(A100=\"\",\"\",IF(VLOOKUP(A100,'Structural Water Quality Calcs'!$A$9:$B$149,2,0)=\"Limited ROW\",VLOOKUP(A100,'Structural Water Quality Calcs'!$A$8:$AE$149,28,0)*F100*0.1/43560,VLOOKUP(A100,'Structural Water Quality Calcs'!$A$8:$AE$149,28,0)*F100/43560))","v":""},{"$f":"IF(A100=\"\",\"\",VLOOKUP(A100,'Structural Water Quality Calcs'!$A$8:$AE$149,28,0)*100)","v":""},{"$f":"IF(A100=\"\",\"\",VLOOKUP(A100,'Structural Water Quality Calcs'!$A$8:$AE$149,31,0))","v":""},{"$f":"IF(A100=\"\",\"\",VLOOKUP(A100,'Structural Water Quality Calcs'!$A$8:$AE$149,26,0))","v":""},{"$f":"IF(A100=\"\",\"\",VLOOKUP(A100,'Structural Water Quality Calcs'!$A$8:$AE$149,27,0))","v":""},{"$f":"IF(A100=\"\",\"\",(VLOOKUP(A100,'Structural Water Quality Calcs'!$A$8:$AE$149,25,0)))","v":""},{"$f":"IF(A100=\"\",\"\",VLOOKUP(A100,'Structural Water Quality Calcs'!$A$8:$AE$149,24,0))","v":""},{"$f":"IF(A100=\"\",\"\",VLOOKUP(A100,STU_Cost!$A$5:$G$150,4,0))","v":""},{"$f":"IF(A100=\"\",\"\",VLOOKUP(A100,STU_Cost!$A$5:$G$150,5,0))","v":""},{"$f":"IF(A100=\"\",\"\",VLOOKUP(A100,STU_Cost!$A$5:$G$150,6,0))","v":""},{"$f":"IF(A100=\"\",\"\",VLOOKUP(A100,STU_Cost!$A$5:$G$150,7,0))","v":""},null,null,{"$f":"IF(A100=\"\",\"\",VLOOKUP(A100,STU!$A$5:$E$300,5,0))","v":""}]
[null,{"$f":"IF(A101=\"\",\"\",VLOOKUP(A101,'Structural Water Quality Calcs'!$A$9:$F$79,6,0))","v":""},{"$f":"IF(A101=\"\",\"\",VLOOKUP(A101,'Structural Water Quality Calcs'!$A$8:$AE$149,3,0))","v":""},{"$f":"IF(A101=\"\",\"\",SUMIFS(Catchment!$V$5:$V$300,Catchment!$D$5:$D$300,\"RIDOT\",Catchment!$K$5:$K$300,A101))","v":""},{"$f":"IF(A101=\"\",\"\",VLOOKUP(A101,'Structural Water Quality Calcs'!$A$8:$AE$149,4,0))","v":""},{"$f":"IF(A101=\"\",\"\",SUMIFS(Catchment!$L$5:$L$300,Catchment!$D$5:$D$300,\"RIDOT\",Catchment!$K$5:$K$300,A101))","v":""},{"$f":"IF(A101=\"\",\"\",VLOOKUP(A101, 'Structural Water Quality Calcs'!$A$8:$AE$149,11,0))","v":""},{"$f":"IF(A101=\"\",\"\",SUMIFS(Catchment!$X$5:$X$300,Catchment!$D$5:$D$300,\"RIDOT\",Catchment!$K$5:$K$300,A101))","v":""},{"$f":"IF(A101=\"\",\"\",VLOOKUP(A101,'Structural Water Quality Calcs'!$A$8:$AE$149,12,0)*100)","v":""},{"$f":"IF(A101=\"\",\"\",VLOOKUP(A101,'Structural Water Quality Calcs'!$A$8:$AE$149,13,0))","v":""},{"$f":"IF(A101=\"\",\"\",IF(VLOOKUP(A101,'Structural Water Quality Calcs'!$A$9:$B$149,2,0)=\"Limited ROW\",H101*I101*0.1/100,H101*I101/100))","v":""},{"$f":"IF(A101=\"\",\"\",VLOOKUP(A101,'Structural Water Quality Calcs'!$A$8:$AE$149,17,0))","v":""},{"$f":"IF(A101=\"\",\"\",SUMIFS(Catchment!$Z$5:$Z$300,Catchment!$D$5:$D$300,\"RIDOT\",Catchment!$K$5:$K$300,A101))","v":""},{"$f":"IF(A101=\"\",\"\",VLOOKUP(A101,'Structural Water Quality Calcs'!$A$8:$AE$149,18,0)*100)","v":""},{"$f":"IF(A101=\"\",\"\",VLOOKUP(A101,'Structural Water Quality Calcs'!$A$8:$AE$149,19,0))","v":""},{"$f":"IF(A101=\"\",\"\",IF(VLOOKUP(A101,'Structural Water Quality Calcs'!$A$9:$B$149,2,0)=\"Limited ROW\",M101*N101*0.1/100,M101*N101/100))","v":""},{"$f":"IF(A101=\"\",\"\",VLOOKUP(A101,'Structural Water Quality Calcs'!$A$8:$AE$149,14,0))","v":""},{"$f":"IF(A101=\"\",\"\",SUMIFS(Catchment!$Y$5:$Y$300,Catchment!$D$5:$D$300,\"RIDOT\",Catchment!$K$5:$K$300,A101))","v":""},{"$f":"IF(A101=\"\",\"\",VLOOKUP(A101,'Structural Water Quality Calcs'!$A$8:$AE$149,15,0)*100)","v":""},{"$f":"IF(A101=\"\",\"\",VLOOKUP(A101,'Structural Water Quality Calcs'!$A$8:$AE$149,16,0))","v":""},{"$f":"IF(A101=\"\",\"\",IF(VLOOKUP(A101,'Structural Water Quality Calcs'!$A$9:$B$149,2,0)=\"Limited ROW\",R101*S101*0.1/100,R101*S101/100))","v":""},{"$f":"IF(A101=\"\",\"\",VLOOKUP(A101,'Structural Water Quality Calcs'!$A$8:$AE$149,20,0))","v":""},{"$f":"IF(A101=\"\",\"\",SUMIFS(Catchment!$AA$5:$AA$300,Catchment!$D$5:$D$300,\"RIDOT\",Catchment!$K$5:$K$300,A101))","v":""},{"$f":"IF(A101=\"\",\"\",VLOOKUP(A101,'Structural Water Quality Calcs'!$A$8:$AE$149,21,0)*100)","v":""},{"$f":"IF(A101=\"\",\"\",VLOOKUP(A101,'Structural Water Quality Calcs'!$A$8:$AE$149,22,0))","v":""},{"$f":"IF(A101=\"\",\"\",IF(VLOOKUP(A101,'Structural Water Quality Calcs'!$A$9:$B$149,2,0)=\"Limited ROW\",W101*X101*0.1/100,W101*X101/100))","v":""},{"$f":"IF(A101=\"\",\"\",VLOOKUP(A101,'Structural Water Quality Calcs'!$A$8:$AE$149,29,0))","v":""},{"$f":"IF(A101=\"\",\"\",IF(VLOOKUP(A101,'Structural Water Quality Calcs'!$A$9:$B$149,2,0)=\"Limited ROW\",VLOOKUP(A101,'Structural Water Quality Calcs'!$A$8:$AE$149,28,0)*F101*0.1/43560,VLOOKUP(A101,'Structural Water Quality Calcs'!$A$8:$AE$149,28,0)*F101/43560))","v":""},{"$f":"IF(A101=\"\",\"\",VLOOKUP(A101,'Structural Water Quality Calcs'!$A$8:$AE$149,28,0)*100)","v":""},{"$f":"IF(A101=\"\",\"\",VLOOKUP(A101,'Structural Water Quality Calcs'!$A$8:$AE$149,31,0))","v":""},{"$f":"IF(A101=\"\",\"\",VLOOKUP(A101,'Structural Water Quality Calcs'!$A$8:$AE$149,26,0))","v":""},{"$f":"IF(A101=\"\",\"\",VLOOKUP(A101,'Structural Water Quality Calcs'!$A$8:$AE$149,27,0))","v":""},{"$f":"IF(A101=\"\",\"\",(VLOOKUP(A101,'Structural Water Quality Calcs'!$A$8:$AE$149,25,0)))","v":""},{"$f":"IF(A101=\"\",\"\",VLOOKUP(A101,'Structural Water Quality Calcs'!$A$8:$AE$149,24,0))","v":""},{"$f":"IF(A101=\"\",\"\",VLOOKUP(A101,STU_Cost!$A$5:$G$150,4,0))","v":""},{"$f":"IF(A101=\"\",\"\",VLOOKUP(A101,STU_Cost!$A$5:$G$150,5,0))","v":""},{"$f":"IF(A101=\"\",\"\",VLOOKUP(A101,STU_Cost!$A$5:$G$150,6,0))","v":""},{"$f":"IF(A101=\"\",\"\",VLOOKUP(A101,STU_Cost!$A$5:$G$150,7,0))","v":""},null,null,{"$f":"IF(A101=\"\",\"\",VLOOKUP(A101,STU!$A$5:$E$300,5,0))","v":""}]
[null,{"$f":"IF(A102=\"\",\"\",VLOOKUP(A102,'Structural Water Quality Calcs'!$A$9:$F$79,6,0))","v":""},{"$f":"IF(A102=\"\",\"\",VLOOKUP(A102,'Structural Water Quality Calcs'!$A$8:$AE$149,3,0))","v":""},{"$f":"IF(A102=\"\",\"\",SUMIFS(Catchment!$V$5:$V$300,Catchment!$D$5:$D$300,\"RIDOT\",Catchment!$K$5:$K$300,A102))","v":""},{"$f":"IF(A102=\"\",\"\",VLOOKUP(A102,'Structural Water Quality Calcs'!$A$8:$AE$149,4,0))","v":""},{"$f":"IF(A102=\"\",\"\",SUMIFS(Catchment!$L$5:$L$300,Catchment!$D$5:$D$300,\"RIDOT\",Catchment!$K$5:$K$300,A102))","v":""},{"$f":"IF(A102=\"\",\"\",VLOOKUP(A102, 'Structural Water Quality Calcs'!$A$8:$AE$149,11,0))","v":""},{"$f":"IF(A102=\"\",\"\",SUMIFS(Catchment!$X$5:$X$300,Catchment!$D$5:$D$300,\"RIDOT\",Catchment!$K$5:$K$300,A102))","v":""},{"$f":"IF(A102=\"\",\"\",VLOOKUP(A102,'Structural Water Quality Calcs'!$A$8:$AE$149,12,0)*100)","v":""},{"$f":"IF(A102=\"\",\"\",VLOOKUP(A102,'Structural Water Quality Calcs'!$A$8:$AE$149,13,0))","v":""},{"$f":"IF(A102=\"\",\"\",IF(VLOOKUP(A102,'Structural Water Quality Calcs'!$A$9:$B$149,2,0)=\"Limited ROW\",H102*I102*0.1/100,H102*I102/100))","v":""},{"$f":"IF(A102=\"\",\"\",VLOOKUP(A102,'Structural Water Quality Calcs'!$A$8:$AE$149,17,0))","v":""},{"$f":"IF(A102=\"\",\"\",SUMIFS(Catchment!$Z$5:$Z$300,Catchment!$D$5:$D$300,\"RIDOT\",Catchment!$K$5:$K$300,A102))","v":""},{"$f":"IF(A102=\"\",\"\",VLOOKUP(A102,'Structural Water Quality Calcs'!$A$8:$AE$149,18,0)*100)","v":""},{"$f":"IF(A102=\"\",\"\",VLOOKUP(A102,'Structural Water Quality Calcs'!$A$8:$AE$149,19,0))","v":""},{"$f":"IF(A102=\"\",\"\",IF(VLOOKUP(A102,'Structural Water Quality Calcs'!$A$9:$B$149,2,0)=\"Limited ROW\",M102*N102*0.1/100,M102*N102/100))","v":""},{"$f":"IF(A102=\"\",\"\",VLOOKUP(A102,'Structural Water Quality Calcs'!$A$8:$AE$149,14,0))","v":""},{"$f":"IF(A102=\"\",\"\",SUMIFS(Catchment!$Y$5:$Y$300,Catchment!$D$5:$D$300,\"RIDOT\",Catchment!$K$5:$K$300,A102))","v":""},{"$f":"IF(A102=\"\",\"\",VLOOKUP(A102,'Structural Water Quality Calcs'!$A$8:$AE$149,15,0)*100)","v":""},{"$f":"IF(A102=\"\",\"\",VLOOKUP(A102,'Structural Water Quality Calcs'!$A$8:$AE$149,16,0))","v":""},{"$f":"IF(A102=\"\",\"\",IF(VLOOKUP(A102,'Structural Water Quality Calcs'!$A$9:$B$149,2,0)=\"Limited ROW\",R102*S102*0.1/100,R102*S102/100))","v":""},{"$f":"IF(A102=\"\",\"\",VLOOKUP(A102,'Structural Water Quality Calcs'!$A$8:$AE$149,20,0))","v":""},{"$f":"IF(A102=\"\",\"\",SUMIFS(Catchment!$AA$5:$AA$300,Catchment!$D$5:$D$300,\"RIDOT\",Catchment!$K$5:$K$300,A102))","v":""},{"$f":"IF(A102=\"\",\"\",VLOOKUP(A102,'Structural Water Quality Calcs'!$A$8:$AE$149,21,0)*100)","v":""},{"$f":"IF(A102=\"\",\"\",VLOOKUP(A102,'Structural Water Quality Calcs'!$A$8:$AE$149,22,0))","v":""},{"$f":"IF(A102=\"\",\"\",IF(VLOOKUP(A102,'Structural Water Quality Calcs'!$A$9:$B$149,2,0)=\"Limited ROW\",W102*X102*0.1/100,W102*X102/100))","v":""},{"$f":"IF(A102=\"\",\"\",VLOOKUP(A102,'Structural Water Quality Calcs'!$A$8:$AE$149,29,0))","v":""},{"$f":"IF(A102=\"\",\"\",IF(VLOOKUP(A102,'Structural Water Quality Calcs'!$A$9:$B$149,2,0)=\"Limited ROW\",VLOOKUP(A102,'Structural Water Quality Calcs'!$A$8:$AE$149,28,0)*F102*0.1/43560,VLOOKUP(A102,'Structural Water Quality Calcs'!$A$8:$AE$149,28,0)*F102/43560))","v":""},{"$f":"IF(A102=\"\",\"\",VLOOKUP(A102,'Structural Water Quality Calcs'!$A$8:$AE$149,28,0)*100)","v":""},{"$f":"IF(A102=\"\",\"\",VLOOKUP(A102,'Structural Water Quality Calcs'!$A$8:$AE$149,31,0))","v":""},{"$f":"IF(A102=\"\",\"\",VLOOKUP(A102,'Structural Water Quality Calcs'!$A$8:$AE$149,26,0))","v":""},{"$f":"IF(A102=\"\",\"\",VLOOKUP(A102,'Structural Water Quality Calcs'!$A$8:$AE$149,27,0))","v":""},{"$f":"IF(A102=\"\",\"\",(VLOOKUP(A102,'Structural Water Quality Calcs'!$A$8:$AE$149,25,0)))","v":""},{"$f":"IF(A102=\"\",\"\",VLOOKUP(A102,'Structural Water Quality Calcs'!$A$8:$AE$149,24,0))","v":""},{"$f":"IF(A102=\"\",\"\",VLOOKUP(A102,STU_Cost!$A$5:$G$150,4,0))","v":""},{"$f":"IF(A102=\"\",\"\",VLOOKUP(A102,STU_Cost!$A$5:$G$150,5,0))","v":""},{"$f":"IF(A102=\"\",\"\",VLOOKUP(A102,STU_Cost!$A$5:$G$150,6,0))","v":""},{"$f":"IF(A102=\"\",\"\",VLOOKUP(A102,STU_Cost!$A$5:$G$150,7,0))","v":""},null,null,{"$f":"IF(A102=\"\",\"\",VLOOKUP(A102,STU!$A$5:$E$300,5,0))","v":""}]
[null,{"$f":"IF(A103=\"\",\"\",VLOOKUP(A103,'Structural Water Quality Calcs'!$A$9:$F$79,6,0))","v":""},{"$f":"IF(A103=\"\",\"\",VLOOKUP(A103,'Structural Water Quality Calcs'!$A$8:$AE$149,3,0))","v":""},{"$f":"IF(A103=\"\",\"\",SUMIFS(Catchment!$V$5:$V$300,Catchment!$D$5:$D$300,\"RIDOT\",Catchment!$K$5:$K$300,A103))","v":""},{"$f":"IF(A103=\"\",\"\",VLOOKUP(A103,'Structural Water Quality Calcs'!$A$8:$AE$149,4,0))","v":""},{"$f":"IF(A103=\"\",\"\",SUMIFS(Catchment!$L$5:$L$300,Catchment!$D$5:$D$300,\"RIDOT\",Catchment!$K$5:$K$300,A103))","v":""},{"$f":"IF(A103=\"\",\"\",VLOOKUP(A103, 'Structural Water Quality Calcs'!$A$8:$AE$149,11,0))","v":""},{"$f":"IF(A103=\"\",\"\",SUMIFS(Catchment!$X$5:$X$300,Catchment!$D$5:$D$300,\"RIDOT\",Catchment!$K$5:$K$300,A103))","v":""},{"$f":"IF(A103=\"\",\"\",VLOOKUP(A103,'Structural Water Quality Calcs'!$A$8:$AE$149,12,0)*100)","v":""},{"$f":"IF(A103=\"\",\"\",VLOOKUP(A103,'Structural Water Quality Calcs'!$A$8:$AE$149,13,0))","v":""},{"$f":"IF(A103=\"\",\"\",IF(VLOOKUP(A103,'Structural Water Quality Calcs'!$A$9:$B$149,2,0)=\"Limited ROW\",H103*I103*0.1/100,H103*I103/100))","v":""},{"$f":"IF(A103=\"\",\"\",VLOOKUP(A103,'Structural Water Quality Calcs'!$A$8:$AE$149,17,0))","v":""},{"$f":"IF(A103=\"\",\"\",SUMIFS(Catchment!$Z$5:$Z$300,Catchment!$D$5:$D$300,\"RIDOT\",Catchment!$K$5:$K$300,A103))","v":""},{"$f":"IF(A103=\"\",\"\",VLOOKUP(A103,'Structural Water Quality Calcs'!$A$8:$AE$149,18,0)*100)","v":""},{"$f":"IF(A103=\"\",\"\",VLOOKUP(A103,'Structural Water Quality Calcs'!$A$8:$AE$149,19,0))","v":""},{"$f":"IF(A103=\"\",\"\",IF(VLOOKUP(A103,'Structural Water Quality Calcs'!$A$9:$B$149,2,0)=\"Limited ROW\",M103*N103*0.1/100,M103*N103/100))","v":""},{"$f":"IF(A103=\"\",\"\",VLOOKUP(A103,'Structural Water Quality Calcs'!$A$8:$AE$149,14,0))","v":""},{"$f":"IF(A103=\"\",\"\",SUMIFS(Catchment!$Y$5:$Y$300,Catchment!$D$5:$D$300,\"RIDOT\",Catchment!$K$5:$K$300,A103))","v":""},{"$f":"IF(A103=\"\",\"\",VLOOKUP(A103,'Structural Water Quality Calcs'!$A$8:$AE$149,15,0)*100)","v":""},{"$f":"IF(A103=\"\",\"\",VLOOKUP(A103,'Structural Water Quality Calcs'!$A$8:$AE$149,16,0))","v":""},{"$f":"IF(A103=\"\",\"\",IF(VLOOKUP(A103,'Structural Water Quality Calcs'!$A$9:$B$149,2,0)=\"Limited ROW\",R103*S103*0.1/100,R103*S103/100))","v":""},{"$f":"IF(A103=\"\",\"\",VLOOKUP(A103,'Structural Water Quality Calcs'!$A$8:$AE$149,20,0))","v":""},{"$f":"IF(A103=\"\",\"\",SUMIFS(Catchment!$AA$5:$AA$300,Catchment!$D$5:$D$300,\"RIDOT\",Catchment!$K$5:$K$300,A103))","v":""},{"$f":"IF(A103=\"\",\"\",VLOOKUP(A103,'Structural Water Quality Calcs'!$A$8:$AE$149,21,0)*100)","v":""},{"$f":"IF(A103=\"\",\"\",VLOOKUP(A103,'Structural Water Quality Calcs'!$A$8:$AE$149,22,0))","v":""},{"$f":"IF(A103=\"\",\"\",IF(VLOOKUP(A103,'Structural Water Quality Calcs'!$A$9:$B$149,2,0)=\"Limited ROW\",W103*X103*0.1/100,W103*X103/100))","v":""},{"$f":"IF(A103=\"\",\"\",VLOOKUP(A103,'Structural Water Quality Calcs'!$A$8:$AE$149,29,0))","v":""},{"$f":"IF(A103=\"\",\"\",IF(VLOOKUP(A103,'Structural Water Quality Calcs'!$A$9:$B$149,2,0)=\"Limited ROW\",VLOOKUP(A103,'Structural Water Quality Calcs'!$A$8:$AE$149,28,0)*F103*0.1/43560,VLOOKUP(A103,'Structural Water Quality Calcs'!$A$8:$AE$149,28,0)*F103/43560))","v":""},{"$f":"IF(A103=\"\",\"\",VLOOKUP(A103,'Structural Water Quality Calcs'!$A$8:$AE$149,28,0)*100)","v":""},{"$f":"IF(A103=\"\",\"\",VLOOKUP(A103,'Structural Water Quality Calcs'!$A$8:$AE$149,31,0))","v":""},{"$f":"IF(A103=\"\",\"\",VLOOKUP(A103,'Structural Water Quality Calcs'!$A$8:$AE$149,26,0))","v":""},{"$f":"IF(A103=\"\",\"\",VLOOKUP(A103,'Structural Water Quality Calcs'!$A$8:$AE$149,27,0))","v":""},{"$f":"IF(A103=\"\",\"\",(VLOOKUP(A103,'Structural Water Quality Calcs'!$A$8:$AE$149,25,0)))","v":""},{"$f":"IF(A103=\"\",\"\",VLOOKUP(A103,'Structural Water Quality Calcs'!$A$8:$AE$149,24,0))","v":""},{"$f":"IF(A103=\"\",\"\",VLOOKUP(A103,STU_Cost!$A$5:$G$150,4,0))","v":""},{"$f":"IF(A103=\"\",\"\",VLOOKUP(A103,STU_Cost!$A$5:$G$150,5,0))","v":""},{"$f":"IF(A103=\"\",\"\",VLOOKUP(A103,STU_Cost!$A$5:$G$150,6,0))","v":""},{"$f":"IF(A103=\"\",\"\",VLOOKUP(A103,STU_Cost!$A$5:$G$150,7,0))","v":""},null,null,{"$f":"IF(A103=\"\",\"\",VLOOKUP(A103,STU!$A$5:$E$300,5,0))","v":""}]
[null,{"$f":"IF(A104=\"\",\"\",VLOOKUP(A104,'Structural Water Quality Calcs'!$A$9:$F$79,6,0))","v":""},{"$f":"IF(A104=\"\",\"\",VLOOKUP(A104,'Structural Water Quality Calcs'!$A$8:$AE$149,3,0))","v":""},{"$f":"IF(A104=\"\",\"\",SUMIFS(Catchment!$V$5:$V$300,Catchment!$D$5:$D$300,\"RIDOT\",Catchment!$K$5:$K$300,A104))","v":""},{"$f":"IF(A104=\"\",\"\",VLOOKUP(A104,'Structural Water Quality Calcs'!$A$8:$AE$149,4,0))","v":""},{"$f":"IF(A104=\"\",\"\",SUMIFS(Catchment!$L$5:$L$300,Catchment!$D$5:$D$300,\"RIDOT\",Catchment!$K$5:$K$300,A104))","v":""},{"$f":"IF(A104=\"\",\"\",VLOOKUP(A104, 'Structural Water Quality Calcs'!$A$8:$AE$149,11,0))","v":""},{"$f":"IF(A104=\"\",\"\",SUMIFS(Catchment!$X$5:$X$300,Catchment!$D$5:$D$300,\"RIDOT\",Catchment!$K$5:$K$300,A104))","v":""},{"$f":"IF(A104=\"\",\"\",VLOOKUP(A104,'Structural Water Quality Calcs'!$A$8:$AE$149,12,0)*100)","v":""},{"$f":"IF(A104=\"\",\"\",VLOOKUP(A104,'Structural Water Quality Calcs'!$A$8:$AE$149,13,0))","v":""},{"$f":"IF(A104=\"\",\"\",IF(VLOOKUP(A104,'Structural Water Quality Calcs'!$A$9:$B$149,2,0)=\"Limited ROW\",H104*I104*0.1/100,H104*I104/100))","v":""},{"$f":"IF(A104=\"\",\"\",VLOOKUP(A104,'Structural Water Quality Calcs'!$A$8:$AE$149,17,0))","v":""},{"$f":"IF(A104=\"\",\"\",SUMIFS(Catchment!$Z$5:$Z$300,Catchment!$D$5:$D$300,\"RIDOT\",Catchment!$K$5:$K$300,A104))","v":""},{"$f":"IF(A104=\"\",\"\",VLOOKUP(A104,'Structural Water Quality Calcs'!$A$8:$AE$149,18,0)*100)","v":""},{"$f":"IF(A104=\"\",\"\",VLOOKUP(A104,'Structural Water Quality Calcs'!$A$8:$AE$149,19,0))","v":""},{"$f":"IF(A104=\"\",\"\",IF(VLOOKUP(A104,'Structural Water Quality Calcs'!$A$9:$B$149,2,0)=\"Limited ROW\",M104*N104*0.1/100,M104*N104/100))","v":""},{"$f":"IF(A104=\"\",\"\",VLOOKUP(A104,'Structural Water Quality Calcs'!$A$8:$AE$149,14,0))","v":""},{"$f":"IF(A104=\"\",\"\",SUMIFS(Catchment!$Y$5:$Y$300,Catchment!$D$5:$D$300,\"RIDOT\",Catchment!$K$5:$K$300,A104))","v":""},{"$f":"IF(A104=\"\",\"\",VLOOKUP(A104,'Structural Water Quality Calcs'!$A$8:$AE$149,15,0)*100)","v":""},{"$f":"IF(A104=\"\",\"\",VLOOKUP(A104,'Structural Water Quality Calcs'!$A$8:$AE$149,16,0))","v":""},{"$f":"IF(A104=\"\",\"\",IF(VLOOKUP(A104,'Structural Water Quality Calcs'!$A$9:$B$149,2,0)=\"Limited ROW\",R104*S104*0.1/100,R104*S104/100))","v":""},{"$f":"IF(A104=\"\",\"\",VLOOKUP(A104,'Structural Water Quality Calcs'!$A$8:$AE$149,20,0))","v":""},{"$f":"IF(A104=\"\",\"\",SUMIFS(Catchment!$AA$5:$AA$300,Catchment!$D$5:$D$300,\"RIDOT\",Catchment!$K$5:$K$300,A104))","v":""},{"$f":"IF(A104=\"\",\"\",VLOOKUP(A104,'Structural Water Quality Calcs'!$A$8:$AE$149,21,0)*100)","v":""},{"$f":"IF(A104=\"\",\"\",VLOOKUP(A104,'Structural Water Quality Calcs'!$A$8:$AE$149,22,0))","v":""},{"$f":"IF(A104=\"\",\"\",IF(VLOOKUP(A104,'Structural Water Quality Calcs'!$A$9:$B$149,2,0)=\"Limited ROW\",W104*X104*0.1/100,W104*X104/100))","v":""},{"$f":"IF(A104=\"\",\"\",VLOOKUP(A104,'Structural Water Quality Calcs'!$A$8:$AE$149,29,0))","v":""},{"$f":"IF(A104=\"\",\"\",IF(VLOOKUP(A104,'Structural Water Quality Calcs'!$A$9:$B$149,2,0)=\"Limited ROW\",VLOOKUP(A104,'Structural Water Quality Calcs'!$A$8:$AE$149,28,0)*F104*0.1/43560,VLOOKUP(A104,'Structural Water Quality Calcs'!$A$8:$AE$149,28,0)*F104/43560))","v":""},{"$f":"IF(A104=\"\",\"\",VLOOKUP(A104,'Structural Water Quality Calcs'!$A$8:$AE$149,28,0)*100)","v":""},{"$f":"IF(A104=\"\",\"\",VLOOKUP(A104,'Structural Water Quality Calcs'!$A$8:$AE$149,31,0))","v":""},{"$f":"IF(A104=\"\",\"\",VLOOKUP(A104,'Structural Water Quality Calcs'!$A$8:$AE$149,26,0))","v":""},{"$f":"IF(A104=\"\",\"\",VLOOKUP(A104,'Structural Water Quality Calcs'!$A$8:$AE$149,27,0))","v":""},{"$f":"IF(A104=\"\",\"\",(VLOOKUP(A104,'Structural Water Quality Calcs'!$A$8:$AE$149,25,0)))","v":""},{"$f":"IF(A104=\"\",\"\",VLOOKUP(A104,'Structural Water Quality Calcs'!$A$8:$AE$149,24,0))","v":""},{"$f":"IF(A104=\"\",\"\",VLOOKUP(A104,STU_Cost!$A$5:$G$150,4,0))","v":""},{"$f":"IF(A104=\"\",\"\",VLOOKUP(A104,STU_Cost!$A$5:$G$150,5,0))","v":""},{"$f":"IF(A104=\"\",\"\",VLOOKUP(A104,STU_Cost!$A$5:$G$150,6,0))","v":""},{"$f":"IF(A104=\"\",\"\",VLOOKUP(A104,STU_Cost!$A$5:$G$150,7,0))","v":""},null,null,{"$f":"IF(A104=\"\",\"\",VLOOKUP(A104,STU!$A$5:$E$300,5,0))","v":""}]
[null,{"$f":"IF(A105=\"\",\"\",VLOOKUP(A105,'Structural Water Quality Calcs'!$A$9:$F$79,6,0))","v":""},{"$f":"IF(A105=\"\",\"\",VLOOKUP(A105,'Structural Water Quality Calcs'!$A$8:$AE$149,3,0))","v":""},{"$f":"IF(A105=\"\",\"\",SUMIFS(Catchment!$V$5:$V$300,Catchment!$D$5:$D$300,\"RIDOT\",Catchment!$K$5:$K$300,A105))","v":""},{"$f":"IF(A105=\"\",\"\",VLOOKUP(A105,'Structural Water Quality Calcs'!$A$8:$AE$149,4,0))","v":""},{"$f":"IF(A105=\"\",\"\",SUMIFS(Catchment!$L$5:$L$300,Catchment!$D$5:$D$300,\"RIDOT\",Catchment!$K$5:$K$300,A105))","v":""},{"$f":"IF(A105=\"\",\"\",VLOOKUP(A105, 'Structural Water Quality Calcs'!$A$8:$AE$149,11,0))","v":""},{"$f":"IF(A105=\"\",\"\",SUMIFS(Catchment!$X$5:$X$300,Catchment!$D$5:$D$300,\"RIDOT\",Catchment!$K$5:$K$300,A105))","v":""},{"$f":"IF(A105=\"\",\"\",VLOOKUP(A105,'Structural Water Quality Calcs'!$A$8:$AE$149,12,0)*100)","v":""},{"$f":"IF(A105=\"\",\"\",VLOOKUP(A105,'Structural Water Quality Calcs'!$A$8:$AE$149,13,0))","v":""},{"$f":"IF(A105=\"\",\"\",IF(VLOOKUP(A105,'Structural Water Quality Calcs'!$A$9:$B$149,2,0)=\"Limited ROW\",H105*I105*0.1/100,H105*I105/100))","v":""},{"$f":"IF(A105=\"\",\"\",VLOOKUP(A105,'Structural Water Quality Calcs'!$A$8:$AE$149,17,0))","v":""},{"$f":"IF(A105=\"\",\"\",SUMIFS(Catchment!$Z$5:$Z$300,Catchment!$D$5:$D$300,\"RIDOT\",Catchment!$K$5:$K$300,A105))","v":""},{"$f":"IF(A105=\"\",\"\",VLOOKUP(A105,'Structural Water Quality Calcs'!$A$8:$AE$149,18,0)*100)","v":""},{"$f":"IF(A105=\"\",\"\",VLOOKUP(A105,'Structural Water Quality Calcs'!$A$8:$AE$149,19,0))","v":""},{"$f":"IF(A105=\"\",\"\",IF(VLOOKUP(A105,'Structural Water Quality Calcs'!$A$9:$B$149,2,0)=\"Limited ROW\",M105*N105*0.1/100,M105*N105/100))","v":""},{"$f":"IF(A105=\"\",\"\",VLOOKUP(A105,'Structural Water Quality Calcs'!$A$8:$AE$149,14,0))","v":""},{"$f":"IF(A105=\"\",\"\",SUMIFS(Catchment!$Y$5:$Y$300,Catchment!$D$5:$D$300,\"RIDOT\",Catchment!$K$5:$K$300,A105))","v":""},{"$f":"IF(A105=\"\",\"\",VLOOKUP(A105,'Structural Water Quality Calcs'!$A$8:$AE$149,15,0)*100)","v":""},{"$f":"IF(A105=\"\",\"\",VLOOKUP(A105,'Structural Water Quality Calcs'!$A$8:$AE$149,16,0))","v":""},{"$f":"IF(A105=\"\",\"\",IF(VLOOKUP(A105,'Structural Water Quality Calcs'!$A$9:$B$149,2,0)=\"Limited ROW\",R105*S105*0.1/100,R105*S105/100))","v":""},{"$f":"IF(A105=\"\",\"\",VLOOKUP(A105,'Structural Water Quality Calcs'!$A$8:$AE$149,20,0))","v":""},{"$f":"IF(A105=\"\",\"\",SUMIFS(Catchment!$AA$5:$AA$300,Catchment!$D$5:$D$300,\"RIDOT\",Catchment!$K$5:$K$300,A105))","v":""},{"$f":"IF(A105=\"\",\"\",VLOOKUP(A105,'Structural Water Quality Calcs'!$A$8:$AE$149,21,0)*100)","v":""},{"$f":"IF(A105=\"\",\"\",VLOOKUP(A105,'Structural Water Quality Calcs'!$A$8:$AE$149,22,0))","v":""},{"$f":"IF(A105=\"\",\"\",IF(VLOOKUP(A105,'Structural Water Quality Calcs'!$A$9:$B$149,2,0)=\"Limited ROW\",W105*X105*0.1/100,W105*X105/100))","v":""},{"$f":"IF(A105=\"\",\"\",VLOOKUP(A105,'Structural Water Quality Calcs'!$A$8:$AE$149,29,0))","v":""},{"$f":"IF(A105=\"\",\"\",IF(VLOOKUP(A105,'Structural Water Quality Calcs'!$A$9:$B$149,2,0)=\"Limited ROW\",VLOOKUP(A105,'Structural Water Quality Calcs'!$A$8:$AE$149,28,0)*F105*0.1/43560,VLOOKUP(A105,'Structural Water Quality Calcs'!$A$8:$AE$149,28,0)*F105/43560))","v":""},{"$f":"IF(A105=\"\",\"\",VLOOKUP(A105,'Structural Water Quality Calcs'!$A$8:$AE$149,28,0)*100)","v":""},{"$f":"IF(A105=\"\",\"\",VLOOKUP(A105,'Structural Water Quality Calcs'!$A$8:$AE$149,31,0))","v":""},{"$f":"IF(A105=\"\",\"\",VLOOKUP(A105,'Structural Water Quality Calcs'!$A$8:$AE$149,26,0))","v":""},{"$f":"IF(A105=\"\",\"\",VLOOKUP(A105,'Structural Water Quality Calcs'!$A$8:$AE$149,27,0))","v":""},{"$f":"IF(A105=\"\",\"\",(VLOOKUP(A105,'Structural Water Quality Calcs'!$A$8:$AE$149,25,0)))","v":""},{"$f":"IF(A105=\"\",\"\",VLOOKUP(A105,'Structural Water Quality Calcs'!$A$8:$AE$149,24,0))","v":""},{"$f":"IF(A105=\"\",\"\",VLOOKUP(A105,STU_Cost!$A$5:$G$150,4,0))","v":""},{"$f":"IF(A105=\"\",\"\",VLOOKUP(A105,STU_Cost!$A$5:$G$150,5,0))","v":""},{"$f":"IF(A105=\"\",\"\",VLOOKUP(A105,STU_Cost!$A$5:$G$150,6,0))","v":""},{"$f":"IF(A105=\"\",\"\",VLOOKUP(A105,STU_Cost!$A$5:$G$150,7,0))","v":""},null,null,{"$f":"IF(A105=\"\",\"\",VLOOKUP(A105,STU!$A$5:$E$300,5,0))","v":""}]
[null,{"$f":"IF(A106=\"\",\"\",VLOOKUP(A106,'Structural Water Quality Calcs'!$A$9:$F$79,6,0))","v":""},{"$f":"IF(A106=\"\",\"\",VLOOKUP(A106,'Structural Water Quality Calcs'!$A$8:$AE$149,3,0))","v":""},{"$f":"IF(A106=\"\",\"\",SUMIFS(Catchment!$V$5:$V$300,Catchment!$D$5:$D$300,\"RIDOT\",Catchment!$K$5:$K$300,A106))","v":""},{"$f":"IF(A106=\"\",\"\",VLOOKUP(A106,'Structural Water Quality Calcs'!$A$8:$AE$149,4,0))","v":""},{"$f":"IF(A106=\"\",\"\",SUMIFS(Catchment!$L$5:$L$300,Catchment!$D$5:$D$300,\"RIDOT\",Catchment!$K$5:$K$300,A106))","v":""},{"$f":"IF(A106=\"\",\"\",VLOOKUP(A106, 'Structural Water Quality Calcs'!$A$8:$AE$149,11,0))","v":""},{"$f":"IF(A106=\"\",\"\",SUMIFS(Catchment!$X$5:$X$300,Catchment!$D$5:$D$300,\"RIDOT\",Catchment!$K$5:$K$300,A106))","v":""},{"$f":"IF(A106=\"\",\"\",VLOOKUP(A106,'Structural Water Quality Calcs'!$A$8:$AE$149,12,0)*100)","v":""},{"$f":"IF(A106=\"\",\"\",VLOOKUP(A106,'Structural Water Quality Calcs'!$A$8:$AE$149,13,0))","v":""},{"$f":"IF(A106=\"\",\"\",IF(VLOOKUP(A106,'Structural Water Quality Calcs'!$A$9:$B$149,2,0)=\"Limited ROW\",H106*I106*0.1/100,H106*I106/100))","v":""},{"$f":"IF(A106=\"\",\"\",VLOOKUP(A106,'Structural Water Quality Calcs'!$A$8:$AE$149,17,0))","v":""},{"$f":"IF(A106=\"\",\"\",SUMIFS(Catchment!$Z$5:$Z$300,Catchment!$D$5:$D$300,\"RIDOT\",Catchment!$K$5:$K$300,A106))","v":""},{"$f":"IF(A106=\"\",\"\",VLOOKUP(A106,'Structural Water Quality Calcs'!$A$8:$AE$149,18,0)*100)","v":""},{"$f":"IF(A106=\"\",\"\",VLOOKUP(A106,'Structural Water Quality Calcs'!$A$8:$AE$149,19,0))","v":""},{"$f":"IF(A106=\"\",\"\",IF(VLOOKUP(A106,'Structural Water Quality Calcs'!$A$9:$B$149,2,0)=\"Limited ROW\",M106*N106*0.1/100,M106*N106/100))","v":""},{"$f":"IF(A106=\"\",\"\",VLOOKUP(A106,'Structural Water Quality Calcs'!$A$8:$AE$149,14,0))","v":""},{"$f":"IF(A106=\"\",\"\",SUMIFS(Catchment!$Y$5:$Y$300,Catchment!$D$5:$D$300,\"RIDOT\",Catchment!$K$5:$K$300,A106))","v":""},{"$f":"IF(A106=\"\",\"\",VLOOKUP(A106,'Structural Water Quality Calcs'!$A$8:$AE$149,15,0)*100)","v":""},{"$f":"IF(A106=\"\",\"\",VLOOKUP(A106,'Structural Water Quality Calcs'!$A$8:$AE$149,16,0))","v":""},{"$f":"IF(A106=\"\",\"\",IF(VLOOKUP(A106,'Structural Water Quality Calcs'!$A$9:$B$149,2,0)=\"Limited ROW\",R106*S106*0.1/100,R106*S106/100))","v":""},{"$f":"IF(A106=\"\",\"\",VLOOKUP(A106,'Structural Water Quality Calcs'!$A$8:$AE$149,20,0))","v":""},{"$f":"IF(A106=\"\",\"\",SUMIFS(Catchment!$AA$5:$AA$300,Catchment!$D$5:$D$300,\"RIDOT\",Catchment!$K$5:$K$300,A106))","v":""},{"$f":"IF(A106=\"\",\"\",VLOOKUP(A106,'Structural Water Quality Calcs'!$A$8:$AE$149,21,0)*100)","v":""},{"$f":"IF(A106=\"\",\"\",VLOOKUP(A106,'Structural Water Quality Calcs'!$A$8:$AE$149,22,0))","v":""},{"$f":"IF(A106=\"\",\"\",IF(VLOOKUP(A106,'Structural Water Quality Calcs'!$A$9:$B$149,2,0)=\"Limited ROW\",W106*X106*0.1/100,W106*X106/100))","v":""},{"$f":"IF(A106=\"\",\"\",VLOOKUP(A106,'Structural Water Quality Calcs'!$A$8:$AE$149,29,0))","v":""},{"$f":"IF(A106=\"\",\"\",IF(VLOOKUP(A106,'Structural Water Quality Calcs'!$A$9:$B$149,2,0)=\"Limited ROW\",VLOOKUP(A106,'Structural Water Quality Calcs'!$A$8:$AE$149,28,0)*F106*0.1/43560,VLOOKUP(A106,'Structural Water Quality Calcs'!$A$8:$AE$149,28,0)*F106/43560))","v":""},{"$f":"IF(A106=\"\",\"\",VLOOKUP(A106,'Structural Water Quality Calcs'!$A$8:$AE$149,28,0)*100)","v":""},{"$f":"IF(A106=\"\",\"\",VLOOKUP(A106,'Structural Water Quality Calcs'!$A$8:$AE$149,31,0))","v":""},{"$f":"IF(A106=\"\",\"\",VLOOKUP(A106,'Structural Water Quality Calcs'!$A$8:$AE$149,26,0))","v":""},{"$f":"IF(A106=\"\",\"\",VLOOKUP(A106,'Structural Water Quality Calcs'!$A$8:$AE$149,27,0))","v":""},{"$f":"IF(A106=\"\",\"\",(VLOOKUP(A106,'Structural Water Quality Calcs'!$A$8:$AE$149,25,0)))","v":""},{"$f":"IF(A106=\"\",\"\",VLOOKUP(A106,'Structural Water Quality Calcs'!$A$8:$AE$149,24,0))","v":""},{"$f":"IF(A106=\"\",\"\",VLOOKUP(A106,STU_Cost!$A$5:$G$150,4,0))","v":""},{"$f":"IF(A106=\"\",\"\",VLOOKUP(A106,STU_Cost!$A$5:$G$150,5,0))","v":""},{"$f":"IF(A106=\"\",\"\",VLOOKUP(A106,STU_Cost!$A$5:$G$150,6,0))","v":""},{"$f":"IF(A106=\"\",\"\",VLOOKUP(A106,STU_Cost!$A$5:$G$150,7,0))","v":""},null,null,{"$f":"IF(A106=\"\",\"\",VLOOKUP(A106,STU!$A$5:$E$300,5,0))","v":""}]
[null,{"$f":"IF(A107=\"\",\"\",VLOOKUP(A107,'Structural Water Quality Calcs'!$A$9:$F$79,6,0))","v":""},{"$f":"IF(A107=\"\",\"\",VLOOKUP(A107,'Structural Water Quality Calcs'!$A$8:$AE$149,3,0))","v":""},{"$f":"IF(A107=\"\",\"\",SUMIFS(Catchment!$V$5:$V$300,Catchment!$D$5:$D$300,\"RIDOT\",Catchment!$K$5:$K$300,A107))","v":""},{"$f":"IF(A107=\"\",\"\",VLOOKUP(A107,'Structural Water Quality Calcs'!$A$8:$AE$149,4,0))","v":""},{"$f":"IF(A107=\"\",\"\",SUMIFS(Catchment!$L$5:$L$300,Catchment!$D$5:$D$300,\"RIDOT\",Catchment!$K$5:$K$300,A107))","v":""},{"$f":"IF(A107=\"\",\"\",VLOOKUP(A107, 'Structural Water Quality Calcs'!$A$8:$AE$149,11,0))","v":""},{"$f":"IF(A107=\"\",\"\",SUMIFS(Catchment!$X$5:$X$300,Catchment!$D$5:$D$300,\"RIDOT\",Catchment!$K$5:$K$300,A107))","v":""},{"$f":"IF(A107=\"\",\"\",VLOOKUP(A107,'Structural Water Quality Calcs'!$A$8:$AE$149,12,0)*100)","v":""},{"$f":"IF(A107=\"\",\"\",VLOOKUP(A107,'Structural Water Quality Calcs'!$A$8:$AE$149,13,0))","v":""},{"$f":"IF(A107=\"\",\"\",IF(VLOOKUP(A107,'Structural Water Quality Calcs'!$A$9:$B$149,2,0)=\"Limited ROW\",H107*I107*0.1/100,H107*I107/100))","v":""},{"$f":"IF(A107=\"\",\"\",VLOOKUP(A107,'Structural Water Quality Calcs'!$A$8:$AE$149,17,0))","v":""},{"$f":"IF(A107=\"\",\"\",SUMIFS(Catchment!$Z$5:$Z$300,Catchment!$D$5:$D$300,\"RIDOT\",Catchment!$K$5:$K$300,A107))","v":""},{"$f":"IF(A107=\"\",\"\",VLOOKUP(A107,'Structural Water Quality Calcs'!$A$8:$AE$149,18,0)*100)","v":""},{"$f":"IF(A107=\"\",\"\",VLOOKUP(A107,'Structural Water Quality Calcs'!$A$8:$AE$149,19,0))","v":""},{"$f":"IF(A107=\"\",\"\",IF(VLOOKUP(A107,'Structural Water Quality Calcs'!$A$9:$B$149,2,0)=\"Limited ROW\",M107*N107*0.1/100,M107*N107/100))","v":""},{"$f":"IF(A107=\"\",\"\",VLOOKUP(A107,'Structural Water Quality Calcs'!$A$8:$AE$149,14,0))","v":""},{"$f":"IF(A107=\"\",\"\",SUMIFS(Catchment!$Y$5:$Y$300,Catchment!$D$5:$D$300,\"RIDOT\",Catchment!$K$5:$K$300,A107))","v":""},{"$f":"IF(A107=\"\",\"\",VLOOKUP(A107,'Structural Water Quality Calcs'!$A$8:$AE$149,15,0)*100)","v":""},{"$f":"IF(A107=\"\",\"\",VLOOKUP(A107,'Structural Water Quality Calcs'!$A$8:$AE$149,16,0))","v":""},{"$f":"IF(A107=\"\",\"\",IF(VLOOKUP(A107,'Structural Water Quality Calcs'!$A$9:$B$149,2,0)=\"Limited ROW\",R107*S107*0.1/100,R107*S107/100))","v":""},{"$f":"IF(A107=\"\",\"\",VLOOKUP(A107,'Structural Water Quality Calcs'!$A$8:$AE$149,20,0))","v":""},{"$f":"IF(A107=\"\",\"\",SUMIFS(Catchment!$AA$5:$AA$300,Catchment!$D$5:$D$300,\"RIDOT\",Catchment!$K$5:$K$300,A107))","v":""},{"$f":"IF(A107=\"\",\"\",VLOOKUP(A107,'Structural Water Quality Calcs'!$A$8:$AE$149,21,0)*100)","v":""},{"$f":"IF(A107=\"\",\"\",VLOOKUP(A107,'Structural Water Quality Calcs'!$A$8:$AE$149,22,0))","v":""},{"$f":"IF(A107=\"\",\"\",IF(VLOOKUP(A107,'Structural Water Quality Calcs'!$A$9:$B$149,2,0)=\"Limited ROW\",W107*X107*0.1/100,W107*X107/100))","v":""},{"$f":"IF(A107=\"\",\"\",VLOOKUP(A107,'Structural Water Quality Calcs'!$A$8:$AE$149,29,0))","v":""},{"$f":"IF(A107=\"\",\"\",IF(VLOOKUP(A107,'Structural Water Quality Calcs'!$A$9:$B$149,2,0)=\"Limited ROW\",VLOOKUP(A107,'Structural Water Quality Calcs'!$A$8:$AE$149,28,0)*F107*0.1/43560,VLOOKUP(A107,'Structural Water Quality Calcs'!$A$8:$AE$149,28,0)*F107/43560))","v":""},{"$f":"IF(A107=\"\",\"\",VLOOKUP(A107,'Structural Water Quality Calcs'!$A$8:$AE$149,28,0)*100)","v":""},{"$f":"IF(A107=\"\",\"\",VLOOKUP(A107,'Structural Water Quality Calcs'!$A$8:$AE$149,31,0))","v":""},{"$f":"IF(A107=\"\",\"\",VLOOKUP(A107,'Structural Water Quality Calcs'!$A$8:$AE$149,26,0))","v":""},{"$f":"IF(A107=\"\",\"\",VLOOKUP(A107,'Structural Water Quality Calcs'!$A$8:$AE$149,27,0))","v":""},{"$f":"IF(A107=\"\",\"\",(VLOOKUP(A107,'Structural Water Quality Calcs'!$A$8:$AE$149,25,0)))","v":""},{"$f":"IF(A107=\"\",\"\",VLOOKUP(A107,'Structural Water Quality Calcs'!$A$8:$AE$149,24,0))","v":""},{"$f":"IF(A107=\"\",\"\",VLOOKUP(A107,STU_Cost!$A$5:$G$150,4,0))","v":""},{"$f":"IF(A107=\"\",\"\",VLOOKUP(A107,STU_Cost!$A$5:$G$150,5,0))","v":""},{"$f":"IF(A107=\"\",\"\",VLOOKUP(A107,STU_Cost!$A$5:$G$150,6,0))","v":""},{"$f":"IF(A107=\"\",\"\",VLOOKUP(A107,STU_Cost!$A$5:$G$150,7,0))","v":""},null,null,{"$f":"IF(A107=\"\",\"\",VLOOKUP(A107,STU!$A$5:$E$300,5,0))","v":""}]
[null,{"$f":"IF(A108=\"\",\"\",VLOOKUP(A108,'Structural Water Quality Calcs'!$A$9:$F$79,6,0))","v":""},{"$f":"IF(A108=\"\",\"\",VLOOKUP(A108,'Structural Water Quality Calcs'!$A$8:$AE$149,3,0))","v":""},{"$f":"IF(A108=\"\",\"\",SUMIFS(Catchment!$V$5:$V$300,Catchment!$D$5:$D$300,\"RIDOT\",Catchment!$K$5:$K$300,A108))","v":""},{"$f":"IF(A108=\"\",\"\",VLOOKUP(A108,'Structural Water Quality Calcs'!$A$8:$AE$149,4,0))","v":""},{"$f":"IF(A108=\"\",\"\",SUMIFS(Catchment!$L$5:$L$300,Catchment!$D$5:$D$300,\"RIDOT\",Catchment!$K$5:$K$300,A108))","v":""},{"$f":"IF(A108=\"\",\"\",VLOOKUP(A108, 'Structural Water Quality Calcs'!$A$8:$AE$149,11,0))","v":""},{"$f":"IF(A108=\"\",\"\",SUMIFS(Catchment!$X$5:$X$300,Catchment!$D$5:$D$300,\"RIDOT\",Catchment!$K$5:$K$300,A108))","v":""},{"$f":"IF(A108=\"\",\"\",VLOOKUP(A108,'Structural Water Quality Calcs'!$A$8:$AE$149,12,0)*100)","v":""},{"$f":"IF(A108=\"\",\"\",VLOOKUP(A108,'Structural Water Quality Calcs'!$A$8:$AE$149,13,0))","v":""},{"$f":"IF(A108=\"\",\"\",IF(VLOOKUP(A108,'Structural Water Quality Calcs'!$A$9:$B$149,2,0)=\"Limited ROW\",H108*I108*0.1/100,H108*I108/100))","v":""},{"$f":"IF(A108=\"\",\"\",VLOOKUP(A108,'Structural Water Quality Calcs'!$A$8:$AE$149,17,0))","v":""},{"$f":"IF(A108=\"\",\"\",SUMIFS(Catchment!$Z$5:$Z$300,Catchment!$D$5:$D$300,\"RIDOT\",Catchment!$K$5:$K$300,A108))","v":""},{"$f":"IF(A108=\"\",\"\",VLOOKUP(A108,'Structural Water Quality Calcs'!$A$8:$AE$149,18,0)*100)","v":""},{"$f":"IF(A108=\"\",\"\",VLOOKUP(A108,'Structural Water Quality Calcs'!$A$8:$AE$149,19,0))","v":""},{"$f":"IF(A108=\"\",\"\",IF(VLOOKUP(A108,'Structural Water Quality Calcs'!$A$9:$B$149,2,0)=\"Limited ROW\",M108*N108*0.1/100,M108*N108/100))","v":""},{"$f":"IF(A108=\"\",\"\",VLOOKUP(A108,'Structural Water Quality Calcs'!$A$8:$AE$149,14,0))","v":""},{"$f":"IF(A108=\"\",\"\",SUMIFS(Catchment!$Y$5:$Y$300,Catchment!$D$5:$D$300,\"RIDOT\",Catchment!$K$5:$K$300,A108))","v":""},{"$f":"IF(A108=\"\",\"\",VLOOKUP(A108,'Structural Water Quality Calcs'!$A$8:$AE$149,15,0)*100)","v":""},{"$f":"IF(A108=\"\",\"\",VLOOKUP(A108,'Structural Water Quality Calcs'!$A$8:$AE$149,16,0))","v":""},{"$f":"IF(A108=\"\",\"\",IF(VLOOKUP(A108,'Structural Water Quality Calcs'!$A$9:$B$149,2,0)=\"Limited ROW\",R108*S108*0.1/100,R108*S108/100))","v":""},{"$f":"IF(A108=\"\",\"\",VLOOKUP(A108,'Structural Water Quality Calcs'!$A$8:$AE$149,20,0))","v":""},{"$f":"IF(A108=\"\",\"\",SUMIFS(Catchment!$AA$5:$AA$300,Catchment!$D$5:$D$300,\"RIDOT\",Catchment!$K$5:$K$300,A108))","v":""},{"$f":"IF(A108=\"\",\"\",VLOOKUP(A108,'Structural Water Quality Calcs'!$A$8:$AE$149,21,0)*100)","v":""},{"$f":"IF(A108=\"\",\"\",VLOOKUP(A108,'Structural Water Quality Calcs'!$A$8:$AE$149,22,0))","v":""},{"$f":"IF(A108=\"\",\"\",IF(VLOOKUP(A108,'Structural Water Quality Calcs'!$A$9:$B$149,2,0)=\"Limited ROW\",W108*X108*0.1/100,W108*X108/100))","v":""},{"$f":"IF(A108=\"\",\"\",VLOOKUP(A108,'Structural Water Quality Calcs'!$A$8:$AE$149,29,0))","v":""},{"$f":"IF(A108=\"\",\"\",IF(VLOOKUP(A108,'Structural Water Quality Calcs'!$A$9:$B$149,2,0)=\"Limited ROW\",VLOOKUP(A108,'Structural Water Quality Calcs'!$A$8:$AE$149,28,0)*F108*0.1/43560,VLOOKUP(A108,'Structural Water Quality Calcs'!$A$8:$AE$149,28,0)*F108/43560))","v":""},{"$f":"IF(A108=\"\",\"\",VLOOKUP(A108,'Structural Water Quality Calcs'!$A$8:$AE$149,28,0)*100)","v":""},{"$f":"IF(A108=\"\",\"\",VLOOKUP(A108,'Structural Water Quality Calcs'!$A$8:$AE$149,31,0))","v":""},{"$f":"IF(A108=\"\",\"\",VLOOKUP(A108,'Structural Water Quality Calcs'!$A$8:$AE$149,26,0))","v":""},{"$f":"IF(A108=\"\",\"\",VLOOKUP(A108,'Structural Water Quality Calcs'!$A$8:$AE$149,27,0))","v":""},{"$f":"IF(A108=\"\",\"\",(VLOOKUP(A108,'Structural Water Quality Calcs'!$A$8:$AE$149,25,0)))","v":""},{"$f":"IF(A108=\"\",\"\",VLOOKUP(A108,'Structural Water Quality Calcs'!$A$8:$AE$149,24,0))","v":""},{"$f":"IF(A108=\"\",\"\",VLOOKUP(A108,STU_Cost!$A$5:$G$150,4,0))","v":""},{"$f":"IF(A108=\"\",\"\",VLOOKUP(A108,STU_Cost!$A$5:$G$150,5,0))","v":""},{"$f":"IF(A108=\"\",\"\",VLOOKUP(A108,STU_Cost!$A$5:$G$150,6,0))","v":""},{"$f":"IF(A108=\"\",\"\",VLOOKUP(A108,STU_Cost!$A$5:$G$150,7,0))","v":""},null,null,{"$f":"IF(A108=\"\",\"\",VLOOKUP(A108,STU!$A$5:$E$300,5,0))","v":""}]
[null,{"$f":"IF(A109=\"\",\"\",VLOOKUP(A109,'Structural Water Quality Calcs'!$A$9:$F$79,6,0))","v":""},{"$f":"IF(A109=\"\",\"\",VLOOKUP(A109,'Structural Water Quality Calcs'!$A$8:$AE$149,3,0))","v":""},{"$f":"IF(A109=\"\",\"\",SUMIFS(Catchment!$V$5:$V$300,Catchment!$D$5:$D$300,\"RIDOT\",Catchment!$K$5:$K$300,A109))","v":""},{"$f":"IF(A109=\"\",\"\",VLOOKUP(A109,'Structural Water Quality Calcs'!$A$8:$AE$149,4,0))","v":""},{"$f":"IF(A109=\"\",\"\",SUMIFS(Catchment!$L$5:$L$300,Catchment!$D$5:$D$300,\"RIDOT\",Catchment!$K$5:$K$300,A109))","v":""},{"$f":"IF(A109=\"\",\"\",VLOOKUP(A109, 'Structural Water Quality Calcs'!$A$8:$AE$149,11,0))","v":""},{"$f":"IF(A109=\"\",\"\",SUMIFS(Catchment!$X$5:$X$300,Catchment!$D$5:$D$300,\"RIDOT\",Catchment!$K$5:$K$300,A109))","v":""},{"$f":"IF(A109=\"\",\"\",VLOOKUP(A109,'Structural Water Quality Calcs'!$A$8:$AE$149,12,0)*100)","v":""},{"$f":"IF(A109=\"\",\"\",VLOOKUP(A109,'Structural Water Quality Calcs'!$A$8:$AE$149,13,0))","v":""},{"$f":"IF(A109=\"\",\"\",IF(VLOOKUP(A109,'Structural Water Quality Calcs'!$A$9:$B$149,2,0)=\"Limited ROW\",H109*I109*0.1/100,H109*I109/100))","v":""},{"$f":"IF(A109=\"\",\"\",VLOOKUP(A109,'Structural Water Quality Calcs'!$A$8:$AE$149,17,0))","v":""},{"$f":"IF(A109=\"\",\"\",SUMIFS(Catchment!$Z$5:$Z$300,Catchment!$D$5:$D$300,\"RIDOT\",Catchment!$K$5:$K$300,A109))","v":""},{"$f":"IF(A109=\"\",\"\",VLOOKUP(A109,'Structural Water Quality Calcs'!$A$8:$AE$149,18,0)*100)","v":""},{"$f":"IF(A109=\"\",\"\",VLOOKUP(A109,'Structural Water Quality Calcs'!$A$8:$AE$149,19,0))","v":""},{"$f":"IF(A109=\"\",\"\",IF(VLOOKUP(A109,'Structural Water Quality Calcs'!$A$9:$B$149,2,0)=\"Limited ROW\",M109*N109*0.1/100,M109*N109/100))","v":""},{"$f":"IF(A109=\"\",\"\",VLOOKUP(A109,'Structural Water Quality Calcs'!$A$8:$AE$149,14,0))","v":""},{"$f":"IF(A109=\"\",\"\",SUMIFS(Catchment!$Y$5:$Y$300,Catchment!$D$5:$D$300,\"RIDOT\",Catchment!$K$5:$K$300,A109))","v":""},{"$f":"IF(A109=\"\",\"\",VLOOKUP(A109,'Structural Water Quality Calcs'!$A$8:$AE$149,15,0)*100)","v":""},{"$f":"IF(A109=\"\",\"\",VLOOKUP(A109,'Structural Water Quality Calcs'!$A$8:$AE$149,16,0))","v":""},{"$f":"IF(A109=\"\",\"\",IF(VLOOKUP(A109,'Structural Water Quality Calcs'!$A$9:$B$149,2,0)=\"Limited ROW\",R109*S109*0.1/100,R109*S109/100))","v":""},{"$f":"IF(A109=\"\",\"\",VLOOKUP(A109,'Structural Water Quality Calcs'!$A$8:$AE$149,20,0))","v":""},{"$f":"IF(A109=\"\",\"\",SUMIFS(Catchment!$AA$5:$AA$300,Catchment!$D$5:$D$300,\"RIDOT\",Catchment!$K$5:$K$300,A109))","v":""},{"$f":"IF(A109=\"\",\"\",VLOOKUP(A109,'Structural Water Quality Calcs'!$A$8:$AE$149,21,0)*100)","v":""},{"$f":"IF(A109=\"\",\"\",VLOOKUP(A109,'Structural Water Quality Calcs'!$A$8:$AE$149,22,0))","v":""},{"$f":"IF(A109=\"\",\"\",IF(VLOOKUP(A109,'Structural Water Quality Calcs'!$A$9:$B$149,2,0)=\"Limited ROW\",W109*X109*0.1/100,W109*X109/100))","v":""},{"$f":"IF(A109=\"\",\"\",VLOOKUP(A109,'Structural Water Quality Calcs'!$A$8:$AE$149,29,0))","v":""},{"$f":"IF(A109=\"\",\"\",IF(VLOOKUP(A109,'Structural Water Quality Calcs'!$A$9:$B$149,2,0)=\"Limited ROW\",VLOOKUP(A109,'Structural Water Quality Calcs'!$A$8:$AE$149,28,0)*F109*0.1/43560,VLOOKUP(A109,'Structural Water Quality Calcs'!$A$8:$AE$149,28,0)*F109/43560))","v":""},{"$f":"IF(A109=\"\",\"\",VLOOKUP(A109,'Structural Water Quality Calcs'!$A$8:$AE$149,28,0)*100)","v":""},{"$f":"IF(A109=\"\",\"\",VLOOKUP(A109,'Structural Water Quality Calcs'!$A$8:$AE$149,31,0))","v":""},{"$f":"IF(A109=\"\",\"\",VLOOKUP(A109,'Structural Water Quality Calcs'!$A$8:$AE$149,26,0))","v":""},{"$f":"IF(A109=\"\",\"\",VLOOKUP(A109,'Structural Water Quality Calcs'!$A$8:$AE$149,27,0))","v":""},{"$f":"IF(A109=\"\",\"\",(VLOOKUP(A109,'Structural Water Quality Calcs'!$A$8:$AE$149,25,0)))","v":""},{"$f":"IF(A109=\"\",\"\",VLOOKUP(A109,'Structural Water Quality Calcs'!$A$8:$AE$149,24,0))","v":""},{"$f":"IF(A109=\"\",\"\",VLOOKUP(A109,STU_Cost!$A$5:$G$150,4,0))","v":""},{"$f":"IF(A109=\"\",\"\",VLOOKUP(A109,STU_Cost!$A$5:$G$150,5,0))","v":""},{"$f":"IF(A109=\"\",\"\",VLOOKUP(A109,STU_Cost!$A$5:$G$150,6,0))","v":""},{"$f":"IF(A109=\"\",\"\",VLOOKUP(A109,STU_Cost!$A$5:$G$150,7,0))","v":""},null,null,{"$f":"IF(A109=\"\",\"\",VLOOKUP(A109,STU!$A$5:$E$300,5,0))","v":""}]
[null,{"$f":"IF(A110=\"\",\"\",VLOOKUP(A110,'Structural Water Quality Calcs'!$A$9:$F$79,6,0))","v":""},{"$f":"IF(A110=\"\",\"\",VLOOKUP(A110,'Structural Water Quality Calcs'!$A$8:$AE$149,3,0))","v":""},{"$f":"IF(A110=\"\",\"\",SUMIFS(Catchment!$V$5:$V$300,Catchment!$D$5:$D$300,\"RIDOT\",Catchment!$K$5:$K$300,A110))","v":""},{"$f":"IF(A110=\"\",\"\",VLOOKUP(A110,'Structural Water Quality Calcs'!$A$8:$AE$149,4,0))","v":""},{"$f":"IF(A110=\"\",\"\",SUMIFS(Catchment!$L$5:$L$300,Catchment!$D$5:$D$300,\"RIDOT\",Catchment!$K$5:$K$300,A110))","v":""},{"$f":"IF(A110=\"\",\"\",VLOOKUP(A110, 'Structural Water Quality Calcs'!$A$8:$AE$149,11,0))","v":""},{"$f":"IF(A110=\"\",\"\",SUMIFS(Catchment!$X$5:$X$300,Catchment!$D$5:$D$300,\"RIDOT\",Catchment!$K$5:$K$300,A110))","v":""},{"$f":"IF(A110=\"\",\"\",VLOOKUP(A110,'Structural Water Quality Calcs'!$A$8:$AE$149,12,0)*100)","v":""},{"$f":"IF(A110=\"\",\"\",VLOOKUP(A110,'Structural Water Quality Calcs'!$A$8:$AE$149,13,0))","v":""},{"$f":"IF(A110=\"\",\"\",IF(VLOOKUP(A110,'Structural Water Quality Calcs'!$A$9:$B$149,2,0)=\"Limited ROW\",H110*I110*0.1/100,H110*I110/100))","v":""},{"$f":"IF(A110=\"\",\"\",VLOOKUP(A110,'Structural Water Quality Calcs'!$A$8:$AE$149,17,0))","v":""},{"$f":"IF(A110=\"\",\"\",SUMIFS(Catchment!$Z$5:$Z$300,Catchment!$D$5:$D$300,\"RIDOT\",Catchment!$K$5:$K$300,A110))","v":""},{"$f":"IF(A110=\"\",\"\",VLOOKUP(A110,'Structural Water Quality Calcs'!$A$8:$AE$149,18,0)*100)","v":""},{"$f":"IF(A110=\"\",\"\",VLOOKUP(A110,'Structural Water Quality Calcs'!$A$8:$AE$149,19,0))","v":""},{"$f":"IF(A110=\"\",\"\",IF(VLOOKUP(A110,'Structural Water Quality Calcs'!$A$9:$B$149,2,0)=\"Limited ROW\",M110*N110*0.1/100,M110*N110/100))","v":""},{"$f":"IF(A110=\"\",\"\",VLOOKUP(A110,'Structural Water Quality Calcs'!$A$8:$AE$149,14,0))","v":""},{"$f":"IF(A110=\"\",\"\",SUMIFS(Catchment!$Y$5:$Y$300,Catchment!$D$5:$D$300,\"RIDOT\",Catchment!$K$5:$K$300,A110))","v":""},{"$f":"IF(A110=\"\",\"\",VLOOKUP(A110,'Structural Water Quality Calcs'!$A$8:$AE$149,15,0)*100)","v":""},{"$f":"IF(A110=\"\",\"\",VLOOKUP(A110,'Structural Water Quality Calcs'!$A$8:$AE$149,16,0))","v":""},{"$f":"IF(A110=\"\",\"\",IF(VLOOKUP(A110,'Structural Water Quality Calcs'!$A$9:$B$149,2,0)=\"Limited ROW\",R110*S110*0.1/100,R110*S110/100))","v":""},{"$f":"IF(A110=\"\",\"\",VLOOKUP(A110,'Structural Water Quality Calcs'!$A$8:$AE$149,20,0))","v":""},{"$f":"IF(A110=\"\",\"\",SUMIFS(Catchment!$AA$5:$AA$300,Catchment!$D$5:$D$300,\"RIDOT\",Catchment!$K$5:$K$300,A110))","v":""},{"$f":"IF(A110=\"\",\"\",VLOOKUP(A110,'Structural Water Quality Calcs'!$A$8:$AE$149,21,0)*100)","v":""},{"$f":"IF(A110=\"\",\"\",VLOOKUP(A110,'Structural Water Quality Calcs'!$A$8:$AE$149,22,0))","v":""},{"$f":"IF(A110=\"\",\"\",IF(VLOOKUP(A110,'Structural Water Quality Calcs'!$A$9:$B$149,2,0)=\"Limited ROW\",W110*X110*0.1/100,W110*X110/100))","v":""},{"$f":"IF(A110=\"\",\"\",VLOOKUP(A110,'Structural Water Quality Calcs'!$A$8:$AE$149,29,0))","v":""},{"$f":"IF(A110=\"\",\"\",IF(VLOOKUP(A110,'Structural Water Quality Calcs'!$A$9:$B$149,2,0)=\"Limited ROW\",VLOOKUP(A110,'Structural Water Quality Calcs'!$A$8:$AE$149,28,0)*F110*0.1/43560,VLOOKUP(A110,'Structural Water Quality Calcs'!$A$8:$AE$149,28,0)*F110/43560))","v":""},{"$f":"IF(A110=\"\",\"\",VLOOKUP(A110,'Structural Water Quality Calcs'!$A$8:$AE$149,28,0)*100)","v":""},{"$f":"IF(A110=\"\",\"\",VLOOKUP(A110,'Structural Water Quality Calcs'!$A$8:$AE$149,31,0))","v":""},{"$f":"IF(A110=\"\",\"\",VLOOKUP(A110,'Structural Water Quality Calcs'!$A$8:$AE$149,26,0))","v":""},{"$f":"IF(A110=\"\",\"\",VLOOKUP(A110,'Structural Water Quality Calcs'!$A$8:$AE$149,27,0))","v":""},{"$f":"IF(A110=\"\",\"\",(VLOOKUP(A110,'Structural Water Quality Calcs'!$A$8:$AE$149,25,0)))","v":""},{"$f":"IF(A110=\"\",\"\",VLOOKUP(A110,'Structural Water Quality Calcs'!$A$8:$AE$149,24,0))","v":""},{"$f":"IF(A110=\"\",\"\",VLOOKUP(A110,STU_Cost!$A$5:$G$150,4,0))","v":""},{"$f":"IF(A110=\"\",\"\",VLOOKUP(A110,STU_Cost!$A$5:$G$150,5,0))","v":""},{"$f":"IF(A110=\"\",\"\",VLOOKUP(A110,STU_Cost!$A$5:$G$150,6,0))","v":""},{"$f":"IF(A110=\"\",\"\",VLOOKUP(A110,STU_Cost!$A$5:$G$150,7,0))","v":""},null,null,{"$f":"IF(A110=\"\",\"\",VLOOKUP(A110,STU!$A$5:$E$300,5,0))","v":""}]
[null,{"$f":"IF(A111=\"\",\"\",VLOOKUP(A111,'Structural Water Quality Calcs'!$A$9:$F$79,6,0))","v":""},{"$f":"IF(A111=\"\",\"\",VLOOKUP(A111,'Structural Water Quality Calcs'!$A$8:$AE$149,3,0))","v":""},{"$f":"IF(A111=\"\",\"\",SUMIFS(Catchment!$V$5:$V$300,Catchment!$D$5:$D$300,\"RIDOT\",Catchment!$K$5:$K$300,A111))","v":""},{"$f":"IF(A111=\"\",\"\",VLOOKUP(A111,'Structural Water Quality Calcs'!$A$8:$AE$149,4,0))","v":""},{"$f":"IF(A111=\"\",\"\",SUMIFS(Catchment!$L$5:$L$300,Catchment!$D$5:$D$300,\"RIDOT\",Catchment!$K$5:$K$300,A111))","v":""},{"$f":"IF(A111=\"\",\"\",VLOOKUP(A111, 'Structural Water Quality Calcs'!$A$8:$AE$149,11,0))","v":""},{"$f":"IF(A111=\"\",\"\",SUMIFS(Catchment!$X$5:$X$300,Catchment!$D$5:$D$300,\"RIDOT\",Catchment!$K$5:$K$300,A111))","v":""},{"$f":"IF(A111=\"\",\"\",VLOOKUP(A111,'Structural Water Quality Calcs'!$A$8:$AE$149,12,0)*100)","v":""},{"$f":"IF(A111=\"\",\"\",VLOOKUP(A111,'Structural Water Quality Calcs'!$A$8:$AE$149,13,0))","v":""},{"$f":"IF(A111=\"\",\"\",IF(VLOOKUP(A111,'Structural Water Quality Calcs'!$A$9:$B$149,2,0)=\"Limited ROW\",H111*I111*0.1/100,H111*I111/100))","v":""},{"$f":"IF(A111=\"\",\"\",VLOOKUP(A111,'Structural Water Quality Calcs'!$A$8:$AE$149,17,0))","v":""},{"$f":"IF(A111=\"\",\"\",SUMIFS(Catchment!$Z$5:$Z$300,Catchment!$D$5:$D$300,\"RIDOT\",Catchment!$K$5:$K$300,A111))","v":""},{"$f":"IF(A111=\"\",\"\",VLOOKUP(A111,'Structural Water Quality Calcs'!$A$8:$AE$149,18,0)*100)","v":""},{"$f":"IF(A111=\"\",\"\",VLOOKUP(A111,'Structural Water Quality Calcs'!$A$8:$AE$149,19,0))","v":""},{"$f":"IF(A111=\"\",\"\",IF(VLOOKUP(A111,'Structural Water Quality Calcs'!$A$9:$B$149,2,0)=\"Limited ROW\",M111*N111*0.1/100,M111*N111/100))","v":""},{"$f":"IF(A111=\"\",\"\",VLOOKUP(A111,'Structural Water Quality Calcs'!$A$8:$AE$149,14,0))","v":""},{"$f":"IF(A111=\"\",\"\",SUMIFS(Catchment!$Y$5:$Y$300,Catchment!$D$5:$D$300,\"RIDOT\",Catchment!$K$5:$K$300,A111))","v":""},{"$f":"IF(A111=\"\",\"\",VLOOKUP(A111,'Structural Water Quality Calcs'!$A$8:$AE$149,15,0)*100)","v":""},{"$f":"IF(A111=\"\",\"\",VLOOKUP(A111,'Structural Water Quality Calcs'!$A$8:$AE$149,16,0))","v":""},{"$f":"IF(A111=\"\",\"\",IF(VLOOKUP(A111,'Structural Water Quality Calcs'!$A$9:$B$149,2,0)=\"Limited ROW\",R111*S111*0.1/100,R111*S111/100))","v":""},{"$f":"IF(A111=\"\",\"\",VLOOKUP(A111,'Structural Water Quality Calcs'!$A$8:$AE$149,20,0))","v":""},{"$f":"IF(A111=\"\",\"\",SUMIFS(Catchment!$AA$5:$AA$300,Catchment!$D$5:$D$300,\"RIDOT\",Catchment!$K$5:$K$300,A111))","v":""},{"$f":"IF(A111=\"\",\"\",VLOOKUP(A111,'Structural Water Quality Calcs'!$A$8:$AE$149,21,0)*100)","v":""},{"$f":"IF(A111=\"\",\"\",VLOOKUP(A111,'Structural Water Quality Calcs'!$A$8:$AE$149,22,0))","v":""},{"$f":"IF(A111=\"\",\"\",IF(VLOOKUP(A111,'Structural Water Quality Calcs'!$A$9:$B$149,2,0)=\"Limited ROW\",W111*X111*0.1/100,W111*X111/100))","v":""},{"$f":"IF(A111=\"\",\"\",VLOOKUP(A111,'Structural Water Quality Calcs'!$A$8:$AE$149,29,0))","v":""},{"$f":"IF(A111=\"\",\"\",IF(VLOOKUP(A111,'Structural Water Quality Calcs'!$A$9:$B$149,2,0)=\"Limited ROW\",VLOOKUP(A111,'Structural Water Quality Calcs'!$A$8:$AE$149,28,0)*F111*0.1/43560,VLOOKUP(A111,'Structural Water Quality Calcs'!$A$8:$AE$149,28,0)*F111/43560))","v":""},{"$f":"IF(A111=\"\",\"\",VLOOKUP(A111,'Structural Water Quality Calcs'!$A$8:$AE$149,28,0)*100)","v":""},{"$f":"IF(A111=\"\",\"\",VLOOKUP(A111,'Structural Water Quality Calcs'!$A$8:$AE$149,31,0))","v":""},{"$f":"IF(A111=\"\",\"\",VLOOKUP(A111,'Structural Water Quality Calcs'!$A$8:$AE$149,26,0))","v":""},{"$f":"IF(A111=\"\",\"\",VLOOKUP(A111,'Structural Water Quality Calcs'!$A$8:$AE$149,27,0))","v":""},{"$f":"IF(A111=\"\",\"\",(VLOOKUP(A111,'Structural Water Quality Calcs'!$A$8:$AE$149,25,0)))","v":""},{"$f":"IF(A111=\"\",\"\",VLOOKUP(A111,'Structural Water Quality Calcs'!$A$8:$AE$149,24,0))","v":""},{"$f":"IF(A111=\"\",\"\",VLOOKUP(A111,STU_Cost!$A$5:$G$150,4,0))","v":""},{"$f":"IF(A111=\"\",\"\",VLOOKUP(A111,STU_Cost!$A$5:$G$150,5,0))","v":""},{"$f":"IF(A111=\"\",\"\",VLOOKUP(A111,STU_Cost!$A$5:$G$150,6,0))","v":""},{"$f":"IF(A111=\"\",\"\",VLOOKUP(A111,STU_Cost!$A$5:$G$150,7,0))","v":""},null,null,{"$f":"IF(A111=\"\",\"\",VLOOKUP(A111,STU!$A$5:$E$300,5,0))","v":""}]
[null,{"$f":"IF(A112=\"\",\"\",VLOOKUP(A112,'Structural Water Quality Calcs'!$A$9:$F$79,6,0))","v":""},{"$f":"IF(A112=\"\",\"\",VLOOKUP(A112,'Structural Water Quality Calcs'!$A$8:$AE$149,3,0))","v":""},{"$f":"IF(A112=\"\",\"\",SUMIFS(Catchment!$V$5:$V$300,Catchment!$D$5:$D$300,\"RIDOT\",Catchment!$K$5:$K$300,A112))","v":""},{"$f":"IF(A112=\"\",\"\",VLOOKUP(A112,'Structural Water Quality Calcs'!$A$8:$AE$149,4,0))","v":""},{"$f":"IF(A112=\"\",\"\",SUMIFS(Catchment!$L$5:$L$300,Catchment!$D$5:$D$300,\"RIDOT\",Catchment!$K$5:$K$300,A112))","v":""},{"$f":"IF(A112=\"\",\"\",VLOOKUP(A112, 'Structural Water Quality Calcs'!$A$8:$AE$149,11,0))","v":""},{"$f":"IF(A112=\"\",\"\",SUMIFS(Catchment!$X$5:$X$300,Catchment!$D$5:$D$300,\"RIDOT\",Catchment!$K$5:$K$300,A112))","v":""},{"$f":"IF(A112=\"\",\"\",VLOOKUP(A112,'Structural Water Quality Calcs'!$A$8:$AE$149,12,0)*100)","v":""},{"$f":"IF(A112=\"\",\"\",VLOOKUP(A112,'Structural Water Quality Calcs'!$A$8:$AE$149,13,0))","v":""},{"$f":"IF(A112=\"\",\"\",IF(VLOOKUP(A112,'Structural Water Quality Calcs'!$A$9:$B$149,2,0)=\"Limited ROW\",H112*I112*0.1/100,H112*I112/100))","v":""},{"$f":"IF(A112=\"\",\"\",VLOOKUP(A112,'Structural Water Quality Calcs'!$A$8:$AE$149,17,0))","v":""},{"$f":"IF(A112=\"\",\"\",SUMIFS(Catchment!$Z$5:$Z$300,Catchment!$D$5:$D$300,\"RIDOT\",Catchment!$K$5:$K$300,A112))","v":""},{"$f":"IF(A112=\"\",\"\",VLOOKUP(A112,'Structural Water Quality Calcs'!$A$8:$AE$149,18,0)*100)","v":""},{"$f":"IF(A112=\"\",\"\",VLOOKUP(A112,'Structural Water Quality Calcs'!$A$8:$AE$149,19,0))","v":""},{"$f":"IF(A112=\"\",\"\",IF(VLOOKUP(A112,'Structural Water Quality Calcs'!$A$9:$B$149,2,0)=\"Limited ROW\",M112*N112*0.1/100,M112*N112/100))","v":""},{"$f":"IF(A112=\"\",\"\",VLOOKUP(A112,'Structural Water Quality Calcs'!$A$8:$AE$149,14,0))","v":""},{"$f":"IF(A112=\"\",\"\",SUMIFS(Catchment!$Y$5:$Y$300,Catchment!$D$5:$D$300,\"RIDOT\",Catchment!$K$5:$K$300,A112))","v":""},{"$f":"IF(A112=\"\",\"\",VLOOKUP(A112,'Structural Water Quality Calcs'!$A$8:$AE$149,15,0)*100)","v":""},{"$f":"IF(A112=\"\",\"\",VLOOKUP(A112,'Structural Water Quality Calcs'!$A$8:$AE$149,16,0))","v":""},{"$f":"IF(A112=\"\",\"\",IF(VLOOKUP(A112,'Structural Water Quality Calcs'!$A$9:$B$149,2,0)=\"Limited ROW\",R112*S112*0.1/100,R112*S112/100))","v":""},{"$f":"IF(A112=\"\",\"\",VLOOKUP(A112,'Structural Water Quality Calcs'!$A$8:$AE$149,20,0))","v":""},{"$f":"IF(A112=\"\",\"\",SUMIFS(Catchment!$AA$5:$AA$300,Catchment!$D$5:$D$300,\"RIDOT\",Catchment!$K$5:$K$300,A112))","v":""},{"$f":"IF(A112=\"\",\"\",VLOOKUP(A112,'Structural Water Quality Calcs'!$A$8:$AE$149,21,0)*100)","v":""},{"$f":"IF(A112=\"\",\"\",VLOOKUP(A112,'Structural Water Quality Calcs'!$A$8:$AE$149,22,0))","v":""},{"$f":"IF(A112=\"\",\"\",IF(VLOOKUP(A112,'Structural Water Quality Calcs'!$A$9:$B$149,2,0)=\"Limited ROW\",W112*X112*0.1/100,W112*X112/100))","v":""},{"$f":"IF(A112=\"\",\"\",VLOOKUP(A112,'Structural Water Quality Calcs'!$A$8:$AE$149,29,0))","v":""},{"$f":"IF(A112=\"\",\"\",IF(VLOOKUP(A112,'Structural Water Quality Calcs'!$A$9:$B$149,2,0)=\"Limited ROW\",VLOOKUP(A112,'Structural Water Quality Calcs'!$A$8:$AE$149,28,0)*F112*0.1/43560,VLOOKUP(A112,'Structural Water Quality Calcs'!$A$8:$AE$149,28,0)*F112/43560))","v":""},{"$f":"IF(A112=\"\",\"\",VLOOKUP(A112,'Structural Water Quality Calcs'!$A$8:$AE$149,28,0)*100)","v":""},{"$f":"IF(A112=\"\",\"\",VLOOKUP(A112,'Structural Water Quality Calcs'!$A$8:$AE$149,31,0))","v":""},{"$f":"IF(A112=\"\",\"\",VLOOKUP(A112,'Structural Water Quality Calcs'!$A$8:$AE$149,26,0))","v":""},{"$f":"IF(A112=\"\",\"\",VLOOKUP(A112,'Structural Water Quality Calcs'!$A$8:$AE$149,27,0))","v":""},{"$f":"IF(A112=\"\",\"\",(VLOOKUP(A112,'Structural Water Quality Calcs'!$A$8:$AE$149,25,0)))","v":""},{"$f":"IF(A112=\"\",\"\",VLOOKUP(A112,'Structural Water Quality Calcs'!$A$8:$AE$149,24,0))","v":""},{"$f":"IF(A112=\"\",\"\",VLOOKUP(A112,STU_Cost!$A$5:$G$150,4,0))","v":""},{"$f":"IF(A112=\"\",\"\",VLOOKUP(A112,STU_Cost!$A$5:$G$150,5,0))","v":""},{"$f":"IF(A112=\"\",\"\",VLOOKUP(A112,STU_Cost!$A$5:$G$150,6,0))","v":""},{"$f":"IF(A112=\"\",\"\",VLOOKUP(A112,STU_Cost!$A$5:$G$150,7,0))","v":""},null,null,{"$f":"IF(A112=\"\",\"\",VLOOKUP(A112,STU!$A$5:$E$300,5,0))","v":""}]
[null,{"$f":"IF(A113=\"\",\"\",VLOOKUP(A113,'Structural Water Quality Calcs'!$A$9:$F$79,6,0))","v":""},{"$f":"IF(A113=\"\",\"\",VLOOKUP(A113,'Structural Water Quality Calcs'!$A$8:$AE$149,3,0))","v":""},{"$f":"IF(A113=\"\",\"\",SUMIFS(Catchment!$V$5:$V$300,Catchment!$D$5:$D$300,\"RIDOT\",Catchment!$K$5:$K$300,A113))","v":""},{"$f":"IF(A113=\"\",\"\",VLOOKUP(A113,'Structural Water Quality Calcs'!$A$8:$AE$149,4,0))","v":""},{"$f":"IF(A113=\"\",\"\",SUMIFS(Catchment!$L$5:$L$300,Catchment!$D$5:$D$300,\"RIDOT\",Catchment!$K$5:$K$300,A113))","v":""},{"$f":"IF(A113=\"\",\"\",VLOOKUP(A113, 'Structural Water Quality Calcs'!$A$8:$AE$149,11,0))","v":""},{"$f":"IF(A113=\"\",\"\",SUMIFS(Catchment!$X$5:$X$300,Catchment!$D$5:$D$300,\"RIDOT\",Catchment!$K$5:$K$300,A113))","v":""},{"$f":"IF(A113=\"\",\"\",VLOOKUP(A113,'Structural Water Quality Calcs'!$A$8:$AE$149,12,0)*100)","v":""},{"$f":"IF(A113=\"\",\"\",VLOOKUP(A113,'Structural Water Quality Calcs'!$A$8:$AE$149,13,0))","v":""},{"$f":"IF(A113=\"\",\"\",IF(VLOOKUP(A113,'Structural Water Quality Calcs'!$A$9:$B$149,2,0)=\"Limited ROW\",H113*I113*0.1/100,H113*I113/100))","v":""},{"$f":"IF(A113=\"\",\"\",VLOOKUP(A113,'Structural Water Quality Calcs'!$A$8:$AE$149,17,0))","v":""},{"$f":"IF(A113=\"\",\"\",SUMIFS(Catchment!$Z$5:$Z$300,Catchment!$D$5:$D$300,\"RIDOT\",Catchment!$K$5:$K$300,A113))","v":""},{"$f":"IF(A113=\"\",\"\",VLOOKUP(A113,'Structural Water Quality Calcs'!$A$8:$AE$149,18,0)*100)","v":""},{"$f":"IF(A113=\"\",\"\",VLOOKUP(A113,'Structural Water Quality Calcs'!$A$8:$AE$149,19,0))","v":""},{"$f":"IF(A113=\"\",\"\",IF(VLOOKUP(A113,'Structural Water Quality Calcs'!$A$9:$B$149,2,0)=\"Limited ROW\",M113*N113*0.1/100,M113*N113/100))","v":""},{"$f":"IF(A113=\"\",\"\",VLOOKUP(A113,'Structural Water Quality Calcs'!$A$8:$AE$149,14,0))","v":""},{"$f":"IF(A113=\"\",\"\",SUMIFS(Catchment!$Y$5:$Y$300,Catchment!$D$5:$D$300,\"RIDOT\",Catchment!$K$5:$K$300,A113))","v":""},{"$f":"IF(A113=\"\",\"\",VLOOKUP(A113,'Structural Water Quality Calcs'!$A$8:$AE$149,15,0)*100)","v":""},{"$f":"IF(A113=\"\",\"\",VLOOKUP(A113,'Structural Water Quality Calcs'!$A$8:$AE$149,16,0))","v":""},{"$f":"IF(A113=\"\",\"\",IF(VLOOKUP(A113,'Structural Water Quality Calcs'!$A$9:$B$149,2,0)=\"Limited ROW\",R113*S113*0.1/100,R113*S113/100))","v":""},{"$f":"IF(A113=\"\",\"\",VLOOKUP(A113,'Structural Water Quality Calcs'!$A$8:$AE$149,20,0))","v":""},{"$f":"IF(A113=\"\",\"\",SUMIFS(Catchment!$AA$5:$AA$300,Catchment!$D$5:$D$300,\"RIDOT\",Catchment!$K$5:$K$300,A113))","v":""},{"$f":"IF(A113=\"\",\"\",VLOOKUP(A113,'Structural Water Quality Calcs'!$A$8:$AE$149,21,0)*100)","v":""},{"$f":"IF(A113=\"\",\"\",VLOOKUP(A113,'Structural Water Quality Calcs'!$A$8:$AE$149,22,0))","v":""},{"$f":"IF(A113=\"\",\"\",IF(VLOOKUP(A113,'Structural Water Quality Calcs'!$A$9:$B$149,2,0)=\"Limited ROW\",W113*X113*0.1/100,W113*X113/100))","v":""},{"$f":"IF(A113=\"\",\"\",VLOOKUP(A113,'Structural Water Quality Calcs'!$A$8:$AE$149,29,0))","v":""},{"$f":"IF(A113=\"\",\"\",IF(VLOOKUP(A113,'Structural Water Quality Calcs'!$A$9:$B$149,2,0)=\"Limited ROW\",VLOOKUP(A113,'Structural Water Quality Calcs'!$A$8:$AE$149,28,0)*F113*0.1/43560,VLOOKUP(A113,'Structural Water Quality Calcs'!$A$8:$AE$149,28,0)*F113/43560))","v":""},{"$f":"IF(A113=\"\",\"\",VLOOKUP(A113,'Structural Water Quality Calcs'!$A$8:$AE$149,28,0)*100)","v":""},{"$f":"IF(A113=\"\",\"\",VLOOKUP(A113,'Structural Water Quality Calcs'!$A$8:$AE$149,31,0))","v":""},{"$f":"IF(A113=\"\",\"\",VLOOKUP(A113,'Structural Water Quality Calcs'!$A$8:$AE$149,26,0))","v":""},{"$f":"IF(A113=\"\",\"\",VLOOKUP(A113,'Structural Water Quality Calcs'!$A$8:$AE$149,27,0))","v":""},{"$f":"IF(A113=\"\",\"\",(VLOOKUP(A113,'Structural Water Quality Calcs'!$A$8:$AE$149,25,0)))","v":""},{"$f":"IF(A113=\"\",\"\",VLOOKUP(A113,'Structural Water Quality Calcs'!$A$8:$AE$149,24,0))","v":""},{"$f":"IF(A113=\"\",\"\",VLOOKUP(A113,STU_Cost!$A$5:$G$150,4,0))","v":""},{"$f":"IF(A113=\"\",\"\",VLOOKUP(A113,STU_Cost!$A$5:$G$150,5,0))","v":""},{"$f":"IF(A113=\"\",\"\",VLOOKUP(A113,STU_Cost!$A$5:$G$150,6,0))","v":""},{"$f":"IF(A113=\"\",\"\",VLOOKUP(A113,STU_Cost!$A$5:$G$150,7,0))","v":""},null,null,{"$f":"IF(A113=\"\",\"\",VLOOKUP(A113,STU!$A$5:$E$300,5,0))","v":""}]
[null,{"$f":"IF(A114=\"\",\"\",VLOOKUP(A114,'Structural Water Quality Calcs'!$A$9:$F$79,6,0))","v":""},{"$f":"IF(A114=\"\",\"\",VLOOKUP(A114,'Structural Water Quality Calcs'!$A$8:$AE$149,3,0))","v":""},{"$f":"IF(A114=\"\",\"\",SUMIFS(Catchment!$V$5:$V$300,Catchment!$D$5:$D$300,\"RIDOT\",Catchment!$K$5:$K$300,A114))","v":""},{"$f":"IF(A114=\"\",\"\",VLOOKUP(A114,'Structural Water Quality Calcs'!$A$8:$AE$149,4,0))","v":""},{"$f":"IF(A114=\"\",\"\",SUMIFS(Catchment!$L$5:$L$300,Catchment!$D$5:$D$300,\"RIDOT\",Catchment!$K$5:$K$300,A114))","v":""},{"$f":"IF(A114=\"\",\"\",VLOOKUP(A114, 'Structural Water Quality Calcs'!$A$8:$AE$149,11,0))","v":""},{"$f":"IF(A114=\"\",\"\",SUMIFS(Catchment!$X$5:$X$300,Catchment!$D$5:$D$300,\"RIDOT\",Catchment!$K$5:$K$300,A114))","v":""},{"$f":"IF(A114=\"\",\"\",VLOOKUP(A114,'Structural Water Quality Calcs'!$A$8:$AE$149,12,0)*100)","v":""},{"$f":"IF(A114=\"\",\"\",VLOOKUP(A114,'Structural Water Quality Calcs'!$A$8:$AE$149,13,0))","v":""},{"$f":"IF(A114=\"\",\"\",IF(VLOOKUP(A114,'Structural Water Quality Calcs'!$A$9:$B$149,2,0)=\"Limited ROW\",H114*I114*0.1/100,H114*I114/100))","v":""},{"$f":"IF(A114=\"\",\"\",VLOOKUP(A114,'Structural Water Quality Calcs'!$A$8:$AE$149,17,0))","v":""},{"$f":"IF(A114=\"\",\"\",SUMIFS(Catchment!$Z$5:$Z$300,Catchment!$D$5:$D$300,\"RIDOT\",Catchment!$K$5:$K$300,A114))","v":""},{"$f":"IF(A114=\"\",\"\",VLOOKUP(A114,'Structural Water Quality Calcs'!$A$8:$AE$149,18,0)*100)","v":""},{"$f":"IF(A114=\"\",\"\",VLOOKUP(A114,'Structural Water Quality Calcs'!$A$8:$AE$149,19,0))","v":""},{"$f":"IF(A114=\"\",\"\",IF(VLOOKUP(A114,'Structural Water Quality Calcs'!$A$9:$B$149,2,0)=\"Limited ROW\",M114*N114*0.1/100,M114*N114/100))","v":""},{"$f":"IF(A114=\"\",\"\",VLOOKUP(A114,'Structural Water Quality Calcs'!$A$8:$AE$149,14,0))","v":""},{"$f":"IF(A114=\"\",\"\",SUMIFS(Catchment!$Y$5:$Y$300,Catchment!$D$5:$D$300,\"RIDOT\",Catchment!$K$5:$K$300,A114))","v":""},{"$f":"IF(A114=\"\",\"\",VLOOKUP(A114,'Structural Water Quality Calcs'!$A$8:$AE$149,15,0)*100)","v":""},{"$f":"IF(A114=\"\",\"\",VLOOKUP(A114,'Structural Water Quality Calcs'!$A$8:$AE$149,16,0))","v":""},{"$f":"IF(A114=\"\",\"\",IF(VLOOKUP(A114,'Structural Water Quality Calcs'!$A$9:$B$149,2,0)=\"Limited ROW\",R114*S114*0.1/100,R114*S114/100))","v":""},{"$f":"IF(A114=\"\",\"\",VLOOKUP(A114,'Structural Water Quality Calcs'!$A$8:$AE$149,20,0))","v":""},{"$f":"IF(A114=\"\",\"\",SUMIFS(Catchment!$AA$5:$AA$300,Catchment!$D$5:$D$300,\"RIDOT\",Catchment!$K$5:$K$300,A114))","v":""},{"$f":"IF(A114=\"\",\"\",VLOOKUP(A114,'Structural Water Quality Calcs'!$A$8:$AE$149,21,0)*100)","v":""},{"$f":"IF(A114=\"\",\"\",VLOOKUP(A114,'Structural Water Quality Calcs'!$A$8:$AE$149,22,0))","v":""},{"$f":"IF(A114=\"\",\"\",IF(VLOOKUP(A114,'Structural Water Quality Calcs'!$A$9:$B$149,2,0)=\"Limited ROW\",W114*X114*0.1/100,W114*X114/100))","v":""},{"$f":"IF(A114=\"\",\"\",VLOOKUP(A114,'Structural Water Quality Calcs'!$A$8:$AE$149,29,0))","v":""},{"$f":"IF(A114=\"\",\"\",IF(VLOOKUP(A114,'Structural Water Quality Calcs'!$A$9:$B$149,2,0)=\"Limited ROW\",VLOOKUP(A114,'Structural Water Quality Calcs'!$A$8:$AE$149,28,0)*F114*0.1/43560,VLOOKUP(A114,'Structural Water Quality Calcs'!$A$8:$AE$149,28,0)*F114/43560))","v":""},{"$f":"IF(A114=\"\",\"\",VLOOKUP(A114,'Structural Water Quality Calcs'!$A$8:$AE$149,28,0)*100)","v":""},{"$f":"IF(A114=\"\",\"\",VLOOKUP(A114,'Structural Water Quality Calcs'!$A$8:$AE$149,31,0))","v":""},{"$f":"IF(A114=\"\",\"\",VLOOKUP(A114,'Structural Water Quality Calcs'!$A$8:$AE$149,26,0))","v":""},{"$f":"IF(A114=\"\",\"\",VLOOKUP(A114,'Structural Water Quality Calcs'!$A$8:$AE$149,27,0))","v":""},{"$f":"IF(A114=\"\",\"\",(VLOOKUP(A114,'Structural Water Quality Calcs'!$A$8:$AE$149,25,0)))","v":""},{"$f":"IF(A114=\"\",\"\",VLOOKUP(A114,'Structural Water Quality Calcs'!$A$8:$AE$149,24,0))","v":""},{"$f":"IF(A114=\"\",\"\",VLOOKUP(A114,STU_Cost!$A$5:$G$150,4,0))","v":""},{"$f":"IF(A114=\"\",\"\",VLOOKUP(A114,STU_Cost!$A$5:$G$150,5,0))","v":""},{"$f":"IF(A114=\"\",\"\",VLOOKUP(A114,STU_Cost!$A$5:$G$150,6,0))","v":""},{"$f":"IF(A114=\"\",\"\",VLOOKUP(A114,STU_Cost!$A$5:$G$150,7,0))","v":""},null,null,{"$f":"IF(A114=\"\",\"\",VLOOKUP(A114,STU!$A$5:$E$300,5,0))","v":""}]
[null,{"$f":"IF(A115=\"\",\"\",VLOOKUP(A115,'Structural Water Quality Calcs'!$A$9:$F$79,6,0))","v":""},{"$f":"IF(A115=\"\",\"\",VLOOKUP(A115,'Structural Water Quality Calcs'!$A$8:$AE$149,3,0))","v":""},{"$f":"IF(A115=\"\",\"\",SUMIFS(Catchment!$V$5:$V$300,Catchment!$D$5:$D$300,\"RIDOT\",Catchment!$K$5:$K$300,A115))","v":""},{"$f":"IF(A115=\"\",\"\",VLOOKUP(A115,'Structural Water Quality Calcs'!$A$8:$AE$149,4,0))","v":""},{"$f":"IF(A115=\"\",\"\",SUMIFS(Catchment!$L$5:$L$300,Catchment!$D$5:$D$300,\"RIDOT\",Catchment!$K$5:$K$300,A115))","v":""},{"$f":"IF(A115=\"\",\"\",VLOOKUP(A115, 'Structural Water Quality Calcs'!$A$8:$AE$149,11,0))","v":""},{"$f":"IF(A115=\"\",\"\",SUMIFS(Catchment!$X$5:$X$300,Catchment!$D$5:$D$300,\"RIDOT\",Catchment!$K$5:$K$300,A115))","v":""},{"$f":"IF(A115=\"\",\"\",VLOOKUP(A115,'Structural Water Quality Calcs'!$A$8:$AE$149,12,0)*100)","v":""},{"$f":"IF(A115=\"\",\"\",VLOOKUP(A115,'Structural Water Quality Calcs'!$A$8:$AE$149,13,0))","v":""},{"$f":"IF(A115=\"\",\"\",IF(VLOOKUP(A115,'Structural Water Quality Calcs'!$A$9:$B$149,2,0)=\"Limited ROW\",H115*I115*0.1/100,H115*I115/100))","v":""},{"$f":"IF(A115=\"\",\"\",VLOOKUP(A115,'Structural Water Quality Calcs'!$A$8:$AE$149,17,0))","v":""},{"$f":"IF(A115=\"\",\"\",SUMIFS(Catchment!$Z$5:$Z$300,Catchment!$D$5:$D$300,\"RIDOT\",Catchment!$K$5:$K$300,A115))","v":""},{"$f":"IF(A115=\"\",\"\",VLOOKUP(A115,'Structural Water Quality Calcs'!$A$8:$AE$149,18,0)*100)","v":""},{"$f":"IF(A115=\"\",\"\",VLOOKUP(A115,'Structural Water Quality Calcs'!$A$8:$AE$149,19,0))","v":""},{"$f":"IF(A115=\"\",\"\",IF(VLOOKUP(A115,'Structural Water Quality Calcs'!$A$9:$B$149,2,0)=\"Limited ROW\",M115*N115*0.1/100,M115*N115/100))","v":""},{"$f":"IF(A115=\"\",\"\",VLOOKUP(A115,'Structural Water Quality Calcs'!$A$8:$AE$149,14,0))","v":""},{"$f":"IF(A115=\"\",\"\",SUMIFS(Catchment!$Y$5:$Y$300,Catchment!$D$5:$D$300,\"RIDOT\",Catchment!$K$5:$K$300,A115))","v":""},{"$f":"IF(A115=\"\",\"\",VLOOKUP(A115,'Structural Water Quality Calcs'!$A$8:$AE$149,15,0)*100)","v":""},{"$f":"IF(A115=\"\",\"\",VLOOKUP(A115,'Structural Water Quality Calcs'!$A$8:$AE$149,16,0))","v":""},{"$f":"IF(A115=\"\",\"\",IF(VLOOKUP(A115,'Structural Water Quality Calcs'!$A$9:$B$149,2,0)=\"Limited ROW\",R115*S115*0.1/100,R115*S115/100))","v":""},{"$f":"IF(A115=\"\",\"\",VLOOKUP(A115,'Structural Water Quality Calcs'!$A$8:$AE$149,20,0))","v":""},{"$f":"IF(A115=\"\",\"\",SUMIFS(Catchment!$AA$5:$AA$300,Catchment!$D$5:$D$300,\"RIDOT\",Catchment!$K$5:$K$300,A115))","v":""},{"$f":"IF(A115=\"\",\"\",VLOOKUP(A115,'Structural Water Quality Calcs'!$A$8:$AE$149,21,0)*100)","v":""},{"$f":"IF(A115=\"\",\"\",VLOOKUP(A115,'Structural Water Quality Calcs'!$A$8:$AE$149,22,0))","v":""},{"$f":"IF(A115=\"\",\"\",IF(VLOOKUP(A115,'Structural Water Quality Calcs'!$A$9:$B$149,2,0)=\"Limited ROW\",W115*X115*0.1/100,W115*X115/100))","v":""},{"$f":"IF(A115=\"\",\"\",VLOOKUP(A115,'Structural Water Quality Calcs'!$A$8:$AE$149,29,0))","v":""},{"$f":"IF(A115=\"\",\"\",IF(VLOOKUP(A115,'Structural Water Quality Calcs'!$A$9:$B$149,2,0)=\"Limited ROW\",VLOOKUP(A115,'Structural Water Quality Calcs'!$A$8:$AE$149,28,0)*F115*0.1/43560,VLOOKUP(A115,'Structural Water Quality Calcs'!$A$8:$AE$149,28,0)*F115/43560))","v":""},{"$f":"IF(A115=\"\",\"\",VLOOKUP(A115,'Structural Water Quality Calcs'!$A$8:$AE$149,28,0)*100)","v":""},{"$f":"IF(A115=\"\",\"\",VLOOKUP(A115,'Structural Water Quality Calcs'!$A$8:$AE$149,31,0))","v":""},{"$f":"IF(A115=\"\",\"\",VLOOKUP(A115,'Structural Water Quality Calcs'!$A$8:$AE$149,26,0))","v":""},{"$f":"IF(A115=\"\",\"\",VLOOKUP(A115,'Structural Water Quality Calcs'!$A$8:$AE$149,27,0))","v":""},{"$f":"IF(A115=\"\",\"\",(VLOOKUP(A115,'Structural Water Quality Calcs'!$A$8:$AE$149,25,0)))","v":""},{"$f":"IF(A115=\"\",\"\",VLOOKUP(A115,'Structural Water Quality Calcs'!$A$8:$AE$149,24,0))","v":""},{"$f":"IF(A115=\"\",\"\",VLOOKUP(A115,STU_Cost!$A$5:$G$150,4,0))","v":""},{"$f":"IF(A115=\"\",\"\",VLOOKUP(A115,STU_Cost!$A$5:$G$150,5,0))","v":""},{"$f":"IF(A115=\"\",\"\",VLOOKUP(A115,STU_Cost!$A$5:$G$150,6,0))","v":""},{"$f":"IF(A115=\"\",\"\",VLOOKUP(A115,STU_Cost!$A$5:$G$150,7,0))","v":""},null,null,{"$f":"IF(A115=\"\",\"\",VLOOKUP(A115,STU!$A$5:$E$300,5,0))","v":""}]
[null,{"$f":"IF(A116=\"\",\"\",VLOOKUP(A116,'Structural Water Quality Calcs'!$A$9:$F$79,6,0))","v":""},{"$f":"IF(A116=\"\",\"\",VLOOKUP(A116,'Structural Water Quality Calcs'!$A$8:$AE$149,3,0))","v":""},{"$f":"IF(A116=\"\",\"\",SUMIFS(Catchment!$V$5:$V$300,Catchment!$D$5:$D$300,\"RIDOT\",Catchment!$K$5:$K$300,A116))","v":""},{"$f":"IF(A116=\"\",\"\",VLOOKUP(A116,'Structural Water Quality Calcs'!$A$8:$AE$149,4,0))","v":""},{"$f":"IF(A116=\"\",\"\",SUMIFS(Catchment!$L$5:$L$300,Catchment!$D$5:$D$300,\"RIDOT\",Catchment!$K$5:$K$300,A116))","v":""},{"$f":"IF(A116=\"\",\"\",VLOOKUP(A116, 'Structural Water Quality Calcs'!$A$8:$AE$149,11,0))","v":""},{"$f":"IF(A116=\"\",\"\",SUMIFS(Catchment!$X$5:$X$300,Catchment!$D$5:$D$300,\"RIDOT\",Catchment!$K$5:$K$300,A116))","v":""},{"$f":"IF(A116=\"\",\"\",VLOOKUP(A116,'Structural Water Quality Calcs'!$A$8:$AE$149,12,0)*100)","v":""},{"$f":"IF(A116=\"\",\"\",VLOOKUP(A116,'Structural Water Quality Calcs'!$A$8:$AE$149,13,0))","v":""},{"$f":"IF(A116=\"\",\"\",IF(VLOOKUP(A116,'Structural Water Quality Calcs'!$A$9:$B$149,2,0)=\"Limited ROW\",H116*I116*0.1/100,H116*I116/100))","v":""},{"$f":"IF(A116=\"\",\"\",VLOOKUP(A116,'Structural Water Quality Calcs'!$A$8:$AE$149,17,0))","v":""},{"$f":"IF(A116=\"\",\"\",SUMIFS(Catchment!$Z$5:$Z$300,Catchment!$D$5:$D$300,\"RIDOT\",Catchment!$K$5:$K$300,A116))","v":""},{"$f":"IF(A116=\"\",\"\",VLOOKUP(A116,'Structural Water Quality Calcs'!$A$8:$AE$149,18,0)*100)","v":""},{"$f":"IF(A116=\"\",\"\",VLOOKUP(A116,'Structural Water Quality Calcs'!$A$8:$AE$149,19,0))","v":""},{"$f":"IF(A116=\"\",\"\",IF(VLOOKUP(A116,'Structural Water Quality Calcs'!$A$9:$B$149,2,0)=\"Limited ROW\",M116*N116*0.1/100,M116*N116/100))","v":""},{"$f":"IF(A116=\"\",\"\",VLOOKUP(A116,'Structural Water Quality Calcs'!$A$8:$AE$149,14,0))","v":""},{"$f":"IF(A116=\"\",\"\",SUMIFS(Catchment!$Y$5:$Y$300,Catchment!$D$5:$D$300,\"RIDOT\",Catchment!$K$5:$K$300,A116))","v":""},{"$f":"IF(A116=\"\",\"\",VLOOKUP(A116,'Structural Water Quality Calcs'!$A$8:$AE$149,15,0)*100)","v":""},{"$f":"IF(A116=\"\",\"\",VLOOKUP(A116,'Structural Water Quality Calcs'!$A$8:$AE$149,16,0))","v":""},{"$f":"IF(A116=\"\",\"\",IF(VLOOKUP(A116,'Structural Water Quality Calcs'!$A$9:$B$149,2,0)=\"Limited ROW\",R116*S116*0.1/100,R116*S116/100))","v":""},{"$f":"IF(A116=\"\",\"\",VLOOKUP(A116,'Structural Water Quality Calcs'!$A$8:$AE$149,20,0))","v":""},{"$f":"IF(A116=\"\",\"\",SUMIFS(Catchment!$AA$5:$AA$300,Catchment!$D$5:$D$300,\"RIDOT\",Catchment!$K$5:$K$300,A116))","v":""},{"$f":"IF(A116=\"\",\"\",VLOOKUP(A116,'Structural Water Quality Calcs'!$A$8:$AE$149,21,0)*100)","v":""},{"$f":"IF(A116=\"\",\"\",VLOOKUP(A116,'Structural Water Quality Calcs'!$A$8:$AE$149,22,0))","v":""},{"$f":"IF(A116=\"\",\"\",IF(VLOOKUP(A116,'Structural Water Quality Calcs'!$A$9:$B$149,2,0)=\"Limited ROW\",W116*X116*0.1/100,W116*X116/100))","v":""},{"$f":"IF(A116=\"\",\"\",VLOOKUP(A116,'Structural Water Quality Calcs'!$A$8:$AE$149,29,0))","v":""},{"$f":"IF(A116=\"\",\"\",IF(VLOOKUP(A116,'Structural Water Quality Calcs'!$A$9:$B$149,2,0)=\"Limited ROW\",VLOOKUP(A116,'Structural Water Quality Calcs'!$A$8:$AE$149,28,0)*F116*0.1/43560,VLOOKUP(A116,'Structural Water Quality Calcs'!$A$8:$AE$149,28,0)*F116/43560))","v":""},{"$f":"IF(A116=\"\",\"\",VLOOKUP(A116,'Structural Water Quality Calcs'!$A$8:$AE$149,28,0)*100)","v":""},{"$f":"IF(A116=\"\",\"\",VLOOKUP(A116,'Structural Water Quality Calcs'!$A$8:$AE$149,31,0))","v":""},{"$f":"IF(A116=\"\",\"\",VLOOKUP(A116,'Structural Water Quality Calcs'!$A$8:$AE$149,26,0))","v":""},{"$f":"IF(A116=\"\",\"\",VLOOKUP(A116,'Structural Water Quality Calcs'!$A$8:$AE$149,27,0))","v":""},{"$f":"IF(A116=\"\",\"\",(VLOOKUP(A116,'Structural Water Quality Calcs'!$A$8:$AE$149,25,0)))","v":""},{"$f":"IF(A116=\"\",\"\",VLOOKUP(A116,'Structural Water Quality Calcs'!$A$8:$AE$149,24,0))","v":""},{"$f":"IF(A116=\"\",\"\",VLOOKUP(A116,STU_Cost!$A$5:$G$150,4,0))","v":""},{"$f":"IF(A116=\"\",\"\",VLOOKUP(A116,STU_Cost!$A$5:$G$150,5,0))","v":""},{"$f":"IF(A116=\"\",\"\",VLOOKUP(A116,STU_Cost!$A$5:$G$150,6,0))","v":""},{"$f":"IF(A116=\"\",\"\",VLOOKUP(A116,STU_Cost!$A$5:$G$150,7,0))","v":""},null,null,{"$f":"IF(A116=\"\",\"\",VLOOKUP(A116,STU!$A$5:$E$300,5,0))","v":""}]
[null,{"$f":"IF(A117=\"\",\"\",VLOOKUP(A117,'Structural Water Quality Calcs'!$A$9:$F$79,6,0))","v":""},{"$f":"IF(A117=\"\",\"\",VLOOKUP(A117,'Structural Water Quality Calcs'!$A$8:$AE$149,3,0))","v":""},{"$f":"IF(A117=\"\",\"\",SUMIFS(Catchment!$V$5:$V$300,Catchment!$D$5:$D$300,\"RIDOT\",Catchment!$K$5:$K$300,A117))","v":""},{"$f":"IF(A117=\"\",\"\",VLOOKUP(A117,'Structural Water Quality Calcs'!$A$8:$AE$149,4,0))","v":""},{"$f":"IF(A117=\"\",\"\",SUMIFS(Catchment!$L$5:$L$300,Catchment!$D$5:$D$300,\"RIDOT\",Catchment!$K$5:$K$300,A117))","v":""},{"$f":"IF(A117=\"\",\"\",VLOOKUP(A117, 'Structural Water Quality Calcs'!$A$8:$AE$149,11,0))","v":""},{"$f":"IF(A117=\"\",\"\",SUMIFS(Catchment!$X$5:$X$300,Catchment!$D$5:$D$300,\"RIDOT\",Catchment!$K$5:$K$300,A117))","v":""},{"$f":"IF(A117=\"\",\"\",VLOOKUP(A117,'Structural Water Quality Calcs'!$A$8:$AE$149,12,0)*100)","v":""},{"$f":"IF(A117=\"\",\"\",VLOOKUP(A117,'Structural Water Quality Calcs'!$A$8:$AE$149,13,0))","v":""},{"$f":"IF(A117=\"\",\"\",IF(VLOOKUP(A117,'Structural Water Quality Calcs'!$A$9:$B$149,2,0)=\"Limited ROW\",H117*I117*0.1/100,H117*I117/100))","v":""},{"$f":"IF(A117=\"\",\"\",VLOOKUP(A117,'Structural Water Quality Calcs'!$A$8:$AE$149,17,0))","v":""},{"$f":"IF(A117=\"\",\"\",SUMIFS(Catchment!$Z$5:$Z$300,Catchment!$D$5:$D$300,\"RIDOT\",Catchment!$K$5:$K$300,A117))","v":""},{"$f":"IF(A117=\"\",\"\",VLOOKUP(A117,'Structural Water Quality Calcs'!$A$8:$AE$149,18,0)*100)","v":""},{"$f":"IF(A117=\"\",\"\",VLOOKUP(A117,'Structural Water Quality Calcs'!$A$8:$AE$149,19,0))","v":""},{"$f":"IF(A117=\"\",\"\",IF(VLOOKUP(A117,'Structural Water Quality Calcs'!$A$9:$B$149,2,0)=\"Limited ROW\",M117*N117*0.1/100,M117*N117/100))","v":""},{"$f":"IF(A117=\"\",\"\",VLOOKUP(A117,'Structural Water Quality Calcs'!$A$8:$AE$149,14,0))","v":""},{"$f":"IF(A117=\"\",\"\",SUMIFS(Catchment!$Y$5:$Y$300,Catchment!$D$5:$D$300,\"RIDOT\",Catchment!$K$5:$K$300,A117))","v":""},{"$f":"IF(A117=\"\",\"\",VLOOKUP(A117,'Structural Water Quality Calcs'!$A$8:$AE$149,15,0)*100)","v":""},{"$f":"IF(A117=\"\",\"\",VLOOKUP(A117,'Structural Water Quality Calcs'!$A$8:$AE$149,16,0))","v":""},{"$f":"IF(A117=\"\",\"\",IF(VLOOKUP(A117,'Structural Water Quality Calcs'!$A$9:$B$149,2,0)=\"Limited ROW\",R117*S117*0.1/100,R117*S117/100))","v":""},{"$f":"IF(A117=\"\",\"\",VLOOKUP(A117,'Structural Water Quality Calcs'!$A$8:$AE$149,20,0))","v":""},{"$f":"IF(A117=\"\",\"\",SUMIFS(Catchment!$AA$5:$AA$300,Catchment!$D$5:$D$300,\"RIDOT\",Catchment!$K$5:$K$300,A117))","v":""},{"$f":"IF(A117=\"\",\"\",VLOOKUP(A117,'Structural Water Quality Calcs'!$A$8:$AE$149,21,0)*100)","v":""},{"$f":"IF(A117=\"\",\"\",VLOOKUP(A117,'Structural Water Quality Calcs'!$A$8:$AE$149,22,0))","v":""},{"$f":"IF(A117=\"\",\"\",IF(VLOOKUP(A117,'Structural Water Quality Calcs'!$A$9:$B$149,2,0)=\"Limited ROW\",W117*X117*0.1/100,W117*X117/100))","v":""},{"$f":"IF(A117=\"\",\"\",VLOOKUP(A117,'Structural Water Quality Calcs'!$A$8:$AE$149,29,0))","v":""},{"$f":"IF(A117=\"\",\"\",IF(VLOOKUP(A117,'Structural Water Quality Calcs'!$A$9:$B$149,2,0)=\"Limited ROW\",VLOOKUP(A117,'Structural Water Quality Calcs'!$A$8:$AE$149,28,0)*F117*0.1/43560,VLOOKUP(A117,'Structural Water Quality Calcs'!$A$8:$AE$149,28,0)*F117/43560))","v":""},{"$f":"IF(A117=\"\",\"\",VLOOKUP(A117,'Structural Water Quality Calcs'!$A$8:$AE$149,28,0)*100)","v":""},{"$f":"IF(A117=\"\",\"\",VLOOKUP(A117,'Structural Water Quality Calcs'!$A$8:$AE$149,31,0))","v":""},{"$f":"IF(A117=\"\",\"\",VLOOKUP(A117,'Structural Water Quality Calcs'!$A$8:$AE$149,26,0))","v":""},{"$f":"IF(A117=\"\",\"\",VLOOKUP(A117,'Structural Water Quality Calcs'!$A$8:$AE$149,27,0))","v":""},{"$f":"IF(A117=\"\",\"\",(VLOOKUP(A117,'Structural Water Quality Calcs'!$A$8:$AE$149,25,0)))","v":""},{"$f":"IF(A117=\"\",\"\",VLOOKUP(A117,'Structural Water Quality Calcs'!$A$8:$AE$149,24,0))","v":""},{"$f":"IF(A117=\"\",\"\",VLOOKUP(A117,STU_Cost!$A$5:$G$150,4,0))","v":""},{"$f":"IF(A117=\"\",\"\",VLOOKUP(A117,STU_Cost!$A$5:$G$150,5,0))","v":""},{"$f":"IF(A117=\"\",\"\",VLOOKUP(A117,STU_Cost!$A$5:$G$150,6,0))","v":""},{"$f":"IF(A117=\"\",\"\",VLOOKUP(A117,STU_Cost!$A$5:$G$150,7,0))","v":""},null,null,{"$f":"IF(A117=\"\",\"\",VLOOKUP(A117,STU!$A$5:$E$300,5,0))","v":""}]
[null,{"$f":"IF(A118=\"\",\"\",VLOOKUP(A118,'Structural Water Quality Calcs'!$A$9:$F$79,6,0))","v":""},{"$f":"IF(A118=\"\",\"\",VLOOKUP(A118,'Structural Water Quality Calcs'!$A$8:$AE$149,3,0))","v":""},{"$f":"IF(A118=\"\",\"\",SUMIFS(Catchment!$V$5:$V$300,Catchment!$D$5:$D$300,\"RIDOT\",Catchment!$K$5:$K$300,A118))","v":""},{"$f":"IF(A118=\"\",\"\",VLOOKUP(A118,'Structural Water Quality Calcs'!$A$8:$AE$149,4,0))","v":""},{"$f":"IF(A118=\"\",\"\",SUMIFS(Catchment!$L$5:$L$300,Catchment!$D$5:$D$300,\"RIDOT\",Catchment!$K$5:$K$300,A118))","v":""},{"$f":"IF(A118=\"\",\"\",VLOOKUP(A118, 'Structural Water Quality Calcs'!$A$8:$AE$149,11,0))","v":""},{"$f":"IF(A118=\"\",\"\",SUMIFS(Catchment!$X$5:$X$300,Catchment!$D$5:$D$300,\"RIDOT\",Catchment!$K$5:$K$300,A118))","v":""},{"$f":"IF(A118=\"\",\"\",VLOOKUP(A118,'Structural Water Quality Calcs'!$A$8:$AE$149,12,0)*100)","v":""},{"$f":"IF(A118=\"\",\"\",VLOOKUP(A118,'Structural Water Quality Calcs'!$A$8:$AE$149,13,0))","v":""},{"$f":"IF(A118=\"\",\"\",IF(VLOOKUP(A118,'Structural Water Quality Calcs'!$A$9:$B$149,2,0)=\"Limited ROW\",H118*I118*0.1/100,H118*I118/100))","v":""},{"$f":"IF(A118=\"\",\"\",VLOOKUP(A118,'Structural Water Quality Calcs'!$A$8:$AE$149,17,0))","v":""},{"$f":"IF(A118=\"\",\"\",SUMIFS(Catchment!$Z$5:$Z$300,Catchment!$D$5:$D$300,\"RIDOT\",Catchment!$K$5:$K$300,A118))","v":""},{"$f":"IF(A118=\"\",\"\",VLOOKUP(A118,'Structural Water Quality Calcs'!$A$8:$AE$149,18,0)*100)","v":""},{"$f":"IF(A118=\"\",\"\",VLOOKUP(A118,'Structural Water Quality Calcs'!$A$8:$AE$149,19,0))","v":""},{"$f":"IF(A118=\"\",\"\",IF(VLOOKUP(A118,'Structural Water Quality Calcs'!$A$9:$B$149,2,0)=\"Limited ROW\",M118*N118*0.1/100,M118*N118/100))","v":""},{"$f":"IF(A118=\"\",\"\",VLOOKUP(A118,'Structural Water Quality Calcs'!$A$8:$AE$149,14,0))","v":""},{"$f":"IF(A118=\"\",\"\",SUMIFS(Catchment!$Y$5:$Y$300,Catchment!$D$5:$D$300,\"RIDOT\",Catchment!$K$5:$K$300,A118))","v":""},{"$f":"IF(A118=\"\",\"\",VLOOKUP(A118,'Structural Water Quality Calcs'!$A$8:$AE$149,15,0)*100)","v":""},{"$f":"IF(A118=\"\",\"\",VLOOKUP(A118,'Structural Water Quality Calcs'!$A$8:$AE$149,16,0))","v":""},{"$f":"IF(A118=\"\",\"\",IF(VLOOKUP(A118,'Structural Water Quality Calcs'!$A$9:$B$149,2,0)=\"Limited ROW\",R118*S118*0.1/100,R118*S118/100))","v":""},{"$f":"IF(A118=\"\",\"\",VLOOKUP(A118,'Structural Water Quality Calcs'!$A$8:$AE$149,20,0))","v":""},{"$f":"IF(A118=\"\",\"\",SUMIFS(Catchment!$AA$5:$AA$300,Catchment!$D$5:$D$300,\"RIDOT\",Catchment!$K$5:$K$300,A118))","v":""},{"$f":"IF(A118=\"\",\"\",VLOOKUP(A118,'Structural Water Quality Calcs'!$A$8:$AE$149,21,0)*100)","v":""},{"$f":"IF(A118=\"\",\"\",VLOOKUP(A118,'Structural Water Quality Calcs'!$A$8:$AE$149,22,0))","v":""},{"$f":"IF(A118=\"\",\"\",IF(VLOOKUP(A118,'Structural Water Quality Calcs'!$A$9:$B$149,2,0)=\"Limited ROW\",W118*X118*0.1/100,W118*X118/100))","v":""},{"$f":"IF(A118=\"\",\"\",VLOOKUP(A118,'Structural Water Quality Calcs'!$A$8:$AE$149,29,0))","v":""},{"$f":"IF(A118=\"\",\"\",IF(VLOOKUP(A118,'Structural Water Quality Calcs'!$A$9:$B$149,2,0)=\"Limited ROW\",VLOOKUP(A118,'Structural Water Quality Calcs'!$A$8:$AE$149,28,0)*F118*0.1/43560,VLOOKUP(A118,'Structural Water Quality Calcs'!$A$8:$AE$149,28,0)*F118/43560))","v":""},{"$f":"IF(A118=\"\",\"\",VLOOKUP(A118,'Structural Water Quality Calcs'!$A$8:$AE$149,28,0)*100)","v":""},{"$f":"IF(A118=\"\",\"\",VLOOKUP(A118,'Structural Water Quality Calcs'!$A$8:$AE$149,31,0))","v":""},{"$f":"IF(A118=\"\",\"\",VLOOKUP(A118,'Structural Water Quality Calcs'!$A$8:$AE$149,26,0))","v":""},{"$f":"IF(A118=\"\",\"\",VLOOKUP(A118,'Structural Water Quality Calcs'!$A$8:$AE$149,27,0))","v":""},{"$f":"IF(A118=\"\",\"\",(VLOOKUP(A118,'Structural Water Quality Calcs'!$A$8:$AE$149,25,0)))","v":""},{"$f":"IF(A118=\"\",\"\",VLOOKUP(A118,'Structural Water Quality Calcs'!$A$8:$AE$149,24,0))","v":""},{"$f":"IF(A118=\"\",\"\",VLOOKUP(A118,STU_Cost!$A$5:$G$150,4,0))","v":""},{"$f":"IF(A118=\"\",\"\",VLOOKUP(A118,STU_Cost!$A$5:$G$150,5,0))","v":""},{"$f":"IF(A118=\"\",\"\",VLOOKUP(A118,STU_Cost!$A$5:$G$150,6,0))","v":""},{"$f":"IF(A118=\"\",\"\",VLOOKUP(A118,STU_Cost!$A$5:$G$150,7,0))","v":""},null,null,{"$f":"IF(A118=\"\",\"\",VLOOKUP(A118,STU!$A$5:$E$300,5,0))","v":""}]
[null,{"$f":"IF(A119=\"\",\"\",VLOOKUP(A119,'Structural Water Quality Calcs'!$A$9:$F$79,6,0))","v":""},{"$f":"IF(A119=\"\",\"\",VLOOKUP(A119,'Structural Water Quality Calcs'!$A$8:$AE$149,3,0))","v":""},{"$f":"IF(A119=\"\",\"\",SUMIFS(Catchment!$V$5:$V$300,Catchment!$D$5:$D$300,\"RIDOT\",Catchment!$K$5:$K$300,A119))","v":""},{"$f":"IF(A119=\"\",\"\",VLOOKUP(A119,'Structural Water Quality Calcs'!$A$8:$AE$149,4,0))","v":""},{"$f":"IF(A119=\"\",\"\",SUMIFS(Catchment!$L$5:$L$300,Catchment!$D$5:$D$300,\"RIDOT\",Catchment!$K$5:$K$300,A119))","v":""},{"$f":"IF(A119=\"\",\"\",VLOOKUP(A119, 'Structural Water Quality Calcs'!$A$8:$AE$149,11,0))","v":""},{"$f":"IF(A119=\"\",\"\",SUMIFS(Catchment!$X$5:$X$300,Catchment!$D$5:$D$300,\"RIDOT\",Catchment!$K$5:$K$300,A119))","v":""},{"$f":"IF(A119=\"\",\"\",VLOOKUP(A119,'Structural Water Quality Calcs'!$A$8:$AE$149,12,0)*100)","v":""},{"$f":"IF(A119=\"\",\"\",VLOOKUP(A119,'Structural Water Quality Calcs'!$A$8:$AE$149,13,0))","v":""},{"$f":"IF(A119=\"\",\"\",IF(VLOOKUP(A119,'Structural Water Quality Calcs'!$A$9:$B$149,2,0)=\"Limited ROW\",H119*I119*0.1/100,H119*I119/100))","v":""},{"$f":"IF(A119=\"\",\"\",VLOOKUP(A119,'Structural Water Quality Calcs'!$A$8:$AE$149,17,0))","v":""},{"$f":"IF(A119=\"\",\"\",SUMIFS(Catchment!$Z$5:$Z$300,Catchment!$D$5:$D$300,\"RIDOT\",Catchment!$K$5:$K$300,A119))","v":""},{"$f":"IF(A119=\"\",\"\",VLOOKUP(A119,'Structural Water Quality Calcs'!$A$8:$AE$149,18,0)*100)","v":""},{"$f":"IF(A119=\"\",\"\",VLOOKUP(A119,'Structural Water Quality Calcs'!$A$8:$AE$149,19,0))","v":""},{"$f":"IF(A119=\"\",\"\",IF(VLOOKUP(A119,'Structural Water Quality Calcs'!$A$9:$B$149,2,0)=\"Limited ROW\",M119*N119*0.1/100,M119*N119/100))","v":""},{"$f":"IF(A119=\"\",\"\",VLOOKUP(A119,'Structural Water Quality Calcs'!$A$8:$AE$149,14,0))","v":""},{"$f":"IF(A119=\"\",\"\",SUMIFS(Catchment!$Y$5:$Y$300,Catchment!$D$5:$D$300,\"RIDOT\",Catchment!$K$5:$K$300,A119))","v":""},{"$f":"IF(A119=\"\",\"\",VLOOKUP(A119,'Structural Water Quality Calcs'!$A$8:$AE$149,15,0)*100)","v":""},{"$f":"IF(A119=\"\",\"\",VLOOKUP(A119,'Structural Water Quality Calcs'!$A$8:$AE$149,16,0))","v":""},{"$f":"IF(A119=\"\",\"\",IF(VLOOKUP(A119,'Structural Water Quality Calcs'!$A$9:$B$149,2,0)=\"Limited ROW\",R119*S119*0.1/100,R119*S119/100))","v":""},{"$f":"IF(A119=\"\",\"\",VLOOKUP(A119,'Structural Water Quality Calcs'!$A$8:$AE$149,20,0))","v":""},{"$f":"IF(A119=\"\",\"\",SUMIFS(Catchment!$AA$5:$AA$300,Catchment!$D$5:$D$300,\"RIDOT\",Catchment!$K$5:$K$300,A119))","v":""},{"$f":"IF(A119=\"\",\"\",VLOOKUP(A119,'Structural Water Quality Calcs'!$A$8:$AE$149,21,0)*100)","v":""},{"$f":"IF(A119=\"\",\"\",VLOOKUP(A119,'Structural Water Quality Calcs'!$A$8:$AE$149,22,0))","v":""},{"$f":"IF(A119=\"\",\"\",IF(VLOOKUP(A119,'Structural Water Quality Calcs'!$A$9:$B$149,2,0)=\"Limited ROW\",W119*X119*0.1/100,W119*X119/100))","v":""},{"$f":"IF(A119=\"\",\"\",VLOOKUP(A119,'Structural Water Quality Calcs'!$A$8:$AE$149,29,0))","v":""},{"$f":"IF(A119=\"\",\"\",IF(VLOOKUP(A119,'Structural Water Quality Calcs'!$A$9:$B$149,2,0)=\"Limited ROW\",VLOOKUP(A119,'Structural Water Quality Calcs'!$A$8:$AE$149,28,0)*F119*0.1/43560,VLOOKUP(A119,'Structural Water Quality Calcs'!$A$8:$AE$149,28,0)*F119/43560))","v":""},{"$f":"IF(A119=\"\",\"\",VLOOKUP(A119,'Structural Water Quality Calcs'!$A$8:$AE$149,28,0)*100)","v":""},{"$f":"IF(A119=\"\",\"\",VLOOKUP(A119,'Structural Water Quality Calcs'!$A$8:$AE$149,31,0))","v":""},{"$f":"IF(A119=\"\",\"\",VLOOKUP(A119,'Structural Water Quality Calcs'!$A$8:$AE$149,26,0))","v":""},{"$f":"IF(A119=\"\",\"\",VLOOKUP(A119,'Structural Water Quality Calcs'!$A$8:$AE$149,27,0))","v":""},{"$f":"IF(A119=\"\",\"\",(VLOOKUP(A119,'Structural Water Quality Calcs'!$A$8:$AE$149,25,0)))","v":""},{"$f":"IF(A119=\"\",\"\",VLOOKUP(A119,'Structural Water Quality Calcs'!$A$8:$AE$149,24,0))","v":""},{"$f":"IF(A119=\"\",\"\",VLOOKUP(A119,STU_Cost!$A$5:$G$150,4,0))","v":""},{"$f":"IF(A119=\"\",\"\",VLOOKUP(A119,STU_Cost!$A$5:$G$150,5,0))","v":""},{"$f":"IF(A119=\"\",\"\",VLOOKUP(A119,STU_Cost!$A$5:$G$150,6,0))","v":""},{"$f":"IF(A119=\"\",\"\",VLOOKUP(A119,STU_Cost!$A$5:$G$150,7,0))","v":""},null,null,{"$f":"IF(A119=\"\",\"\",VLOOKUP(A119,STU!$A$5:$E$300,5,0))","v":""}]
[null,{"$f":"IF(A120=\"\",\"\",VLOOKUP(A120,'Structural Water Quality Calcs'!$A$9:$F$79,6,0))","v":""},{"$f":"IF(A120=\"\",\"\",VLOOKUP(A120,'Structural Water Quality Calcs'!$A$8:$AE$149,3,0))","v":""},{"$f":"IF(A120=\"\",\"\",SUMIFS(Catchment!$V$5:$V$300,Catchment!$D$5:$D$300,\"RIDOT\",Catchment!$K$5:$K$300,A120))","v":""},{"$f":"IF(A120=\"\",\"\",VLOOKUP(A120,'Structural Water Quality Calcs'!$A$8:$AE$149,4,0))","v":""},{"$f":"IF(A120=\"\",\"\",SUMIFS(Catchment!$L$5:$L$300,Catchment!$D$5:$D$300,\"RIDOT\",Catchment!$K$5:$K$300,A120))","v":""},{"$f":"IF(A120=\"\",\"\",VLOOKUP(A120, 'Structural Water Quality Calcs'!$A$8:$AE$149,11,0))","v":""},{"$f":"IF(A120=\"\",\"\",SUMIFS(Catchment!$X$5:$X$300,Catchment!$D$5:$D$300,\"RIDOT\",Catchment!$K$5:$K$300,A120))","v":""},{"$f":"IF(A120=\"\",\"\",VLOOKUP(A120,'Structural Water Quality Calcs'!$A$8:$AE$149,12,0)*100)","v":""},{"$f":"IF(A120=\"\",\"\",VLOOKUP(A120,'Structural Water Quality Calcs'!$A$8:$AE$149,13,0))","v":""},{"$f":"IF(A120=\"\",\"\",IF(VLOOKUP(A120,'Structural Water Quality Calcs'!$A$9:$B$149,2,0)=\"Limited ROW\",H120*I120*0.1/100,H120*I120/100))","v":""},{"$f":"IF(A120=\"\",\"\",VLOOKUP(A120,'Structural Water Quality Calcs'!$A$8:$AE$149,17,0))","v":""},{"$f":"IF(A120=\"\",\"\",SUMIFS(Catchment!$Z$5:$Z$300,Catchment!$D$5:$D$300,\"RIDOT\",Catchment!$K$5:$K$300,A120))","v":""},{"$f":"IF(A120=\"\",\"\",VLOOKUP(A120,'Structural Water Quality Calcs'!$A$8:$AE$149,18,0)*100)","v":""},{"$f":"IF(A120=\"\",\"\",VLOOKUP(A120,'Structural Water Quality Calcs'!$A$8:$AE$149,19,0))","v":""},{"$f":"IF(A120=\"\",\"\",IF(VLOOKUP(A120,'Structural Water Quality Calcs'!$A$9:$B$149,2,0)=\"Limited ROW\",M120*N120*0.1/100,M120*N120/100))","v":""},{"$f":"IF(A120=\"\",\"\",VLOOKUP(A120,'Structural Water Quality Calcs'!$A$8:$AE$149,14,0))","v":""},{"$f":"IF(A120=\"\",\"\",SUMIFS(Catchment!$Y$5:$Y$300,Catchment!$D$5:$D$300,\"RIDOT\",Catchment!$K$5:$K$300,A120))","v":""},{"$f":"IF(A120=\"\",\"\",VLOOKUP(A120,'Structural Water Quality Calcs'!$A$8:$AE$149,15,0)*100)","v":""},{"$f":"IF(A120=\"\",\"\",VLOOKUP(A120,'Structural Water Quality Calcs'!$A$8:$AE$149,16,0))","v":""},{"$f":"IF(A120=\"\",\"\",IF(VLOOKUP(A120,'Structural Water Quality Calcs'!$A$9:$B$149,2,0)=\"Limited ROW\",R120*S120*0.1/100,R120*S120/100))","v":""},{"$f":"IF(A120=\"\",\"\",VLOOKUP(A120,'Structural Water Quality Calcs'!$A$8:$AE$149,20,0))","v":""},{"$f":"IF(A120=\"\",\"\",SUMIFS(Catchment!$AA$5:$AA$300,Catchment!$D$5:$D$300,\"RIDOT\",Catchment!$K$5:$K$300,A120))","v":""},{"$f":"IF(A120=\"\",\"\",VLOOKUP(A120,'Structural Water Quality Calcs'!$A$8:$AE$149,21,0)*100)","v":""},{"$f":"IF(A120=\"\",\"\",VLOOKUP(A120,'Structural Water Quality Calcs'!$A$8:$AE$149,22,0))","v":""},{"$f":"IF(A120=\"\",\"\",IF(VLOOKUP(A120,'Structural Water Quality Calcs'!$A$9:$B$149,2,0)=\"Limited ROW\",W120*X120*0.1/100,W120*X120/100))","v":""},{"$f":"IF(A120=\"\",\"\",VLOOKUP(A120,'Structural Water Quality Calcs'!$A$8:$AE$149,29,0))","v":""},{"$f":"IF(A120=\"\",\"\",IF(VLOOKUP(A120,'Structural Water Quality Calcs'!$A$9:$B$149,2,0)=\"Limited ROW\",VLOOKUP(A120,'Structural Water Quality Calcs'!$A$8:$AE$149,28,0)*F120*0.1/43560,VLOOKUP(A120,'Structural Water Quality Calcs'!$A$8:$AE$149,28,0)*F120/43560))","v":""},{"$f":"IF(A120=\"\",\"\",VLOOKUP(A120,'Structural Water Quality Calcs'!$A$8:$AE$149,28,0)*100)","v":""},{"$f":"IF(A120=\"\",\"\",VLOOKUP(A120,'Structural Water Quality Calcs'!$A$8:$AE$149,31,0))","v":""},{"$f":"IF(A120=\"\",\"\",VLOOKUP(A120,'Structural Water Quality Calcs'!$A$8:$AE$149,26,0))","v":""},{"$f":"IF(A120=\"\",\"\",VLOOKUP(A120,'Structural Water Quality Calcs'!$A$8:$AE$149,27,0))","v":""},{"$f":"IF(A120=\"\",\"\",(VLOOKUP(A120,'Structural Water Quality Calcs'!$A$8:$AE$149,25,0)))","v":""},{"$f":"IF(A120=\"\",\"\",VLOOKUP(A120,'Structural Water Quality Calcs'!$A$8:$AE$149,24,0))","v":""},{"$f":"IF(A120=\"\",\"\",VLOOKUP(A120,STU_Cost!$A$5:$G$150,4,0))","v":""},{"$f":"IF(A120=\"\",\"\",VLOOKUP(A120,STU_Cost!$A$5:$G$150,5,0))","v":""},{"$f":"IF(A120=\"\",\"\",VLOOKUP(A120,STU_Cost!$A$5:$G$150,6,0))","v":""},{"$f":"IF(A120=\"\",\"\",VLOOKUP(A120,STU_Cost!$A$5:$G$150,7,0))","v":""},null,null,{"$f":"IF(A120=\"\",\"\",VLOOKUP(A120,STU!$A$5:$E$300,5,0))","v":""}]
[null,{"$f":"IF(A121=\"\",\"\",VLOOKUP(A121,'Structural Water Quality Calcs'!$A$9:$F$79,6,0))","v":""},{"$f":"IF(A121=\"\",\"\",VLOOKUP(A121,'Structural Water Quality Calcs'!$A$8:$AE$149,3,0))","v":""},{"$f":"IF(A121=\"\",\"\",SUMIFS(Catchment!$V$5:$V$300,Catchment!$D$5:$D$300,\"RIDOT\",Catchment!$K$5:$K$300,A121))","v":""},{"$f":"IF(A121=\"\",\"\",VLOOKUP(A121,'Structural Water Quality Calcs'!$A$8:$AE$149,4,0))","v":""},{"$f":"IF(A121=\"\",\"\",SUMIFS(Catchment!$L$5:$L$300,Catchment!$D$5:$D$300,\"RIDOT\",Catchment!$K$5:$K$300,A121))","v":""},{"$f":"IF(A121=\"\",\"\",VLOOKUP(A121, 'Structural Water Quality Calcs'!$A$8:$AE$149,11,0))","v":""},{"$f":"IF(A121=\"\",\"\",SUMIFS(Catchment!$X$5:$X$300,Catchment!$D$5:$D$300,\"RIDOT\",Catchment!$K$5:$K$300,A121))","v":""},{"$f":"IF(A121=\"\",\"\",VLOOKUP(A121,'Structural Water Quality Calcs'!$A$8:$AE$149,12,0)*100)","v":""},{"$f":"IF(A121=\"\",\"\",VLOOKUP(A121,'Structural Water Quality Calcs'!$A$8:$AE$149,13,0))","v":""},{"$f":"IF(A121=\"\",\"\",IF(VLOOKUP(A121,'Structural Water Quality Calcs'!$A$9:$B$149,2,0)=\"Limited ROW\",H121*I121*0.1/100,H121*I121/100))","v":""},{"$f":"IF(A121=\"\",\"\",VLOOKUP(A121,'Structural Water Quality Calcs'!$A$8:$AE$149,17,0))","v":""},{"$f":"IF(A121=\"\",\"\",SUMIFS(Catchment!$Z$5:$Z$300,Catchment!$D$5:$D$300,\"RIDOT\",Catchment!$K$5:$K$300,A121))","v":""},{"$f":"IF(A121=\"\",\"\",VLOOKUP(A121,'Structural Water Quality Calcs'!$A$8:$AE$149,18,0)*100)","v":""},{"$f":"IF(A121=\"\",\"\",VLOOKUP(A121,'Structural Water Quality Calcs'!$A$8:$AE$149,19,0))","v":""},{"$f":"IF(A121=\"\",\"\",IF(VLOOKUP(A121,'Structural Water Quality Calcs'!$A$9:$B$149,2,0)=\"Limited ROW\",M121*N121*0.1/100,M121*N121/100))","v":""},{"$f":"IF(A121=\"\",\"\",VLOOKUP(A121,'Structural Water Quality Calcs'!$A$8:$AE$149,14,0))","v":""},{"$f":"IF(A121=\"\",\"\",SUMIFS(Catchment!$Y$5:$Y$300,Catchment!$D$5:$D$300,\"RIDOT\",Catchment!$K$5:$K$300,A121))","v":""},{"$f":"IF(A121=\"\",\"\",VLOOKUP(A121,'Structural Water Quality Calcs'!$A$8:$AE$149,15,0)*100)","v":""},{"$f":"IF(A121=\"\",\"\",VLOOKUP(A121,'Structural Water Quality Calcs'!$A$8:$AE$149,16,0))","v":""},{"$f":"IF(A121=\"\",\"\",IF(VLOOKUP(A121,'Structural Water Quality Calcs'!$A$9:$B$149,2,0)=\"Limited ROW\",R121*S121*0.1/100,R121*S121/100))","v":""},{"$f":"IF(A121=\"\",\"\",VLOOKUP(A121,'Structural Water Quality Calcs'!$A$8:$AE$149,20,0))","v":""},{"$f":"IF(A121=\"\",\"\",SUMIFS(Catchment!$AA$5:$AA$300,Catchment!$D$5:$D$300,\"RIDOT\",Catchment!$K$5:$K$300,A121))","v":""},{"$f":"IF(A121=\"\",\"\",VLOOKUP(A121,'Structural Water Quality Calcs'!$A$8:$AE$149,21,0)*100)","v":""},{"$f":"IF(A121=\"\",\"\",VLOOKUP(A121,'Structural Water Quality Calcs'!$A$8:$AE$149,22,0))","v":""},{"$f":"IF(A121=\"\",\"\",IF(VLOOKUP(A121,'Structural Water Quality Calcs'!$A$9:$B$149,2,0)=\"Limited ROW\",W121*X121*0.1/100,W121*X121/100))","v":""},{"$f":"IF(A121=\"\",\"\",VLOOKUP(A121,'Structural Water Quality Calcs'!$A$8:$AE$149,29,0))","v":""},{"$f":"IF(A121=\"\",\"\",IF(VLOOKUP(A121,'Structural Water Quality Calcs'!$A$9:$B$149,2,0)=\"Limited ROW\",VLOOKUP(A121,'Structural Water Quality Calcs'!$A$8:$AE$149,28,0)*F121*0.1/43560,VLOOKUP(A121,'Structural Water Quality Calcs'!$A$8:$AE$149,28,0)*F121/43560))","v":""},{"$f":"IF(A121=\"\",\"\",VLOOKUP(A121,'Structural Water Quality Calcs'!$A$8:$AE$149,28,0)*100)","v":""},{"$f":"IF(A121=\"\",\"\",VLOOKUP(A121,'Structural Water Quality Calcs'!$A$8:$AE$149,31,0))","v":""},{"$f":"IF(A121=\"\",\"\",VLOOKUP(A121,'Structural Water Quality Calcs'!$A$8:$AE$149,26,0))","v":""},{"$f":"IF(A121=\"\",\"\",VLOOKUP(A121,'Structural Water Quality Calcs'!$A$8:$AE$149,27,0))","v":""},{"$f":"IF(A121=\"\",\"\",(VLOOKUP(A121,'Structural Water Quality Calcs'!$A$8:$AE$149,25,0)))","v":""},{"$f":"IF(A121=\"\",\"\",VLOOKUP(A121,'Structural Water Quality Calcs'!$A$8:$AE$149,24,0))","v":""},{"$f":"IF(A121=\"\",\"\",VLOOKUP(A121,STU_Cost!$A$5:$G$150,4,0))","v":""},{"$f":"IF(A121=\"\",\"\",VLOOKUP(A121,STU_Cost!$A$5:$G$150,5,0))","v":""},{"$f":"IF(A121=\"\",\"\",VLOOKUP(A121,STU_Cost!$A$5:$G$150,6,0))","v":""},{"$f":"IF(A121=\"\",\"\",VLOOKUP(A121,STU_Cost!$A$5:$G$150,7,0))","v":""},null,null,{"$f":"IF(A121=\"\",\"\",VLOOKUP(A121,STU!$A$5:$E$300,5,0))","v":""}]
[null,{"$f":"IF(A122=\"\",\"\",VLOOKUP(A122,'Structural Water Quality Calcs'!$A$9:$F$79,6,0))","v":""},{"$f":"IF(A122=\"\",\"\",VLOOKUP(A122,'Structural Water Quality Calcs'!$A$8:$AE$149,3,0))","v":""},{"$f":"IF(A122=\"\",\"\",SUMIFS(Catchment!$V$5:$V$300,Catchment!$D$5:$D$300,\"RIDOT\",Catchment!$K$5:$K$300,A122))","v":""},{"$f":"IF(A122=\"\",\"\",VLOOKUP(A122,'Structural Water Quality Calcs'!$A$8:$AE$149,4,0))","v":""},{"$f":"IF(A122=\"\",\"\",SUMIFS(Catchment!$L$5:$L$300,Catchment!$D$5:$D$300,\"RIDOT\",Catchment!$K$5:$K$300,A122))","v":""},{"$f":"IF(A122=\"\",\"\",VLOOKUP(A122, 'Structural Water Quality Calcs'!$A$8:$AE$149,11,0))","v":""},{"$f":"IF(A122=\"\",\"\",SUMIFS(Catchment!$X$5:$X$300,Catchment!$D$5:$D$300,\"RIDOT\",Catchment!$K$5:$K$300,A122))","v":""},{"$f":"IF(A122=\"\",\"\",VLOOKUP(A122,'Structural Water Quality Calcs'!$A$8:$AE$149,12,0)*100)","v":""},{"$f":"IF(A122=\"\",\"\",VLOOKUP(A122,'Structural Water Quality Calcs'!$A$8:$AE$149,13,0))","v":""},{"$f":"IF(A122=\"\",\"\",IF(VLOOKUP(A122,'Structural Water Quality Calcs'!$A$9:$B$149,2,0)=\"Limited ROW\",H122*I122*0.1/100,H122*I122/100))","v":""},{"$f":"IF(A122=\"\",\"\",VLOOKUP(A122,'Structural Water Quality Calcs'!$A$8:$AE$149,17,0))","v":""},{"$f":"IF(A122=\"\",\"\",SUMIFS(Catchment!$Z$5:$Z$300,Catchment!$D$5:$D$300,\"RIDOT\",Catchment!$K$5:$K$300,A122))","v":""},{"$f":"IF(A122=\"\",\"\",VLOOKUP(A122,'Structural Water Quality Calcs'!$A$8:$AE$149,18,0)*100)","v":""},{"$f":"IF(A122=\"\",\"\",VLOOKUP(A122,'Structural Water Quality Calcs'!$A$8:$AE$149,19,0))","v":""},{"$f":"IF(A122=\"\",\"\",IF(VLOOKUP(A122,'Structural Water Quality Calcs'!$A$9:$B$149,2,0)=\"Limited ROW\",M122*N122*0.1/100,M122*N122/100))","v":""},{"$f":"IF(A122=\"\",\"\",VLOOKUP(A122,'Structural Water Quality Calcs'!$A$8:$AE$149,14,0))","v":""},{"$f":"IF(A122=\"\",\"\",SUMIFS(Catchment!$Y$5:$Y$300,Catchment!$D$5:$D$300,\"RIDOT\",Catchment!$K$5:$K$300,A122))","v":""},{"$f":"IF(A122=\"\",\"\",VLOOKUP(A122,'Structural Water Quality Calcs'!$A$8:$AE$149,15,0)*100)","v":""},{"$f":"IF(A122=\"\",\"\",VLOOKUP(A122,'Structural Water Quality Calcs'!$A$8:$AE$149,16,0))","v":""},{"$f":"IF(A122=\"\",\"\",IF(VLOOKUP(A122,'Structural Water Quality Calcs'!$A$9:$B$149,2,0)=\"Limited ROW\",R122*S122*0.1/100,R122*S122/100))","v":""},{"$f":"IF(A122=\"\",\"\",VLOOKUP(A122,'Structural Water Quality Calcs'!$A$8:$AE$149,20,0))","v":""},{"$f":"IF(A122=\"\",\"\",SUMIFS(Catchment!$AA$5:$AA$300,Catchment!$D$5:$D$300,\"RIDOT\",Catchment!$K$5:$K$300,A122))","v":""},{"$f":"IF(A122=\"\",\"\",VLOOKUP(A122,'Structural Water Quality Calcs'!$A$8:$AE$149,21,0)*100)","v":""},{"$f":"IF(A122=\"\",\"\",VLOOKUP(A122,'Structural Water Quality Calcs'!$A$8:$AE$149,22,0))","v":""},{"$f":"IF(A122=\"\",\"\",IF(VLOOKUP(A122,'Structural Water Quality Calcs'!$A$9:$B$149,2,0)=\"Limited ROW\",W122*X122*0.1/100,W122*X122/100))","v":""},{"$f":"IF(A122=\"\",\"\",VLOOKUP(A122,'Structural Water Quality Calcs'!$A$8:$AE$149,29,0))","v":""},{"$f":"IF(A122=\"\",\"\",IF(VLOOKUP(A122,'Structural Water Quality Calcs'!$A$9:$B$149,2,0)=\"Limited ROW\",VLOOKUP(A122,'Structural Water Quality Calcs'!$A$8:$AE$149,28,0)*F122*0.1/43560,VLOOKUP(A122,'Structural Water Quality Calcs'!$A$8:$AE$149,28,0)*F122/43560))","v":""},{"$f":"IF(A122=\"\",\"\",VLOOKUP(A122,'Structural Water Quality Calcs'!$A$8:$AE$149,28,0)*100)","v":""},{"$f":"IF(A122=\"\",\"\",VLOOKUP(A122,'Structural Water Quality Calcs'!$A$8:$AE$149,31,0))","v":""},{"$f":"IF(A122=\"\",\"\",VLOOKUP(A122,'Structural Water Quality Calcs'!$A$8:$AE$149,26,0))","v":""},{"$f":"IF(A122=\"\",\"\",VLOOKUP(A122,'Structural Water Quality Calcs'!$A$8:$AE$149,27,0))","v":""},{"$f":"IF(A122=\"\",\"\",(VLOOKUP(A122,'Structural Water Quality Calcs'!$A$8:$AE$149,25,0)))","v":""},{"$f":"IF(A122=\"\",\"\",VLOOKUP(A122,'Structural Water Quality Calcs'!$A$8:$AE$149,24,0))","v":""},{"$f":"IF(A122=\"\",\"\",VLOOKUP(A122,STU_Cost!$A$5:$G$150,4,0))","v":""},{"$f":"IF(A122=\"\",\"\",VLOOKUP(A122,STU_Cost!$A$5:$G$150,5,0))","v":""},{"$f":"IF(A122=\"\",\"\",VLOOKUP(A122,STU_Cost!$A$5:$G$150,6,0))","v":""},{"$f":"IF(A122=\"\",\"\",VLOOKUP(A122,STU_Cost!$A$5:$G$150,7,0))","v":""},null,null,{"$f":"IF(A122=\"\",\"\",VLOOKUP(A122,STU!$A$5:$E$300,5,0))","v":""}]
[null,{"$f":"IF(A123=\"\",\"\",VLOOKUP(A123,'Structural Water Quality Calcs'!$A$9:$F$79,6,0))","v":""},{"$f":"IF(A123=\"\",\"\",VLOOKUP(A123,'Structural Water Quality Calcs'!$A$8:$AE$149,3,0))","v":""},{"$f":"IF(A123=\"\",\"\",SUMIFS(Catchment!$V$5:$V$300,Catchment!$D$5:$D$300,\"RIDOT\",Catchment!$K$5:$K$300,A123))","v":""},{"$f":"IF(A123=\"\",\"\",VLOOKUP(A123,'Structural Water Quality Calcs'!$A$8:$AE$149,4,0))","v":""},{"$f":"IF(A123=\"\",\"\",SUMIFS(Catchment!$L$5:$L$300,Catchment!$D$5:$D$300,\"RIDOT\",Catchment!$K$5:$K$300,A123))","v":""},{"$f":"IF(A123=\"\",\"\",VLOOKUP(A123, 'Structural Water Quality Calcs'!$A$8:$AE$149,11,0))","v":""},{"$f":"IF(A123=\"\",\"\",SUMIFS(Catchment!$X$5:$X$300,Catchment!$D$5:$D$300,\"RIDOT\",Catchment!$K$5:$K$300,A123))","v":""},{"$f":"IF(A123=\"\",\"\",VLOOKUP(A123,'Structural Water Quality Calcs'!$A$8:$AE$149,12,0)*100)","v":""},{"$f":"IF(A123=\"\",\"\",VLOOKUP(A123,'Structural Water Quality Calcs'!$A$8:$AE$149,13,0))","v":""},{"$f":"IF(A123=\"\",\"\",IF(VLOOKUP(A123,'Structural Water Quality Calcs'!$A$9:$B$149,2,0)=\"Limited ROW\",H123*I123*0.1/100,H123*I123/100))","v":""},{"$f":"IF(A123=\"\",\"\",VLOOKUP(A123,'Structural Water Quality Calcs'!$A$8:$AE$149,17,0))","v":""},{"$f":"IF(A123=\"\",\"\",SUMIFS(Catchment!$Z$5:$Z$300,Catchment!$D$5:$D$300,\"RIDOT\",Catchment!$K$5:$K$300,A123))","v":""},{"$f":"IF(A123=\"\",\"\",VLOOKUP(A123,'Structural Water Quality Calcs'!$A$8:$AE$149,18,0)*100)","v":""},{"$f":"IF(A123=\"\",\"\",VLOOKUP(A123,'Structural Water Quality Calcs'!$A$8:$AE$149,19,0))","v":""},{"$f":"IF(A123=\"\",\"\",IF(VLOOKUP(A123,'Structural Water Quality Calcs'!$A$9:$B$149,2,0)=\"Limited ROW\",M123*N123*0.1/100,M123*N123/100))","v":""},{"$f":"IF(A123=\"\",\"\",VLOOKUP(A123,'Structural Water Quality Calcs'!$A$8:$AE$149,14,0))","v":""},{"$f":"IF(A123=\"\",\"\",SUMIFS(Catchment!$Y$5:$Y$300,Catchment!$D$5:$D$300,\"RIDOT\",Catchment!$K$5:$K$300,A123))","v":""},{"$f":"IF(A123=\"\",\"\",VLOOKUP(A123,'Structural Water Quality Calcs'!$A$8:$AE$149,15,0)*100)","v":""},{"$f":"IF(A123=\"\",\"\",VLOOKUP(A123,'Structural Water Quality Calcs'!$A$8:$AE$149,16,0))","v":""},{"$f":"IF(A123=\"\",\"\",IF(VLOOKUP(A123,'Structural Water Quality Calcs'!$A$9:$B$149,2,0)=\"Limited ROW\",R123*S123*0.1/100,R123*S123/100))","v":""},{"$f":"IF(A123=\"\",\"\",VLOOKUP(A123,'Structural Water Quality Calcs'!$A$8:$AE$149,20,0))","v":""},{"$f":"IF(A123=\"\",\"\",SUMIFS(Catchment!$AA$5:$AA$300,Catchment!$D$5:$D$300,\"RIDOT\",Catchment!$K$5:$K$300,A123))","v":""},{"$f":"IF(A123=\"\",\"\",VLOOKUP(A123,'Structural Water Quality Calcs'!$A$8:$AE$149,21,0)*100)","v":""},{"$f":"IF(A123=\"\",\"\",VLOOKUP(A123,'Structural Water Quality Calcs'!$A$8:$AE$149,22,0))","v":""},{"$f":"IF(A123=\"\",\"\",IF(VLOOKUP(A123,'Structural Water Quality Calcs'!$A$9:$B$149,2,0)=\"Limited ROW\",W123*X123*0.1/100,W123*X123/100))","v":""},{"$f":"IF(A123=\"\",\"\",VLOOKUP(A123,'Structural Water Quality Calcs'!$A$8:$AE$149,29,0))","v":""},{"$f":"IF(A123=\"\",\"\",IF(VLOOKUP(A123,'Structural Water Quality Calcs'!$A$9:$B$149,2,0)=\"Limited ROW\",VLOOKUP(A123,'Structural Water Quality Calcs'!$A$8:$AE$149,28,0)*F123*0.1/43560,VLOOKUP(A123,'Structural Water Quality Calcs'!$A$8:$AE$149,28,0)*F123/43560))","v":""},{"$f":"IF(A123=\"\",\"\",VLOOKUP(A123,'Structural Water Quality Calcs'!$A$8:$AE$149,28,0)*100)","v":""},{"$f":"IF(A123=\"\",\"\",VLOOKUP(A123,'Structural Water Quality Calcs'!$A$8:$AE$149,31,0))","v":""},{"$f":"IF(A123=\"\",\"\",VLOOKUP(A123,'Structural Water Quality Calcs'!$A$8:$AE$149,26,0))","v":""},{"$f":"IF(A123=\"\",\"\",VLOOKUP(A123,'Structural Water Quality Calcs'!$A$8:$AE$149,27,0))","v":""},{"$f":"IF(A123=\"\",\"\",(VLOOKUP(A123,'Structural Water Quality Calcs'!$A$8:$AE$149,25,0)))","v":""},{"$f":"IF(A123=\"\",\"\",VLOOKUP(A123,'Structural Water Quality Calcs'!$A$8:$AE$149,24,0))","v":""},{"$f":"IF(A123=\"\",\"\",VLOOKUP(A123,STU_Cost!$A$5:$G$150,4,0))","v":""},{"$f":"IF(A123=\"\",\"\",VLOOKUP(A123,STU_Cost!$A$5:$G$150,5,0))","v":""},{"$f":"IF(A123=\"\",\"\",VLOOKUP(A123,STU_Cost!$A$5:$G$150,6,0))","v":""},{"$f":"IF(A123=\"\",\"\",VLOOKUP(A123,STU_Cost!$A$5:$G$150,7,0))","v":""},null,null,{"$f":"IF(A123=\"\",\"\",VLOOKUP(A123,STU!$A$5:$E$300,5,0))","v":""}]
[null,{"$f":"IF(A124=\"\",\"\",VLOOKUP(A124,'Structural Water Quality Calcs'!$A$9:$F$79,6,0))","v":""},{"$f":"IF(A124=\"\",\"\",VLOOKUP(A124,'Structural Water Quality Calcs'!$A$8:$AE$149,3,0))","v":""},{"$f":"IF(A124=\"\",\"\",SUMIFS(Catchment!$V$5:$V$300,Catchment!$D$5:$D$300,\"RIDOT\",Catchment!$K$5:$K$300,A124))","v":""},{"$f":"IF(A124=\"\",\"\",VLOOKUP(A124,'Structural Water Quality Calcs'!$A$8:$AE$149,4,0))","v":""},{"$f":"IF(A124=\"\",\"\",SUMIFS(Catchment!$L$5:$L$300,Catchment!$D$5:$D$300,\"RIDOT\",Catchment!$K$5:$K$300,A124))","v":""},{"$f":"IF(A124=\"\",\"\",VLOOKUP(A124, 'Structural Water Quality Calcs'!$A$8:$AE$149,11,0))","v":""},{"$f":"IF(A124=\"\",\"\",SUMIFS(Catchment!$X$5:$X$300,Catchment!$D$5:$D$300,\"RIDOT\",Catchment!$K$5:$K$300,A124))","v":""},{"$f":"IF(A124=\"\",\"\",VLOOKUP(A124,'Structural Water Quality Calcs'!$A$8:$AE$149,12,0)*100)","v":""},{"$f":"IF(A124=\"\",\"\",VLOOKUP(A124,'Structural Water Quality Calcs'!$A$8:$AE$149,13,0))","v":""},{"$f":"IF(A124=\"\",\"\",IF(VLOOKUP(A124,'Structural Water Quality Calcs'!$A$9:$B$149,2,0)=\"Limited ROW\",H124*I124*0.1/100,H124*I124/100))","v":""},{"$f":"IF(A124=\"\",\"\",VLOOKUP(A124,'Structural Water Quality Calcs'!$A$8:$AE$149,17,0))","v":""},{"$f":"IF(A124=\"\",\"\",SUMIFS(Catchment!$Z$5:$Z$300,Catchment!$D$5:$D$300,\"RIDOT\",Catchment!$K$5:$K$300,A124))","v":""},{"$f":"IF(A124=\"\",\"\",VLOOKUP(A124,'Structural Water Quality Calcs'!$A$8:$AE$149,18,0)*100)","v":""},{"$f":"IF(A124=\"\",\"\",VLOOKUP(A124,'Structural Water Quality Calcs'!$A$8:$AE$149,19,0))","v":""},{"$f":"IF(A124=\"\",\"\",IF(VLOOKUP(A124,'Structural Water Quality Calcs'!$A$9:$B$149,2,0)=\"Limited ROW\",M124*N124*0.1/100,M124*N124/100))","v":""},{"$f":"IF(A124=\"\",\"\",VLOOKUP(A124,'Structural Water Quality Calcs'!$A$8:$AE$149,14,0))","v":""},{"$f":"IF(A124=\"\",\"\",SUMIFS(Catchment!$Y$5:$Y$300,Catchment!$D$5:$D$300,\"RIDOT\",Catchment!$K$5:$K$300,A124))","v":""},{"$f":"IF(A124=\"\",\"\",VLOOKUP(A124,'Structural Water Quality Calcs'!$A$8:$AE$149,15,0)*100)","v":""},{"$f":"IF(A124=\"\",\"\",VLOOKUP(A124,'Structural Water Quality Calcs'!$A$8:$AE$149,16,0))","v":""},{"$f":"IF(A124=\"\",\"\",IF(VLOOKUP(A124,'Structural Water Quality Calcs'!$A$9:$B$149,2,0)=\"Limited ROW\",R124*S124*0.1/100,R124*S124/100))","v":""},{"$f":"IF(A124=\"\",\"\",VLOOKUP(A124,'Structural Water Quality Calcs'!$A$8:$AE$149,20,0))","v":""},{"$f":"IF(A124=\"\",\"\",SUMIFS(Catchment!$AA$5:$AA$300,Catchment!$D$5:$D$300,\"RIDOT\",Catchment!$K$5:$K$300,A124))","v":""},{"$f":"IF(A124=\"\",\"\",VLOOKUP(A124,'Structural Water Quality Calcs'!$A$8:$AE$149,21,0)*100)","v":""},{"$f":"IF(A124=\"\",\"\",VLOOKUP(A124,'Structural Water Quality Calcs'!$A$8:$AE$149,22,0))","v":""},{"$f":"IF(A124=\"\",\"\",IF(VLOOKUP(A124,'Structural Water Quality Calcs'!$A$9:$B$149,2,0)=\"Limited ROW\",W124*X124*0.1/100,W124*X124/100))","v":""},{"$f":"IF(A124=\"\",\"\",VLOOKUP(A124,'Structural Water Quality Calcs'!$A$8:$AE$149,29,0))","v":""},{"$f":"IF(A124=\"\",\"\",IF(VLOOKUP(A124,'Structural Water Quality Calcs'!$A$9:$B$149,2,0)=\"Limited ROW\",VLOOKUP(A124,'Structural Water Quality Calcs'!$A$8:$AE$149,28,0)*F124*0.1/43560,VLOOKUP(A124,'Structural Water Quality Calcs'!$A$8:$AE$149,28,0)*F124/43560))","v":""},{"$f":"IF(A124=\"\",\"\",VLOOKUP(A124,'Structural Water Quality Calcs'!$A$8:$AE$149,28,0)*100)","v":""},{"$f":"IF(A124=\"\",\"\",VLOOKUP(A124,'Structural Water Quality Calcs'!$A$8:$AE$149,31,0))","v":""},{"$f":"IF(A124=\"\",\"\",VLOOKUP(A124,'Structural Water Quality Calcs'!$A$8:$AE$149,26,0))","v":""},{"$f":"IF(A124=\"\",\"\",VLOOKUP(A124,'Structural Water Quality Calcs'!$A$8:$AE$149,27,0))","v":""},{"$f":"IF(A124=\"\",\"\",(VLOOKUP(A124,'Structural Water Quality Calcs'!$A$8:$AE$149,25,0)))","v":""},{"$f":"IF(A124=\"\",\"\",VLOOKUP(A124,'Structural Water Quality Calcs'!$A$8:$AE$149,24,0))","v":""},{"$f":"IF(A124=\"\",\"\",VLOOKUP(A124,STU_Cost!$A$5:$G$150,4,0))","v":""},{"$f":"IF(A124=\"\",\"\",VLOOKUP(A124,STU_Cost!$A$5:$G$150,5,0))","v":""},{"$f":"IF(A124=\"\",\"\",VLOOKUP(A124,STU_Cost!$A$5:$G$150,6,0))","v":""},{"$f":"IF(A124=\"\",\"\",VLOOKUP(A124,STU_Cost!$A$5:$G$150,7,0))","v":""},null,null,{"$f":"IF(A124=\"\",\"\",VLOOKUP(A124,STU!$A$5:$E$300,5,0))","v":""}]
[null,{"$f":"IF(A125=\"\",\"\",VLOOKUP(A125,'Structural Water Quality Calcs'!$A$9:$F$79,6,0))","v":""},{"$f":"IF(A125=\"\",\"\",VLOOKUP(A125,'Structural Water Quality Calcs'!$A$8:$AE$149,3,0))","v":""},{"$f":"IF(A125=\"\",\"\",SUMIFS(Catchment!$V$5:$V$300,Catchment!$D$5:$D$300,\"RIDOT\",Catchment!$K$5:$K$300,A125))","v":""},{"$f":"IF(A125=\"\",\"\",VLOOKUP(A125,'Structural Water Quality Calcs'!$A$8:$AE$149,4,0))","v":""},{"$f":"IF(A125=\"\",\"\",SUMIFS(Catchment!$L$5:$L$300,Catchment!$D$5:$D$300,\"RIDOT\",Catchment!$K$5:$K$300,A125))","v":""},{"$f":"IF(A125=\"\",\"\",VLOOKUP(A125, 'Structural Water Quality Calcs'!$A$8:$AE$149,11,0))","v":""},{"$f":"IF(A125=\"\",\"\",SUMIFS(Catchment!$X$5:$X$300,Catchment!$D$5:$D$300,\"RIDOT\",Catchment!$K$5:$K$300,A125))","v":""},{"$f":"IF(A125=\"\",\"\",VLOOKUP(A125,'Structural Water Quality Calcs'!$A$8:$AE$149,12,0)*100)","v":""},{"$f":"IF(A125=\"\",\"\",VLOOKUP(A125,'Structural Water Quality Calcs'!$A$8:$AE$149,13,0))","v":""},{"$f":"IF(A125=\"\",\"\",IF(VLOOKUP(A125,'Structural Water Quality Calcs'!$A$9:$B$149,2,0)=\"Limited ROW\",H125*I125*0.1/100,H125*I125/100))","v":""},{"$f":"IF(A125=\"\",\"\",VLOOKUP(A125,'Structural Water Quality Calcs'!$A$8:$AE$149,17,0))","v":""},{"$f":"IF(A125=\"\",\"\",SUMIFS(Catchment!$Z$5:$Z$300,Catchment!$D$5:$D$300,\"RIDOT\",Catchment!$K$5:$K$300,A125))","v":""},{"$f":"IF(A125=\"\",\"\",VLOOKUP(A125,'Structural Water Quality Calcs'!$A$8:$AE$149,18,0)*100)","v":""},{"$f":"IF(A125=\"\",\"\",VLOOKUP(A125,'Structural Water Quality Calcs'!$A$8:$AE$149,19,0))","v":""},{"$f":"IF(A125=\"\",\"\",IF(VLOOKUP(A125,'Structural Water Quality Calcs'!$A$9:$B$149,2,0)=\"Limited ROW\",M125*N125*0.1/100,M125*N125/100))","v":""},{"$f":"IF(A125=\"\",\"\",VLOOKUP(A125,'Structural Water Quality Calcs'!$A$8:$AE$149,14,0))","v":""},{"$f":"IF(A125=\"\",\"\",SUMIFS(Catchment!$Y$5:$Y$300,Catchment!$D$5:$D$300,\"RIDOT\",Catchment!$K$5:$K$300,A125))","v":""},{"$f":"IF(A125=\"\",\"\",VLOOKUP(A125,'Structural Water Quality Calcs'!$A$8:$AE$149,15,0)*100)","v":""},{"$f":"IF(A125=\"\",\"\",VLOOKUP(A125,'Structural Water Quality Calcs'!$A$8:$AE$149,16,0))","v":""},{"$f":"IF(A125=\"\",\"\",IF(VLOOKUP(A125,'Structural Water Quality Calcs'!$A$9:$B$149,2,0)=\"Limited ROW\",R125*S125*0.1/100,R125*S125/100))","v":""},{"$f":"IF(A125=\"\",\"\",VLOOKUP(A125,'Structural Water Quality Calcs'!$A$8:$AE$149,20,0))","v":""},{"$f":"IF(A125=\"\",\"\",SUMIFS(Catchment!$AA$5:$AA$300,Catchment!$D$5:$D$300,\"RIDOT\",Catchment!$K$5:$K$300,A125))","v":""},{"$f":"IF(A125=\"\",\"\",VLOOKUP(A125,'Structural Water Quality Calcs'!$A$8:$AE$149,21,0)*100)","v":""},{"$f":"IF(A125=\"\",\"\",VLOOKUP(A125,'Structural Water Quality Calcs'!$A$8:$AE$149,22,0))","v":""},{"$f":"IF(A125=\"\",\"\",IF(VLOOKUP(A125,'Structural Water Quality Calcs'!$A$9:$B$149,2,0)=\"Limited ROW\",W125*X125*0.1/100,W125*X125/100))","v":""},{"$f":"IF(A125=\"\",\"\",VLOOKUP(A125,'Structural Water Quality Calcs'!$A$8:$AE$149,29,0))","v":""},{"$f":"IF(A125=\"\",\"\",IF(VLOOKUP(A125,'Structural Water Quality Calcs'!$A$9:$B$149,2,0)=\"Limited ROW\",VLOOKUP(A125,'Structural Water Quality Calcs'!$A$8:$AE$149,28,0)*F125*0.1/43560,VLOOKUP(A125,'Structural Water Quality Calcs'!$A$8:$AE$149,28,0)*F125/43560))","v":""},{"$f":"IF(A125=\"\",\"\",VLOOKUP(A125,'Structural Water Quality Calcs'!$A$8:$AE$149,28,0)*100)","v":""},{"$f":"IF(A125=\"\",\"\",VLOOKUP(A125,'Structural Water Quality Calcs'!$A$8:$AE$149,31,0))","v":""},{"$f":"IF(A125=\"\",\"\",VLOOKUP(A125,'Structural Water Quality Calcs'!$A$8:$AE$149,26,0))","v":""},{"$f":"IF(A125=\"\",\"\",VLOOKUP(A125,'Structural Water Quality Calcs'!$A$8:$AE$149,27,0))","v":""},{"$f":"IF(A125=\"\",\"\",(VLOOKUP(A125,'Structural Water Quality Calcs'!$A$8:$AE$149,25,0)))","v":""},{"$f":"IF(A125=\"\",\"\",VLOOKUP(A125,'Structural Water Quality Calcs'!$A$8:$AE$149,24,0))","v":""},{"$f":"IF(A125=\"\",\"\",VLOOKUP(A125,STU_Cost!$A$5:$G$150,4,0))","v":""},{"$f":"IF(A125=\"\",\"\",VLOOKUP(A125,STU_Cost!$A$5:$G$150,5,0))","v":""},{"$f":"IF(A125=\"\",\"\",VLOOKUP(A125,STU_Cost!$A$5:$G$150,6,0))","v":""},{"$f":"IF(A125=\"\",\"\",VLOOKUP(A125,STU_Cost!$A$5:$G$150,7,0))","v":""},null,null,{"$f":"IF(A125=\"\",\"\",VLOOKUP(A125,STU!$A$5:$E$300,5,0))","v":""}]
[null,{"$f":"IF(A126=\"\",\"\",VLOOKUP(A126,'Structural Water Quality Calcs'!$A$9:$F$79,6,0))","v":""},{"$f":"IF(A126=\"\",\"\",VLOOKUP(A126,'Structural Water Quality Calcs'!$A$8:$AE$149,3,0))","v":""},{"$f":"IF(A126=\"\",\"\",SUMIFS(Catchment!$V$5:$V$300,Catchment!$D$5:$D$300,\"RIDOT\",Catchment!$K$5:$K$300,A126))","v":""},{"$f":"IF(A126=\"\",\"\",VLOOKUP(A126,'Structural Water Quality Calcs'!$A$8:$AE$149,4,0))","v":""},{"$f":"IF(A126=\"\",\"\",SUMIFS(Catchment!$L$5:$L$300,Catchment!$D$5:$D$300,\"RIDOT\",Catchment!$K$5:$K$300,A126))","v":""},{"$f":"IF(A126=\"\",\"\",VLOOKUP(A126, 'Structural Water Quality Calcs'!$A$8:$AE$149,11,0))","v":""},{"$f":"IF(A126=\"\",\"\",SUMIFS(Catchment!$X$5:$X$300,Catchment!$D$5:$D$300,\"RIDOT\",Catchment!$K$5:$K$300,A126))","v":""},{"$f":"IF(A126=\"\",\"\",VLOOKUP(A126,'Structural Water Quality Calcs'!$A$8:$AE$149,12,0)*100)","v":""},{"$f":"IF(A126=\"\",\"\",VLOOKUP(A126,'Structural Water Quality Calcs'!$A$8:$AE$149,13,0))","v":""},{"$f":"IF(A126=\"\",\"\",IF(VLOOKUP(A126,'Structural Water Quality Calcs'!$A$9:$B$149,2,0)=\"Limited ROW\",H126*I126*0.1/100,H126*I126/100))","v":""},{"$f":"IF(A126=\"\",\"\",VLOOKUP(A126,'Structural Water Quality Calcs'!$A$8:$AE$149,17,0))","v":""},{"$f":"IF(A126=\"\",\"\",SUMIFS(Catchment!$Z$5:$Z$300,Catchment!$D$5:$D$300,\"RIDOT\",Catchment!$K$5:$K$300,A126))","v":""},{"$f":"IF(A126=\"\",\"\",VLOOKUP(A126,'Structural Water Quality Calcs'!$A$8:$AE$149,18,0)*100)","v":""},{"$f":"IF(A126=\"\",\"\",VLOOKUP(A126,'Structural Water Quality Calcs'!$A$8:$AE$149,19,0))","v":""},{"$f":"IF(A126=\"\",\"\",IF(VLOOKUP(A126,'Structural Water Quality Calcs'!$A$9:$B$149,2,0)=\"Limited ROW\",M126*N126*0.1/100,M126*N126/100))","v":""},{"$f":"IF(A126=\"\",\"\",VLOOKUP(A126,'Structural Water Quality Calcs'!$A$8:$AE$149,14,0))","v":""},{"$f":"IF(A126=\"\",\"\",SUMIFS(Catchment!$Y$5:$Y$300,Catchment!$D$5:$D$300,\"RIDOT\",Catchment!$K$5:$K$300,A126))","v":""},{"$f":"IF(A126=\"\",\"\",VLOOKUP(A126,'Structural Water Quality Calcs'!$A$8:$AE$149,15,0)*100)","v":""},{"$f":"IF(A126=\"\",\"\",VLOOKUP(A126,'Structural Water Quality Calcs'!$A$8:$AE$149,16,0))","v":""},{"$f":"IF(A126=\"\",\"\",IF(VLOOKUP(A126,'Structural Water Quality Calcs'!$A$9:$B$149,2,0)=\"Limited ROW\",R126*S126*0.1/100,R126*S126/100))","v":""},{"$f":"IF(A126=\"\",\"\",VLOOKUP(A126,'Structural Water Quality Calcs'!$A$8:$AE$149,20,0))","v":""},{"$f":"IF(A126=\"\",\"\",SUMIFS(Catchment!$AA$5:$AA$300,Catchment!$D$5:$D$300,\"RIDOT\",Catchment!$K$5:$K$300,A126))","v":""},{"$f":"IF(A126=\"\",\"\",VLOOKUP(A126,'Structural Water Quality Calcs'!$A$8:$AE$149,21,0)*100)","v":""},{"$f":"IF(A126=\"\",\"\",VLOOKUP(A126,'Structural Water Quality Calcs'!$A$8:$AE$149,22,0))","v":""},{"$f":"IF(A126=\"\",\"\",IF(VLOOKUP(A126,'Structural Water Quality Calcs'!$A$9:$B$149,2,0)=\"Limited ROW\",W126*X126*0.1/100,W126*X126/100))","v":""},{"$f":"IF(A126=\"\",\"\",VLOOKUP(A126,'Structural Water Quality Calcs'!$A$8:$AE$149,29,0))","v":""},{"$f":"IF(A126=\"\",\"\",IF(VLOOKUP(A126,'Structural Water Quality Calcs'!$A$9:$B$149,2,0)=\"Limited ROW\",VLOOKUP(A126,'Structural Water Quality Calcs'!$A$8:$AE$149,28,0)*F126*0.1/43560,VLOOKUP(A126,'Structural Water Quality Calcs'!$A$8:$AE$149,28,0)*F126/43560))","v":""},{"$f":"IF(A126=\"\",\"\",VLOOKUP(A126,'Structural Water Quality Calcs'!$A$8:$AE$149,28,0)*100)","v":""},{"$f":"IF(A126=\"\",\"\",VLOOKUP(A126,'Structural Water Quality Calcs'!$A$8:$AE$149,31,0))","v":""},{"$f":"IF(A126=\"\",\"\",VLOOKUP(A126,'Structural Water Quality Calcs'!$A$8:$AE$149,26,0))","v":""},{"$f":"IF(A126=\"\",\"\",VLOOKUP(A126,'Structural Water Quality Calcs'!$A$8:$AE$149,27,0))","v":""},{"$f":"IF(A126=\"\",\"\",(VLOOKUP(A126,'Structural Water Quality Calcs'!$A$8:$AE$149,25,0)))","v":""},{"$f":"IF(A126=\"\",\"\",VLOOKUP(A126,'Structural Water Quality Calcs'!$A$8:$AE$149,24,0))","v":""},{"$f":"IF(A126=\"\",\"\",VLOOKUP(A126,STU_Cost!$A$5:$G$150,4,0))","v":""},{"$f":"IF(A126=\"\",\"\",VLOOKUP(A126,STU_Cost!$A$5:$G$150,5,0))","v":""},{"$f":"IF(A126=\"\",\"\",VLOOKUP(A126,STU_Cost!$A$5:$G$150,6,0))","v":""},{"$f":"IF(A126=\"\",\"\",VLOOKUP(A126,STU_Cost!$A$5:$G$150,7,0))","v":""},null,null,{"$f":"IF(A126=\"\",\"\",VLOOKUP(A126,STU!$A$5:$E$300,5,0))","v":""}]
[null,{"$f":"IF(A127=\"\",\"\",VLOOKUP(A127,'Structural Water Quality Calcs'!$A$9:$F$79,6,0))","v":""},{"$f":"IF(A127=\"\",\"\",VLOOKUP(A127,'Structural Water Quality Calcs'!$A$8:$AE$149,3,0))","v":""},{"$f":"IF(A127=\"\",\"\",SUMIFS(Catchment!$V$5:$V$300,Catchment!$D$5:$D$300,\"RIDOT\",Catchment!$K$5:$K$300,A127))","v":""},{"$f":"IF(A127=\"\",\"\",VLOOKUP(A127,'Structural Water Quality Calcs'!$A$8:$AE$149,4,0))","v":""},{"$f":"IF(A127=\"\",\"\",SUMIFS(Catchment!$L$5:$L$300,Catchment!$D$5:$D$300,\"RIDOT\",Catchment!$K$5:$K$300,A127))","v":""},{"$f":"IF(A127=\"\",\"\",VLOOKUP(A127, 'Structural Water Quality Calcs'!$A$8:$AE$149,11,0))","v":""},{"$f":"IF(A127=\"\",\"\",SUMIFS(Catchment!$X$5:$X$300,Catchment!$D$5:$D$300,\"RIDOT\",Catchment!$K$5:$K$300,A127))","v":""},{"$f":"IF(A127=\"\",\"\",VLOOKUP(A127,'Structural Water Quality Calcs'!$A$8:$AE$149,12,0)*100)","v":""},{"$f":"IF(A127=\"\",\"\",VLOOKUP(A127,'Structural Water Quality Calcs'!$A$8:$AE$149,13,0))","v":""},{"$f":"IF(A127=\"\",\"\",IF(VLOOKUP(A127,'Structural Water Quality Calcs'!$A$9:$B$149,2,0)=\"Limited ROW\",H127*I127*0.1/100,H127*I127/100))","v":""},{"$f":"IF(A127=\"\",\"\",VLOOKUP(A127,'Structural Water Quality Calcs'!$A$8:$AE$149,17,0))","v":""},{"$f":"IF(A127=\"\",\"\",SUMIFS(Catchment!$Z$5:$Z$300,Catchment!$D$5:$D$300,\"RIDOT\",Catchment!$K$5:$K$300,A127))","v":""},{"$f":"IF(A127=\"\",\"\",VLOOKUP(A127,'Structural Water Quality Calcs'!$A$8:$AE$149,18,0)*100)","v":""},{"$f":"IF(A127=\"\",\"\",VLOOKUP(A127,'Structural Water Quality Calcs'!$A$8:$AE$149,19,0))","v":""},{"$f":"IF(A127=\"\",\"\",IF(VLOOKUP(A127,'Structural Water Quality Calcs'!$A$9:$B$149,2,0)=\"Limited ROW\",M127*N127*0.1/100,M127*N127/100))","v":""},{"$f":"IF(A127=\"\",\"\",VLOOKUP(A127,'Structural Water Quality Calcs'!$A$8:$AE$149,14,0))","v":""},{"$f":"IF(A127=\"\",\"\",SUMIFS(Catchment!$Y$5:$Y$300,Catchment!$D$5:$D$300,\"RIDOT\",Catchment!$K$5:$K$300,A127))","v":""},{"$f":"IF(A127=\"\",\"\",VLOOKUP(A127,'Structural Water Quality Calcs'!$A$8:$AE$149,15,0)*100)","v":""},{"$f":"IF(A127=\"\",\"\",VLOOKUP(A127,'Structural Water Quality Calcs'!$A$8:$AE$149,16,0))","v":""},{"$f":"IF(A127=\"\",\"\",IF(VLOOKUP(A127,'Structural Water Quality Calcs'!$A$9:$B$149,2,0)=\"Limited ROW\",R127*S127*0.1/100,R127*S127/100))","v":""},{"$f":"IF(A127=\"\",\"\",VLOOKUP(A127,'Structural Water Quality Calcs'!$A$8:$AE$149,20,0))","v":""},{"$f":"IF(A127=\"\",\"\",SUMIFS(Catchment!$AA$5:$AA$300,Catchment!$D$5:$D$300,\"RIDOT\",Catchment!$K$5:$K$300,A127))","v":""},{"$f":"IF(A127=\"\",\"\",VLOOKUP(A127,'Structural Water Quality Calcs'!$A$8:$AE$149,21,0)*100)","v":""},{"$f":"IF(A127=\"\",\"\",VLOOKUP(A127,'Structural Water Quality Calcs'!$A$8:$AE$149,22,0))","v":""},{"$f":"IF(A127=\"\",\"\",IF(VLOOKUP(A127,'Structural Water Quality Calcs'!$A$9:$B$149,2,0)=\"Limited ROW\",W127*X127*0.1/100,W127*X127/100))","v":""},{"$f":"IF(A127=\"\",\"\",VLOOKUP(A127,'Structural Water Quality Calcs'!$A$8:$AE$149,29,0))","v":""},{"$f":"IF(A127=\"\",\"\",IF(VLOOKUP(A127,'Structural Water Quality Calcs'!$A$9:$B$149,2,0)=\"Limited ROW\",VLOOKUP(A127,'Structural Water Quality Calcs'!$A$8:$AE$149,28,0)*F127*0.1/43560,VLOOKUP(A127,'Structural Water Quality Calcs'!$A$8:$AE$149,28,0)*F127/43560))","v":""},{"$f":"IF(A127=\"\",\"\",VLOOKUP(A127,'Structural Water Quality Calcs'!$A$8:$AE$149,28,0)*100)","v":""},{"$f":"IF(A127=\"\",\"\",VLOOKUP(A127,'Structural Water Quality Calcs'!$A$8:$AE$149,31,0))","v":""},{"$f":"IF(A127=\"\",\"\",VLOOKUP(A127,'Structural Water Quality Calcs'!$A$8:$AE$149,26,0))","v":""},{"$f":"IF(A127=\"\",\"\",VLOOKUP(A127,'Structural Water Quality Calcs'!$A$8:$AE$149,27,0))","v":""},{"$f":"IF(A127=\"\",\"\",(VLOOKUP(A127,'Structural Water Quality Calcs'!$A$8:$AE$149,25,0)))","v":""},{"$f":"IF(A127=\"\",\"\",VLOOKUP(A127,'Structural Water Quality Calcs'!$A$8:$AE$149,24,0))","v":""},{"$f":"IF(A127=\"\",\"\",VLOOKUP(A127,STU_Cost!$A$5:$G$150,4,0))","v":""},{"$f":"IF(A127=\"\",\"\",VLOOKUP(A127,STU_Cost!$A$5:$G$150,5,0))","v":""},{"$f":"IF(A127=\"\",\"\",VLOOKUP(A127,STU_Cost!$A$5:$G$150,6,0))","v":""},{"$f":"IF(A127=\"\",\"\",VLOOKUP(A127,STU_Cost!$A$5:$G$150,7,0))","v":""},null,null,{"$f":"IF(A127=\"\",\"\",VLOOKUP(A127,STU!$A$5:$E$300,5,0))","v":""}]
[null,{"$f":"IF(A128=\"\",\"\",VLOOKUP(A128,'Structural Water Quality Calcs'!$A$9:$F$79,6,0))","v":""},{"$f":"IF(A128=\"\",\"\",VLOOKUP(A128,'Structural Water Quality Calcs'!$A$8:$AE$149,3,0))","v":""},{"$f":"IF(A128=\"\",\"\",SUMIFS(Catchment!$V$5:$V$300,Catchment!$D$5:$D$300,\"RIDOT\",Catchment!$K$5:$K$300,A128))","v":""},{"$f":"IF(A128=\"\",\"\",VLOOKUP(A128,'Structural Water Quality Calcs'!$A$8:$AE$149,4,0))","v":""},{"$f":"IF(A128=\"\",\"\",SUMIFS(Catchment!$L$5:$L$300,Catchment!$D$5:$D$300,\"RIDOT\",Catchment!$K$5:$K$300,A128))","v":""},{"$f":"IF(A128=\"\",\"\",VLOOKUP(A128, 'Structural Water Quality Calcs'!$A$8:$AE$149,11,0))","v":""},{"$f":"IF(A128=\"\",\"\",SUMIFS(Catchment!$X$5:$X$300,Catchment!$D$5:$D$300,\"RIDOT\",Catchment!$K$5:$K$300,A128))","v":""},{"$f":"IF(A128=\"\",\"\",VLOOKUP(A128,'Structural Water Quality Calcs'!$A$8:$AE$149,12,0)*100)","v":""},{"$f":"IF(A128=\"\",\"\",VLOOKUP(A128,'Structural Water Quality Calcs'!$A$8:$AE$149,13,0))","v":""},{"$f":"IF(A128=\"\",\"\",IF(VLOOKUP(A128,'Structural Water Quality Calcs'!$A$9:$B$149,2,0)=\"Limited ROW\",H128*I128*0.1/100,H128*I128/100))","v":""},{"$f":"IF(A128=\"\",\"\",VLOOKUP(A128,'Structural Water Quality Calcs'!$A$8:$AE$149,17,0))","v":""},{"$f":"IF(A128=\"\",\"\",SUMIFS(Catchment!$Z$5:$Z$300,Catchment!$D$5:$D$300,\"RIDOT\",Catchment!$K$5:$K$300,A128))","v":""},{"$f":"IF(A128=\"\",\"\",VLOOKUP(A128,'Structural Water Quality Calcs'!$A$8:$AE$149,18,0)*100)","v":""},{"$f":"IF(A128=\"\",\"\",VLOOKUP(A128,'Structural Water Quality Calcs'!$A$8:$AE$149,19,0))","v":""},{"$f":"IF(A128=\"\",\"\",IF(VLOOKUP(A128,'Structural Water Quality Calcs'!$A$9:$B$149,2,0)=\"Limited ROW\",M128*N128*0.1/100,M128*N128/100))","v":""},{"$f":"IF(A128=\"\",\"\",VLOOKUP(A128,'Structural Water Quality Calcs'!$A$8:$AE$149,14,0))","v":""},{"$f":"IF(A128=\"\",\"\",SUMIFS(Catchment!$Y$5:$Y$300,Catchment!$D$5:$D$300,\"RIDOT\",Catchment!$K$5:$K$300,A128))","v":""},{"$f":"IF(A128=\"\",\"\",VLOOKUP(A128,'Structural Water Quality Calcs'!$A$8:$AE$149,15,0)*100)","v":""},{"$f":"IF(A128=\"\",\"\",VLOOKUP(A128,'Structural Water Quality Calcs'!$A$8:$AE$149,16,0))","v":""},{"$f":"IF(A128=\"\",\"\",IF(VLOOKUP(A128,'Structural Water Quality Calcs'!$A$9:$B$149,2,0)=\"Limited ROW\",R128*S128*0.1/100,R128*S128/100))","v":""},{"$f":"IF(A128=\"\",\"\",VLOOKUP(A128,'Structural Water Quality Calcs'!$A$8:$AE$149,20,0))","v":""},{"$f":"IF(A128=\"\",\"\",SUMIFS(Catchment!$AA$5:$AA$300,Catchment!$D$5:$D$300,\"RIDOT\",Catchment!$K$5:$K$300,A128))","v":""},{"$f":"IF(A128=\"\",\"\",VLOOKUP(A128,'Structural Water Quality Calcs'!$A$8:$AE$149,21,0)*100)","v":""},{"$f":"IF(A128=\"\",\"\",VLOOKUP(A128,'Structural Water Quality Calcs'!$A$8:$AE$149,22,0))","v":""},{"$f":"IF(A128=\"\",\"\",IF(VLOOKUP(A128,'Structural Water Quality Calcs'!$A$9:$B$149,2,0)=\"Limited ROW\",W128*X128*0.1/100,W128*X128/100))","v":""},{"$f":"IF(A128=\"\",\"\",VLOOKUP(A128,'Structural Water Quality Calcs'!$A$8:$AE$149,29,0))","v":""},{"$f":"IF(A128=\"\",\"\",IF(VLOOKUP(A128,'Structural Water Quality Calcs'!$A$9:$B$149,2,0)=\"Limited ROW\",VLOOKUP(A128,'Structural Water Quality Calcs'!$A$8:$AE$149,28,0)*F128*0.1/43560,VLOOKUP(A128,'Structural Water Quality Calcs'!$A$8:$AE$149,28,0)*F128/43560))","v":""},{"$f":"IF(A128=\"\",\"\",VLOOKUP(A128,'Structural Water Quality Calcs'!$A$8:$AE$149,28,0)*100)","v":""},{"$f":"IF(A128=\"\",\"\",VLOOKUP(A128,'Structural Water Quality Calcs'!$A$8:$AE$149,31,0))","v":""},{"$f":"IF(A128=\"\",\"\",VLOOKUP(A128,'Structural Water Quality Calcs'!$A$8:$AE$149,26,0))","v":""},{"$f":"IF(A128=\"\",\"\",VLOOKUP(A128,'Structural Water Quality Calcs'!$A$8:$AE$149,27,0))","v":""},{"$f":"IF(A128=\"\",\"\",(VLOOKUP(A128,'Structural Water Quality Calcs'!$A$8:$AE$149,25,0)))","v":""},{"$f":"IF(A128=\"\",\"\",VLOOKUP(A128,'Structural Water Quality Calcs'!$A$8:$AE$149,24,0))","v":""},{"$f":"IF(A128=\"\",\"\",VLOOKUP(A128,STU_Cost!$A$5:$G$150,4,0))","v":""},{"$f":"IF(A128=\"\",\"\",VLOOKUP(A128,STU_Cost!$A$5:$G$150,5,0))","v":""},{"$f":"IF(A128=\"\",\"\",VLOOKUP(A128,STU_Cost!$A$5:$G$150,6,0))","v":""},{"$f":"IF(A128=\"\",\"\",VLOOKUP(A128,STU_Cost!$A$5:$G$150,7,0))","v":""},null,null,{"$f":"IF(A128=\"\",\"\",VLOOKUP(A128,STU!$A$5:$E$300,5,0))","v":""}]
[null,{"$f":"IF(A129=\"\",\"\",VLOOKUP(A129,'Structural Water Quality Calcs'!$A$9:$F$79,6,0))","v":""},{"$f":"IF(A129=\"\",\"\",VLOOKUP(A129,'Structural Water Quality Calcs'!$A$8:$AE$149,3,0))","v":""},{"$f":"IF(A129=\"\",\"\",SUMIFS(Catchment!$V$5:$V$300,Catchment!$D$5:$D$300,\"RIDOT\",Catchment!$K$5:$K$300,A129))","v":""},{"$f":"IF(A129=\"\",\"\",VLOOKUP(A129,'Structural Water Quality Calcs'!$A$8:$AE$149,4,0))","v":""},{"$f":"IF(A129=\"\",\"\",SUMIFS(Catchment!$L$5:$L$300,Catchment!$D$5:$D$300,\"RIDOT\",Catchment!$K$5:$K$300,A129))","v":""},{"$f":"IF(A129=\"\",\"\",VLOOKUP(A129, 'Structural Water Quality Calcs'!$A$8:$AE$149,11,0))","v":""},{"$f":"IF(A129=\"\",\"\",SUMIFS(Catchment!$X$5:$X$300,Catchment!$D$5:$D$300,\"RIDOT\",Catchment!$K$5:$K$300,A129))","v":""},{"$f":"IF(A129=\"\",\"\",VLOOKUP(A129,'Structural Water Quality Calcs'!$A$8:$AE$149,12,0)*100)","v":""},{"$f":"IF(A129=\"\",\"\",VLOOKUP(A129,'Structural Water Quality Calcs'!$A$8:$AE$149,13,0))","v":""},{"$f":"IF(A129=\"\",\"\",IF(VLOOKUP(A129,'Structural Water Quality Calcs'!$A$9:$B$149,2,0)=\"Limited ROW\",H129*I129*0.1/100,H129*I129/100))","v":""},{"$f":"IF(A129=\"\",\"\",VLOOKUP(A129,'Structural Water Quality Calcs'!$A$8:$AE$149,17,0))","v":""},{"$f":"IF(A129=\"\",\"\",SUMIFS(Catchment!$Z$5:$Z$300,Catchment!$D$5:$D$300,\"RIDOT\",Catchment!$K$5:$K$300,A129))","v":""},{"$f":"IF(A129=\"\",\"\",VLOOKUP(A129,'Structural Water Quality Calcs'!$A$8:$AE$149,18,0)*100)","v":""},{"$f":"IF(A129=\"\",\"\",VLOOKUP(A129,'Structural Water Quality Calcs'!$A$8:$AE$149,19,0))","v":""},{"$f":"IF(A129=\"\",\"\",IF(VLOOKUP(A129,'Structural Water Quality Calcs'!$A$9:$B$149,2,0)=\"Limited ROW\",M129*N129*0.1/100,M129*N129/100))","v":""},{"$f":"IF(A129=\"\",\"\",VLOOKUP(A129,'Structural Water Quality Calcs'!$A$8:$AE$149,14,0))","v":""},{"$f":"IF(A129=\"\",\"\",SUMIFS(Catchment!$Y$5:$Y$300,Catchment!$D$5:$D$300,\"RIDOT\",Catchment!$K$5:$K$300,A129))","v":""},{"$f":"IF(A129=\"\",\"\",VLOOKUP(A129,'Structural Water Quality Calcs'!$A$8:$AE$149,15,0)*100)","v":""},{"$f":"IF(A129=\"\",\"\",VLOOKUP(A129,'Structural Water Quality Calcs'!$A$8:$AE$149,16,0))","v":""},{"$f":"IF(A129=\"\",\"\",IF(VLOOKUP(A129,'Structural Water Quality Calcs'!$A$9:$B$149,2,0)=\"Limited ROW\",R129*S129*0.1/100,R129*S129/100))","v":""},{"$f":"IF(A129=\"\",\"\",VLOOKUP(A129,'Structural Water Quality Calcs'!$A$8:$AE$149,20,0))","v":""},{"$f":"IF(A129=\"\",\"\",SUMIFS(Catchment!$AA$5:$AA$300,Catchment!$D$5:$D$300,\"RIDOT\",Catchment!$K$5:$K$300,A129))","v":""},{"$f":"IF(A129=\"\",\"\",VLOOKUP(A129,'Structural Water Quality Calcs'!$A$8:$AE$149,21,0)*100)","v":""},{"$f":"IF(A129=\"\",\"\",VLOOKUP(A129,'Structural Water Quality Calcs'!$A$8:$AE$149,22,0))","v":""},{"$f":"IF(A129=\"\",\"\",IF(VLOOKUP(A129,'Structural Water Quality Calcs'!$A$9:$B$149,2,0)=\"Limited ROW\",W129*X129*0.1/100,W129*X129/100))","v":""},{"$f":"IF(A129=\"\",\"\",VLOOKUP(A129,'Structural Water Quality Calcs'!$A$8:$AE$149,29,0))","v":""},{"$f":"IF(A129=\"\",\"\",IF(VLOOKUP(A129,'Structural Water Quality Calcs'!$A$9:$B$149,2,0)=\"Limited ROW\",VLOOKUP(A129,'Structural Water Quality Calcs'!$A$8:$AE$149,28,0)*F129*0.1/43560,VLOOKUP(A129,'Structural Water Quality Calcs'!$A$8:$AE$149,28,0)*F129/43560))","v":""},{"$f":"IF(A129=\"\",\"\",VLOOKUP(A129,'Structural Water Quality Calcs'!$A$8:$AE$149,28,0)*100)","v":""},{"$f":"IF(A129=\"\",\"\",VLOOKUP(A129,'Structural Water Quality Calcs'!$A$8:$AE$149,31,0))","v":""},{"$f":"IF(A129=\"\",\"\",VLOOKUP(A129,'Structural Water Quality Calcs'!$A$8:$AE$149,26,0))","v":""},{"$f":"IF(A129=\"\",\"\",VLOOKUP(A129,'Structural Water Quality Calcs'!$A$8:$AE$149,27,0))","v":""},{"$f":"IF(A129=\"\",\"\",(VLOOKUP(A129,'Structural Water Quality Calcs'!$A$8:$AE$149,25,0)))","v":""},{"$f":"IF(A129=\"\",\"\",VLOOKUP(A129,'Structural Water Quality Calcs'!$A$8:$AE$149,24,0))","v":""},{"$f":"IF(A129=\"\",\"\",VLOOKUP(A129,STU_Cost!$A$5:$G$150,4,0))","v":""},{"$f":"IF(A129=\"\",\"\",VLOOKUP(A129,STU_Cost!$A$5:$G$150,5,0))","v":""},{"$f":"IF(A129=\"\",\"\",VLOOKUP(A129,STU_Cost!$A$5:$G$150,6,0))","v":""},{"$f":"IF(A129=\"\",\"\",VLOOKUP(A129,STU_Cost!$A$5:$G$150,7,0))","v":""},null,null,{"$f":"IF(A129=\"\",\"\",VLOOKUP(A129,STU!$A$5:$E$300,5,0))","v":""}]
[null,{"$f":"IF(A130=\"\",\"\",VLOOKUP(A130,'Structural Water Quality Calcs'!$A$9:$F$79,6,0))","v":""},{"$f":"IF(A130=\"\",\"\",VLOOKUP(A130,'Structural Water Quality Calcs'!$A$8:$AE$149,3,0))","v":""},{"$f":"IF(A130=\"\",\"\",SUMIFS(Catchment!$V$5:$V$300,Catchment!$D$5:$D$300,\"RIDOT\",Catchment!$K$5:$K$300,A130))","v":""},{"$f":"IF(A130=\"\",\"\",VLOOKUP(A130,'Structural Water Quality Calcs'!$A$8:$AE$149,4,0))","v":""},{"$f":"IF(A130=\"\",\"\",SUMIFS(Catchment!$L$5:$L$300,Catchment!$D$5:$D$300,\"RIDOT\",Catchment!$K$5:$K$300,A130))","v":""},{"$f":"IF(A130=\"\",\"\",VLOOKUP(A130, 'Structural Water Quality Calcs'!$A$8:$AE$149,11,0))","v":""},{"$f":"IF(A130=\"\",\"\",SUMIFS(Catchment!$X$5:$X$300,Catchment!$D$5:$D$300,\"RIDOT\",Catchment!$K$5:$K$300,A130))","v":""},{"$f":"IF(A130=\"\",\"\",VLOOKUP(A130,'Structural Water Quality Calcs'!$A$8:$AE$149,12,0)*100)","v":""},{"$f":"IF(A130=\"\",\"\",VLOOKUP(A130,'Structural Water Quality Calcs'!$A$8:$AE$149,13,0))","v":""},{"$f":"IF(A130=\"\",\"\",IF(VLOOKUP(A130,'Structural Water Quality Calcs'!$A$9:$B$149,2,0)=\"Limited ROW\",H130*I130*0.1/100,H130*I130/100))","v":""},{"$f":"IF(A130=\"\",\"\",VLOOKUP(A130,'Structural Water Quality Calcs'!$A$8:$AE$149,17,0))","v":""},{"$f":"IF(A130=\"\",\"\",SUMIFS(Catchment!$Z$5:$Z$300,Catchment!$D$5:$D$300,\"RIDOT\",Catchment!$K$5:$K$300,A130))","v":""},{"$f":"IF(A130=\"\",\"\",VLOOKUP(A130,'Structural Water Quality Calcs'!$A$8:$AE$149,18,0)*100)","v":""},{"$f":"IF(A130=\"\",\"\",VLOOKUP(A130,'Structural Water Quality Calcs'!$A$8:$AE$149,19,0))","v":""},{"$f":"IF(A130=\"\",\"\",IF(VLOOKUP(A130,'Structural Water Quality Calcs'!$A$9:$B$149,2,0)=\"Limited ROW\",M130*N130*0.1/100,M130*N130/100))","v":""},{"$f":"IF(A130=\"\",\"\",VLOOKUP(A130,'Structural Water Quality Calcs'!$A$8:$AE$149,14,0))","v":""},{"$f":"IF(A130=\"\",\"\",SUMIFS(Catchment!$Y$5:$Y$300,Catchment!$D$5:$D$300,\"RIDOT\",Catchment!$K$5:$K$300,A130))","v":""},{"$f":"IF(A130=\"\",\"\",VLOOKUP(A130,'Structural Water Quality Calcs'!$A$8:$AE$149,15,0)*100)","v":""},{"$f":"IF(A130=\"\",\"\",VLOOKUP(A130,'Structural Water Quality Calcs'!$A$8:$AE$149,16,0))","v":""},{"$f":"IF(A130=\"\",\"\",IF(VLOOKUP(A130,'Structural Water Quality Calcs'!$A$9:$B$149,2,0)=\"Limited ROW\",R130*S130*0.1/100,R130*S130/100))","v":""},{"$f":"IF(A130=\"\",\"\",VLOOKUP(A130,'Structural Water Quality Calcs'!$A$8:$AE$149,20,0))","v":""},{"$f":"IF(A130=\"\",\"\",SUMIFS(Catchment!$AA$5:$AA$300,Catchment!$D$5:$D$300,\"RIDOT\",Catchment!$K$5:$K$300,A130))","v":""},{"$f":"IF(A130=\"\",\"\",VLOOKUP(A130,'Structural Water Quality Calcs'!$A$8:$AE$149,21,0)*100)","v":""},{"$f":"IF(A130=\"\",\"\",VLOOKUP(A130,'Structural Water Quality Calcs'!$A$8:$AE$149,22,0))","v":""},{"$f":"IF(A130=\"\",\"\",IF(VLOOKUP(A130,'Structural Water Quality Calcs'!$A$9:$B$149,2,0)=\"Limited ROW\",W130*X130*0.1/100,W130*X130/100))","v":""},{"$f":"IF(A130=\"\",\"\",VLOOKUP(A130,'Structural Water Quality Calcs'!$A$8:$AE$149,29,0))","v":""},{"$f":"IF(A130=\"\",\"\",IF(VLOOKUP(A130,'Structural Water Quality Calcs'!$A$9:$B$149,2,0)=\"Limited ROW\",VLOOKUP(A130,'Structural Water Quality Calcs'!$A$8:$AE$149,28,0)*F130*0.1/43560,VLOOKUP(A130,'Structural Water Quality Calcs'!$A$8:$AE$149,28,0)*F130/43560))","v":""},{"$f":"IF(A130=\"\",\"\",VLOOKUP(A130,'Structural Water Quality Calcs'!$A$8:$AE$149,28,0)*100)","v":""},{"$f":"IF(A130=\"\",\"\",VLOOKUP(A130,'Structural Water Quality Calcs'!$A$8:$AE$149,31,0))","v":""},{"$f":"IF(A130=\"\",\"\",VLOOKUP(A130,'Structural Water Quality Calcs'!$A$8:$AE$149,26,0))","v":""},{"$f":"IF(A130=\"\",\"\",VLOOKUP(A130,'Structural Water Quality Calcs'!$A$8:$AE$149,27,0))","v":""},{"$f":"IF(A130=\"\",\"\",(VLOOKUP(A130,'Structural Water Quality Calcs'!$A$8:$AE$149,25,0)))","v":""},{"$f":"IF(A130=\"\",\"\",VLOOKUP(A130,'Structural Water Quality Calcs'!$A$8:$AE$149,24,0))","v":""},{"$f":"IF(A130=\"\",\"\",VLOOKUP(A130,STU_Cost!$A$5:$G$150,4,0))","v":""},{"$f":"IF(A130=\"\",\"\",VLOOKUP(A130,STU_Cost!$A$5:$G$150,5,0))","v":""},{"$f":"IF(A130=\"\",\"\",VLOOKUP(A130,STU_Cost!$A$5:$G$150,6,0))","v":""},{"$f":"IF(A130=\"\",\"\",VLOOKUP(A130,STU_Cost!$A$5:$G$150,7,0))","v":""},null,null,{"$f":"IF(A130=\"\",\"\",VLOOKUP(A130,STU!$A$5:$E$300,5,0))","v":""}]
[null,{"$f":"IF(A131=\"\",\"\",VLOOKUP(A131,'Structural Water Quality Calcs'!$A$9:$F$79,6,0))","v":""},{"$f":"IF(A131=\"\",\"\",VLOOKUP(A131,'Structural Water Quality Calcs'!$A$8:$AE$149,3,0))","v":""},{"$f":"IF(A131=\"\",\"\",SUMIFS(Catchment!$V$5:$V$300,Catchment!$D$5:$D$300,\"RIDOT\",Catchment!$K$5:$K$300,A131))","v":""},{"$f":"IF(A131=\"\",\"\",VLOOKUP(A131,'Structural Water Quality Calcs'!$A$8:$AE$149,4,0))","v":""},{"$f":"IF(A131=\"\",\"\",SUMIFS(Catchment!$L$5:$L$300,Catchment!$D$5:$D$300,\"RIDOT\",Catchment!$K$5:$K$300,A131))","v":""},{"$f":"IF(A131=\"\",\"\",VLOOKUP(A131, 'Structural Water Quality Calcs'!$A$8:$AE$149,11,0))","v":""},{"$f":"IF(A131=\"\",\"\",SUMIFS(Catchment!$X$5:$X$300,Catchment!$D$5:$D$300,\"RIDOT\",Catchment!$K$5:$K$300,A131))","v":""},{"$f":"IF(A131=\"\",\"\",VLOOKUP(A131,'Structural Water Quality Calcs'!$A$8:$AE$149,12,0)*100)","v":""},{"$f":"IF(A131=\"\",\"\",VLOOKUP(A131,'Structural Water Quality Calcs'!$A$8:$AE$149,13,0))","v":""},{"$f":"IF(A131=\"\",\"\",IF(VLOOKUP(A131,'Structural Water Quality Calcs'!$A$9:$B$149,2,0)=\"Limited ROW\",H131*I131*0.1/100,H131*I131/100))","v":""},{"$f":"IF(A131=\"\",\"\",VLOOKUP(A131,'Structural Water Quality Calcs'!$A$8:$AE$149,17,0))","v":""},{"$f":"IF(A131=\"\",\"\",SUMIFS(Catchment!$Z$5:$Z$300,Catchment!$D$5:$D$300,\"RIDOT\",Catchment!$K$5:$K$300,A131))","v":""},{"$f":"IF(A131=\"\",\"\",VLOOKUP(A131,'Structural Water Quality Calcs'!$A$8:$AE$149,18,0)*100)","v":""},{"$f":"IF(A131=\"\",\"\",VLOOKUP(A131,'Structural Water Quality Calcs'!$A$8:$AE$149,19,0))","v":""},{"$f":"IF(A131=\"\",\"\",IF(VLOOKUP(A131,'Structural Water Quality Calcs'!$A$9:$B$149,2,0)=\"Limited ROW\",M131*N131*0.1/100,M131*N131/100))","v":""},{"$f":"IF(A131=\"\",\"\",VLOOKUP(A131,'Structural Water Quality Calcs'!$A$8:$AE$149,14,0))","v":""},{"$f":"IF(A131=\"\",\"\",SUMIFS(Catchment!$Y$5:$Y$300,Catchment!$D$5:$D$300,\"RIDOT\",Catchment!$K$5:$K$300,A131))","v":""},{"$f":"IF(A131=\"\",\"\",VLOOKUP(A131,'Structural Water Quality Calcs'!$A$8:$AE$149,15,0)*100)","v":""},{"$f":"IF(A131=\"\",\"\",VLOOKUP(A131,'Structural Water Quality Calcs'!$A$8:$AE$149,16,0))","v":""},{"$f":"IF(A131=\"\",\"\",IF(VLOOKUP(A131,'Structural Water Quality Calcs'!$A$9:$B$149,2,0)=\"Limited ROW\",R131*S131*0.1/100,R131*S131/100))","v":""},{"$f":"IF(A131=\"\",\"\",VLOOKUP(A131,'Structural Water Quality Calcs'!$A$8:$AE$149,20,0))","v":""},{"$f":"IF(A131=\"\",\"\",SUMIFS(Catchment!$AA$5:$AA$300,Catchment!$D$5:$D$300,\"RIDOT\",Catchment!$K$5:$K$300,A131))","v":""},{"$f":"IF(A131=\"\",\"\",VLOOKUP(A131,'Structural Water Quality Calcs'!$A$8:$AE$149,21,0)*100)","v":""},{"$f":"IF(A131=\"\",\"\",VLOOKUP(A131,'Structural Water Quality Calcs'!$A$8:$AE$149,22,0))","v":""},{"$f":"IF(A131=\"\",\"\",IF(VLOOKUP(A131,'Structural Water Quality Calcs'!$A$9:$B$149,2,0)=\"Limited ROW\",W131*X131*0.1/100,W131*X131/100))","v":""},{"$f":"IF(A131=\"\",\"\",VLOOKUP(A131,'Structural Water Quality Calcs'!$A$8:$AE$149,29,0))","v":""},{"$f":"IF(A131=\"\",\"\",IF(VLOOKUP(A131,'Structural Water Quality Calcs'!$A$9:$B$149,2,0)=\"Limited ROW\",VLOOKUP(A131,'Structural Water Quality Calcs'!$A$8:$AE$149,28,0)*F131*0.1/43560,VLOOKUP(A131,'Structural Water Quality Calcs'!$A$8:$AE$149,28,0)*F131/43560))","v":""},{"$f":"IF(A131=\"\",\"\",VLOOKUP(A131,'Structural Water Quality Calcs'!$A$8:$AE$149,28,0)*100)","v":""},{"$f":"IF(A131=\"\",\"\",VLOOKUP(A131,'Structural Water Quality Calcs'!$A$8:$AE$149,31,0))","v":""},{"$f":"IF(A131=\"\",\"\",VLOOKUP(A131,'Structural Water Quality Calcs'!$A$8:$AE$149,26,0))","v":""},{"$f":"IF(A131=\"\",\"\",VLOOKUP(A131,'Structural Water Quality Calcs'!$A$8:$AE$149,27,0))","v":""},{"$f":"IF(A131=\"\",\"\",(VLOOKUP(A131,'Structural Water Quality Calcs'!$A$8:$AE$149,25,0)))","v":""},{"$f":"IF(A131=\"\",\"\",VLOOKUP(A131,'Structural Water Quality Calcs'!$A$8:$AE$149,24,0))","v":""},{"$f":"IF(A131=\"\",\"\",VLOOKUP(A131,STU_Cost!$A$5:$G$150,4,0))","v":""},{"$f":"IF(A131=\"\",\"\",VLOOKUP(A131,STU_Cost!$A$5:$G$150,5,0))","v":""},{"$f":"IF(A131=\"\",\"\",VLOOKUP(A131,STU_Cost!$A$5:$G$150,6,0))","v":""},{"$f":"IF(A131=\"\",\"\",VLOOKUP(A131,STU_Cost!$A$5:$G$150,7,0))","v":""},null,null,{"$f":"IF(A131=\"\",\"\",VLOOKUP(A131,STU!$A$5:$E$300,5,0))","v":""}]
[null,{"$f":"IF(A132=\"\",\"\",VLOOKUP(A132,'Structural Water Quality Calcs'!$A$9:$F$79,6,0))","v":""},{"$f":"IF(A132=\"\",\"\",VLOOKUP(A132,'Structural Water Quality Calcs'!$A$8:$AE$149,3,0))","v":""},{"$f":"IF(A132=\"\",\"\",SUMIFS(Catchment!$V$5:$V$300,Catchment!$D$5:$D$300,\"RIDOT\",Catchment!$K$5:$K$300,A132))","v":""},{"$f":"IF(A132=\"\",\"\",VLOOKUP(A132,'Structural Water Quality Calcs'!$A$8:$AE$149,4,0))","v":""},{"$f":"IF(A132=\"\",\"\",SUMIFS(Catchment!$L$5:$L$300,Catchment!$D$5:$D$300,\"RIDOT\",Catchment!$K$5:$K$300,A132))","v":""},{"$f":"IF(A132=\"\",\"\",VLOOKUP(A132, 'Structural Water Quality Calcs'!$A$8:$AE$149,11,0))","v":""},{"$f":"IF(A132=\"\",\"\",SUMIFS(Catchment!$X$5:$X$300,Catchment!$D$5:$D$300,\"RIDOT\",Catchment!$K$5:$K$300,A132))","v":""},{"$f":"IF(A132=\"\",\"\",VLOOKUP(A132,'Structural Water Quality Calcs'!$A$8:$AE$149,12,0)*100)","v":""},{"$f":"IF(A132=\"\",\"\",VLOOKUP(A132,'Structural Water Quality Calcs'!$A$8:$AE$149,13,0))","v":""},{"$f":"IF(A132=\"\",\"\",IF(VLOOKUP(A132,'Structural Water Quality Calcs'!$A$9:$B$149,2,0)=\"Limited ROW\",H132*I132*0.1/100,H132*I132/100))","v":""},{"$f":"IF(A132=\"\",\"\",VLOOKUP(A132,'Structural Water Quality Calcs'!$A$8:$AE$149,17,0))","v":""},{"$f":"IF(A132=\"\",\"\",SUMIFS(Catchment!$Z$5:$Z$300,Catchment!$D$5:$D$300,\"RIDOT\",Catchment!$K$5:$K$300,A132))","v":""},{"$f":"IF(A132=\"\",\"\",VLOOKUP(A132,'Structural Water Quality Calcs'!$A$8:$AE$149,18,0)*100)","v":""},{"$f":"IF(A132=\"\",\"\",VLOOKUP(A132,'Structural Water Quality Calcs'!$A$8:$AE$149,19,0))","v":""},{"$f":"IF(A132=\"\",\"\",IF(VLOOKUP(A132,'Structural Water Quality Calcs'!$A$9:$B$149,2,0)=\"Limited ROW\",M132*N132*0.1/100,M132*N132/100))","v":""},{"$f":"IF(A132=\"\",\"\",VLOOKUP(A132,'Structural Water Quality Calcs'!$A$8:$AE$149,14,0))","v":""},{"$f":"IF(A132=\"\",\"\",SUMIFS(Catchment!$Y$5:$Y$300,Catchment!$D$5:$D$300,\"RIDOT\",Catchment!$K$5:$K$300,A132))","v":""},{"$f":"IF(A132=\"\",\"\",VLOOKUP(A132,'Structural Water Quality Calcs'!$A$8:$AE$149,15,0)*100)","v":""},{"$f":"IF(A132=\"\",\"\",VLOOKUP(A132,'Structural Water Quality Calcs'!$A$8:$AE$149,16,0))","v":""},{"$f":"IF(A132=\"\",\"\",IF(VLOOKUP(A132,'Structural Water Quality Calcs'!$A$9:$B$149,2,0)=\"Limited ROW\",R132*S132*0.1/100,R132*S132/100))","v":""},{"$f":"IF(A132=\"\",\"\",VLOOKUP(A132,'Structural Water Quality Calcs'!$A$8:$AE$149,20,0))","v":""},{"$f":"IF(A132=\"\",\"\",SUMIFS(Catchment!$AA$5:$AA$300,Catchment!$D$5:$D$300,\"RIDOT\",Catchment!$K$5:$K$300,A132))","v":""},{"$f":"IF(A132=\"\",\"\",VLOOKUP(A132,'Structural Water Quality Calcs'!$A$8:$AE$149,21,0)*100)","v":""},{"$f":"IF(A132=\"\",\"\",VLOOKUP(A132,'Structural Water Quality Calcs'!$A$8:$AE$149,22,0))","v":""},{"$f":"IF(A132=\"\",\"\",IF(VLOOKUP(A132,'Structural Water Quality Calcs'!$A$9:$B$149,2,0)=\"Limited ROW\",W132*X132*0.1/100,W132*X132/100))","v":""},{"$f":"IF(A132=\"\",\"\",VLOOKUP(A132,'Structural Water Quality Calcs'!$A$8:$AE$149,29,0))","v":""},{"$f":"IF(A132=\"\",\"\",IF(VLOOKUP(A132,'Structural Water Quality Calcs'!$A$9:$B$149,2,0)=\"Limited ROW\",VLOOKUP(A132,'Structural Water Quality Calcs'!$A$8:$AE$149,28,0)*F132*0.1/43560,VLOOKUP(A132,'Structural Water Quality Calcs'!$A$8:$AE$149,28,0)*F132/43560))","v":""},{"$f":"IF(A132=\"\",\"\",VLOOKUP(A132,'Structural Water Quality Calcs'!$A$8:$AE$149,28,0)*100)","v":""},{"$f":"IF(A132=\"\",\"\",VLOOKUP(A132,'Structural Water Quality Calcs'!$A$8:$AE$149,31,0))","v":""},{"$f":"IF(A132=\"\",\"\",VLOOKUP(A132,'Structural Water Quality Calcs'!$A$8:$AE$149,26,0))","v":""},{"$f":"IF(A132=\"\",\"\",VLOOKUP(A132,'Structural Water Quality Calcs'!$A$8:$AE$149,27,0))","v":""},{"$f":"IF(A132=\"\",\"\",(VLOOKUP(A132,'Structural Water Quality Calcs'!$A$8:$AE$149,25,0)))","v":""},{"$f":"IF(A132=\"\",\"\",VLOOKUP(A132,'Structural Water Quality Calcs'!$A$8:$AE$149,24,0))","v":""},{"$f":"IF(A132=\"\",\"\",VLOOKUP(A132,STU_Cost!$A$5:$G$150,4,0))","v":""},{"$f":"IF(A132=\"\",\"\",VLOOKUP(A132,STU_Cost!$A$5:$G$150,5,0))","v":""},{"$f":"IF(A132=\"\",\"\",VLOOKUP(A132,STU_Cost!$A$5:$G$150,6,0))","v":""},{"$f":"IF(A132=\"\",\"\",VLOOKUP(A132,STU_Cost!$A$5:$G$150,7,0))","v":""},null,null,{"$f":"IF(A132=\"\",\"\",VLOOKUP(A132,STU!$A$5:$E$300,5,0))","v":""}]
[null,{"$f":"IF(A133=\"\",\"\",VLOOKUP(A133,'Structural Water Quality Calcs'!$A$9:$F$79,6,0))","v":""},{"$f":"IF(A133=\"\",\"\",VLOOKUP(A133,'Structural Water Quality Calcs'!$A$8:$AE$149,3,0))","v":""},{"$f":"IF(A133=\"\",\"\",SUMIFS(Catchment!$V$5:$V$300,Catchment!$D$5:$D$300,\"RIDOT\",Catchment!$K$5:$K$300,A133))","v":""},{"$f":"IF(A133=\"\",\"\",VLOOKUP(A133,'Structural Water Quality Calcs'!$A$8:$AE$149,4,0))","v":""},{"$f":"IF(A133=\"\",\"\",SUMIFS(Catchment!$L$5:$L$300,Catchment!$D$5:$D$300,\"RIDOT\",Catchment!$K$5:$K$300,A133))","v":""},{"$f":"IF(A133=\"\",\"\",VLOOKUP(A133, 'Structural Water Quality Calcs'!$A$8:$AE$149,11,0))","v":""},{"$f":"IF(A133=\"\",\"\",SUMIFS(Catchment!$X$5:$X$300,Catchment!$D$5:$D$300,\"RIDOT\",Catchment!$K$5:$K$300,A133))","v":""},{"$f":"IF(A133=\"\",\"\",VLOOKUP(A133,'Structural Water Quality Calcs'!$A$8:$AE$149,12,0)*100)","v":""},{"$f":"IF(A133=\"\",\"\",VLOOKUP(A133,'Structural Water Quality Calcs'!$A$8:$AE$149,13,0))","v":""},{"$f":"IF(A133=\"\",\"\",IF(VLOOKUP(A133,'Structural Water Quality Calcs'!$A$9:$B$149,2,0)=\"Limited ROW\",H133*I133*0.1/100,H133*I133/100))","v":""},{"$f":"IF(A133=\"\",\"\",VLOOKUP(A133,'Structural Water Quality Calcs'!$A$8:$AE$149,17,0))","v":""},{"$f":"IF(A133=\"\",\"\",SUMIFS(Catchment!$Z$5:$Z$300,Catchment!$D$5:$D$300,\"RIDOT\",Catchment!$K$5:$K$300,A133))","v":""},{"$f":"IF(A133=\"\",\"\",VLOOKUP(A133,'Structural Water Quality Calcs'!$A$8:$AE$149,18,0)*100)","v":""},{"$f":"IF(A133=\"\",\"\",VLOOKUP(A133,'Structural Water Quality Calcs'!$A$8:$AE$149,19,0))","v":""},{"$f":"IF(A133=\"\",\"\",IF(VLOOKUP(A133,'Structural Water Quality Calcs'!$A$9:$B$149,2,0)=\"Limited ROW\",M133*N133*0.1/100,M133*N133/100))","v":""},{"$f":"IF(A133=\"\",\"\",VLOOKUP(A133,'Structural Water Quality Calcs'!$A$8:$AE$149,14,0))","v":""},{"$f":"IF(A133=\"\",\"\",SUMIFS(Catchment!$Y$5:$Y$300,Catchment!$D$5:$D$300,\"RIDOT\",Catchment!$K$5:$K$300,A133))","v":""},{"$f":"IF(A133=\"\",\"\",VLOOKUP(A133,'Structural Water Quality Calcs'!$A$8:$AE$149,15,0)*100)","v":""},{"$f":"IF(A133=\"\",\"\",VLOOKUP(A133,'Structural Water Quality Calcs'!$A$8:$AE$149,16,0))","v":""},{"$f":"IF(A133=\"\",\"\",IF(VLOOKUP(A133,'Structural Water Quality Calcs'!$A$9:$B$149,2,0)=\"Limited ROW\",R133*S133*0.1/100,R133*S133/100))","v":""},{"$f":"IF(A133=\"\",\"\",VLOOKUP(A133,'Structural Water Quality Calcs'!$A$8:$AE$149,20,0))","v":""},{"$f":"IF(A133=\"\",\"\",SUMIFS(Catchment!$AA$5:$AA$300,Catchment!$D$5:$D$300,\"RIDOT\",Catchment!$K$5:$K$300,A133))","v":""},{"$f":"IF(A133=\"\",\"\",VLOOKUP(A133,'Structural Water Quality Calcs'!$A$8:$AE$149,21,0)*100)","v":""},{"$f":"IF(A133=\"\",\"\",VLOOKUP(A133,'Structural Water Quality Calcs'!$A$8:$AE$149,22,0))","v":""},{"$f":"IF(A133=\"\",\"\",IF(VLOOKUP(A133,'Structural Water Quality Calcs'!$A$9:$B$149,2,0)=\"Limited ROW\",W133*X133*0.1/100,W133*X133/100))","v":""},{"$f":"IF(A133=\"\",\"\",VLOOKUP(A133,'Structural Water Quality Calcs'!$A$8:$AE$149,29,0))","v":""},{"$f":"IF(A133=\"\",\"\",IF(VLOOKUP(A133,'Structural Water Quality Calcs'!$A$9:$B$149,2,0)=\"Limited ROW\",VLOOKUP(A133,'Structural Water Quality Calcs'!$A$8:$AE$149,28,0)*F133*0.1/43560,VLOOKUP(A133,'Structural Water Quality Calcs'!$A$8:$AE$149,28,0)*F133/43560))","v":""},{"$f":"IF(A133=\"\",\"\",VLOOKUP(A133,'Structural Water Quality Calcs'!$A$8:$AE$149,28,0)*100)","v":""},{"$f":"IF(A133=\"\",\"\",VLOOKUP(A133,'Structural Water Quality Calcs'!$A$8:$AE$149,31,0))","v":""},{"$f":"IF(A133=\"\",\"\",VLOOKUP(A133,'Structural Water Quality Calcs'!$A$8:$AE$149,26,0))","v":""},{"$f":"IF(A133=\"\",\"\",VLOOKUP(A133,'Structural Water Quality Calcs'!$A$8:$AE$149,27,0))","v":""},{"$f":"IF(A133=\"\",\"\",(VLOOKUP(A133,'Structural Water Quality Calcs'!$A$8:$AE$149,25,0)))","v":""},{"$f":"IF(A133=\"\",\"\",VLOOKUP(A133,'Structural Water Quality Calcs'!$A$8:$AE$149,24,0))","v":""},{"$f":"IF(A133=\"\",\"\",VLOOKUP(A133,STU_Cost!$A$5:$G$150,4,0))","v":""},{"$f":"IF(A133=\"\",\"\",VLOOKUP(A133,STU_Cost!$A$5:$G$150,5,0))","v":""},{"$f":"IF(A133=\"\",\"\",VLOOKUP(A133,STU_Cost!$A$5:$G$150,6,0))","v":""},{"$f":"IF(A133=\"\",\"\",VLOOKUP(A133,STU_Cost!$A$5:$G$150,7,0))","v":""},null,null,{"$f":"IF(A133=\"\",\"\",VLOOKUP(A133,STU!$A$5:$E$300,5,0))","v":""}]
[null,{"$f":"IF(A134=\"\",\"\",VLOOKUP(A134,'Structural Water Quality Calcs'!$A$9:$F$79,6,0))","v":""},{"$f":"IF(A134=\"\",\"\",VLOOKUP(A134,'Structural Water Quality Calcs'!$A$8:$AE$149,3,0))","v":""},{"$f":"IF(A134=\"\",\"\",SUMIFS(Catchment!$V$5:$V$300,Catchment!$D$5:$D$300,\"RIDOT\",Catchment!$K$5:$K$300,A134))","v":""},{"$f":"IF(A134=\"\",\"\",VLOOKUP(A134,'Structural Water Quality Calcs'!$A$8:$AE$149,4,0))","v":""},{"$f":"IF(A134=\"\",\"\",SUMIFS(Catchment!$L$5:$L$300,Catchment!$D$5:$D$300,\"RIDOT\",Catchment!$K$5:$K$300,A134))","v":""},{"$f":"IF(A134=\"\",\"\",VLOOKUP(A134, 'Structural Water Quality Calcs'!$A$8:$AE$149,11,0))","v":""},{"$f":"IF(A134=\"\",\"\",SUMIFS(Catchment!$X$5:$X$300,Catchment!$D$5:$D$300,\"RIDOT\",Catchment!$K$5:$K$300,A134))","v":""},{"$f":"IF(A134=\"\",\"\",VLOOKUP(A134,'Structural Water Quality Calcs'!$A$8:$AE$149,12,0)*100)","v":""},{"$f":"IF(A134=\"\",\"\",VLOOKUP(A134,'Structural Water Quality Calcs'!$A$8:$AE$149,13,0))","v":""},{"$f":"IF(A134=\"\",\"\",IF(VLOOKUP(A134,'Structural Water Quality Calcs'!$A$9:$B$149,2,0)=\"Limited ROW\",H134*I134*0.1/100,H134*I134/100))","v":""},{"$f":"IF(A134=\"\",\"\",VLOOKUP(A134,'Structural Water Quality Calcs'!$A$8:$AE$149,17,0))","v":""},{"$f":"IF(A134=\"\",\"\",SUMIFS(Catchment!$Z$5:$Z$300,Catchment!$D$5:$D$300,\"RIDOT\",Catchment!$K$5:$K$300,A134))","v":""},{"$f":"IF(A134=\"\",\"\",VLOOKUP(A134,'Structural Water Quality Calcs'!$A$8:$AE$149,18,0)*100)","v":""},{"$f":"IF(A134=\"\",\"\",VLOOKUP(A134,'Structural Water Quality Calcs'!$A$8:$AE$149,19,0))","v":""},{"$f":"IF(A134=\"\",\"\",IF(VLOOKUP(A134,'Structural Water Quality Calcs'!$A$9:$B$149,2,0)=\"Limited ROW\",M134*N134*0.1/100,M134*N134/100))","v":""},{"$f":"IF(A134=\"\",\"\",VLOOKUP(A134,'Structural Water Quality Calcs'!$A$8:$AE$149,14,0))","v":""},{"$f":"IF(A134=\"\",\"\",SUMIFS(Catchment!$Y$5:$Y$300,Catchment!$D$5:$D$300,\"RIDOT\",Catchment!$K$5:$K$300,A134))","v":""},{"$f":"IF(A134=\"\",\"\",VLOOKUP(A134,'Structural Water Quality Calcs'!$A$8:$AE$149,15,0)*100)","v":""},{"$f":"IF(A134=\"\",\"\",VLOOKUP(A134,'Structural Water Quality Calcs'!$A$8:$AE$149,16,0))","v":""},{"$f":"IF(A134=\"\",\"\",IF(VLOOKUP(A134,'Structural Water Quality Calcs'!$A$9:$B$149,2,0)=\"Limited ROW\",R134*S134*0.1/100,R134*S134/100))","v":""},{"$f":"IF(A134=\"\",\"\",VLOOKUP(A134,'Structural Water Quality Calcs'!$A$8:$AE$149,20,0))","v":""},{"$f":"IF(A134=\"\",\"\",SUMIFS(Catchment!$AA$5:$AA$300,Catchment!$D$5:$D$300,\"RIDOT\",Catchment!$K$5:$K$300,A134))","v":""},{"$f":"IF(A134=\"\",\"\",VLOOKUP(A134,'Structural Water Quality Calcs'!$A$8:$AE$149,21,0)*100)","v":""},{"$f":"IF(A134=\"\",\"\",VLOOKUP(A134,'Structural Water Quality Calcs'!$A$8:$AE$149,22,0))","v":""},{"$f":"IF(A134=\"\",\"\",IF(VLOOKUP(A134,'Structural Water Quality Calcs'!$A$9:$B$149,2,0)=\"Limited ROW\",W134*X134*0.1/100,W134*X134/100))","v":""},{"$f":"IF(A134=\"\",\"\",VLOOKUP(A134,'Structural Water Quality Calcs'!$A$8:$AE$149,29,0))","v":""},{"$f":"IF(A134=\"\",\"\",IF(VLOOKUP(A134,'Structural Water Quality Calcs'!$A$9:$B$149,2,0)=\"Limited ROW\",VLOOKUP(A134,'Structural Water Quality Calcs'!$A$8:$AE$149,28,0)*F134*0.1/43560,VLOOKUP(A134,'Structural Water Quality Calcs'!$A$8:$AE$149,28,0)*F134/43560))","v":""},{"$f":"IF(A134=\"\",\"\",VLOOKUP(A134,'Structural Water Quality Calcs'!$A$8:$AE$149,28,0)*100)","v":""},{"$f":"IF(A134=\"\",\"\",VLOOKUP(A134,'Structural Water Quality Calcs'!$A$8:$AE$149,31,0))","v":""},{"$f":"IF(A134=\"\",\"\",VLOOKUP(A134,'Structural Water Quality Calcs'!$A$8:$AE$149,26,0))","v":""},{"$f":"IF(A134=\"\",\"\",VLOOKUP(A134,'Structural Water Quality Calcs'!$A$8:$AE$149,27,0))","v":""},{"$f":"IF(A134=\"\",\"\",(VLOOKUP(A134,'Structural Water Quality Calcs'!$A$8:$AE$149,25,0)))","v":""},{"$f":"IF(A134=\"\",\"\",VLOOKUP(A134,'Structural Water Quality Calcs'!$A$8:$AE$149,24,0))","v":""},{"$f":"IF(A134=\"\",\"\",VLOOKUP(A134,STU_Cost!$A$5:$G$150,4,0))","v":""},{"$f":"IF(A134=\"\",\"\",VLOOKUP(A134,STU_Cost!$A$5:$G$150,5,0))","v":""},{"$f":"IF(A134=\"\",\"\",VLOOKUP(A134,STU_Cost!$A$5:$G$150,6,0))","v":""},{"$f":"IF(A134=\"\",\"\",VLOOKUP(A134,STU_Cost!$A$5:$G$150,7,0))","v":""},null,null,{"$f":"IF(A134=\"\",\"\",VLOOKUP(A134,STU!$A$5:$E$300,5,0))","v":""}]
[null,{"$f":"IF(A135=\"\",\"\",VLOOKUP(A135,'Structural Water Quality Calcs'!$A$9:$F$79,6,0))","v":""},{"$f":"IF(A135=\"\",\"\",VLOOKUP(A135,'Structural Water Quality Calcs'!$A$8:$AE$149,3,0))","v":""},{"$f":"IF(A135=\"\",\"\",SUMIFS(Catchment!$V$5:$V$300,Catchment!$D$5:$D$300,\"RIDOT\",Catchment!$K$5:$K$300,A135))","v":""},{"$f":"IF(A135=\"\",\"\",VLOOKUP(A135,'Structural Water Quality Calcs'!$A$8:$AE$149,4,0))","v":""},{"$f":"IF(A135=\"\",\"\",SUMIFS(Catchment!$L$5:$L$300,Catchment!$D$5:$D$300,\"RIDOT\",Catchment!$K$5:$K$300,A135))","v":""},{"$f":"IF(A135=\"\",\"\",VLOOKUP(A135, 'Structural Water Quality Calcs'!$A$8:$AE$149,11,0))","v":""},{"$f":"IF(A135=\"\",\"\",SUMIFS(Catchment!$X$5:$X$300,Catchment!$D$5:$D$300,\"RIDOT\",Catchment!$K$5:$K$300,A135))","v":""},{"$f":"IF(A135=\"\",\"\",VLOOKUP(A135,'Structural Water Quality Calcs'!$A$8:$AE$149,12,0)*100)","v":""},{"$f":"IF(A135=\"\",\"\",VLOOKUP(A135,'Structural Water Quality Calcs'!$A$8:$AE$149,13,0))","v":""},{"$f":"IF(A135=\"\",\"\",IF(VLOOKUP(A135,'Structural Water Quality Calcs'!$A$9:$B$149,2,0)=\"Limited ROW\",H135*I135*0.1/100,H135*I135/100))","v":""},{"$f":"IF(A135=\"\",\"\",VLOOKUP(A135,'Structural Water Quality Calcs'!$A$8:$AE$149,17,0))","v":""},{"$f":"IF(A135=\"\",\"\",SUMIFS(Catchment!$Z$5:$Z$300,Catchment!$D$5:$D$300,\"RIDOT\",Catchment!$K$5:$K$300,A135))","v":""},{"$f":"IF(A135=\"\",\"\",VLOOKUP(A135,'Structural Water Quality Calcs'!$A$8:$AE$149,18,0)*100)","v":""},{"$f":"IF(A135=\"\",\"\",VLOOKUP(A135,'Structural Water Quality Calcs'!$A$8:$AE$149,19,0))","v":""},{"$f":"IF(A135=\"\",\"\",IF(VLOOKUP(A135,'Structural Water Quality Calcs'!$A$9:$B$149,2,0)=\"Limited ROW\",M135*N135*0.1/100,M135*N135/100))","v":""},{"$f":"IF(A135=\"\",\"\",VLOOKUP(A135,'Structural Water Quality Calcs'!$A$8:$AE$149,14,0))","v":""},{"$f":"IF(A135=\"\",\"\",SUMIFS(Catchment!$Y$5:$Y$300,Catchment!$D$5:$D$300,\"RIDOT\",Catchment!$K$5:$K$300,A135))","v":""},{"$f":"IF(A135=\"\",\"\",VLOOKUP(A135,'Structural Water Quality Calcs'!$A$8:$AE$149,15,0)*100)","v":""},{"$f":"IF(A135=\"\",\"\",VLOOKUP(A135,'Structural Water Quality Calcs'!$A$8:$AE$149,16,0))","v":""},{"$f":"IF(A135=\"\",\"\",IF(VLOOKUP(A135,'Structural Water Quality Calcs'!$A$9:$B$149,2,0)=\"Limited ROW\",R135*S135*0.1/100,R135*S135/100))","v":""},{"$f":"IF(A135=\"\",\"\",VLOOKUP(A135,'Structural Water Quality Calcs'!$A$8:$AE$149,20,0))","v":""},{"$f":"IF(A135=\"\",\"\",SUMIFS(Catchment!$AA$5:$AA$300,Catchment!$D$5:$D$300,\"RIDOT\",Catchment!$K$5:$K$300,A135))","v":""},{"$f":"IF(A135=\"\",\"\",VLOOKUP(A135,'Structural Water Quality Calcs'!$A$8:$AE$149,21,0)*100)","v":""},{"$f":"IF(A135=\"\",\"\",VLOOKUP(A135,'Structural Water Quality Calcs'!$A$8:$AE$149,22,0))","v":""},{"$f":"IF(A135=\"\",\"\",IF(VLOOKUP(A135,'Structural Water Quality Calcs'!$A$9:$B$149,2,0)=\"Limited ROW\",W135*X135*0.1/100,W135*X135/100))","v":""},{"$f":"IF(A135=\"\",\"\",VLOOKUP(A135,'Structural Water Quality Calcs'!$A$8:$AE$149,29,0))","v":""},{"$f":"IF(A135=\"\",\"\",IF(VLOOKUP(A135,'Structural Water Quality Calcs'!$A$9:$B$149,2,0)=\"Limited ROW\",VLOOKUP(A135,'Structural Water Quality Calcs'!$A$8:$AE$149,28,0)*F135*0.1/43560,VLOOKUP(A135,'Structural Water Quality Calcs'!$A$8:$AE$149,28,0)*F135/43560))","v":""},{"$f":"IF(A135=\"\",\"\",VLOOKUP(A135,'Structural Water Quality Calcs'!$A$8:$AE$149,28,0)*100)","v":""},{"$f":"IF(A135=\"\",\"\",VLOOKUP(A135,'Structural Water Quality Calcs'!$A$8:$AE$149,31,0))","v":""},{"$f":"IF(A135=\"\",\"\",VLOOKUP(A135,'Structural Water Quality Calcs'!$A$8:$AE$149,26,0))","v":""},{"$f":"IF(A135=\"\",\"\",VLOOKUP(A135,'Structural Water Quality Calcs'!$A$8:$AE$149,27,0))","v":""},{"$f":"IF(A135=\"\",\"\",(VLOOKUP(A135,'Structural Water Quality Calcs'!$A$8:$AE$149,25,0)))","v":""},{"$f":"IF(A135=\"\",\"\",VLOOKUP(A135,'Structural Water Quality Calcs'!$A$8:$AE$149,24,0))","v":""},{"$f":"IF(A135=\"\",\"\",VLOOKUP(A135,STU_Cost!$A$5:$G$150,4,0))","v":""},{"$f":"IF(A135=\"\",\"\",VLOOKUP(A135,STU_Cost!$A$5:$G$150,5,0))","v":""},{"$f":"IF(A135=\"\",\"\",VLOOKUP(A135,STU_Cost!$A$5:$G$150,6,0))","v":""},{"$f":"IF(A135=\"\",\"\",VLOOKUP(A135,STU_Cost!$A$5:$G$150,7,0))","v":""},null,null,{"$f":"IF(A135=\"\",\"\",VLOOKUP(A135,STU!$A$5:$E$300,5,0))","v":""}]
[null,{"$f":"IF(A136=\"\",\"\",VLOOKUP(A136,'Structural Water Quality Calcs'!$A$9:$F$79,6,0))","v":""},{"$f":"IF(A136=\"\",\"\",VLOOKUP(A136,'Structural Water Quality Calcs'!$A$8:$AE$149,3,0))","v":""},{"$f":"IF(A136=\"\",\"\",SUMIFS(Catchment!$V$5:$V$300,Catchment!$D$5:$D$300,\"RIDOT\",Catchment!$K$5:$K$300,A136))","v":""},{"$f":"IF(A136=\"\",\"\",VLOOKUP(A136,'Structural Water Quality Calcs'!$A$8:$AE$149,4,0))","v":""},{"$f":"IF(A136=\"\",\"\",SUMIFS(Catchment!$L$5:$L$300,Catchment!$D$5:$D$300,\"RIDOT\",Catchment!$K$5:$K$300,A136))","v":""},{"$f":"IF(A136=\"\",\"\",VLOOKUP(A136, 'Structural Water Quality Calcs'!$A$8:$AE$149,11,0))","v":""},{"$f":"IF(A136=\"\",\"\",SUMIFS(Catchment!$X$5:$X$300,Catchment!$D$5:$D$300,\"RIDOT\",Catchment!$K$5:$K$300,A136))","v":""},{"$f":"IF(A136=\"\",\"\",VLOOKUP(A136,'Structural Water Quality Calcs'!$A$8:$AE$149,12,0)*100)","v":""},{"$f":"IF(A136=\"\",\"\",VLOOKUP(A136,'Structural Water Quality Calcs'!$A$8:$AE$149,13,0))","v":""},{"$f":"IF(A136=\"\",\"\",IF(VLOOKUP(A136,'Structural Water Quality Calcs'!$A$9:$B$149,2,0)=\"Limited ROW\",H136*I136*0.1/100,H136*I136/100))","v":""},{"$f":"IF(A136=\"\",\"\",VLOOKUP(A136,'Structural Water Quality Calcs'!$A$8:$AE$149,17,0))","v":""},{"$f":"IF(A136=\"\",\"\",SUMIFS(Catchment!$Z$5:$Z$300,Catchment!$D$5:$D$300,\"RIDOT\",Catchment!$K$5:$K$300,A136))","v":""},{"$f":"IF(A136=\"\",\"\",VLOOKUP(A136,'Structural Water Quality Calcs'!$A$8:$AE$149,18,0)*100)","v":""},{"$f":"IF(A136=\"\",\"\",VLOOKUP(A136,'Structural Water Quality Calcs'!$A$8:$AE$149,19,0))","v":""},{"$f":"IF(A136=\"\",\"\",IF(VLOOKUP(A136,'Structural Water Quality Calcs'!$A$9:$B$149,2,0)=\"Limited ROW\",M136*N136*0.1/100,M136*N136/100))","v":""},{"$f":"IF(A136=\"\",\"\",VLOOKUP(A136,'Structural Water Quality Calcs'!$A$8:$AE$149,14,0))","v":""},{"$f":"IF(A136=\"\",\"\",SUMIFS(Catchment!$Y$5:$Y$300,Catchment!$D$5:$D$300,\"RIDOT\",Catchment!$K$5:$K$300,A136))","v":""},{"$f":"IF(A136=\"\",\"\",VLOOKUP(A136,'Structural Water Quality Calcs'!$A$8:$AE$149,15,0)*100)","v":""},{"$f":"IF(A136=\"\",\"\",VLOOKUP(A136,'Structural Water Quality Calcs'!$A$8:$AE$149,16,0))","v":""},{"$f":"IF(A136=\"\",\"\",IF(VLOOKUP(A136,'Structural Water Quality Calcs'!$A$9:$B$149,2,0)=\"Limited ROW\",R136*S136*0.1/100,R136*S136/100))","v":""},{"$f":"IF(A136=\"\",\"\",VLOOKUP(A136,'Structural Water Quality Calcs'!$A$8:$AE$149,20,0))","v":""},{"$f":"IF(A136=\"\",\"\",SUMIFS(Catchment!$AA$5:$AA$300,Catchment!$D$5:$D$300,\"RIDOT\",Catchment!$K$5:$K$300,A136))","v":""},{"$f":"IF(A136=\"\",\"\",VLOOKUP(A136,'Structural Water Quality Calcs'!$A$8:$AE$149,21,0)*100)","v":""},{"$f":"IF(A136=\"\",\"\",VLOOKUP(A136,'Structural Water Quality Calcs'!$A$8:$AE$149,22,0))","v":""},{"$f":"IF(A136=\"\",\"\",IF(VLOOKUP(A136,'Structural Water Quality Calcs'!$A$9:$B$149,2,0)=\"Limited ROW\",W136*X136*0.1/100,W136*X136/100))","v":""},{"$f":"IF(A136=\"\",\"\",VLOOKUP(A136,'Structural Water Quality Calcs'!$A$8:$AE$149,29,0))","v":""},{"$f":"IF(A136=\"\",\"\",IF(VLOOKUP(A136,'Structural Water Quality Calcs'!$A$9:$B$149,2,0)=\"Limited ROW\",VLOOKUP(A136,'Structural Water Quality Calcs'!$A$8:$AE$149,28,0)*F136*0.1/43560,VLOOKUP(A136,'Structural Water Quality Calcs'!$A$8:$AE$149,28,0)*F136/43560))","v":""},{"$f":"IF(A136=\"\",\"\",VLOOKUP(A136,'Structural Water Quality Calcs'!$A$8:$AE$149,28,0)*100)","v":""},{"$f":"IF(A136=\"\",\"\",VLOOKUP(A136,'Structural Water Quality Calcs'!$A$8:$AE$149,31,0))","v":""},{"$f":"IF(A136=\"\",\"\",VLOOKUP(A136,'Structural Water Quality Calcs'!$A$8:$AE$149,26,0))","v":""},{"$f":"IF(A136=\"\",\"\",VLOOKUP(A136,'Structural Water Quality Calcs'!$A$8:$AE$149,27,0))","v":""},{"$f":"IF(A136=\"\",\"\",(VLOOKUP(A136,'Structural Water Quality Calcs'!$A$8:$AE$149,25,0)))","v":""},{"$f":"IF(A136=\"\",\"\",VLOOKUP(A136,'Structural Water Quality Calcs'!$A$8:$AE$149,24,0))","v":""},{"$f":"IF(A136=\"\",\"\",VLOOKUP(A136,STU_Cost!$A$5:$G$150,4,0))","v":""},{"$f":"IF(A136=\"\",\"\",VLOOKUP(A136,STU_Cost!$A$5:$G$150,5,0))","v":""},{"$f":"IF(A136=\"\",\"\",VLOOKUP(A136,STU_Cost!$A$5:$G$150,6,0))","v":""},{"$f":"IF(A136=\"\",\"\",VLOOKUP(A136,STU_Cost!$A$5:$G$150,7,0))","v":""},null,null,{"$f":"IF(A136=\"\",\"\",VLOOKUP(A136,STU!$A$5:$E$300,5,0))","v":""}]
[null,{"$f":"IF(A137=\"\",\"\",VLOOKUP(A137,'Structural Water Quality Calcs'!$A$9:$F$79,6,0))","v":""},{"$f":"IF(A137=\"\",\"\",VLOOKUP(A137,'Structural Water Quality Calcs'!$A$8:$AE$149,3,0))","v":""},{"$f":"IF(A137=\"\",\"\",SUMIFS(Catchment!$V$5:$V$300,Catchment!$D$5:$D$300,\"RIDOT\",Catchment!$K$5:$K$300,A137))","v":""},{"$f":"IF(A137=\"\",\"\",VLOOKUP(A137,'Structural Water Quality Calcs'!$A$8:$AE$149,4,0))","v":""},{"$f":"IF(A137=\"\",\"\",SUMIFS(Catchment!$L$5:$L$300,Catchment!$D$5:$D$300,\"RIDOT\",Catchment!$K$5:$K$300,A137))","v":""},{"$f":"IF(A137=\"\",\"\",VLOOKUP(A137, 'Structural Water Quality Calcs'!$A$8:$AE$149,11,0))","v":""},{"$f":"IF(A137=\"\",\"\",SUMIFS(Catchment!$X$5:$X$300,Catchment!$D$5:$D$300,\"RIDOT\",Catchment!$K$5:$K$300,A137))","v":""},{"$f":"IF(A137=\"\",\"\",VLOOKUP(A137,'Structural Water Quality Calcs'!$A$8:$AE$149,12,0)*100)","v":""},{"$f":"IF(A137=\"\",\"\",VLOOKUP(A137,'Structural Water Quality Calcs'!$A$8:$AE$149,13,0))","v":""},{"$f":"IF(A137=\"\",\"\",IF(VLOOKUP(A137,'Structural Water Quality Calcs'!$A$9:$B$149,2,0)=\"Limited ROW\",H137*I137*0.1/100,H137*I137/100))","v":""},{"$f":"IF(A137=\"\",\"\",VLOOKUP(A137,'Structural Water Quality Calcs'!$A$8:$AE$149,17,0))","v":""},{"$f":"IF(A137=\"\",\"\",SUMIFS(Catchment!$Z$5:$Z$300,Catchment!$D$5:$D$300,\"RIDOT\",Catchment!$K$5:$K$300,A137))","v":""},{"$f":"IF(A137=\"\",\"\",VLOOKUP(A137,'Structural Water Quality Calcs'!$A$8:$AE$149,18,0)*100)","v":""},{"$f":"IF(A137=\"\",\"\",VLOOKUP(A137,'Structural Water Quality Calcs'!$A$8:$AE$149,19,0))","v":""},{"$f":"IF(A137=\"\",\"\",IF(VLOOKUP(A137,'Structural Water Quality Calcs'!$A$9:$B$149,2,0)=\"Limited ROW\",M137*N137*0.1/100,M137*N137/100))","v":""},{"$f":"IF(A137=\"\",\"\",VLOOKUP(A137,'Structural Water Quality Calcs'!$A$8:$AE$149,14,0))","v":""},{"$f":"IF(A137=\"\",\"\",SUMIFS(Catchment!$Y$5:$Y$300,Catchment!$D$5:$D$300,\"RIDOT\",Catchment!$K$5:$K$300,A137))","v":""},{"$f":"IF(A137=\"\",\"\",VLOOKUP(A137,'Structural Water Quality Calcs'!$A$8:$AE$149,15,0)*100)","v":""},{"$f":"IF(A137=\"\",\"\",VLOOKUP(A137,'Structural Water Quality Calcs'!$A$8:$AE$149,16,0))","v":""},{"$f":"IF(A137=\"\",\"\",IF(VLOOKUP(A137,'Structural Water Quality Calcs'!$A$9:$B$149,2,0)=\"Limited ROW\",R137*S137*0.1/100,R137*S137/100))","v":""},{"$f":"IF(A137=\"\",\"\",VLOOKUP(A137,'Structural Water Quality Calcs'!$A$8:$AE$149,20,0))","v":""},{"$f":"IF(A137=\"\",\"\",SUMIFS(Catchment!$AA$5:$AA$300,Catchment!$D$5:$D$300,\"RIDOT\",Catchment!$K$5:$K$300,A137))","v":""},{"$f":"IF(A137=\"\",\"\",VLOOKUP(A137,'Structural Water Quality Calcs'!$A$8:$AE$149,21,0)*100)","v":""},{"$f":"IF(A137=\"\",\"\",VLOOKUP(A137,'Structural Water Quality Calcs'!$A$8:$AE$149,22,0))","v":""},{"$f":"IF(A137=\"\",\"\",IF(VLOOKUP(A137,'Structural Water Quality Calcs'!$A$9:$B$149,2,0)=\"Limited ROW\",W137*X137*0.1/100,W137*X137/100))","v":""},{"$f":"IF(A137=\"\",\"\",VLOOKUP(A137,'Structural Water Quality Calcs'!$A$8:$AE$149,29,0))","v":""},{"$f":"IF(A137=\"\",\"\",IF(VLOOKUP(A137,'Structural Water Quality Calcs'!$A$9:$B$149,2,0)=\"Limited ROW\",VLOOKUP(A137,'Structural Water Quality Calcs'!$A$8:$AE$149,28,0)*F137*0.1/43560,VLOOKUP(A137,'Structural Water Quality Calcs'!$A$8:$AE$149,28,0)*F137/43560))","v":""},{"$f":"IF(A137=\"\",\"\",VLOOKUP(A137,'Structural Water Quality Calcs'!$A$8:$AE$149,28,0)*100)","v":""},{"$f":"IF(A137=\"\",\"\",VLOOKUP(A137,'Structural Water Quality Calcs'!$A$8:$AE$149,31,0))","v":""},{"$f":"IF(A137=\"\",\"\",VLOOKUP(A137,'Structural Water Quality Calcs'!$A$8:$AE$149,26,0))","v":""},{"$f":"IF(A137=\"\",\"\",VLOOKUP(A137,'Structural Water Quality Calcs'!$A$8:$AE$149,27,0))","v":""},{"$f":"IF(A137=\"\",\"\",(VLOOKUP(A137,'Structural Water Quality Calcs'!$A$8:$AE$149,25,0)))","v":""},{"$f":"IF(A137=\"\",\"\",VLOOKUP(A137,'Structural Water Quality Calcs'!$A$8:$AE$149,24,0))","v":""},{"$f":"IF(A137=\"\",\"\",VLOOKUP(A137,STU_Cost!$A$5:$G$150,4,0))","v":""},{"$f":"IF(A137=\"\",\"\",VLOOKUP(A137,STU_Cost!$A$5:$G$150,5,0))","v":""},{"$f":"IF(A137=\"\",\"\",VLOOKUP(A137,STU_Cost!$A$5:$G$150,6,0))","v":""},{"$f":"IF(A137=\"\",\"\",VLOOKUP(A137,STU_Cost!$A$5:$G$150,7,0))","v":""},null,null,{"$f":"IF(A137=\"\",\"\",VLOOKUP(A137,STU!$A$5:$E$300,5,0))","v":""}]
[null,{"$f":"IF(A138=\"\",\"\",VLOOKUP(A138,'Structural Water Quality Calcs'!$A$9:$F$79,6,0))","v":""},{"$f":"IF(A138=\"\",\"\",VLOOKUP(A138,'Structural Water Quality Calcs'!$A$8:$AE$149,3,0))","v":""},{"$f":"IF(A138=\"\",\"\",SUMIFS(Catchment!$V$5:$V$300,Catchment!$D$5:$D$300,\"RIDOT\",Catchment!$K$5:$K$300,A138))","v":""},{"$f":"IF(A138=\"\",\"\",VLOOKUP(A138,'Structural Water Quality Calcs'!$A$8:$AE$149,4,0))","v":""},{"$f":"IF(A138=\"\",\"\",SUMIFS(Catchment!$L$5:$L$300,Catchment!$D$5:$D$300,\"RIDOT\",Catchment!$K$5:$K$300,A138))","v":""},{"$f":"IF(A138=\"\",\"\",VLOOKUP(A138, 'Structural Water Quality Calcs'!$A$8:$AE$149,11,0))","v":""},{"$f":"IF(A138=\"\",\"\",SUMIFS(Catchment!$X$5:$X$300,Catchment!$D$5:$D$300,\"RIDOT\",Catchment!$K$5:$K$300,A138))","v":""},{"$f":"IF(A138=\"\",\"\",VLOOKUP(A138,'Structural Water Quality Calcs'!$A$8:$AE$149,12,0)*100)","v":""},{"$f":"IF(A138=\"\",\"\",VLOOKUP(A138,'Structural Water Quality Calcs'!$A$8:$AE$149,13,0))","v":""},{"$f":"IF(A138=\"\",\"\",IF(VLOOKUP(A138,'Structural Water Quality Calcs'!$A$9:$B$149,2,0)=\"Limited ROW\",H138*I138*0.1/100,H138*I138/100))","v":""},{"$f":"IF(A138=\"\",\"\",VLOOKUP(A138,'Structural Water Quality Calcs'!$A$8:$AE$149,17,0))","v":""},{"$f":"IF(A138=\"\",\"\",SUMIFS(Catchment!$Z$5:$Z$300,Catchment!$D$5:$D$300,\"RIDOT\",Catchment!$K$5:$K$300,A138))","v":""},{"$f":"IF(A138=\"\",\"\",VLOOKUP(A138,'Structural Water Quality Calcs'!$A$8:$AE$149,18,0)*100)","v":""},{"$f":"IF(A138=\"\",\"\",VLOOKUP(A138,'Structural Water Quality Calcs'!$A$8:$AE$149,19,0))","v":""},{"$f":"IF(A138=\"\",\"\",IF(VLOOKUP(A138,'Structural Water Quality Calcs'!$A$9:$B$149,2,0)=\"Limited ROW\",M138*N138*0.1/100,M138*N138/100))","v":""},{"$f":"IF(A138=\"\",\"\",VLOOKUP(A138,'Structural Water Quality Calcs'!$A$8:$AE$149,14,0))","v":""},{"$f":"IF(A138=\"\",\"\",SUMIFS(Catchment!$Y$5:$Y$300,Catchment!$D$5:$D$300,\"RIDOT\",Catchment!$K$5:$K$300,A138))","v":""},{"$f":"IF(A138=\"\",\"\",VLOOKUP(A138,'Structural Water Quality Calcs'!$A$8:$AE$149,15,0)*100)","v":""},{"$f":"IF(A138=\"\",\"\",VLOOKUP(A138,'Structural Water Quality Calcs'!$A$8:$AE$149,16,0))","v":""},{"$f":"IF(A138=\"\",\"\",IF(VLOOKUP(A138,'Structural Water Quality Calcs'!$A$9:$B$149,2,0)=\"Limited ROW\",R138*S138*0.1/100,R138*S138/100))","v":""},{"$f":"IF(A138=\"\",\"\",VLOOKUP(A138,'Structural Water Quality Calcs'!$A$8:$AE$149,20,0))","v":""},{"$f":"IF(A138=\"\",\"\",SUMIFS(Catchment!$AA$5:$AA$300,Catchment!$D$5:$D$300,\"RIDOT\",Catchment!$K$5:$K$300,A138))","v":""},{"$f":"IF(A138=\"\",\"\",VLOOKUP(A138,'Structural Water Quality Calcs'!$A$8:$AE$149,21,0)*100)","v":""},{"$f":"IF(A138=\"\",\"\",VLOOKUP(A138,'Structural Water Quality Calcs'!$A$8:$AE$149,22,0))","v":""},{"$f":"IF(A138=\"\",\"\",IF(VLOOKUP(A138,'Structural Water Quality Calcs'!$A$9:$B$149,2,0)=\"Limited ROW\",W138*X138*0.1/100,W138*X138/100))","v":""},{"$f":"IF(A138=\"\",\"\",VLOOKUP(A138,'Structural Water Quality Calcs'!$A$8:$AE$149,29,0))","v":""},{"$f":"IF(A138=\"\",\"\",IF(VLOOKUP(A138,'Structural Water Quality Calcs'!$A$9:$B$149,2,0)=\"Limited ROW\",VLOOKUP(A138,'Structural Water Quality Calcs'!$A$8:$AE$149,28,0)*F138*0.1/43560,VLOOKUP(A138,'Structural Water Quality Calcs'!$A$8:$AE$149,28,0)*F138/43560))","v":""},{"$f":"IF(A138=\"\",\"\",VLOOKUP(A138,'Structural Water Quality Calcs'!$A$8:$AE$149,28,0)*100)","v":""},{"$f":"IF(A138=\"\",\"\",VLOOKUP(A138,'Structural Water Quality Calcs'!$A$8:$AE$149,31,0))","v":""},{"$f":"IF(A138=\"\",\"\",VLOOKUP(A138,'Structural Water Quality Calcs'!$A$8:$AE$149,26,0))","v":""},{"$f":"IF(A138=\"\",\"\",VLOOKUP(A138,'Structural Water Quality Calcs'!$A$8:$AE$149,27,0))","v":""},{"$f":"IF(A138=\"\",\"\",(VLOOKUP(A138,'Structural Water Quality Calcs'!$A$8:$AE$149,25,0)))","v":""},{"$f":"IF(A138=\"\",\"\",VLOOKUP(A138,'Structural Water Quality Calcs'!$A$8:$AE$149,24,0))","v":""},{"$f":"IF(A138=\"\",\"\",VLOOKUP(A138,STU_Cost!$A$5:$G$150,4,0))","v":""},{"$f":"IF(A138=\"\",\"\",VLOOKUP(A138,STU_Cost!$A$5:$G$150,5,0))","v":""},{"$f":"IF(A138=\"\",\"\",VLOOKUP(A138,STU_Cost!$A$5:$G$150,6,0))","v":""},{"$f":"IF(A138=\"\",\"\",VLOOKUP(A138,STU_Cost!$A$5:$G$150,7,0))","v":""},null,null,{"$f":"IF(A138=\"\",\"\",VLOOKUP(A138,STU!$A$5:$E$300,5,0))","v":""}]
[null,{"$f":"IF(A139=\"\",\"\",VLOOKUP(A139,'Structural Water Quality Calcs'!$A$9:$F$79,6,0))","v":""},{"$f":"IF(A139=\"\",\"\",VLOOKUP(A139,'Structural Water Quality Calcs'!$A$8:$AE$149,3,0))","v":""},{"$f":"IF(A139=\"\",\"\",SUMIFS(Catchment!$V$5:$V$300,Catchment!$D$5:$D$300,\"RIDOT\",Catchment!$K$5:$K$300,A139))","v":""},{"$f":"IF(A139=\"\",\"\",VLOOKUP(A139,'Structural Water Quality Calcs'!$A$8:$AE$149,4,0))","v":""},{"$f":"IF(A139=\"\",\"\",SUMIFS(Catchment!$L$5:$L$300,Catchment!$D$5:$D$300,\"RIDOT\",Catchment!$K$5:$K$300,A139))","v":""},{"$f":"IF(A139=\"\",\"\",VLOOKUP(A139, 'Structural Water Quality Calcs'!$A$8:$AE$149,11,0))","v":""},{"$f":"IF(A139=\"\",\"\",SUMIFS(Catchment!$X$5:$X$300,Catchment!$D$5:$D$300,\"RIDOT\",Catchment!$K$5:$K$300,A139))","v":""},{"$f":"IF(A139=\"\",\"\",VLOOKUP(A139,'Structural Water Quality Calcs'!$A$8:$AE$149,12,0)*100)","v":""},{"$f":"IF(A139=\"\",\"\",VLOOKUP(A139,'Structural Water Quality Calcs'!$A$8:$AE$149,13,0))","v":""},{"$f":"IF(A139=\"\",\"\",IF(VLOOKUP(A139,'Structural Water Quality Calcs'!$A$9:$B$149,2,0)=\"Limited ROW\",H139*I139*0.1/100,H139*I139/100))","v":""},{"$f":"IF(A139=\"\",\"\",VLOOKUP(A139,'Structural Water Quality Calcs'!$A$8:$AE$149,17,0))","v":""},{"$f":"IF(A139=\"\",\"\",SUMIFS(Catchment!$Z$5:$Z$300,Catchment!$D$5:$D$300,\"RIDOT\",Catchment!$K$5:$K$300,A139))","v":""},{"$f":"IF(A139=\"\",\"\",VLOOKUP(A139,'Structural Water Quality Calcs'!$A$8:$AE$149,18,0)*100)","v":""},{"$f":"IF(A139=\"\",\"\",VLOOKUP(A139,'Structural Water Quality Calcs'!$A$8:$AE$149,19,0))","v":""},{"$f":"IF(A139=\"\",\"\",IF(VLOOKUP(A139,'Structural Water Quality Calcs'!$A$9:$B$149,2,0)=\"Limited ROW\",M139*N139*0.1/100,M139*N139/100))","v":""},{"$f":"IF(A139=\"\",\"\",VLOOKUP(A139,'Structural Water Quality Calcs'!$A$8:$AE$149,14,0))","v":""},{"$f":"IF(A139=\"\",\"\",SUMIFS(Catchment!$Y$5:$Y$300,Catchment!$D$5:$D$300,\"RIDOT\",Catchment!$K$5:$K$300,A139))","v":""},{"$f":"IF(A139=\"\",\"\",VLOOKUP(A139,'Structural Water Quality Calcs'!$A$8:$AE$149,15,0)*100)","v":""},{"$f":"IF(A139=\"\",\"\",VLOOKUP(A139,'Structural Water Quality Calcs'!$A$8:$AE$149,16,0))","v":""},{"$f":"IF(A139=\"\",\"\",IF(VLOOKUP(A139,'Structural Water Quality Calcs'!$A$9:$B$149,2,0)=\"Limited ROW\",R139*S139*0.1/100,R139*S139/100))","v":""},{"$f":"IF(A139=\"\",\"\",VLOOKUP(A139,'Structural Water Quality Calcs'!$A$8:$AE$149,20,0))","v":""},{"$f":"IF(A139=\"\",\"\",SUMIFS(Catchment!$AA$5:$AA$300,Catchment!$D$5:$D$300,\"RIDOT\",Catchment!$K$5:$K$300,A139))","v":""},{"$f":"IF(A139=\"\",\"\",VLOOKUP(A139,'Structural Water Quality Calcs'!$A$8:$AE$149,21,0)*100)","v":""},{"$f":"IF(A139=\"\",\"\",VLOOKUP(A139,'Structural Water Quality Calcs'!$A$8:$AE$149,22,0))","v":""},{"$f":"IF(A139=\"\",\"\",IF(VLOOKUP(A139,'Structural Water Quality Calcs'!$A$9:$B$149,2,0)=\"Limited ROW\",W139*X139*0.1/100,W139*X139/100))","v":""},{"$f":"IF(A139=\"\",\"\",VLOOKUP(A139,'Structural Water Quality Calcs'!$A$8:$AE$149,29,0))","v":""},{"$f":"IF(A139=\"\",\"\",IF(VLOOKUP(A139,'Structural Water Quality Calcs'!$A$9:$B$149,2,0)=\"Limited ROW\",VLOOKUP(A139,'Structural Water Quality Calcs'!$A$8:$AE$149,28,0)*F139*0.1/43560,VLOOKUP(A139,'Structural Water Quality Calcs'!$A$8:$AE$149,28,0)*F139/43560))","v":""},{"$f":"IF(A139=\"\",\"\",VLOOKUP(A139,'Structural Water Quality Calcs'!$A$8:$AE$149,28,0)*100)","v":""},{"$f":"IF(A139=\"\",\"\",VLOOKUP(A139,'Structural Water Quality Calcs'!$A$8:$AE$149,31,0))","v":""},{"$f":"IF(A139=\"\",\"\",VLOOKUP(A139,'Structural Water Quality Calcs'!$A$8:$AE$149,26,0))","v":""},{"$f":"IF(A139=\"\",\"\",VLOOKUP(A139,'Structural Water Quality Calcs'!$A$8:$AE$149,27,0))","v":""},{"$f":"IF(A139=\"\",\"\",(VLOOKUP(A139,'Structural Water Quality Calcs'!$A$8:$AE$149,25,0)))","v":""},{"$f":"IF(A139=\"\",\"\",VLOOKUP(A139,'Structural Water Quality Calcs'!$A$8:$AE$149,24,0))","v":""},{"$f":"IF(A139=\"\",\"\",VLOOKUP(A139,STU_Cost!$A$5:$G$150,4,0))","v":""},{"$f":"IF(A139=\"\",\"\",VLOOKUP(A139,STU_Cost!$A$5:$G$150,5,0))","v":""},{"$f":"IF(A139=\"\",\"\",VLOOKUP(A139,STU_Cost!$A$5:$G$150,6,0))","v":""},{"$f":"IF(A139=\"\",\"\",VLOOKUP(A139,STU_Cost!$A$5:$G$150,7,0))","v":""},null,null,{"$f":"IF(A139=\"\",\"\",VLOOKUP(A139,STU!$A$5:$E$300,5,0))","v":""}]
[null,{"$f":"IF(A140=\"\",\"\",VLOOKUP(A140,'Structural Water Quality Calcs'!$A$9:$F$79,6,0))","v":""},{"$f":"IF(A140=\"\",\"\",VLOOKUP(A140,'Structural Water Quality Calcs'!$A$8:$AE$149,3,0))","v":""},{"$f":"IF(A140=\"\",\"\",SUMIFS(Catchment!$V$5:$V$300,Catchment!$D$5:$D$300,\"RIDOT\",Catchment!$K$5:$K$300,A140))","v":""},{"$f":"IF(A140=\"\",\"\",VLOOKUP(A140,'Structural Water Quality Calcs'!$A$8:$AE$149,4,0))","v":""},{"$f":"IF(A140=\"\",\"\",SUMIFS(Catchment!$L$5:$L$300,Catchment!$D$5:$D$300,\"RIDOT\",Catchment!$K$5:$K$300,A140))","v":""},{"$f":"IF(A140=\"\",\"\",VLOOKUP(A140, 'Structural Water Quality Calcs'!$A$8:$AE$149,11,0))","v":""},{"$f":"IF(A140=\"\",\"\",SUMIFS(Catchment!$X$5:$X$300,Catchment!$D$5:$D$300,\"RIDOT\",Catchment!$K$5:$K$300,A140))","v":""},{"$f":"IF(A140=\"\",\"\",VLOOKUP(A140,'Structural Water Quality Calcs'!$A$8:$AE$149,12,0)*100)","v":""},{"$f":"IF(A140=\"\",\"\",VLOOKUP(A140,'Structural Water Quality Calcs'!$A$8:$AE$149,13,0))","v":""},{"$f":"IF(A140=\"\",\"\",IF(VLOOKUP(A140,'Structural Water Quality Calcs'!$A$9:$B$149,2,0)=\"Limited ROW\",H140*I140*0.1/100,H140*I140/100))","v":""},{"$f":"IF(A140=\"\",\"\",VLOOKUP(A140,'Structural Water Quality Calcs'!$A$8:$AE$149,17,0))","v":""},{"$f":"IF(A140=\"\",\"\",SUMIFS(Catchment!$Z$5:$Z$300,Catchment!$D$5:$D$300,\"RIDOT\",Catchment!$K$5:$K$300,A140))","v":""},{"$f":"IF(A140=\"\",\"\",VLOOKUP(A140,'Structural Water Quality Calcs'!$A$8:$AE$149,18,0)*100)","v":""},{"$f":"IF(A140=\"\",\"\",VLOOKUP(A140,'Structural Water Quality Calcs'!$A$8:$AE$149,19,0))","v":""},{"$f":"IF(A140=\"\",\"\",IF(VLOOKUP(A140,'Structural Water Quality Calcs'!$A$9:$B$149,2,0)=\"Limited ROW\",M140*N140*0.1/100,M140*N140/100))","v":""},{"$f":"IF(A140=\"\",\"\",VLOOKUP(A140,'Structural Water Quality Calcs'!$A$8:$AE$149,14,0))","v":""},{"$f":"IF(A140=\"\",\"\",SUMIFS(Catchment!$Y$5:$Y$300,Catchment!$D$5:$D$300,\"RIDOT\",Catchment!$K$5:$K$300,A140))","v":""},{"$f":"IF(A140=\"\",\"\",VLOOKUP(A140,'Structural Water Quality Calcs'!$A$8:$AE$149,15,0)*100)","v":""},{"$f":"IF(A140=\"\",\"\",VLOOKUP(A140,'Structural Water Quality Calcs'!$A$8:$AE$149,16,0))","v":""},{"$f":"IF(A140=\"\",\"\",IF(VLOOKUP(A140,'Structural Water Quality Calcs'!$A$9:$B$149,2,0)=\"Limited ROW\",R140*S140*0.1/100,R140*S140/100))","v":""},{"$f":"IF(A140=\"\",\"\",VLOOKUP(A140,'Structural Water Quality Calcs'!$A$8:$AE$149,20,0))","v":""},{"$f":"IF(A140=\"\",\"\",SUMIFS(Catchment!$AA$5:$AA$300,Catchment!$D$5:$D$300,\"RIDOT\",Catchment!$K$5:$K$300,A140))","v":""},{"$f":"IF(A140=\"\",\"\",VLOOKUP(A140,'Structural Water Quality Calcs'!$A$8:$AE$149,21,0)*100)","v":""},{"$f":"IF(A140=\"\",\"\",VLOOKUP(A140,'Structural Water Quality Calcs'!$A$8:$AE$149,22,0))","v":""},{"$f":"IF(A140=\"\",\"\",IF(VLOOKUP(A140,'Structural Water Quality Calcs'!$A$9:$B$149,2,0)=\"Limited ROW\",W140*X140*0.1/100,W140*X140/100))","v":""},{"$f":"IF(A140=\"\",\"\",VLOOKUP(A140,'Structural Water Quality Calcs'!$A$8:$AE$149,29,0))","v":""},{"$f":"IF(A140=\"\",\"\",IF(VLOOKUP(A140,'Structural Water Quality Calcs'!$A$9:$B$149,2,0)=\"Limited ROW\",VLOOKUP(A140,'Structural Water Quality Calcs'!$A$8:$AE$149,28,0)*F140*0.1/43560,VLOOKUP(A140,'Structural Water Quality Calcs'!$A$8:$AE$149,28,0)*F140/43560))","v":""},{"$f":"IF(A140=\"\",\"\",VLOOKUP(A140,'Structural Water Quality Calcs'!$A$8:$AE$149,28,0)*100)","v":""},{"$f":"IF(A140=\"\",\"\",VLOOKUP(A140,'Structural Water Quality Calcs'!$A$8:$AE$149,31,0))","v":""},{"$f":"IF(A140=\"\",\"\",VLOOKUP(A140,'Structural Water Quality Calcs'!$A$8:$AE$149,26,0))","v":""},{"$f":"IF(A140=\"\",\"\",VLOOKUP(A140,'Structural Water Quality Calcs'!$A$8:$AE$149,27,0))","v":""},{"$f":"IF(A140=\"\",\"\",(VLOOKUP(A140,'Structural Water Quality Calcs'!$A$8:$AE$149,25,0)))","v":""},{"$f":"IF(A140=\"\",\"\",VLOOKUP(A140,'Structural Water Quality Calcs'!$A$8:$AE$149,24,0))","v":""},{"$f":"IF(A140=\"\",\"\",VLOOKUP(A140,STU_Cost!$A$5:$G$150,4,0))","v":""},{"$f":"IF(A140=\"\",\"\",VLOOKUP(A140,STU_Cost!$A$5:$G$150,5,0))","v":""},{"$f":"IF(A140=\"\",\"\",VLOOKUP(A140,STU_Cost!$A$5:$G$150,6,0))","v":""},{"$f":"IF(A140=\"\",\"\",VLOOKUP(A140,STU_Cost!$A$5:$G$150,7,0))","v":""},null,null,{"$f":"IF(A140=\"\",\"\",VLOOKUP(A140,STU!$A$5:$E$300,5,0))","v":""}]
[null,{"$f":"IF(A141=\"\",\"\",VLOOKUP(A141,'Structural Water Quality Calcs'!$A$9:$F$79,6,0))","v":""},{"$f":"IF(A141=\"\",\"\",VLOOKUP(A141,'Structural Water Quality Calcs'!$A$8:$AE$149,3,0))","v":""},{"$f":"IF(A141=\"\",\"\",SUMIFS(Catchment!$V$5:$V$300,Catchment!$D$5:$D$300,\"RIDOT\",Catchment!$K$5:$K$300,A141))","v":""},{"$f":"IF(A141=\"\",\"\",VLOOKUP(A141,'Structural Water Quality Calcs'!$A$8:$AE$149,4,0))","v":""},{"$f":"IF(A141=\"\",\"\",SUMIFS(Catchment!$L$5:$L$300,Catchment!$D$5:$D$300,\"RIDOT\",Catchment!$K$5:$K$300,A141))","v":""},{"$f":"IF(A141=\"\",\"\",VLOOKUP(A141, 'Structural Water Quality Calcs'!$A$8:$AE$149,11,0))","v":""},{"$f":"IF(A141=\"\",\"\",SUMIFS(Catchment!$X$5:$X$300,Catchment!$D$5:$D$300,\"RIDOT\",Catchment!$K$5:$K$300,A141))","v":""},{"$f":"IF(A141=\"\",\"\",VLOOKUP(A141,'Structural Water Quality Calcs'!$A$8:$AE$149,12,0)*100)","v":""},{"$f":"IF(A141=\"\",\"\",VLOOKUP(A141,'Structural Water Quality Calcs'!$A$8:$AE$149,13,0))","v":""},{"$f":"IF(A141=\"\",\"\",IF(VLOOKUP(A141,'Structural Water Quality Calcs'!$A$9:$B$149,2,0)=\"Limited ROW\",H141*I141*0.1/100,H141*I141/100))","v":""},{"$f":"IF(A141=\"\",\"\",VLOOKUP(A141,'Structural Water Quality Calcs'!$A$8:$AE$149,17,0))","v":""},{"$f":"IF(A141=\"\",\"\",SUMIFS(Catchment!$Z$5:$Z$300,Catchment!$D$5:$D$300,\"RIDOT\",Catchment!$K$5:$K$300,A141))","v":""},{"$f":"IF(A141=\"\",\"\",VLOOKUP(A141,'Structural Water Quality Calcs'!$A$8:$AE$149,18,0)*100)","v":""},{"$f":"IF(A141=\"\",\"\",VLOOKUP(A141,'Structural Water Quality Calcs'!$A$8:$AE$149,19,0))","v":""},{"$f":"IF(A141=\"\",\"\",IF(VLOOKUP(A141,'Structural Water Quality Calcs'!$A$9:$B$149,2,0)=\"Limited ROW\",M141*N141*0.1/100,M141*N141/100))","v":""},{"$f":"IF(A141=\"\",\"\",VLOOKUP(A141,'Structural Water Quality Calcs'!$A$8:$AE$149,14,0))","v":""},{"$f":"IF(A141=\"\",\"\",SUMIFS(Catchment!$Y$5:$Y$300,Catchment!$D$5:$D$300,\"RIDOT\",Catchment!$K$5:$K$300,A141))","v":""},{"$f":"IF(A141=\"\",\"\",VLOOKUP(A141,'Structural Water Quality Calcs'!$A$8:$AE$149,15,0)*100)","v":""},{"$f":"IF(A141=\"\",\"\",VLOOKUP(A141,'Structural Water Quality Calcs'!$A$8:$AE$149,16,0))","v":""},{"$f":"IF(A141=\"\",\"\",IF(VLOOKUP(A141,'Structural Water Quality Calcs'!$A$9:$B$149,2,0)=\"Limited ROW\",R141*S141*0.1/100,R141*S141/100))","v":""},{"$f":"IF(A141=\"\",\"\",VLOOKUP(A141,'Structural Water Quality Calcs'!$A$8:$AE$149,20,0))","v":""},{"$f":"IF(A141=\"\",\"\",SUMIFS(Catchment!$AA$5:$AA$300,Catchment!$D$5:$D$300,\"RIDOT\",Catchment!$K$5:$K$300,A141))","v":""},{"$f":"IF(A141=\"\",\"\",VLOOKUP(A141,'Structural Water Quality Calcs'!$A$8:$AE$149,21,0)*100)","v":""},{"$f":"IF(A141=\"\",\"\",VLOOKUP(A141,'Structural Water Quality Calcs'!$A$8:$AE$149,22,0))","v":""},{"$f":"IF(A141=\"\",\"\",IF(VLOOKUP(A141,'Structural Water Quality Calcs'!$A$9:$B$149,2,0)=\"Limited ROW\",W141*X141*0.1/100,W141*X141/100))","v":""},{"$f":"IF(A141=\"\",\"\",VLOOKUP(A141,'Structural Water Quality Calcs'!$A$8:$AE$149,29,0))","v":""},{"$f":"IF(A141=\"\",\"\",IF(VLOOKUP(A141,'Structural Water Quality Calcs'!$A$9:$B$149,2,0)=\"Limited ROW\",VLOOKUP(A141,'Structural Water Quality Calcs'!$A$8:$AE$149,28,0)*F141*0.1/43560,VLOOKUP(A141,'Structural Water Quality Calcs'!$A$8:$AE$149,28,0)*F141/43560))","v":""},{"$f":"IF(A141=\"\",\"\",VLOOKUP(A141,'Structural Water Quality Calcs'!$A$8:$AE$149,28,0)*100)","v":""},{"$f":"IF(A141=\"\",\"\",VLOOKUP(A141,'Structural Water Quality Calcs'!$A$8:$AE$149,31,0))","v":""},{"$f":"IF(A141=\"\",\"\",VLOOKUP(A141,'Structural Water Quality Calcs'!$A$8:$AE$149,26,0))","v":""},{"$f":"IF(A141=\"\",\"\",VLOOKUP(A141,'Structural Water Quality Calcs'!$A$8:$AE$149,27,0))","v":""},{"$f":"IF(A141=\"\",\"\",(VLOOKUP(A141,'Structural Water Quality Calcs'!$A$8:$AE$149,25,0)))","v":""},{"$f":"IF(A141=\"\",\"\",VLOOKUP(A141,'Structural Water Quality Calcs'!$A$8:$AE$149,24,0))","v":""},{"$f":"IF(A141=\"\",\"\",VLOOKUP(A141,STU_Cost!$A$5:$G$150,4,0))","v":""},{"$f":"IF(A141=\"\",\"\",VLOOKUP(A141,STU_Cost!$A$5:$G$150,5,0))","v":""},{"$f":"IF(A141=\"\",\"\",VLOOKUP(A141,STU_Cost!$A$5:$G$150,6,0))","v":""},{"$f":"IF(A141=\"\",\"\",VLOOKUP(A141,STU_Cost!$A$5:$G$150,7,0))","v":""},null,null,{"$f":"IF(A141=\"\",\"\",VLOOKUP(A141,STU!$A$5:$E$300,5,0))","v":""}]
[null,{"$f":"IF(A142=\"\",\"\",VLOOKUP(A142,'Structural Water Quality Calcs'!$A$9:$F$79,6,0))","v":""},{"$f":"IF(A142=\"\",\"\",VLOOKUP(A142,'Structural Water Quality Calcs'!$A$8:$AE$149,3,0))","v":""},{"$f":"IF(A142=\"\",\"\",SUMIFS(Catchment!$V$5:$V$300,Catchment!$D$5:$D$300,\"RIDOT\",Catchment!$K$5:$K$300,A142))","v":""},{"$f":"IF(A142=\"\",\"\",VLOOKUP(A142,'Structural Water Quality Calcs'!$A$8:$AE$149,4,0))","v":""},{"$f":"IF(A142=\"\",\"\",SUMIFS(Catchment!$L$5:$L$300,Catchment!$D$5:$D$300,\"RIDOT\",Catchment!$K$5:$K$300,A142))","v":""},{"$f":"IF(A142=\"\",\"\",VLOOKUP(A142, 'Structural Water Quality Calcs'!$A$8:$AE$149,11,0))","v":""},{"$f":"IF(A142=\"\",\"\",SUMIFS(Catchment!$X$5:$X$300,Catchment!$D$5:$D$300,\"RIDOT\",Catchment!$K$5:$K$300,A142))","v":""},{"$f":"IF(A142=\"\",\"\",VLOOKUP(A142,'Structural Water Quality Calcs'!$A$8:$AE$149,12,0)*100)","v":""},{"$f":"IF(A142=\"\",\"\",VLOOKUP(A142,'Structural Water Quality Calcs'!$A$8:$AE$149,13,0))","v":""},{"$f":"IF(A142=\"\",\"\",IF(VLOOKUP(A142,'Structural Water Quality Calcs'!$A$9:$B$149,2,0)=\"Limited ROW\",H142*I142*0.1/100,H142*I142/100))","v":""},{"$f":"IF(A142=\"\",\"\",VLOOKUP(A142,'Structural Water Quality Calcs'!$A$8:$AE$149,17,0))","v":""},{"$f":"IF(A142=\"\",\"\",SUMIFS(Catchment!$Z$5:$Z$300,Catchment!$D$5:$D$300,\"RIDOT\",Catchment!$K$5:$K$300,A142))","v":""},{"$f":"IF(A142=\"\",\"\",VLOOKUP(A142,'Structural Water Quality Calcs'!$A$8:$AE$149,18,0)*100)","v":""},{"$f":"IF(A142=\"\",\"\",VLOOKUP(A142,'Structural Water Quality Calcs'!$A$8:$AE$149,19,0))","v":""},{"$f":"IF(A142=\"\",\"\",IF(VLOOKUP(A142,'Structural Water Quality Calcs'!$A$9:$B$149,2,0)=\"Limited ROW\",M142*N142*0.1/100,M142*N142/100))","v":""},{"$f":"IF(A142=\"\",\"\",VLOOKUP(A142,'Structural Water Quality Calcs'!$A$8:$AE$149,14,0))","v":""},{"$f":"IF(A142=\"\",\"\",SUMIFS(Catchment!$Y$5:$Y$300,Catchment!$D$5:$D$300,\"RIDOT\",Catchment!$K$5:$K$300,A142))","v":""},{"$f":"IF(A142=\"\",\"\",VLOOKUP(A142,'Structural Water Quality Calcs'!$A$8:$AE$149,15,0)*100)","v":""},{"$f":"IF(A142=\"\",\"\",VLOOKUP(A142,'Structural Water Quality Calcs'!$A$8:$AE$149,16,0))","v":""},{"$f":"IF(A142=\"\",\"\",IF(VLOOKUP(A142,'Structural Water Quality Calcs'!$A$9:$B$149,2,0)=\"Limited ROW\",R142*S142*0.1/100,R142*S142/100))","v":""},{"$f":"IF(A142=\"\",\"\",VLOOKUP(A142,'Structural Water Quality Calcs'!$A$8:$AE$149,20,0))","v":""},{"$f":"IF(A142=\"\",\"\",SUMIFS(Catchment!$AA$5:$AA$300,Catchment!$D$5:$D$300,\"RIDOT\",Catchment!$K$5:$K$300,A142))","v":""},{"$f":"IF(A142=\"\",\"\",VLOOKUP(A142,'Structural Water Quality Calcs'!$A$8:$AE$149,21,0)*100)","v":""},{"$f":"IF(A142=\"\",\"\",VLOOKUP(A142,'Structural Water Quality Calcs'!$A$8:$AE$149,22,0))","v":""},{"$f":"IF(A142=\"\",\"\",IF(VLOOKUP(A142,'Structural Water Quality Calcs'!$A$9:$B$149,2,0)=\"Limited ROW\",W142*X142*0.1/100,W142*X142/100))","v":""},{"$f":"IF(A142=\"\",\"\",VLOOKUP(A142,'Structural Water Quality Calcs'!$A$8:$AE$149,29,0))","v":""},{"$f":"IF(A142=\"\",\"\",IF(VLOOKUP(A142,'Structural Water Quality Calcs'!$A$9:$B$149,2,0)=\"Limited ROW\",VLOOKUP(A142,'Structural Water Quality Calcs'!$A$8:$AE$149,28,0)*F142*0.1/43560,VLOOKUP(A142,'Structural Water Quality Calcs'!$A$8:$AE$149,28,0)*F142/43560))","v":""},{"$f":"IF(A142=\"\",\"\",VLOOKUP(A142,'Structural Water Quality Calcs'!$A$8:$AE$149,28,0)*100)","v":""},{"$f":"IF(A142=\"\",\"\",VLOOKUP(A142,'Structural Water Quality Calcs'!$A$8:$AE$149,31,0))","v":""},{"$f":"IF(A142=\"\",\"\",VLOOKUP(A142,'Structural Water Quality Calcs'!$A$8:$AE$149,26,0))","v":""},{"$f":"IF(A142=\"\",\"\",VLOOKUP(A142,'Structural Water Quality Calcs'!$A$8:$AE$149,27,0))","v":""},{"$f":"IF(A142=\"\",\"\",(VLOOKUP(A142,'Structural Water Quality Calcs'!$A$8:$AE$149,25,0)))","v":""},{"$f":"IF(A142=\"\",\"\",VLOOKUP(A142,'Structural Water Quality Calcs'!$A$8:$AE$149,24,0))","v":""},{"$f":"IF(A142=\"\",\"\",VLOOKUP(A142,STU_Cost!$A$5:$G$150,4,0))","v":""},{"$f":"IF(A142=\"\",\"\",VLOOKUP(A142,STU_Cost!$A$5:$G$150,5,0))","v":""},{"$f":"IF(A142=\"\",\"\",VLOOKUP(A142,STU_Cost!$A$5:$G$150,6,0))","v":""},{"$f":"IF(A142=\"\",\"\",VLOOKUP(A142,STU_Cost!$A$5:$G$150,7,0))","v":""},null,null,{"$f":"IF(A142=\"\",\"\",VLOOKUP(A142,STU!$A$5:$E$300,5,0))","v":""}]
[null,{"$f":"IF(A143=\"\",\"\",VLOOKUP(A143,'Structural Water Quality Calcs'!$A$9:$F$79,6,0))","v":""},{"$f":"IF(A143=\"\",\"\",VLOOKUP(A143,'Structural Water Quality Calcs'!$A$8:$AE$149,3,0))","v":""},{"$f":"IF(A143=\"\",\"\",SUMIFS(Catchment!$V$5:$V$300,Catchment!$D$5:$D$300,\"RIDOT\",Catchment!$K$5:$K$300,A143))","v":""},{"$f":"IF(A143=\"\",\"\",VLOOKUP(A143,'Structural Water Quality Calcs'!$A$8:$AE$149,4,0))","v":""},{"$f":"IF(A143=\"\",\"\",SUMIFS(Catchment!$L$5:$L$300,Catchment!$D$5:$D$300,\"RIDOT\",Catchment!$K$5:$K$300,A143))","v":""},{"$f":"IF(A143=\"\",\"\",VLOOKUP(A143, 'Structural Water Quality Calcs'!$A$8:$AE$149,11,0))","v":""},{"$f":"IF(A143=\"\",\"\",SUMIFS(Catchment!$X$5:$X$300,Catchment!$D$5:$D$300,\"RIDOT\",Catchment!$K$5:$K$300,A143))","v":""},{"$f":"IF(A143=\"\",\"\",VLOOKUP(A143,'Structural Water Quality Calcs'!$A$8:$AE$149,12,0)*100)","v":""},{"$f":"IF(A143=\"\",\"\",VLOOKUP(A143,'Structural Water Quality Calcs'!$A$8:$AE$149,13,0))","v":""},{"$f":"IF(A143=\"\",\"\",IF(VLOOKUP(A143,'Structural Water Quality Calcs'!$A$9:$B$149,2,0)=\"Limited ROW\",H143*I143*0.1/100,H143*I143/100))","v":""},{"$f":"IF(A143=\"\",\"\",VLOOKUP(A143,'Structural Water Quality Calcs'!$A$8:$AE$149,17,0))","v":""},{"$f":"IF(A143=\"\",\"\",SUMIFS(Catchment!$Z$5:$Z$300,Catchment!$D$5:$D$300,\"RIDOT\",Catchment!$K$5:$K$300,A143))","v":""},{"$f":"IF(A143=\"\",\"\",VLOOKUP(A143,'Structural Water Quality Calcs'!$A$8:$AE$149,18,0)*100)","v":""},{"$f":"IF(A143=\"\",\"\",VLOOKUP(A143,'Structural Water Quality Calcs'!$A$8:$AE$149,19,0))","v":""},{"$f":"IF(A143=\"\",\"\",IF(VLOOKUP(A143,'Structural Water Quality Calcs'!$A$9:$B$149,2,0)=\"Limited ROW\",M143*N143*0.1/100,M143*N143/100))","v":""},{"$f":"IF(A143=\"\",\"\",VLOOKUP(A143,'Structural Water Quality Calcs'!$A$8:$AE$149,14,0))","v":""},{"$f":"IF(A143=\"\",\"\",SUMIFS(Catchment!$Y$5:$Y$300,Catchment!$D$5:$D$300,\"RIDOT\",Catchment!$K$5:$K$300,A143))","v":""},{"$f":"IF(A143=\"\",\"\",VLOOKUP(A143,'Structural Water Quality Calcs'!$A$8:$AE$149,15,0)*100)","v":""},{"$f":"IF(A143=\"\",\"\",VLOOKUP(A143,'Structural Water Quality Calcs'!$A$8:$AE$149,16,0))","v":""},{"$f":"IF(A143=\"\",\"\",IF(VLOOKUP(A143,'Structural Water Quality Calcs'!$A$9:$B$149,2,0)=\"Limited ROW\",R143*S143*0.1/100,R143*S143/100))","v":""},{"$f":"IF(A143=\"\",\"\",VLOOKUP(A143,'Structural Water Quality Calcs'!$A$8:$AE$149,20,0))","v":""},{"$f":"IF(A143=\"\",\"\",SUMIFS(Catchment!$AA$5:$AA$300,Catchment!$D$5:$D$300,\"RIDOT\",Catchment!$K$5:$K$300,A143))","v":""},{"$f":"IF(A143=\"\",\"\",VLOOKUP(A143,'Structural Water Quality Calcs'!$A$8:$AE$149,21,0)*100)","v":""},{"$f":"IF(A143=\"\",\"\",VLOOKUP(A143,'Structural Water Quality Calcs'!$A$8:$AE$149,22,0))","v":""},{"$f":"IF(A143=\"\",\"\",IF(VLOOKUP(A143,'Structural Water Quality Calcs'!$A$9:$B$149,2,0)=\"Limited ROW\",W143*X143*0.1/100,W143*X143/100))","v":""},{"$f":"IF(A143=\"\",\"\",VLOOKUP(A143,'Structural Water Quality Calcs'!$A$8:$AE$149,29,0))","v":""},{"$f":"IF(A143=\"\",\"\",IF(VLOOKUP(A143,'Structural Water Quality Calcs'!$A$9:$B$149,2,0)=\"Limited ROW\",VLOOKUP(A143,'Structural Water Quality Calcs'!$A$8:$AE$149,28,0)*F143*0.1/43560,VLOOKUP(A143,'Structural Water Quality Calcs'!$A$8:$AE$149,28,0)*F143/43560))","v":""},{"$f":"IF(A143=\"\",\"\",VLOOKUP(A143,'Structural Water Quality Calcs'!$A$8:$AE$149,28,0)*100)","v":""},{"$f":"IF(A143=\"\",\"\",VLOOKUP(A143,'Structural Water Quality Calcs'!$A$8:$AE$149,31,0))","v":""},{"$f":"IF(A143=\"\",\"\",VLOOKUP(A143,'Structural Water Quality Calcs'!$A$8:$AE$149,26,0))","v":""},{"$f":"IF(A143=\"\",\"\",VLOOKUP(A143,'Structural Water Quality Calcs'!$A$8:$AE$149,27,0))","v":""},{"$f":"IF(A143=\"\",\"\",(VLOOKUP(A143,'Structural Water Quality Calcs'!$A$8:$AE$149,25,0)))","v":""},{"$f":"IF(A143=\"\",\"\",VLOOKUP(A143,'Structural Water Quality Calcs'!$A$8:$AE$149,24,0))","v":""},{"$f":"IF(A143=\"\",\"\",VLOOKUP(A143,STU_Cost!$A$5:$G$150,4,0))","v":""},{"$f":"IF(A143=\"\",\"\",VLOOKUP(A143,STU_Cost!$A$5:$G$150,5,0))","v":""},{"$f":"IF(A143=\"\",\"\",VLOOKUP(A143,STU_Cost!$A$5:$G$150,6,0))","v":""},{"$f":"IF(A143=\"\",\"\",VLOOKUP(A143,STU_Cost!$A$5:$G$150,7,0))","v":""},null,null,{"$f":"IF(A143=\"\",\"\",VLOOKUP(A143,STU!$A$5:$E$300,5,0))","v":""}]
[null,{"$f":"IF(A144=\"\",\"\",VLOOKUP(A144,'Structural Water Quality Calcs'!$A$9:$F$79,6,0))","v":""},{"$f":"IF(A144=\"\",\"\",VLOOKUP(A144,'Structural Water Quality Calcs'!$A$8:$AE$149,3,0))","v":""},{"$f":"IF(A144=\"\",\"\",SUMIFS(Catchment!$V$5:$V$300,Catchment!$D$5:$D$300,\"RIDOT\",Catchment!$K$5:$K$300,A144))","v":""},{"$f":"IF(A144=\"\",\"\",VLOOKUP(A144,'Structural Water Quality Calcs'!$A$8:$AE$149,4,0))","v":""},{"$f":"IF(A144=\"\",\"\",SUMIFS(Catchment!$L$5:$L$300,Catchment!$D$5:$D$300,\"RIDOT\",Catchment!$K$5:$K$300,A144))","v":""},{"$f":"IF(A144=\"\",\"\",VLOOKUP(A144, 'Structural Water Quality Calcs'!$A$8:$AE$149,11,0))","v":""},{"$f":"IF(A144=\"\",\"\",SUMIFS(Catchment!$X$5:$X$300,Catchment!$D$5:$D$300,\"RIDOT\",Catchment!$K$5:$K$300,A144))","v":""},{"$f":"IF(A144=\"\",\"\",VLOOKUP(A144,'Structural Water Quality Calcs'!$A$8:$AE$149,12,0)*100)","v":""},{"$f":"IF(A144=\"\",\"\",VLOOKUP(A144,'Structural Water Quality Calcs'!$A$8:$AE$149,13,0))","v":""},{"$f":"IF(A144=\"\",\"\",IF(VLOOKUP(A144,'Structural Water Quality Calcs'!$A$9:$B$149,2,0)=\"Limited ROW\",H144*I144*0.1/100,H144*I144/100))","v":""},{"$f":"IF(A144=\"\",\"\",VLOOKUP(A144,'Structural Water Quality Calcs'!$A$8:$AE$149,17,0))","v":""},{"$f":"IF(A144=\"\",\"\",SUMIFS(Catchment!$Z$5:$Z$300,Catchment!$D$5:$D$300,\"RIDOT\",Catchment!$K$5:$K$300,A144))","v":""},{"$f":"IF(A144=\"\",\"\",VLOOKUP(A144,'Structural Water Quality Calcs'!$A$8:$AE$149,18,0)*100)","v":""},{"$f":"IF(A144=\"\",\"\",VLOOKUP(A144,'Structural Water Quality Calcs'!$A$8:$AE$149,19,0))","v":""},{"$f":"IF(A144=\"\",\"\",IF(VLOOKUP(A144,'Structural Water Quality Calcs'!$A$9:$B$149,2,0)=\"Limited ROW\",M144*N144*0.1/100,M144*N144/100))","v":""},{"$f":"IF(A144=\"\",\"\",VLOOKUP(A144,'Structural Water Quality Calcs'!$A$8:$AE$149,14,0))","v":""},{"$f":"IF(A144=\"\",\"\",SUMIFS(Catchment!$Y$5:$Y$300,Catchment!$D$5:$D$300,\"RIDOT\",Catchment!$K$5:$K$300,A144))","v":""},{"$f":"IF(A144=\"\",\"\",VLOOKUP(A144,'Structural Water Quality Calcs'!$A$8:$AE$149,15,0)*100)","v":""},{"$f":"IF(A144=\"\",\"\",VLOOKUP(A144,'Structural Water Quality Calcs'!$A$8:$AE$149,16,0))","v":""},{"$f":"IF(A144=\"\",\"\",IF(VLOOKUP(A144,'Structural Water Quality Calcs'!$A$9:$B$149,2,0)=\"Limited ROW\",R144*S144*0.1/100,R144*S144/100))","v":""},{"$f":"IF(A144=\"\",\"\",VLOOKUP(A144,'Structural Water Quality Calcs'!$A$8:$AE$149,20,0))","v":""},{"$f":"IF(A144=\"\",\"\",SUMIFS(Catchment!$AA$5:$AA$300,Catchment!$D$5:$D$300,\"RIDOT\",Catchment!$K$5:$K$300,A144))","v":""},{"$f":"IF(A144=\"\",\"\",VLOOKUP(A144,'Structural Water Quality Calcs'!$A$8:$AE$149,21,0)*100)","v":""},{"$f":"IF(A144=\"\",\"\",VLOOKUP(A144,'Structural Water Quality Calcs'!$A$8:$AE$149,22,0))","v":""},{"$f":"IF(A144=\"\",\"\",IF(VLOOKUP(A144,'Structural Water Quality Calcs'!$A$9:$B$149,2,0)=\"Limited ROW\",W144*X144*0.1/100,W144*X144/100))","v":""},{"$f":"IF(A144=\"\",\"\",VLOOKUP(A144,'Structural Water Quality Calcs'!$A$8:$AE$149,29,0))","v":""},{"$f":"IF(A144=\"\",\"\",IF(VLOOKUP(A144,'Structural Water Quality Calcs'!$A$9:$B$149,2,0)=\"Limited ROW\",VLOOKUP(A144,'Structural Water Quality Calcs'!$A$8:$AE$149,28,0)*F144*0.1/43560,VLOOKUP(A144,'Structural Water Quality Calcs'!$A$8:$AE$149,28,0)*F144/43560))","v":""},{"$f":"IF(A144=\"\",\"\",VLOOKUP(A144,'Structural Water Quality Calcs'!$A$8:$AE$149,28,0)*100)","v":""},{"$f":"IF(A144=\"\",\"\",VLOOKUP(A144,'Structural Water Quality Calcs'!$A$8:$AE$149,31,0))","v":""},{"$f":"IF(A144=\"\",\"\",VLOOKUP(A144,'Structural Water Quality Calcs'!$A$8:$AE$149,26,0))","v":""},{"$f":"IF(A144=\"\",\"\",VLOOKUP(A144,'Structural Water Quality Calcs'!$A$8:$AE$149,27,0))","v":""},{"$f":"IF(A144=\"\",\"\",(VLOOKUP(A144,'Structural Water Quality Calcs'!$A$8:$AE$149,25,0)))","v":""},{"$f":"IF(A144=\"\",\"\",VLOOKUP(A144,'Structural Water Quality Calcs'!$A$8:$AE$149,24,0))","v":""},{"$f":"IF(A144=\"\",\"\",VLOOKUP(A144,STU_Cost!$A$5:$G$150,4,0))","v":""},{"$f":"IF(A144=\"\",\"\",VLOOKUP(A144,STU_Cost!$A$5:$G$150,5,0))","v":""},{"$f":"IF(A144=\"\",\"\",VLOOKUP(A144,STU_Cost!$A$5:$G$150,6,0))","v":""},{"$f":"IF(A144=\"\",\"\",VLOOKUP(A144,STU_Cost!$A$5:$G$150,7,0))","v":""},null,null,{"$f":"IF(A144=\"\",\"\",VLOOKUP(A144,STU!$A$5:$E$300,5,0))","v":""}]
[null,{"$f":"IF(A145=\"\",\"\",VLOOKUP(A145,'Structural Water Quality Calcs'!$A$9:$F$79,6,0))","v":""},{"$f":"IF(A145=\"\",\"\",VLOOKUP(A145,'Structural Water Quality Calcs'!$A$8:$AE$149,3,0))","v":""},{"$f":"IF(A145=\"\",\"\",SUMIFS(Catchment!$V$5:$V$300,Catchment!$D$5:$D$300,\"RIDOT\",Catchment!$K$5:$K$300,A145))","v":""},{"$f":"IF(A145=\"\",\"\",VLOOKUP(A145,'Structural Water Quality Calcs'!$A$8:$AE$149,4,0))","v":""},{"$f":"IF(A145=\"\",\"\",SUMIFS(Catchment!$L$5:$L$300,Catchment!$D$5:$D$300,\"RIDOT\",Catchment!$K$5:$K$300,A145))","v":""},{"$f":"IF(A145=\"\",\"\",VLOOKUP(A145, 'Structural Water Quality Calcs'!$A$8:$AE$149,11,0))","v":""},{"$f":"IF(A145=\"\",\"\",SUMIFS(Catchment!$X$5:$X$300,Catchment!$D$5:$D$300,\"RIDOT\",Catchment!$K$5:$K$300,A145))","v":""},{"$f":"IF(A145=\"\",\"\",VLOOKUP(A145,'Structural Water Quality Calcs'!$A$8:$AE$149,12,0)*100)","v":""},{"$f":"IF(A145=\"\",\"\",VLOOKUP(A145,'Structural Water Quality Calcs'!$A$8:$AE$149,13,0))","v":""},{"$f":"IF(A145=\"\",\"\",IF(VLOOKUP(A145,'Structural Water Quality Calcs'!$A$9:$B$149,2,0)=\"Limited ROW\",H145*I145*0.1/100,H145*I145/100))","v":""},{"$f":"IF(A145=\"\",\"\",VLOOKUP(A145,'Structural Water Quality Calcs'!$A$8:$AE$149,17,0))","v":""},{"$f":"IF(A145=\"\",\"\",SUMIFS(Catchment!$Z$5:$Z$300,Catchment!$D$5:$D$300,\"RIDOT\",Catchment!$K$5:$K$300,A145))","v":""},{"$f":"IF(A145=\"\",\"\",VLOOKUP(A145,'Structural Water Quality Calcs'!$A$8:$AE$149,18,0)*100)","v":""},{"$f":"IF(A145=\"\",\"\",VLOOKUP(A145,'Structural Water Quality Calcs'!$A$8:$AE$149,19,0))","v":""},{"$f":"IF(A145=\"\",\"\",IF(VLOOKUP(A145,'Structural Water Quality Calcs'!$A$9:$B$149,2,0)=\"Limited ROW\",M145*N145*0.1/100,M145*N145/100))","v":""},{"$f":"IF(A145=\"\",\"\",VLOOKUP(A145,'Structural Water Quality Calcs'!$A$8:$AE$149,14,0))","v":""},{"$f":"IF(A145=\"\",\"\",SUMIFS(Catchment!$Y$5:$Y$300,Catchment!$D$5:$D$300,\"RIDOT\",Catchment!$K$5:$K$300,A145))","v":""},{"$f":"IF(A145=\"\",\"\",VLOOKUP(A145,'Structural Water Quality Calcs'!$A$8:$AE$149,15,0)*100)","v":""},{"$f":"IF(A145=\"\",\"\",VLOOKUP(A145,'Structural Water Quality Calcs'!$A$8:$AE$149,16,0))","v":""},{"$f":"IF(A145=\"\",\"\",IF(VLOOKUP(A145,'Structural Water Quality Calcs'!$A$9:$B$149,2,0)=\"Limited ROW\",R145*S145*0.1/100,R145*S145/100))","v":""},{"$f":"IF(A145=\"\",\"\",VLOOKUP(A145,'Structural Water Quality Calcs'!$A$8:$AE$149,20,0))","v":""},{"$f":"IF(A145=\"\",\"\",SUMIFS(Catchment!$AA$5:$AA$300,Catchment!$D$5:$D$300,\"RIDOT\",Catchment!$K$5:$K$300,A145))","v":""},{"$f":"IF(A145=\"\",\"\",VLOOKUP(A145,'Structural Water Quality Calcs'!$A$8:$AE$149,21,0)*100)","v":""},{"$f":"IF(A145=\"\",\"\",VLOOKUP(A145,'Structural Water Quality Calcs'!$A$8:$AE$149,22,0))","v":""},{"$f":"IF(A145=\"\",\"\",IF(VLOOKUP(A145,'Structural Water Quality Calcs'!$A$9:$B$149,2,0)=\"Limited ROW\",W145*X145*0.1/100,W145*X145/100))","v":""},{"$f":"IF(A145=\"\",\"\",VLOOKUP(A145,'Structural Water Quality Calcs'!$A$8:$AE$149,29,0))","v":""},{"$f":"IF(A145=\"\",\"\",IF(VLOOKUP(A145,'Structural Water Quality Calcs'!$A$9:$B$149,2,0)=\"Limited ROW\",VLOOKUP(A145,'Structural Water Quality Calcs'!$A$8:$AE$149,28,0)*F145*0.1/43560,VLOOKUP(A145,'Structural Water Quality Calcs'!$A$8:$AE$149,28,0)*F145/43560))","v":""},{"$f":"IF(A145=\"\",\"\",VLOOKUP(A145,'Structural Water Quality Calcs'!$A$8:$AE$149,28,0)*100)","v":""},{"$f":"IF(A145=\"\",\"\",VLOOKUP(A145,'Structural Water Quality Calcs'!$A$8:$AE$149,31,0))","v":""},{"$f":"IF(A145=\"\",\"\",VLOOKUP(A145,'Structural Water Quality Calcs'!$A$8:$AE$149,26,0))","v":""},{"$f":"IF(A145=\"\",\"\",VLOOKUP(A145,'Structural Water Quality Calcs'!$A$8:$AE$149,27,0))","v":""},{"$f":"IF(A145=\"\",\"\",(VLOOKUP(A145,'Structural Water Quality Calcs'!$A$8:$AE$149,25,0)))","v":""},{"$f":"IF(A145=\"\",\"\",VLOOKUP(A145,'Structural Water Quality Calcs'!$A$8:$AE$149,24,0))","v":""},{"$f":"IF(A145=\"\",\"\",VLOOKUP(A145,STU_Cost!$A$5:$G$150,4,0))","v":""},{"$f":"IF(A145=\"\",\"\",VLOOKUP(A145,STU_Cost!$A$5:$G$150,5,0))","v":""},{"$f":"IF(A145=\"\",\"\",VLOOKUP(A145,STU_Cost!$A$5:$G$150,6,0))","v":""},{"$f":"IF(A145=\"\",\"\",VLOOKUP(A145,STU_Cost!$A$5:$G$150,7,0))","v":""},null,null,{"$f":"IF(A145=\"\",\"\",VLOOKUP(A145,STU!$A$5:$E$300,5,0))","v":""}]
[null,{"$f":"IF(A146=\"\",\"\",VLOOKUP(A146,'Structural Water Quality Calcs'!$A$9:$F$79,6,0))","v":""},{"$f":"IF(A146=\"\",\"\",VLOOKUP(A146,'Structural Water Quality Calcs'!$A$8:$AE$149,3,0))","v":""},{"$f":"IF(A146=\"\",\"\",SUMIFS(Catchment!$V$5:$V$300,Catchment!$D$5:$D$300,\"RIDOT\",Catchment!$K$5:$K$300,A146))","v":""},{"$f":"IF(A146=\"\",\"\",VLOOKUP(A146,'Structural Water Quality Calcs'!$A$8:$AE$149,4,0))","v":""},{"$f":"IF(A146=\"\",\"\",SUMIFS(Catchment!$L$5:$L$300,Catchment!$D$5:$D$300,\"RIDOT\",Catchment!$K$5:$K$300,A146))","v":""},{"$f":"IF(A146=\"\",\"\",VLOOKUP(A146, 'Structural Water Quality Calcs'!$A$8:$AE$149,11,0))","v":""},{"$f":"IF(A146=\"\",\"\",SUMIFS(Catchment!$X$5:$X$300,Catchment!$D$5:$D$300,\"RIDOT\",Catchment!$K$5:$K$300,A146))","v":""},{"$f":"IF(A146=\"\",\"\",VLOOKUP(A146,'Structural Water Quality Calcs'!$A$8:$AE$149,12,0)*100)","v":""},{"$f":"IF(A146=\"\",\"\",VLOOKUP(A146,'Structural Water Quality Calcs'!$A$8:$AE$149,13,0))","v":""},{"$f":"IF(A146=\"\",\"\",IF(VLOOKUP(A146,'Structural Water Quality Calcs'!$A$9:$B$149,2,0)=\"Limited ROW\",H146*I146*0.1/100,H146*I146/100))","v":""},{"$f":"IF(A146=\"\",\"\",VLOOKUP(A146,'Structural Water Quality Calcs'!$A$8:$AE$149,17,0))","v":""},{"$f":"IF(A146=\"\",\"\",SUMIFS(Catchment!$Z$5:$Z$300,Catchment!$D$5:$D$300,\"RIDOT\",Catchment!$K$5:$K$300,A146))","v":""},{"$f":"IF(A146=\"\",\"\",VLOOKUP(A146,'Structural Water Quality Calcs'!$A$8:$AE$149,18,0)*100)","v":""},{"$f":"IF(A146=\"\",\"\",VLOOKUP(A146,'Structural Water Quality Calcs'!$A$8:$AE$149,19,0))","v":""},{"$f":"IF(A146=\"\",\"\",IF(VLOOKUP(A146,'Structural Water Quality Calcs'!$A$9:$B$149,2,0)=\"Limited ROW\",M146*N146*0.1/100,M146*N146/100))","v":""},{"$f":"IF(A146=\"\",\"\",VLOOKUP(A146,'Structural Water Quality Calcs'!$A$8:$AE$149,14,0))","v":""},{"$f":"IF(A146=\"\",\"\",SUMIFS(Catchment!$Y$5:$Y$300,Catchment!$D$5:$D$300,\"RIDOT\",Catchment!$K$5:$K$300,A146))","v":""},{"$f":"IF(A146=\"\",\"\",VLOOKUP(A146,'Structural Water Quality Calcs'!$A$8:$AE$149,15,0)*100)","v":""},{"$f":"IF(A146=\"\",\"\",VLOOKUP(A146,'Structural Water Quality Calcs'!$A$8:$AE$149,16,0))","v":""},{"$f":"IF(A146=\"\",\"\",IF(VLOOKUP(A146,'Structural Water Quality Calcs'!$A$9:$B$149,2,0)=\"Limited ROW\",R146*S146*0.1/100,R146*S146/100))","v":""},{"$f":"IF(A146=\"\",\"\",VLOOKUP(A146,'Structural Water Quality Calcs'!$A$8:$AE$149,20,0))","v":""},{"$f":"IF(A146=\"\",\"\",SUMIFS(Catchment!$AA$5:$AA$300,Catchment!$D$5:$D$300,\"RIDOT\",Catchment!$K$5:$K$300,A146))","v":""},{"$f":"IF(A146=\"\",\"\",VLOOKUP(A146,'Structural Water Quality Calcs'!$A$8:$AE$149,21,0)*100)","v":""},{"$f":"IF(A146=\"\",\"\",VLOOKUP(A146,'Structural Water Quality Calcs'!$A$8:$AE$149,22,0))","v":""},{"$f":"IF(A146=\"\",\"\",IF(VLOOKUP(A146,'Structural Water Quality Calcs'!$A$9:$B$149,2,0)=\"Limited ROW\",W146*X146*0.1/100,W146*X146/100))","v":""},{"$f":"IF(A146=\"\",\"\",VLOOKUP(A146,'Structural Water Quality Calcs'!$A$8:$AE$149,29,0))","v":""},{"$f":"IF(A146=\"\",\"\",IF(VLOOKUP(A146,'Structural Water Quality Calcs'!$A$9:$B$149,2,0)=\"Limited ROW\",VLOOKUP(A146,'Structural Water Quality Calcs'!$A$8:$AE$149,28,0)*F146*0.1/43560,VLOOKUP(A146,'Structural Water Quality Calcs'!$A$8:$AE$149,28,0)*F146/43560))","v":""},{"$f":"IF(A146=\"\",\"\",VLOOKUP(A146,'Structural Water Quality Calcs'!$A$8:$AE$149,28,0)*100)","v":""},{"$f":"IF(A146=\"\",\"\",VLOOKUP(A146,'Structural Water Quality Calcs'!$A$8:$AE$149,31,0))","v":""},{"$f":"IF(A146=\"\",\"\",VLOOKUP(A146,'Structural Water Quality Calcs'!$A$8:$AE$149,26,0))","v":""},{"$f":"IF(A146=\"\",\"\",VLOOKUP(A146,'Structural Water Quality Calcs'!$A$8:$AE$149,27,0))","v":""},{"$f":"IF(A146=\"\",\"\",(VLOOKUP(A146,'Structural Water Quality Calcs'!$A$8:$AE$149,25,0)))","v":""},{"$f":"IF(A146=\"\",\"\",VLOOKUP(A146,'Structural Water Quality Calcs'!$A$8:$AE$149,24,0))","v":""},{"$f":"IF(A146=\"\",\"\",VLOOKUP(A146,STU_Cost!$A$5:$G$150,4,0))","v":""},{"$f":"IF(A146=\"\",\"\",VLOOKUP(A146,STU_Cost!$A$5:$G$150,5,0))","v":""},{"$f":"IF(A146=\"\",\"\",VLOOKUP(A146,STU_Cost!$A$5:$G$150,6,0))","v":""},{"$f":"IF(A146=\"\",\"\",VLOOKUP(A146,STU_Cost!$A$5:$G$150,7,0))","v":""},null,null,{"$f":"IF(A146=\"\",\"\",VLOOKUP(A146,STU!$A$5:$E$300,5,0))","v":""}]
[null,{"$f":"IF(A147=\"\",\"\",VLOOKUP(A147,'Structural Water Quality Calcs'!$A$9:$F$79,6,0))","v":""},{"$f":"IF(A147=\"\",\"\",VLOOKUP(A147,'Structural Water Quality Calcs'!$A$8:$AE$149,3,0))","v":""},{"$f":"IF(A147=\"\",\"\",SUMIFS(Catchment!$V$5:$V$300,Catchment!$D$5:$D$300,\"RIDOT\",Catchment!$K$5:$K$300,A147))","v":""},{"$f":"IF(A147=\"\",\"\",VLOOKUP(A147,'Structural Water Quality Calcs'!$A$8:$AE$149,4,0))","v":""},{"$f":"IF(A147=\"\",\"\",SUMIFS(Catchment!$L$5:$L$300,Catchment!$D$5:$D$300,\"RIDOT\",Catchment!$K$5:$K$300,A147))","v":""},{"$f":"IF(A147=\"\",\"\",VLOOKUP(A147, 'Structural Water Quality Calcs'!$A$8:$AE$149,11,0))","v":""},{"$f":"IF(A147=\"\",\"\",SUMIFS(Catchment!$X$5:$X$300,Catchment!$D$5:$D$300,\"RIDOT\",Catchment!$K$5:$K$300,A147))","v":""},{"$f":"IF(A147=\"\",\"\",VLOOKUP(A147,'Structural Water Quality Calcs'!$A$8:$AE$149,12,0)*100)","v":""},{"$f":"IF(A147=\"\",\"\",VLOOKUP(A147,'Structural Water Quality Calcs'!$A$8:$AE$149,13,0))","v":""},{"$f":"IF(A147=\"\",\"\",IF(VLOOKUP(A147,'Structural Water Quality Calcs'!$A$9:$B$149,2,0)=\"Limited ROW\",H147*I147*0.1/100,H147*I147/100))","v":""},{"$f":"IF(A147=\"\",\"\",VLOOKUP(A147,'Structural Water Quality Calcs'!$A$8:$AE$149,17,0))","v":""},{"$f":"IF(A147=\"\",\"\",SUMIFS(Catchment!$Z$5:$Z$300,Catchment!$D$5:$D$300,\"RIDOT\",Catchment!$K$5:$K$300,A147))","v":""},{"$f":"IF(A147=\"\",\"\",VLOOKUP(A147,'Structural Water Quality Calcs'!$A$8:$AE$149,18,0)*100)","v":""},{"$f":"IF(A147=\"\",\"\",VLOOKUP(A147,'Structural Water Quality Calcs'!$A$8:$AE$149,19,0))","v":""},{"$f":"IF(A147=\"\",\"\",IF(VLOOKUP(A147,'Structural Water Quality Calcs'!$A$9:$B$149,2,0)=\"Limited ROW\",M147*N147*0.1/100,M147*N147/100))","v":""},{"$f":"IF(A147=\"\",\"\",VLOOKUP(A147,'Structural Water Quality Calcs'!$A$8:$AE$149,14,0))","v":""},{"$f":"IF(A147=\"\",\"\",SUMIFS(Catchment!$Y$5:$Y$300,Catchment!$D$5:$D$300,\"RIDOT\",Catchment!$K$5:$K$300,A147))","v":""},{"$f":"IF(A147=\"\",\"\",VLOOKUP(A147,'Structural Water Quality Calcs'!$A$8:$AE$149,15,0)*100)","v":""},{"$f":"IF(A147=\"\",\"\",VLOOKUP(A147,'Structural Water Quality Calcs'!$A$8:$AE$149,16,0))","v":""},{"$f":"IF(A147=\"\",\"\",IF(VLOOKUP(A147,'Structural Water Quality Calcs'!$A$9:$B$149,2,0)=\"Limited ROW\",R147*S147*0.1/100,R147*S147/100))","v":""},{"$f":"IF(A147=\"\",\"\",VLOOKUP(A147,'Structural Water Quality Calcs'!$A$8:$AE$149,20,0))","v":""},{"$f":"IF(A147=\"\",\"\",SUMIFS(Catchment!$AA$5:$AA$300,Catchment!$D$5:$D$300,\"RIDOT\",Catchment!$K$5:$K$300,A147))","v":""},{"$f":"IF(A147=\"\",\"\",VLOOKUP(A147,'Structural Water Quality Calcs'!$A$8:$AE$149,21,0)*100)","v":""},{"$f":"IF(A147=\"\",\"\",VLOOKUP(A147,'Structural Water Quality Calcs'!$A$8:$AE$149,22,0))","v":""},{"$f":"IF(A147=\"\",\"\",IF(VLOOKUP(A147,'Structural Water Quality Calcs'!$A$9:$B$149,2,0)=\"Limited ROW\",W147*X147*0.1/100,W147*X147/100))","v":""},{"$f":"IF(A147=\"\",\"\",VLOOKUP(A147,'Structural Water Quality Calcs'!$A$8:$AE$149,29,0))","v":""},{"$f":"IF(A147=\"\",\"\",IF(VLOOKUP(A147,'Structural Water Quality Calcs'!$A$9:$B$149,2,0)=\"Limited ROW\",VLOOKUP(A147,'Structural Water Quality Calcs'!$A$8:$AE$149,28,0)*F147*0.1/43560,VLOOKUP(A147,'Structural Water Quality Calcs'!$A$8:$AE$149,28,0)*F147/43560))","v":""},{"$f":"IF(A147=\"\",\"\",VLOOKUP(A147,'Structural Water Quality Calcs'!$A$8:$AE$149,28,0)*100)","v":""},{"$f":"IF(A147=\"\",\"\",VLOOKUP(A147,'Structural Water Quality Calcs'!$A$8:$AE$149,31,0))","v":""},{"$f":"IF(A147=\"\",\"\",VLOOKUP(A147,'Structural Water Quality Calcs'!$A$8:$AE$149,26,0))","v":""},{"$f":"IF(A147=\"\",\"\",VLOOKUP(A147,'Structural Water Quality Calcs'!$A$8:$AE$149,27,0))","v":""},{"$f":"IF(A147=\"\",\"\",(VLOOKUP(A147,'Structural Water Quality Calcs'!$A$8:$AE$149,25,0)))","v":""},{"$f":"IF(A147=\"\",\"\",VLOOKUP(A147,'Structural Water Quality Calcs'!$A$8:$AE$149,24,0))","v":""},{"$f":"IF(A147=\"\",\"\",VLOOKUP(A147,STU_Cost!$A$5:$G$150,4,0))","v":""},{"$f":"IF(A147=\"\",\"\",VLOOKUP(A147,STU_Cost!$A$5:$G$150,5,0))","v":""},{"$f":"IF(A147=\"\",\"\",VLOOKUP(A147,STU_Cost!$A$5:$G$150,6,0))","v":""},{"$f":"IF(A147=\"\",\"\",VLOOKUP(A147,STU_Cost!$A$5:$G$150,7,0))","v":""},null,null,{"$f":"IF(A147=\"\",\"\",VLOOKUP(A147,STU!$A$5:$E$300,5,0))","v":""}]
[null,{"$f":"IF(A148=\"\",\"\",VLOOKUP(A148,'Structural Water Quality Calcs'!$A$9:$F$79,6,0))","v":""},{"$f":"IF(A148=\"\",\"\",VLOOKUP(A148,'Structural Water Quality Calcs'!$A$8:$AE$149,3,0))","v":""},{"$f":"IF(A148=\"\",\"\",SUMIFS(Catchment!$V$5:$V$300,Catchment!$D$5:$D$300,\"RIDOT\",Catchment!$K$5:$K$300,A148))","v":""},{"$f":"IF(A148=\"\",\"\",VLOOKUP(A148,'Structural Water Quality Calcs'!$A$8:$AE$149,4,0))","v":""},{"$f":"IF(A148=\"\",\"\",SUMIFS(Catchment!$L$5:$L$300,Catchment!$D$5:$D$300,\"RIDOT\",Catchment!$K$5:$K$300,A148))","v":""},{"$f":"IF(A148=\"\",\"\",VLOOKUP(A148, 'Structural Water Quality Calcs'!$A$8:$AE$149,11,0))","v":""},{"$f":"IF(A148=\"\",\"\",SUMIFS(Catchment!$X$5:$X$300,Catchment!$D$5:$D$300,\"RIDOT\",Catchment!$K$5:$K$300,A148))","v":""},{"$f":"IF(A148=\"\",\"\",VLOOKUP(A148,'Structural Water Quality Calcs'!$A$8:$AE$149,12,0)*100)","v":""},{"$f":"IF(A148=\"\",\"\",VLOOKUP(A148,'Structural Water Quality Calcs'!$A$8:$AE$149,13,0))","v":""},{"$f":"IF(A148=\"\",\"\",IF(VLOOKUP(A148,'Structural Water Quality Calcs'!$A$9:$B$149,2,0)=\"Limited ROW\",H148*I148*0.1/100,H148*I148/100))","v":""},{"$f":"IF(A148=\"\",\"\",VLOOKUP(A148,'Structural Water Quality Calcs'!$A$8:$AE$149,17,0))","v":""},{"$f":"IF(A148=\"\",\"\",SUMIFS(Catchment!$Z$5:$Z$300,Catchment!$D$5:$D$300,\"RIDOT\",Catchment!$K$5:$K$300,A148))","v":""},{"$f":"IF(A148=\"\",\"\",VLOOKUP(A148,'Structural Water Quality Calcs'!$A$8:$AE$149,18,0)*100)","v":""},{"$f":"IF(A148=\"\",\"\",VLOOKUP(A148,'Structural Water Quality Calcs'!$A$8:$AE$149,19,0))","v":""},{"$f":"IF(A148=\"\",\"\",IF(VLOOKUP(A148,'Structural Water Quality Calcs'!$A$9:$B$149,2,0)=\"Limited ROW\",M148*N148*0.1/100,M148*N148/100))","v":""},{"$f":"IF(A148=\"\",\"\",VLOOKUP(A148,'Structural Water Quality Calcs'!$A$8:$AE$149,14,0))","v":""},{"$f":"IF(A148=\"\",\"\",SUMIFS(Catchment!$Y$5:$Y$300,Catchment!$D$5:$D$300,\"RIDOT\",Catchment!$K$5:$K$300,A148))","v":""},{"$f":"IF(A148=\"\",\"\",VLOOKUP(A148,'Structural Water Quality Calcs'!$A$8:$AE$149,15,0)*100)","v":""},{"$f":"IF(A148=\"\",\"\",VLOOKUP(A148,'Structural Water Quality Calcs'!$A$8:$AE$149,16,0))","v":""},{"$f":"IF(A148=\"\",\"\",IF(VLOOKUP(A148,'Structural Water Quality Calcs'!$A$9:$B$149,2,0)=\"Limited ROW\",R148*S148*0.1/100,R148*S148/100))","v":""},{"$f":"IF(A148=\"\",\"\",VLOOKUP(A148,'Structural Water Quality Calcs'!$A$8:$AE$149,20,0))","v":""},{"$f":"IF(A148=\"\",\"\",SUMIFS(Catchment!$AA$5:$AA$300,Catchment!$D$5:$D$300,\"RIDOT\",Catchment!$K$5:$K$300,A148))","v":""},{"$f":"IF(A148=\"\",\"\",VLOOKUP(A148,'Structural Water Quality Calcs'!$A$8:$AE$149,21,0)*100)","v":""},{"$f":"IF(A148=\"\",\"\",VLOOKUP(A148,'Structural Water Quality Calcs'!$A$8:$AE$149,22,0))","v":""},{"$f":"IF(A148=\"\",\"\",IF(VLOOKUP(A148,'Structural Water Quality Calcs'!$A$9:$B$149,2,0)=\"Limited ROW\",W148*X148*0.1/100,W148*X148/100))","v":""},{"$f":"IF(A148=\"\",\"\",VLOOKUP(A148,'Structural Water Quality Calcs'!$A$8:$AE$149,29,0))","v":""},{"$f":"IF(A148=\"\",\"\",IF(VLOOKUP(A148,'Structural Water Quality Calcs'!$A$9:$B$149,2,0)=\"Limited ROW\",VLOOKUP(A148,'Structural Water Quality Calcs'!$A$8:$AE$149,28,0)*F148*0.1/43560,VLOOKUP(A148,'Structural Water Quality Calcs'!$A$8:$AE$149,28,0)*F148/43560))","v":""},{"$f":"IF(A148=\"\",\"\",VLOOKUP(A148,'Structural Water Quality Calcs'!$A$8:$AE$149,28,0)*100)","v":""},{"$f":"IF(A148=\"\",\"\",VLOOKUP(A148,'Structural Water Quality Calcs'!$A$8:$AE$149,31,0))","v":""},{"$f":"IF(A148=\"\",\"\",VLOOKUP(A148,'Structural Water Quality Calcs'!$A$8:$AE$149,26,0))","v":""},{"$f":"IF(A148=\"\",\"\",VLOOKUP(A148,'Structural Water Quality Calcs'!$A$8:$AE$149,27,0))","v":""},{"$f":"IF(A148=\"\",\"\",(VLOOKUP(A148,'Structural Water Quality Calcs'!$A$8:$AE$149,25,0)))","v":""},{"$f":"IF(A148=\"\",\"\",VLOOKUP(A148,'Structural Water Quality Calcs'!$A$8:$AE$149,24,0))","v":""},{"$f":"IF(A148=\"\",\"\",VLOOKUP(A148,STU_Cost!$A$5:$G$150,4,0))","v":""},{"$f":"IF(A148=\"\",\"\",VLOOKUP(A148,STU_Cost!$A$5:$G$150,5,0))","v":""},{"$f":"IF(A148=\"\",\"\",VLOOKUP(A148,STU_Cost!$A$5:$G$150,6,0))","v":""},{"$f":"IF(A148=\"\",\"\",VLOOKUP(A148,STU_Cost!$A$5:$G$150,7,0))","v":""},null,null,{"$f":"IF(A148=\"\",\"\",VLOOKUP(A148,STU!$A$5:$E$300,5,0))","v":""}]
[null,{"$f":"IF(A149=\"\",\"\",VLOOKUP(A149,'Structural Water Quality Calcs'!$A$9:$F$79,6,0))","v":""},{"$f":"IF(A149=\"\",\"\",VLOOKUP(A149,'Structural Water Quality Calcs'!$A$8:$AE$149,3,0))","v":""},{"$f":"IF(A149=\"\",\"\",SUMIFS(Catchment!$V$5:$V$300,Catchment!$D$5:$D$300,\"RIDOT\",Catchment!$K$5:$K$300,A149))","v":""},{"$f":"IF(A149=\"\",\"\",VLOOKUP(A149,'Structural Water Quality Calcs'!$A$8:$AE$149,4,0))","v":""},{"$f":"IF(A149=\"\",\"\",SUMIFS(Catchment!$L$5:$L$300,Catchment!$D$5:$D$300,\"RIDOT\",Catchment!$K$5:$K$300,A149))","v":""},{"$f":"IF(A149=\"\",\"\",VLOOKUP(A149, 'Structural Water Quality Calcs'!$A$8:$AE$149,11,0))","v":""},{"$f":"IF(A149=\"\",\"\",SUMIFS(Catchment!$X$5:$X$300,Catchment!$D$5:$D$300,\"RIDOT\",Catchment!$K$5:$K$300,A149))","v":""},{"$f":"IF(A149=\"\",\"\",VLOOKUP(A149,'Structural Water Quality Calcs'!$A$8:$AE$149,12,0)*100)","v":""},{"$f":"IF(A149=\"\",\"\",VLOOKUP(A149,'Structural Water Quality Calcs'!$A$8:$AE$149,13,0))","v":""},{"$f":"IF(A149=\"\",\"\",IF(VLOOKUP(A149,'Structural Water Quality Calcs'!$A$9:$B$149,2,0)=\"Limited ROW\",H149*I149*0.1/100,H149*I149/100))","v":""},{"$f":"IF(A149=\"\",\"\",VLOOKUP(A149,'Structural Water Quality Calcs'!$A$8:$AE$149,17,0))","v":""},{"$f":"IF(A149=\"\",\"\",SUMIFS(Catchment!$Z$5:$Z$300,Catchment!$D$5:$D$300,\"RIDOT\",Catchment!$K$5:$K$300,A149))","v":""},{"$f":"IF(A149=\"\",\"\",VLOOKUP(A149,'Structural Water Quality Calcs'!$A$8:$AE$149,18,0)*100)","v":""},{"$f":"IF(A149=\"\",\"\",VLOOKUP(A149,'Structural Water Quality Calcs'!$A$8:$AE$149,19,0))","v":""},{"$f":"IF(A149=\"\",\"\",IF(VLOOKUP(A149,'Structural Water Quality Calcs'!$A$9:$B$149,2,0)=\"Limited ROW\",M149*N149*0.1/100,M149*N149/100))","v":""},{"$f":"IF(A149=\"\",\"\",VLOOKUP(A149,'Structural Water Quality Calcs'!$A$8:$AE$149,14,0))","v":""},{"$f":"IF(A149=\"\",\"\",SUMIFS(Catchment!$Y$5:$Y$300,Catchment!$D$5:$D$300,\"RIDOT\",Catchment!$K$5:$K$300,A149))","v":""},{"$f":"IF(A149=\"\",\"\",VLOOKUP(A149,'Structural Water Quality Calcs'!$A$8:$AE$149,15,0)*100)","v":""},{"$f":"IF(A149=\"\",\"\",VLOOKUP(A149,'Structural Water Quality Calcs'!$A$8:$AE$149,16,0))","v":""},{"$f":"IF(A149=\"\",\"\",IF(VLOOKUP(A149,'Structural Water Quality Calcs'!$A$9:$B$149,2,0)=\"Limited ROW\",R149*S149*0.1/100,R149*S149/100))","v":""},{"$f":"IF(A149=\"\",\"\",VLOOKUP(A149,'Structural Water Quality Calcs'!$A$8:$AE$149,20,0))","v":""},{"$f":"IF(A149=\"\",\"\",SUMIFS(Catchment!$AA$5:$AA$300,Catchment!$D$5:$D$300,\"RIDOT\",Catchment!$K$5:$K$300,A149))","v":""},{"$f":"IF(A149=\"\",\"\",VLOOKUP(A149,'Structural Water Quality Calcs'!$A$8:$AE$149,21,0)*100)","v":""},{"$f":"IF(A149=\"\",\"\",VLOOKUP(A149,'Structural Water Quality Calcs'!$A$8:$AE$149,22,0))","v":""},{"$f":"IF(A149=\"\",\"\",IF(VLOOKUP(A149,'Structural Water Quality Calcs'!$A$9:$B$149,2,0)=\"Limited ROW\",W149*X149*0.1/100,W149*X149/100))","v":""},{"$f":"IF(A149=\"\",\"\",VLOOKUP(A149,'Structural Water Quality Calcs'!$A$8:$AE$149,29,0))","v":""},{"$f":"IF(A149=\"\",\"\",IF(VLOOKUP(A149,'Structural Water Quality Calcs'!$A$9:$B$149,2,0)=\"Limited ROW\",VLOOKUP(A149,'Structural Water Quality Calcs'!$A$8:$AE$149,28,0)*F149*0.1/43560,VLOOKUP(A149,'Structural Water Quality Calcs'!$A$8:$AE$149,28,0)*F149/43560))","v":""},{"$f":"IF(A149=\"\",\"\",VLOOKUP(A149,'Structural Water Quality Calcs'!$A$8:$AE$149,28,0)*100)","v":""},{"$f":"IF(A149=\"\",\"\",VLOOKUP(A149,'Structural Water Quality Calcs'!$A$8:$AE$149,31,0))","v":""},{"$f":"IF(A149=\"\",\"\",VLOOKUP(A149,'Structural Water Quality Calcs'!$A$8:$AE$149,26,0))","v":""},{"$f":"IF(A149=\"\",\"\",VLOOKUP(A149,'Structural Water Quality Calcs'!$A$8:$AE$149,27,0))","v":""},{"$f":"IF(A149=\"\",\"\",(VLOOKUP(A149,'Structural Water Quality Calcs'!$A$8:$AE$149,25,0)))","v":""},{"$f":"IF(A149=\"\",\"\",VLOOKUP(A149,'Structural Water Quality Calcs'!$A$8:$AE$149,24,0))","v":""},{"$f":"IF(A149=\"\",\"\",VLOOKUP(A149,STU_Cost!$A$5:$G$150,4,0))","v":""},{"$f":"IF(A149=\"\",\"\",VLOOKUP(A149,STU_Cost!$A$5:$G$150,5,0))","v":""},{"$f":"IF(A149=\"\",\"\",VLOOKUP(A149,STU_Cost!$A$5:$G$150,6,0))","v":""},{"$f":"IF(A149=\"\",\"\",VLOOKUP(A149,STU_Cost!$A$5:$G$150,7,0))","v":""},null,null,{"$f":"IF(A149=\"\",\"\",VLOOKUP(A149,STU!$A$5:$E$300,5,0))","v":""}]
[null,{"$f":"IF(A150=\"\",\"\",VLOOKUP(A150,'Structural Water Quality Calcs'!$A$9:$F$79,6,0))","v":""},{"$f":"IF(A150=\"\",\"\",VLOOKUP(A150,'Structural Water Quality Calcs'!$A$8:$AE$149,3,0))","v":""},{"$f":"IF(A150=\"\",\"\",SUMIFS(Catchment!$V$5:$V$300,Catchment!$D$5:$D$300,\"RIDOT\",Catchment!$K$5:$K$300,A150))","v":""},{"$f":"IF(A150=\"\",\"\",VLOOKUP(A150,'Structural Water Quality Calcs'!$A$8:$AE$149,4,0))","v":""},{"$f":"IF(A150=\"\",\"\",SUMIFS(Catchment!$L$5:$L$300,Catchment!$D$5:$D$300,\"RIDOT\",Catchment!$K$5:$K$300,A150))","v":""},{"$f":"IF(A150=\"\",\"\",VLOOKUP(A150, 'Structural Water Quality Calcs'!$A$8:$AE$149,11,0))","v":""},{"$f":"IF(A150=\"\",\"\",SUMIFS(Catchment!$X$5:$X$300,Catchment!$D$5:$D$300,\"RIDOT\",Catchment!$K$5:$K$300,A150))","v":""},{"$f":"IF(A150=\"\",\"\",VLOOKUP(A150,'Structural Water Quality Calcs'!$A$8:$AE$149,12,0)*100)","v":""},{"$f":"IF(A150=\"\",\"\",VLOOKUP(A150,'Structural Water Quality Calcs'!$A$8:$AE$149,13,0))","v":""},{"$f":"IF(A150=\"\",\"\",IF(VLOOKUP(A150,'Structural Water Quality Calcs'!$A$9:$B$149,2,0)=\"Limited ROW\",H150*I150*0.1/100,H150*I150/100))","v":""},{"$f":"IF(A150=\"\",\"\",VLOOKUP(A150,'Structural Water Quality Calcs'!$A$8:$AE$149,17,0))","v":""},{"$f":"IF(A150=\"\",\"\",SUMIFS(Catchment!$Z$5:$Z$300,Catchment!$D$5:$D$300,\"RIDOT\",Catchment!$K$5:$K$300,A150))","v":""},{"$f":"IF(A150=\"\",\"\",VLOOKUP(A150,'Structural Water Quality Calcs'!$A$8:$AE$149,18,0)*100)","v":""},{"$f":"IF(A150=\"\",\"\",VLOOKUP(A150,'Structural Water Quality Calcs'!$A$8:$AE$149,19,0))","v":""},{"$f":"IF(A150=\"\",\"\",IF(VLOOKUP(A150,'Structural Water Quality Calcs'!$A$9:$B$149,2,0)=\"Limited ROW\",M150*N150*0.1/100,M150*N150/100))","v":""},{"$f":"IF(A150=\"\",\"\",VLOOKUP(A150,'Structural Water Quality Calcs'!$A$8:$AE$149,14,0))","v":""},{"$f":"IF(A150=\"\",\"\",SUMIFS(Catchment!$Y$5:$Y$300,Catchment!$D$5:$D$300,\"RIDOT\",Catchment!$K$5:$K$300,A150))","v":""},{"$f":"IF(A150=\"\",\"\",VLOOKUP(A150,'Structural Water Quality Calcs'!$A$8:$AE$149,15,0)*100)","v":""},{"$f":"IF(A150=\"\",\"\",VLOOKUP(A150,'Structural Water Quality Calcs'!$A$8:$AE$149,16,0))","v":""},{"$f":"IF(A150=\"\",\"\",IF(VLOOKUP(A150,'Structural Water Quality Calcs'!$A$9:$B$149,2,0)=\"Limited ROW\",R150*S150*0.1/100,R150*S150/100))","v":""},{"$f":"IF(A150=\"\",\"\",VLOOKUP(A150,'Structural Water Quality Calcs'!$A$8:$AE$149,20,0))","v":""},{"$f":"IF(A150=\"\",\"\",SUMIFS(Catchment!$AA$5:$AA$300,Catchment!$D$5:$D$300,\"RIDOT\",Catchment!$K$5:$K$300,A150))","v":""},{"$f":"IF(A150=\"\",\"\",VLOOKUP(A150,'Structural Water Quality Calcs'!$A$8:$AE$149,21,0)*100)","v":""},{"$f":"IF(A150=\"\",\"\",VLOOKUP(A150,'Structural Water Quality Calcs'!$A$8:$AE$149,22,0))","v":""},{"$f":"IF(A150=\"\",\"\",IF(VLOOKUP(A150,'Structural Water Quality Calcs'!$A$9:$B$149,2,0)=\"Limited ROW\",W150*X150*0.1/100,W150*X150/100))","v":""},{"$f":"IF(A150=\"\",\"\",VLOOKUP(A150,'Structural Water Quality Calcs'!$A$8:$AE$149,29,0))","v":""},{"$f":"IF(A150=\"\",\"\",IF(VLOOKUP(A150,'Structural Water Quality Calcs'!$A$9:$B$149,2,0)=\"Limited ROW\",VLOOKUP(A150,'Structural Water Quality Calcs'!$A$8:$AE$149,28,0)*F150*0.1/43560,VLOOKUP(A150,'Structural Water Quality Calcs'!$A$8:$AE$149,28,0)*F150/43560))","v":""},{"$f":"IF(A150=\"\",\"\",VLOOKUP(A150,'Structural Water Quality Calcs'!$A$8:$AE$149,28,0)*100)","v":""},{"$f":"IF(A150=\"\",\"\",VLOOKUP(A150,'Structural Water Quality Calcs'!$A$8:$AE$149,31,0))","v":""},{"$f":"IF(A150=\"\",\"\",VLOOKUP(A150,'Structural Water Quality Calcs'!$A$8:$AE$149,26,0))","v":""},{"$f":"IF(A150=\"\",\"\",VLOOKUP(A150,'Structural Water Quality Calcs'!$A$8:$AE$149,27,0))","v":""},{"$f":"IF(A150=\"\",\"\",(VLOOKUP(A150,'Structural Water Quality Calcs'!$A$8:$AE$149,25,0)))","v":""},{"$f":"IF(A150=\"\",\"\",VLOOKUP(A150,'Structural Water Quality Calcs'!$A$8:$AE$149,24,0))","v":""},{"$f":"IF(A150=\"\",\"\",VLOOKUP(A150,STU_Cost!$A$5:$G$150,4,0))","v":""},{"$f":"IF(A150=\"\",\"\",VLOOKUP(A150,STU_Cost!$A$5:$G$150,5,0))","v":""},{"$f":"IF(A150=\"\",\"\",VLOOKUP(A150,STU_Cost!$A$5:$G$150,6,0))","v":""},{"$f":"IF(A150=\"\",\"\",VLOOKUP(A150,STU_Cost!$A$5:$G$150,7,0))","v":""},null,null,{"$f":"IF(A150=\"\",\"\",VLOOKUP(A150,STU!$A$5:$E$300,5,0))","v":""}]
[null,null,null,null,null,null,null,null,null,null,null,null,null,null,null,null,null,null,null,null,null,null,null,null,null,null,null,null,null,null,null,null,null,null,null,null,null,null,null,null,{"$f":"IF(A151=\"\",\"\",VLOOKUP(A151,STU!$A$5:$E$300,5,0))","v":""}]
[null,null,null,null,null,null,null,null,null,null,null,null,null,null,null,null,null,null,null,null,null,null,null,null,null,null,null,null,null,null,null,null,null,null,null,null,null,null,null,null,{"$f":"IF(A152=\"\",\"\",VLOOKUP(A152,STU!$A$5:$E$300,5,0))","v":""}]
[null,null,null,null,null,null,null,null,null,null,null,null,null,null,null,null,null,null,null,null,null,null,null,null,null,null,null,null,null,null,null,null,null,null,null,null,null,null,null,null,{"$f":"IF(A153=\"\",\"\",VLOOKUP(A153,STU!$A$5:$E$300,5,0))","v":""}]
[null,null,null,null,null,null,null,null,null,null,null,null,null,null,null,null,null,null,null,null,null,null,null,null,null,null,null,null,null,null,null,null,null,null,null,null,null,null,null,null,{"$f":"IF(A154=\"\",\"\",VLOOKUP(A154,STU!$A$5:$E$300,5,0))","v":""}]

{"sheet":"RIDOT SCP History","index":22,"n_rows":6,"n_cols":46,"rows_kept":6,"cut":false,"hidden":false,"merged":[]}
["This tab can be used summarize results recorded in the RIDOT SCP History related table in the SCP database."]
["This tab is formatted for easy upload into the RIDOT SCP History related table."]
["Currently this tab only pulls data from the Structural Water Quality Calcs tab.  As non-typical and non-structural STUs are further developed this tab will be updated.  "]
[]
["Subwatershed ID","Total RIDOT area (acres)","RIDOT Discharging Area (Acres)","RIDOT IC area (acres)","RIDOT Discharging IC Area (Acres)","RIDOT Non-Discharge Area (acres)","RIDOT CSO Discharge Area (acres) ","RIDOT Phosphorus Load (lbs/yr)","TP Reduction Target (%)","TP Reduction Target (lbs/yr)","Existing STUs TP Reduction (lbs/yr)","Potential STUs TP Reduction (lbs/yr)","Total TP Reduction (lbs/yr)","Percent of TP Target Reached","TP Reduction by NonRIDOT Area (%)","RIDOT Nitrogen Load (lbs/yr)","TN Reduction Target (%)","TN Reduction Target (lbs/yr)","Existing STUs TN Reduction (lbs/yr)","Potential STUs TN Reduction (lbs/yr)","Total TN Reduction (lbs/yr)","Percent of TN Target Reached","TN Reduction by NonRIDOT Area (%)","RIDOT Zinc Load (lbs/yr)","Zinc Reduction Target (%)","Zinc Reduction Target (lbs/yr)","Existing STUs Zinc Reduction (lbs/yr)","Potential STUs Zinc Reduction (lbs/yr)","Total Zinc Reduction (lbs/yr)","Percent of Zinc Target Reached","Zinc Reduction by NonRIDOT Area (%)","RIDOT TSS Load (lbs/yr)","TSS Reduction Target (%)","TSS Reduction Target (lbs/yr)","Existing STUs TSS Reduction (lbs/yr)","Potential STUs TSS Reduction (lbs/yr)","Total TSS Reduction (lbs/yr)","Percent of TSS Target Reached","TSS Reduction by NonRIDOT Area (%)","Effective IC Reduction Target (%)","Effective IC Reduction Target (acres)","Existing STUs Effective IC Reduction (acres)","Potential STUs Effective IC Reduction (acres)","Total Effective IC Reduction Achieved (acres)","Total Effective IC Reduction Achieved (%)","IC Reduction by NonRIDOT Area (%)"]
[null,{"$f":"ROUND(SUMIF(Catchment!D5:D300,\"RIDOT\",Catchment!V5:V300)/43560,1)","v":0},{"$f":"B6-F6-G6","v":0},{"$f":"ROUND(SUMIF(Catchment!D5:D300,\"RIDOT\",Catchment!L5:L300)/43560,1)","v":0},{"$f":"D6-SUMIF(Catchment!$I$5:$I$300,\"Non-Discharge\",Catchment!$L$5:$L$300)/43560-SUMIF(Catchment!$I$5:$I$300,\"Discharge to CSO\",Catchment!$L$5:$L$300)/43560","v":0},{"$f":"ROUND(SUMIF(Catchment!I5:I300, \"Non-Discharge\",Catchment!V5:V300)/43560,1)","v":0},{"$f":"ROUND(SUMIF(Catchment!I5:I300, \"Discharge to CSO\",Catchment!V5:V300)/43560,1)","v":0},{"$f":"'Reduction Targets'!E4*'Pollutant Loading Rates'!C9","v":0},{"$f":"'Reduction Targets'!B18","v":0},{"$f":"'Reduction Targets'!D18","v":""},{"$f":"SUMIF('RIDOT STU History (outputs)'!$AO$6:$AO$149,\"Active\",'RIDOT STU History (outputs)'!$J$6:$J$149)","v":0},{"$f":"SUM('RIDOT STU History (outputs)'!$J$6:$J$149)-SUMIF('RIDOT STU History (outputs)'!$AO$6:$AO$149,\"Active\",'RIDOT STU History (outputs)'!$J$6:$J$149)","v":0},{"$f":"SUM(K6:L6)","v":0},{"$f":"IF(J6=\"\",\"\",IF((M6/J6)>1,100,(M6/J6)*100))","v":""},{"$f":"IFERROR((SUM('RIDOT STU History (outputs)'!J6:J149)-SUM('RIDOT STU History (outputs)'!K6:K149))/SUM('RIDOT STU History (outputs)'!J6:J149)*100,\"\")","v":""},{"$f":"'Reduction Targets'!E4*'Pollutant Loading Rates'!E9","v":0},{"$f":"'Reduction Targets'!B19","v":0},{"$f":"'Reduction Targets'!D19","v":""},{"$f":"SUMIF('RIDOT STU History (outputs)'!$AO$6:$AO$149,\"Active\",'RIDOT STU History (outputs)'!$O$6:$O$149)","v":0},{"$f":"SUM('RIDOT STU History (outputs)'!$O$6:$O$149)-SUMIF('RIDOT STU History (outputs)'!$AO$6:$AO$149,\"Active\",'RIDOT STU History (outputs)'!$O$6:$O$149)","v":0},{"$f":"SUM(S6:T6)","v":0},{"$f":"IF(R6=\"\",\"\",IF((U6/R6)>1,100,(U6/R6)*100))","v":""},{"$f":"IFERROR((SUM('RIDOT STU History (outputs)'!O6:O149)-SUM('RIDOT STU History (outputs)'!P6:P149))/SUM('RIDOT STU History (outputs)'!O6:O149)*100,\"\")","v":""},{"$f":"'Reduction Targets'!E4*'Pollutant Loading Rates'!F9","v":0},{"$f":"MAX('Reduction Targets'!$B$13:$B$17)","v":0},{"$f":"IF(MAX('Reduction Targets'!$D$13:$D$17)=0,\"\",MAX('Reduction Targets'!$D$13:$D$17))","v":""},{"$f":"SUMIF('RIDOT STU History (outputs)'!$AO$6:$AO$149,\"Active\",'RIDOT STU History (outputs)'!$Y$6:$Y$149)","v":0},{"$f":"SUM('RIDOT STU History (outputs)'!$Y$6:$Y$149)-SUMIF('RIDOT STU History (outputs)'!$AO$6:$AO$149,\"Active\",'RIDOT STU History (outputs)'!$Y$6:$Y$149)","v":0},{"$f":"SUM(AA6:AB6)","v":0},{"$f":"IF(Z6=\"\",\"\",IF((AC6/Z6)>1,100,(AC6/Z6)*100))","v":""},{"$f":"IFERROR((SUM('RIDOT STU History (outputs)'!Y6:Y149)-SUM('RIDOT STU History (outputs)'!Z6:Z149))/SUM('RIDOT STU History (outputs)'!Y6:Y149)*100,\"\")","v":""},{"$f":"'Reduction Targets'!E4*'Pollutant Loading Rates'!D9","v":0},null,null,{"$f":"SUMIF('RIDOT STU History (outputs)'!$AO$6:$AO$149,\"Active\",'RIDOT STU History (outputs)'!$T$6:$T$149)","v":0},{"$f":"SUM('RIDOT STU History (outputs)'!$T$6:$T$149)-SUMIF('RIDOT STU History (outputs)'!$AO$6:$AO$149,\"Active\",'RIDOT STU History (outputs)'!$T$6:$T$149)","v":0},{"$f":"SUM(AI6:AJ6)","v":0},{"$f":"IF(AH6=\"\",\"\",IF((AK6/AH6)>1,100,(AK6/AH6)*100))","v":""},{"$f":"IFERROR((SUM('RIDOT STU History (outputs)'!T6:T149)-SUM('RIDOT STU History (outputs)'!U6:U149))/SUM('RIDOT STU History (outputs)'!T6:T149)*100,\"\")","v":""},{"$f":"'Reduction Targets'!C9","v":""},{"$f":"'Reduction Targets'!D9","v":""},{"$f":"SUMIF('RIDOT STU History (outputs)'!$AO$6:$AO$149,\"Active\",'RIDOT STU History (outputs)'!$AA$6:$AA$149)","v":0},{"$f":"SUM('RIDOT STU History (outputs)'!$AA$6:$AA$149)-SUMIF('RIDOT STU History (outputs)'!$AO$6:$AO$149,\"Active\",'RIDOT STU History (outputs)'!$AA$6:$AA$149)","v":0},{"$f":"SUM(AP6:AQ6)","v":0},{"$f":"IF(AO6=\"\",\"\",IF((AR6/AO6)>1,100,(AR6/AO6)*100))","v":""},{"$f":"IFERROR((SUM('RIDOT STU History (outputs)'!AA6:AA149)-SUM('RIDOT STU History (outputs)'!AB6:AB149))/SUM('RIDOT STU History (outputs)'!AA6:AA149)*100,\"\")","v":""}]

{"sheet":"Table 1-A","index":23,"n_rows":11,"n_cols":8,"rows_kept":11,"cut":false,"hidden":false,"merged":[]}
["This sheet can be used as a template for Table 1-A. "]
["Note to user: Use the top table for the TMDL method.  Use the bottom table for the IC method. Rows from both tables can be used in single table for watersheds with both evaluation methods. "]
[]
["Table 1-A: Subwatershed Summary"]
["Impairment(s)","Evaluation Methodology","RIDOT Reduction Target (% / lb/yr)","Existing Treatment (lb/yr)","Potential Treatment (lb/yr)","Runoff Reduction \n(ac-ft)","Remaining RIDOT Reduction Target (lb/yr)","NonRIDOT Treatment Credit (%)"]
[null,{"$f":"IF(A6=\"\",\"\",\"TMDL Method\")","v":""},{"$f":"IF(B6=\"\",\"\",VLOOKUP(A6,'Reduction Targets'!$A$13:$D$19,2,0)&\"% (\"&VLOOKUP(A6,'Reduction Targets'!$A$13:$D$19,4,0) & \" lb/yr)\")","v":""},{"$f":"IF(A6=\"\",\"\",IF(A6=\"Phosphorus\",'RIDOT SCP History'!$K$6,IF(A6=\"Nitrogen\",'RIDOT SCP History'!S6,'RIDOT SCP History'!$AA$6)))","v":""},{"$f":"IF(A6=\"\",\"\",IF(A6=\"Phosphorus\",'RIDOT SCP History'!$L$6,IF(A6=\"Nitrogen\",'RIDOT SCP History'!T6,'RIDOT SCP History'!$AB$6)))","v":""},{"$f":"IF(A6=\"\",\"\",SUM('RIDOT STU History (outputs)'!$AD$6:$AD$149))","v":""},{"$f":"IF(B6=\"\",\"\",IF(VLOOKUP(A6,'Reduction Targets'!$A$13:$D$19,4,0)-D6-E6<0,0,VLOOKUP(A6,'Reduction Targets'!$A$13:$D$19,4,0)-D6-E6))","v":""},{"$f":"IF(A6=\"\",\"\",IF(A6=\"Phosphorus\",'RIDOT SCP History'!$O$6,IF(A6=\"Nitrogen\",'RIDOT SCP History'!$W$6,'RIDOT SCP History'!$AE$6)))","v":""}]
[null,{"$f":"IF(A7=\"\",\"\",\"TMDL Method\")","v":""},{"$f":"IF(B7=\"\",\"\",VLOOKUP(A7,'Reduction Targets'!$A$13:$D$19,2,0)&\"% (\"&VLOOKUP(A7,'Reduction Targets'!$A$13:$D$19,4,0) & \" lb/yr)\")","v":""},{"$f":"IF(A7=\"\",\"\",IF(A7=\"Phosphorus\",'RIDOT SCP History'!$K$6,IF(A7=\"Nitrogen\",'RIDOT SCP History'!S7,'RIDOT SCP History'!$AA$6)))","v":""},{"$f":"IF(A7=\"\",\"\",IF(A7=\"Phosphorus\",'RIDOT SCP History'!$L$6,IF(A7=\"Nitrogen\",'RIDOT SCP History'!T7,'RIDOT SCP History'!$AB$6)))","v":""},{"$f":"IF(A7=\"\",\"\",SUM('RIDOT STU History (outputs)'!$AD$6:$AD$150))","v":""},{"$f":"IF(B7=\"\",\"\",IF(VLOOKUP(A7,'Reduction Targets'!$A$13:$D$19,4,0)-D7-E7<0,0,VLOOKUP(A7,'Reduction Targets'!$A$13:$D$19,4,0)-D7-E7))","v":""},{"$f":"IF(A7=\"\",\"\",IF(A7=\"Phosphorus\",'RIDOT SCP History'!$O$6,IF(A7=\"Nitrogen\",'RIDOT SCP History'!$W$6,'RIDOT SCP History'!$AE$6)))","v":""}]
[null,{"$f":"IF(A8=\"\",\"\",\"TMDL Method\")","v":""},{"$f":"IF(B8=\"\",\"\",VLOOKUP(A8,'Reduction Targets'!$A$13:$D$19,2,0)&\"% (\"&VLOOKUP(A8,'Reduction Targets'!$A$13:$D$19,4,0) & \" lb/yr)\")","v":""},{"$f":"IF(A8=\"\",\"\",IF(A8=\"Phosphorus\",'RIDOT SCP History'!$K$6,IF(A8=\"Nitrogen\",'RIDOT SCP History'!S8,'RIDOT SCP History'!$AA$6)))","v":""},{"$f":"IF(A8=\"\",\"\",IF(A8=\"Phosphorus\",'RIDOT SCP History'!$L$6,IF(A8=\"Nitrogen\",'RIDOT SCP History'!T8,'RIDOT SCP History'!$AB$6)))","v":""},{"$f":"IF(A8=\"\",\"\",SUM('RIDOT STU History (outputs)'!$AD$6:$AD$150))","v":""},{"$f":"IF(B8=\"\",\"\",IF(VLOOKUP(A8,'Reduction Targets'!$A$13:$D$19,4,0)-D8-E8<0,0,VLOOKUP(A8,'Reduction Targets'!$A$13:$D$19,4,0)-D8-E8))","v":""},{"$f":"IF(A8=\"\",\"\",IF(A8=\"Phosphorus\",'RIDOT SCP History'!$O$6,IF(A8=\"Nitrogen\",'RIDOT SCP History'!$W$6,'RIDOT SCP History'!$AE$6)))","v":""}]
[]
["Impairment(s)","Evaluation Methodology","RIDOT Reduction Target (% / ac)","Existing Treatment (ac)","Potential Treatment (ac)","Runoff Reduction \n(ac-ft)","Remaining RIDOT Reduction Target (ac)","NonRIDOT Treatment Credit (%)"]
[null,{"$f":"IF(A11=\"\",\"\",\"IC Method\")","v":""},{"$f":"IF(B11=\"\",\"\",'Reduction Targets'!$C$9 & \"  (\" & 'Reduction Targets'!$D$9 & \" ac)\")","v":""},{"$f":"IF(A11=\"\",\"\",'RIDOT SCP History'!AP6)","v":""},{"$f":"IF(A11=\"\",\"\",'RIDOT SCP History'!AQ6)","v":""},{"$f":"IF(A11=\"\",\"\",SUM('RIDOT STU History (outputs)'!$AD$6:$AD$150))","v":""},{"$f":"IF(A11=\"\",\"\",IF('Reduction Targets'!D9-D11-E11<0,0,'Reduction Targets'!D9-D11-E11))","v":""},{"$f":"IF(A11=\"\",\"\",'RIDOT SCP History'!AT6)","v":""}]

{"sheet":"Table 2-A","index":24,"n_rows":53,"n_cols":21,"rows_kept":53,"cut":false,"hidden":false,"merged":[[72,0,72,9],[1,1,1,13]]}
["This sheet can be used as a template for Table 2-A and Table 5-A.",null,null,null,null,null,null,null,null,null,null,null,null,null,"STU Priorities","Percent of Target Reached","TP Treatment, lb/yr","TN Treatment, lb/yr","TSS Treatment, lb/yr","Zn Treatment, lb/yr","IC Treatment, ac"]
["Instructions:","Paste in STU Names from the RIDOT STU History (outputs) tab.  Press button to format the table.  See SCP Report Template for example.",null,null,null,null,null,null,null,null,null,null,null,null,"Existing",{"$f":"\"Percent RIDOT Reduction Target Reached \"&IF('Reduction Targets'!$A$24=\"IC Standard\",IF($U2/'Reduction Targets'!$D$9*100>100,100&\"%\",ROUND(U2/'Reduction Targets'!$D$9*100,0)&\"%\"),IF('Reduction Targets'!$A$24=\"TMDL Method: Phosphorus\",IF(Q2/'Reduction Targets'!$D$18*100>100,100&\"%\",ROUND(Q2/'Reduction Targets'!$D$18*100,0)&\"%\"),IF('Reduction Targets'!$A$24=\"TMDL Method: Nitrogen\",IF(R2/'Reduction Targets'!$D$19*100>100,100&\"%\",ROUND(R2/'Reduction Targets'!$D$19*100,0)&\"%\"),IF(T2/MAX('Reduction Targets'!$D$13:$D$17)*100>100,100,ROUND(T2/MAX('Reduction Targets'!$D$13:$D$17)*100,0))&\"%\")))","v":{"$error":"#DIV/0!"}},{"$f":"SUMIF('RIDOT STU History (outputs)'!$AO$6:$AO$149,\"Active\",'RIDOT STU History (outputs)'!$J$6:$J$149)","v":0},{"$f":"SUMIF('RIDOT STU History (outputs)'!$AO$6:$AO$149,\"Active\",'RIDOT STU History (outputs)'!$O$6:$O$149)","v":0},{"$f":"SUMIF('RIDOT STU History (outputs)'!$AO$6:$AO$149,\"Active\",'RIDOT STU History (outputs)'!$T$6:$T$149)","v":0},{"$f":"SUMIF('RIDOT STU History (outputs)'!$AO$6:$AO$149,\"Active\",'RIDOT STU History (outputs)'!$Y$6:$Y$149)","v":0},{"$f":"SUMIF('RIDOT STU History (outputs)'!$AO$6:$AO$149,\"Active\",'RIDOT STU History (outputs)'!$AA$6:$AA$149)","v":0}]
["Notes to user:","Columns G through J and L/M do not need to be included in the SCP report if they are not relevant to this SCP. ",null,null,null,null,null,null,null,null,null,null,null,null,"Existing, Priority 1",{"$f":"\"Percent RIDOT Reduction Target Reached \"&IF('Reduction Targets'!$A$24=\"IC Standard\",IF($U3/'Reduction Targets'!$D$9*100>100,100&\"%\",ROUND(U3/'Reduction Targets'!$D$9*100,0)&\"%\"),IF('Reduction Targets'!$A$24=\"TMDL Method: Phosphorus\",IF(Q3/'Reduction Targets'!$D$18*100>100,100&\"%\",ROUND(Q3/'Reduction Targets'!$D$18*100,0)&\"%\"),IF('Reduction Targets'!$A$24=\"TMDL Method: Nitrogen\",IF(R3/'Reduction Targets'!$D$19*100>100,100&\"%\",ROUND(R3/'Reduction Targets'!$D$19*100,0)&\"%\"),IF(T3/MAX('Reduction Targets'!$D$13:$D$17)*100>100,100,ROUND(T3/MAX('Reduction Targets'!$D$13:$D$17)*100,0))&\"%\")))","v":{"$error":"#DIV/0!"}},{"$f":"SUMIF('RIDOT STU History (outputs)'!$AO$6:$AO$149,\"Active\",'RIDOT STU History (outputs)'!$J$6:$J$149)+SUMIF(STU_Cost!$G$6:$G$149,1,'RIDOT STU History (outputs)'!$J$6:$J$149)","v":0},{"$f":"SUMIF('RIDOT STU History (outputs)'!$AO$6:$AO$149,\"Active\",'RIDOT STU History (outputs)'!$O$6:$O$149)+SUMIF(STU_Cost!$G$6:$G$149,1,'RIDOT STU History (outputs)'!$O$6:$O$149)","v":0},{"$f":"SUMIF('RIDOT STU History (outputs)'!$AO$6:$AO$149,\"Active\",'RIDOT STU History (outputs)'!$T$6:$T$149)+SUMIF(STU_Cost!$G$6:$G$149,1,'RIDOT STU History (outputs)'!$T$6:$T$149)","v":0},{"$f":"SUMIF('RIDOT STU History (outputs)'!$AO$6:$AO$149,\"Active\",'RIDOT STU History (outputs)'!$Y$6:$Y$149)+SUMIF(STU_Cost!$G$6:$G$149,1,'RIDOT STU History (outputs)'!$Y$6:$Y$149)","v":0},{"$f":"SUMIF('RIDOT STU History (outputs)'!$AO$6:$AO$149,\"Active\",'RIDOT STU History (outputs)'!$AA$6:$AA$149)+SUMIF(STU_Cost!$G$6:$G$149,1,'RIDOT STU History (outputs)'!$AA$6:$AA$149)","v":0}]
[null,null,null,null,null,null,null,null,null,null,null,null,null,null,"Existing, Priority 1 & 2",{"$f":"\"Percent RIDOT Reduction Target Reached \"&IF('Reduction Targets'!$A$24=\"IC Standard\",IF($U4/'Reduction Targets'!$D$9*100>100,100&\"%\",ROUND(U4/'Reduction Targets'!$D$9*100,0)&\"%\"),IF('Reduction Targets'!$A$24=\"TMDL Method: Phosphorus\",IF(Q4/'Reduction Targets'!$D$18*100>100,100&\"%\",ROUND(Q4/'Reduction Targets'!$D$18*100,0)&\"%\"),IF('Reduction Targets'!$A$24=\"TMDL Method: Nitrogen\",IF(R4/'Reduction Targets'!$D$19*100>100,100&\"%\",ROUND(R4/'Reduction Targets'!$D$19*100,0)&\"%\"),IF(T4/MAX('Reduction Targets'!$D$13:$D$17)*100>100,100,ROUND(T4/MAX('Reduction Targets'!$D$13:$D$17)*100,0))&\"%\")))","v":{"$error":"#DIV/0!"}},{"$f":"SUMIF('RIDOT STU History (outputs)'!$AO$6:$AO$149,\"Active\",'RIDOT STU History (outputs)'!$J$6:$J$149)+SUMIF(STU_Cost!$G$6:$G$149,1,'RIDOT STU History (outputs)'!$J$6:$J$149)+SUMIF(STU_Cost!$G$6:$G$149,2,'RIDOT STU History (outputs)'!$J$6:$J$149)","v":0},{"$f":"SUMIF('RIDOT STU History (outputs)'!$AO$6:$AO$149,\"Active\",'RIDOT STU History (outputs)'!$O$6:$O$149)+SUMIF(STU_Cost!$G$6:$G$149,1,'RIDOT STU History (outputs)'!$O$6:$O$149)+SUMIF(STU_Cost!$G$6:$G$149,2,'RIDOT STU History (outputs)'!$O$6:$O$149)","v":0},{"$f":"SUMIF('RIDOT STU History (outputs)'!$AO$6:$AO$149,\"Active\",'RIDOT STU History (outputs)'!$T$6:$T$149)+SUMIF(STU_Cost!$G$6:$G$149,1,'RIDOT STU History (outputs)'!$T$6:$T$149)+SUMIF(STU_Cost!$G$6:$G$149,2,'RIDOT STU History (outputs)'!$T$6:$T$149)","v":0},{"$f":"SUMIF('RIDOT STU History (outputs)'!$AO$6:$AO$149,\"Active\",'RIDOT STU History (outputs)'!$Y$6:$Y$149)+SUMIF(STU_Cost!$G$6:$G$149,1,'RIDOT STU History (outputs)'!$Y$6:$Y$149)+SUMIF(STU_Cost!$G$6:$G$149,2,'RIDOT STU History (outputs)'!$Y$6:$Y$149)","v":0},{"$f":"SUMIF('RIDOT STU History (outputs)'!$AO$6:$AO$149,\"Active\",'RIDOT STU History (outputs)'!$AA$6:$AA$149)+SUMIF(STU_Cost!$G$6:$G$149,1,'RIDOT STU History (outputs)'!$AA$6:$AA$149)+SUMIF(STU_Cost!$G$6:$G$149,2,'RIDOT STU History (outputs)'!$AA$6:$AA$149)","v":0}]
["Table 2-A: STU Stormwater Controls Summary",null,null,null,null,null,null,null,null,null,null,null,null,null,"Existing, Priority 1, 2 & 3",{"$f":"\"Percent RIDOT Reduction Target Reached \"&IF('Reduction Targets'!$A$24=\"IC Standard\",IF($U5/'Reduction Targets'!$D$9*100>100,100&\"%\",ROUND(U5/'Reduction Targets'!$D$9*100,0)&\"%\"),IF('Reduction Targets'!$A$24=\"TMDL Method: Phosphorus\",IF(Q5/'Reduction Targets'!$D$18*100>100,100&\"%\",ROUND(Q5/'Reduction Targets'!$D$18*100,0)&\"%\"),IF('Reduction Targets'!$A$24=\"TMDL Method: Nitrogen\",IF(R5/'Reduction Targets'!$D$19*100>100,100&\"%\",ROUND(R5/'Reduction Targets'!$D$19*100,0)&\"%\"),IF(T5/MAX('Reduction Targets'!$D$13:$D$17)*100>100,100,ROUND(T5/MAX('Reduction Targets'!$D$13:$D$17)*100,0))&\"%\")))","v":{"$error":"#DIV/0!"}},{"$f":"SUM('RIDOT STU History (outputs)'!$J$6:$J$149)","v":0},{"$f":"SUM('RIDOT STU History (outputs)'!$O$6:$O$149)","v":0},{"$f":"SUM('RIDOT STU History (outputs)'!$T$6:$T$149)","v":0},{"$f":"SUM('RIDOT STU History (outputs)'!$Y$6:$Y$149)","v":0},{"$f":"SUM('RIDOT STU History (outputs)'!$AA$6:$AA$149)","v":0}]
["STU Name","Stormwater Control Type","Catchment Area (ac)","Impervious Cover (ac)","Treatment Depth (in) \n(Depth of Runoff Treated)","Runoff Reduction (ac-ft)","Phosphorus Treatment Credit (lb/yr / %)","Zinc Treatment Credit (lb/yr / %)","Nitrogen Treatment Credit (lb/yr / %)","Equivalent IC Reduction Credit (ac)","Cost","Cost Per IC Reduction Acre ($/ac)","Cost Per lb P Removed ($/lb P)","Retrofit Priority"]
[null,{"$f":"IF(A7=\"\",\"\",VLOOKUP(A7,STU!$A$5:$S$300,7,0))","v":""},{"$f":"IF(A7=\"\",\"\",VLOOKUP(A7,'RIDOT STU History (outputs)'!$A$6:$AL$150,3,0)/43560)","v":""},{"$f":"IF(A7=\"\",\"\",VLOOKUP(A7,'RIDOT STU History (outputs)'!$A$6:$AL$150,5,0)/43560)","v":""},{"$f":"IF(A7=\"\",\"\",VLOOKUP(A7,'RIDOT STU History (outputs)'!$A$6:$AL$150,2,0))","v":""},{"$f":"IF(A7=\"\",\"\",VLOOKUP(A7,'RIDOT STU History (outputs)'!$A$6:$AL$150,30,0))","v":""},{"$f":"IF(A7=\"\",\"\",ROUND(VLOOKUP(A7,'RIDOT STU History (outputs)'!$A$6:$AL$150,10,0),2)&\" / \"&ROUND(VLOOKUP(A7,'RIDOT STU History (outputs)'!$A$6:$AL$150,9,0),1)&\"%\")","v":""},{"$f":"IF(A7=\"\",\"\",ROUND(VLOOKUP(A7,'RIDOT STU History (outputs)'!$A$6:$AL$150,25,0),2)&\" / \"&ROUND(VLOOKUP(A7,'RIDOT STU History (outputs)'!$A$6:$AL$150,24,0),1)&\"%\")","v":""},{"$f":"IF(A7=\"\",\"\",ROUND(VLOOKUP(A7,'RIDOT STU History (outputs)'!$A$6:$AL$150,15,0),2)&\" / \"&ROUND(VLOOKUP(A7,'RIDOT STU History (outputs)'!$A$6:$AL$150,14,0),1)&\"%\")","v":""},{"$f":"IF(A7=\"\",\"\",VLOOKUP(A7,'RIDOT STU History (outputs)'!$A$6:$AL$79,27,0))","v":""},{"$f":"IF(A7=\"\",\"\",VLOOKUP(A7,'RIDOT STU History (outputs)'!$A$6:$AL$150,35,0))","v":""},{"$f":"IF(A7=\"\",\"\",VLOOKUP(A7,'RIDOT STU History (outputs)'!$A$6:$AL$150,36,0))","v":""},{"$f":"IF(A7=\"\",\"\",VLOOKUP(A7,STU_Cost!$A$6:$G$150,6,0))","v":""},{"$f":"IF(A7=\"\",\"\",VLOOKUP(A7,STU_Cost!$A$6:$G$150,7,0))","v":""}]
[]
[null,{"$f":"IF(A9=\"\",\"\",VLOOKUP(A9,STU!$A$5:$S$300,7,0))","v":""},{"$f":"IF(A9=\"\",\"\",VLOOKUP(A9,'RIDOT STU History (outputs)'!$A$6:$AL$150,3,0)/43560)","v":""},{"$f":"IF(A9=\"\",\"\",VLOOKUP(A9,'RIDOT STU History (outputs)'!$A$6:$AL$150,5,0)/43560)","v":""},{"$f":"IF(A9=\"\",\"\",VLOOKUP(A9,'RIDOT STU History (outputs)'!$A$6:$AL$150,2,0))","v":""},{"$f":"IF(A9=\"\",\"\",VLOOKUP(A9,'RIDOT STU History (outputs)'!$A$6:$AL$150,30,0))","v":""},{"$f":"IF(A9=\"\",\"\",ROUND(VLOOKUP(A9,'RIDOT STU History (outputs)'!$A$6:$AL$150,10,0),2)&\" / \"&ROUND(VLOOKUP(A9,'RIDOT STU History (outputs)'!$A$6:$AL$150,9,0),1)&\"%\")","v":""},{"$f":"IF(A9=\"\",\"\",ROUND(VLOOKUP(A9,'RIDOT STU History (outputs)'!$A$6:$AL$150,25,0),2)&\" / \"&ROUND(VLOOKUP(A9,'RIDOT STU History (outputs)'!$A$6:$AL$150,24,0),1)&\"%\")","v":""},{"$f":"IF(A9=\"\",\"\",ROUND(VLOOKUP(A9,'RIDOT STU History (outputs)'!$A$6:$AL$150,15,0),2)&\" / \"&ROUND(VLOOKUP(A9,'RIDOT STU History (outputs)'!$A$6:$AL$150,14,0),1)&\"%\")","v":""},{"$f":"IF(A9=\"\",\"\",VLOOKUP(A9,'RIDOT STU History (outputs)'!$A$6:$AL$79,27,0))","v":""},{"$f":"IF(A9=\"\",\"\",VLOOKUP(A9,'RIDOT STU History (outputs)'!$A$6:$AL$150,35,0))","v":""},{"$f":"IF(A9=\"\",\"\",VLOOKUP(A9,'RIDOT STU History (outputs)'!$A$6:$AL$150,36,0))","v":""},{"$f":"IF(A9=\"\",\"\",VLOOKUP(A9,STU_Cost!$A$6:$G$150,6,0))","v":""},{"$f":"IF(A9=\"\",\"\",VLOOKUP(A9,STU_Cost!$A$6:$G$150,7,0))","v":""}]
[]
[null,{"$f":"IF(A11=\"\",\"\",VLOOKUP(A11,STU!$A$5:$S$300,7,0))","v":""},{"$f":"IF(A11=\"\",\"\",VLOOKUP(A11,'RIDOT STU History (outputs)'!$A$6:$AL$150,3,0)/43560)","v":""},{"$f":"IF(A11=\"\",\"\",VLOOKUP(A11,'RIDOT STU History (outputs)'!$A$6:$AL$150,5,0)/43560)","v":""},{"$f":"IF(A11=\"\",\"\",VLOOKUP(A11,'RIDOT STU History (outputs)'!$A$6:$AL$150,2,0))","v":""},{"$f":"IF(A11=\"\",\"\",VLOOKUP(A11,'RIDOT STU History (outputs)'!$A$6:$AL$150,30,0))","v":""},{"$f":"IF(A11=\"\",\"\",ROUND(VLOOKUP(A11,'RIDOT STU History (outputs)'!$A$6:$AL$150,10,0),2)&\" / \"&ROUND(VLOOKUP(A11,'RIDOT STU History (outputs)'!$A$6:$AL$150,9,0),1)&\"%\")","v":""},{"$f":"IF(A11=\"\",\"\",ROUND(VLOOKUP(A11,'RIDOT STU History (outputs)'!$A$6:$AL$150,25,0),2)&\" / \"&ROUND(VLOOKUP(A11,'RIDOT STU History (outputs)'!$A$6:$AL$150,24,0),1)&\"%\")","v":""},{"$f":"IF(A11=\"\",\"\",ROUND(VLOOKUP(A11,'RIDOT STU History (outputs)'!$A$6:$AL$150,15,0),2)&\" / \"&ROUND(VLOOKUP(A11,'RIDOT STU History (outputs)'!$A$6:$AL$150,14,0),1)&\"%\")","v":""},{"$f":"IF(A11=\"\",\"\",VLOOKUP(A11,'RIDOT STU History (outputs)'!$A$6:$AL$79,27,0))","v":""},{"$f":"IF(A11=\"\",\"\",VLOOKUP(A11,'RIDOT STU History (outputs)'!$A$6:$AL$150,35,0))","v":""},{"$f":"IF(A11=\"\",\"\",VLOOKUP(A11,'RIDOT STU History (outputs)'!$A$6:$AL$150,36,0))","v":""},{"$f":"IF(A11=\"\",\"\",VLOOKUP(A11,STU_Cost!$A$6:$G$150,6,0))","v":""},{"$f":"IF(A11=\"\",\"\",VLOOKUP(A11,STU_Cost!$A$6:$G$150,7,0))","v":""}]
[]
[null,{"$f":"IF(A13=\"\",\"\",VLOOKUP(A13,STU!$A$5:$S$300,7,0))","v":""},{"$f":"IF(A13=\"\",\"\",VLOOKUP(A13,'RIDOT STU History (outputs)'!$A$6:$AL$150,3,0)/43560)","v":""},{"$f":"IF(A13=\"\",\"\",VLOOKUP(A13,'RIDOT STU History (outputs)'!$A$6:$AL$150,5,0)/43560)","v":""},{"$f":"IF(A13=\"\",\"\",VLOOKUP(A13,'RIDOT STU History (outputs)'!$A$6:$AL$150,2,0))","v":""},{"$f":"IF(A13=\"\",\"\",VLOOKUP(A13,'RIDOT STU History (outputs)'!$A$6:$AL$150,30,0))","v":""},{"$f":"IF(A13=\"\",\"\",ROUND(VLOOKUP(A13,'RIDOT STU History (outputs)'!$A$6:$AL$150,10,0),2)&\" / \"&ROUND(VLOOKUP(A13,'RIDOT STU History (outputs)'!$A$6:$AL$150,9,0),1)&\"%\")","v":""},{"$f":"IF(A13=\"\",\"\",ROUND(VLOOKUP(A13,'RIDOT STU History (outputs)'!$A$6:$AL$150,25,0),2)&\" / \"&ROUND(VLOOKUP(A13,'RIDOT STU History (outputs)'!$A$6:$AL$150,24,0),1)&\"%\")","v":""},{"$f":"IF(A13=\"\",\"\",ROUND(VLOOKUP(A13,'RIDOT STU History (outputs)'!$A$6:$AL$150,15,0),2)&\" / \"&ROUND(VLOOKUP(A13,'RIDOT STU History (outputs)'!$A$6:$AL$150,14,0),1)&\"%\")","v":""},{"$f":"IF(A13=\"\",\"\",VLOOKUP(A13,'RIDOT STU History (outputs)'!$A$6:$AL$79,27,0))","v":""},{"$f":"IF(A13=\"\",\"\",VLOOKUP(A13,'RIDOT STU History (outputs)'!$A$6:$AL$150,35,0))","v":""},{"$f":"IF(A13=\"\",\"\",VLOOKUP(A13,'RIDOT STU History (outputs)'!$A$6:$AL$150,36,0))","v":""},{"$f":"IF(A13=\"\",\"\",VLOOKUP(A13,STU_Cost!$A$6:$G$150,6,0))","v":""},{"$f":"IF(A13=\"\",\"\",VLOOKUP(A13,STU_Cost!$A$6:$G$150,7,0))","v":""}]
[null,{"$f":"IF(A14=\"\",\"\",VLOOKUP(A14,STU!$A$5:$S$300,7,0))","v":""},{"$f":"IF(A14=\"\",\"\",VLOOKUP(A14,'RIDOT STU History (outputs)'!$A$6:$AL$150,3,0)/43560)","v":""},{"$f":"IF(A14=\"\",\"\",VLOOKUP(A14,'RIDOT STU History (outputs)'!$A$6:$AL$150,5,0)/43560)","v":""},{"$f":"IF(A14=\"\",\"\",VLOOKUP(A14,'RIDOT STU History (outputs)'!$A$6:$AL$150,2,0))","v":""},{"$f":"IF(A14=\"\",\"\",VLOOKUP(A14,'RIDOT STU History (outputs)'!$A$6:$AL$150,30,0))","v":""},{"$f":"IF(A14=\"\",\"\",ROUND(VLOOKUP(A14,'RIDOT STU History (outputs)'!$A$6:$AL$150,10,0),2)&\" / \"&ROUND(VLOOKUP(A14,'RIDOT STU History (outputs)'!$A$6:$AL$150,9,0),1)&\"%\")","v":""},{"$f":"IF(A14=\"\",\"\",ROUND(VLOOKUP(A14,'RIDOT STU History (outputs)'!$A$6:$AL$150,25,0),2)&\" / \"&ROUND(VLOOKUP(A14,'RIDOT STU History (outputs)'!$A$6:$AL$150,24,0),1)&\"%\")","v":""},{"$f":"IF(A14=\"\",\"\",ROUND(VLOOKUP(A14,'RIDOT STU History (outputs)'!$A$6:$AL$150,15,0),2)&\" / \"&ROUND(VLOOKUP(A14,'RIDOT STU History (outputs)'!$A$6:$AL$150,14,0),1)&\"%\")","v":""},{"$f":"IF(A14=\"\",\"\",VLOOKUP(A14,'RIDOT STU History (outputs)'!$A$6:$AL$79,27,0))","v":""},{"$f":"IF(A14=\"\",\"\",VLOOKUP(A14,'RIDOT STU History (outputs)'!$A$6:$AL$150,35,0))","v":""},{"$f":"IF(A14=\"\",\"\",VLOOKUP(A14,'RIDOT STU History (outputs)'!$A$6:$AL$150,36,0))","v":""},{"$f":"IF(A14=\"\",\"\",VLOOKUP(A14,STU_Cost!$A$6:$G$150,6,0))","v":""},{"$f":"IF(A14=\"\",\"\",VLOOKUP(A14,STU_Cost!$A$6:$G$150,7,0))","v":""}]
[null,{"$f":"IF(A15=\"\",\"\",VLOOKUP(A15,STU!$A$5:$S$300,7,0))","v":""},{"$f":"IF(A15=\"\",\"\",VLOOKUP(A15,'RIDOT STU History (outputs)'!$A$6:$AL$150,3,0)/43560)","v":""},{"$f":"IF(A15=\"\",\"\",VLOOKUP(A15,'RIDOT STU History (outputs)'!$A$6:$AL$150,5,0)/43560)","v":""},{"$f":"IF(A15=\"\",\"\",VLOOKUP(A15,'RIDOT STU History (outputs)'!$A$6:$AL$150,2,0))","v":""},{"$f":"IF(A15=\"\",\"\",VLOOKUP(A15,'RIDOT STU History (outputs)'!$A$6:$AL$150,30,0))","v":""},{"$f":"IF(A15=\"\",\"\",ROUND(VLOOKUP(A15,'RIDOT STU History (outputs)'!$A$6:$AL$150,10,0),2)&\" / \"&ROUND(VLOOKUP(A15,'RIDOT STU History (outputs)'!$A$6:$AL$150,9,0),1)&\"%\")","v":""},{"$f":"IF(A15=\"\",\"\",ROUND(VLOOKUP(A15,'RIDOT STU History (outputs)'!$A$6:$AL$150,25,0),2)&\" / \"&ROUND(VLOOKUP(A15,'RIDOT STU History (outputs)'!$A$6:$AL$150,24,0),1)&\"%\")","v":""},{"$f":"IF(A15=\"\",\"\",ROUND(VLOOKUP(A15,'RIDOT STU History (outputs)'!$A$6:$AL$150,15,0),2)&\" / \"&ROUND(VLOOKUP(A15,'RIDOT STU History (outputs)'!$A$6:$AL$150,14,0),1)&\"%\")","v":""},{"$f":"IF(A15=\"\",\"\",VLOOKUP(A15,'RIDOT STU History (outputs)'!$A$6:$AL$79,27,0))","v":""},{"$f":"IF(A15=\"\",\"\",VLOOKUP(A15,'RIDOT STU History (outputs)'!$A$6:$AL$150,35,0))","v":""},{"$f":"IF(A15=\"\",\"\",VLOOKUP(A15,'RIDOT STU History (outputs)'!$A$6:$AL$150,36,0))","v":""},{"$f":"IF(A15=\"\",\"\",VLOOKUP(A15,STU_Cost!$A$6:$G$150,6,0))","v":""},{"$f":"IF(A15=\"\",\"\",VLOOKUP(A15,STU_Cost!$A$6:$G$150,7,0))","v":""}]
[null,{"$f":"IF(A16=\"\",\"\",VLOOKUP(A16,STU!$A$5:$S$300,7,0))","v":""},{"$f":"IF(A16=\"\",\"\",VLOOKUP(A16,'RIDOT STU History (outputs)'!$A$6:$AL$150,3,0)/43560)","v":""},{"$f":"IF(A16=\"\",\"\",VLOOKUP(A16,'RIDOT STU History (outputs)'!$A$6:$AL$150,5,0)/43560)","v":""},{"$f":"IF(A16=\"\",\"\",VLOOKUP(A16,'RIDOT STU History (outputs)'!$A$6:$AL$150,2,0))","v":""},{"$f":"IF(A16=\"\",\"\",VLOOKUP(A16,'RIDOT STU History (outputs)'!$A$6:$AL$150,30,0))","v":""},{"$f":"IF(A16=\"\",\"\",ROUND(VLOOKUP(A16,'RIDOT STU History (outputs)'!$A$6:$AL$150,10,0),2)&\" / \"&ROUND(VLOOKUP(A16,'RIDOT STU History (outputs)'!$A$6:$AL$150,9,0),1)&\"%\")","v":""},{"$f":"IF(A16=\"\",\"\",ROUND(VLOOKUP(A16,'RIDOT STU History (outputs)'!$A$6:$AL$150,25,0),2)&\" / \"&ROUND(VLOOKUP(A16,'RIDOT STU History (outputs)'!$A$6:$AL$150,24,0),1)&\"%\")","v":""},{"$f":"IF(A16=\"\",\"\",ROUND(VLOOKUP(A16,'RIDOT STU History (outputs)'!$A$6:$AL$150,15,0),2)&\" / \"&ROUND(VLOOKUP(A16,'RIDOT STU History (outputs)'!$A$6:$AL$150,14,0),1)&\"%\")","v":""},{"$f":"IF(A16=\"\",\"\",VLOOKUP(A16,'RIDOT STU History (outputs)'!$A$6:$AL$79,27,0))","v":""},{"$f":"IF(A16=\"\",\"\",VLOOKUP(A16,'RIDOT STU History (outputs)'!$A$6:$AL$150,35,0))","v":""},{"$f":"IF(A16=\"\",\"\",VLOOKUP(A16,'RIDOT STU History (outputs)'!$A$6:$AL$150,36,0))","v":""},{"$f":"IF(A16=\"\",\"\",VLOOKUP(A16,STU_Cost!$A$6:$G$150,6,0))","v":""},{"$f":"IF(A16=\"\",\"\",VLOOKUP(A16,STU_Cost!$A$6:$G$150,7,0))","v":""}]
[null,{"$f":"IF(A17=\"\",\"\",VLOOKUP(A17,STU!$A$5:$S$300,7,0))","v":""},{"$f":"IF(A17=\"\",\"\",VLOOKUP(A17,'RIDOT STU History (outputs)'!$A$6:$AL$150,3,0)/43560)","v":""},{"$f":"IF(A17=\"\",\"\",VLOOKUP(A17,'RIDOT STU History (outputs)'!$A$6:$AL$150,5,0)/43560)","v":""},{"$f":"IF(A17=\"\",\"\",VLOOKUP(A17,'RIDOT STU History (outputs)'!$A$6:$AL$150,2,0))","v":""},{"$f":"IF(A17=\"\",\"\",VLOOKUP(A17,'RIDOT STU History (outputs)'!$A$6:$AL$150,30,0))","v":""},{"$f":"IF(A17=\"\",\"\",ROUND(VLOOKUP(A17,'RIDOT STU History (outputs)'!$A$6:$AL$150,10,0),2)&\" / \"&ROUND(VLOOKUP(A17,'RIDOT STU History (outputs)'!$A$6:$AL$150,9,0),1)&\"%\")","v":""},{"$f":"IF(A17=\"\",\"\",ROUND(VLOOKUP(A17,'RIDOT STU History (outputs)'!$A$6:$AL$150,25,0),2)&\" / \"&ROUND(VLOOKUP(A17,'RIDOT STU History (outputs)'!$A$6:$AL$150,24,0),1)&\"%\")","v":""},{"$f":"IF(A17=\"\",\"\",ROUND(VLOOKUP(A17,'RIDOT STU History (outputs)'!$A$6:$AL$150,15,0),2)&\" / \"&ROUND(VLOOKUP(A17,'RIDOT STU History (outputs)'!$A$6:$AL$150,14,0),1)&\"%\")","v":""},{"$f":"IF(A17=\"\",\"\",VLOOKUP(A17,'RIDOT STU History (outputs)'!$A$6:$AL$79,27,0))","v":""},{"$f":"IF(A17=\"\",\"\",VLOOKUP(A17,'RIDOT STU History (outputs)'!$A$6:$AL$150,35,0))","v":""},{"$f":"IF(A17=\"\",\"\",VLOOKUP(A17,'RIDOT STU History (outputs)'!$A$6:$AL$150,36,0))","v":""},{"$f":"IF(A17=\"\",\"\",VLOOKUP(A17,STU_Cost!$A$6:$G$150,6,0))","v":""},{"$f":"IF(A17=\"\",\"\",VLOOKUP(A17,STU_Cost!$A$6:$G$150,7,0))","v":""}]
[null,{"$f":"IF(A18=\"\",\"\",VLOOKUP(A18,STU!$A$5:$S$300,7,0))","v":""},{"$f":"IF(A18=\"\",\"\",VLOOKUP(A18,'RIDOT STU History (outputs)'!$A$6:$AL$150,3,0)/43560)","v":""},{"$f":"IF(A18=\"\",\"\",VLOOKUP(A18,'RIDOT STU History (outputs)'!$A$6:$AL$150,5,0)/43560)","v":""},{"$f":"IF(A18=\"\",\"\",VLOOKUP(A18,'RIDOT STU History (outputs)'!$A$6:$AL$150,2,0))","v":""},{"$f":"IF(A18=\"\",\"\",VLOOKUP(A18,'RIDOT STU History (outputs)'!$A$6:$AL$150,30,0))","v":""},{"$f":"IF(A18=\"\",\"\",ROUND(VLOOKUP(A18,'RIDOT STU History (outputs)'!$A$6:$AL$150,10,0),2)&\" / \"&ROUND(VLOOKUP(A18,'RIDOT STU History (outputs)'!$A$6:$AL$150,9,0),1)&\"%\")","v":""},{"$f":"IF(A18=\"\",\"\",ROUND(VLOOKUP(A18,'RIDOT STU History (outputs)'!$A$6:$AL$150,25,0),2)&\" / \"&ROUND(VLOOKUP(A18,'RIDOT STU History (outputs)'!$A$6:$AL$150,24,0),1)&\"%\")","v":""},{"$f":"IF(A18=\"\",\"\",ROUND(VLOOKUP(A18,'RIDOT STU History (outputs)'!$A$6:$AL$150,15,0),2)&\" / \"&ROUND(VLOOKUP(A18,'RIDOT STU History (outputs)'!$A$6:$AL$150,14,0),1)&\"%\")","v":""},{"$f":"IF(A18=\"\",\"\",VLOOKUP(A18,'RIDOT STU History (outputs)'!$A$6:$AL$79,27,0))","v":""},{"$f":"IF(A18=\"\",\"\",VLOOKUP(A18,'RIDOT STU History (outputs)'!$A$6:$AL$150,35,0))","v":""},{"$f":"IF(A18=\"\",\"\",VLOOKUP(A18,'RIDOT STU History (outputs)'!$A$6:$AL$150,36,0))","v":""},{"$f":"IF(A18=\"\",\"\",VLOOKUP(A18,STU_Cost!$A$6:$G$150,6,0))","v":""},{"$f":"IF(A18=\"\",\"\",VLOOKUP(A18,STU_Cost!$A$6:$G$150,7,0))","v":""}]
[null,{"$f":"IF(A19=\"\",\"\",VLOOKUP(A19,STU!$A$5:$S$300,7,0))","v":""},{"$f":"IF(A19=\"\",\"\",VLOOKUP(A19,'RIDOT STU History (outputs)'!$A$6:$AL$150,3,0)/43560)","v":""},{"$f":"IF(A19=\"\",\"\",VLOOKUP(A19,'RIDOT STU History (outputs)'!$A$6:$AL$150,5,0)/43560)","v":""},{"$f":"IF(A19=\"\",\"\",VLOOKUP(A19,'RIDOT STU History (outputs)'!$A$6:$AL$150,2,0))","v":""},{"$f":"IF(A19=\"\",\"\",VLOOKUP(A19,'RIDOT STU History (outputs)'!$A$6:$AL$150,30,0))","v":""},{"$f":"IF(A19=\"\",\"\",ROUND(VLOOKUP(A19,'RIDOT STU History (outputs)'!$A$6:$AL$150,10,0),2)&\" / \"&ROUND(VLOOKUP(A19,'RIDOT STU History (outputs)'!$A$6:$AL$150,9,0),1)&\"%\")","v":""},{"$f":"IF(A19=\"\",\"\",ROUND(VLOOKUP(A19,'RIDOT STU History (outputs)'!$A$6:$AL$150,25,0),2)&\" / \"&ROUND(VLOOKUP(A19,'RIDOT STU History (outputs)'!$A$6:$AL$150,24,0),1)&\"%\")","v":""},{"$f":"IF(A19=\"\",\"\",ROUND(VLOOKUP(A19,'RIDOT STU History (outputs)'!$A$6:$AL$150,15,0),2)&\" / \"&ROUND(VLOOKUP(A19,'RIDOT STU History (outputs)'!$A$6:$AL$150,14,0),1)&\"%\")","v":""},{"$f":"IF(A19=\"\",\"\",VLOOKUP(A19,'RIDOT STU History (outputs)'!$A$6:$AL$79,27,0))","v":""},{"$f":"IF(A19=\"\",\"\",VLOOKUP(A19,'RIDOT STU History (outputs)'!$A$6:$AL$150,35,0))","v":""},{"$f":"IF(A19=\"\",\"\",VLOOKUP(A19,'RIDOT STU History (outputs)'!$A$6:$AL$150,36,0))","v":""},{"$f":"IF(A19=\"\",\"\",VLOOKUP(A19,STU_Cost!$A$6:$G$150,6,0))","v":""},{"$f":"IF(A19=\"\",\"\",VLOOKUP(A19,STU_Cost!$A$6:$G$150,7,0))","v":""}]
[null,{"$f":"IF(A20=\"\",\"\",VLOOKUP(A20,STU!$A$5:$S$300,7,0))","v":""},{"$f":"IF(A20=\"\",\"\",VLOOKUP(A20,'RIDOT STU History (outputs)'!$A$6:$AL$150,3,0)/43560)","v":""},{"$f":"IF(A20=\"\",\"\",VLOOKUP(A20,'RIDOT STU History (outputs)'!$A$6:$AL$150,5,0)/43560)","v":""},{"$f":"IF(A20=\"\",\"\",VLOOKUP(A20,'RIDOT STU History (outputs)'!$A$6:$AL$150,2,0))","v":""},{"$f":"IF(A20=\"\",\"\",VLOOKUP(A20,'RIDOT STU History (outputs)'!$A$6:$AL$150,30,0))","v":""},{"$f":"IF(A20=\"\",\"\",ROUND(VLOOKUP(A20,'RIDOT STU History (outputs)'!$A$6:$AL$150,10,0),2)&\" / \"&ROUND(VLOOKUP(A20,'RIDOT STU History (outputs)'!$A$6:$AL$150,9,0),1)&\"%\")","v":""},{"$f":"IF(A20=\"\",\"\",ROUND(VLOOKUP(A20,'RIDOT STU History (outputs)'!$A$6:$AL$150,25,0),2)&\" / \"&ROUND(VLOOKUP(A20,'RIDOT STU History (outputs)'!$A$6:$AL$150,24,0),1)&\"%\")","v":""},{"$f":"IF(A20=\"\",\"\",ROUND(VLOOKUP(A20,'RIDOT STU History (outputs)'!$A$6:$AL$150,15,0),2)&\" / \"&ROUND(VLOOKUP(A20,'RIDOT STU History (outputs)'!$A$6:$AL$150,14,0),1)&\"%\")","v":""},{"$f":"IF(A20=\"\",\"\",VLOOKUP(A20,'RIDOT STU History (outputs)'!$A$6:$AL$79,27,0))","v":""},{"$f":"IF(A20=\"\",\"\",VLOOKUP(A20,'RIDOT STU History (outputs)'!$A$6:$AL$150,35,0))","v":""},{"$f":"IF(A20=\"\",\"\",VLOOKUP(A20,'RIDOT STU History (outputs)'!$A$6:$AL$150,36,0))","v":""},{"$f":"IF(A20=\"\",\"\",VLOOKUP(A20,STU_Cost!$A$6:$G$150,6,0))","v":""},{"$f":"IF(A20=\"\",\"\",VLOOKUP(A20,STU_Cost!$A$6:$G$150,7,0))","v":""}]
[null,{"$f":"IF(A21=\"\",\"\",VLOOKUP(A21,STU!$A$5:$S$300,7,0))","v":""},{"$f":"IF(A21=\"\",\"\",VLOOKUP(A21,'RIDOT STU History (outputs)'!$A$6:$AL$150,3,0)/43560)","v":""},{"$f":"IF(A21=\"\",\"\",VLOOKUP(A21,'RIDOT STU History (outputs)'!$A$6:$AL$150,5,0)/43560)","v":""},{"$f":"IF(A21=\"\",\"\",VLOOKUP(A21,'RIDOT STU History (outputs)'!$A$6:$AL$150,2,0))","v":""},{"$f":"IF(A21=\"\",\"\",VLOOKUP(A21,'RIDOT STU History (outputs)'!$A$6:$AL$150,30,0))","v":""},{"$f":"IF(A21=\"\",\"\",ROUND(VLOOKUP(A21,'RIDOT STU History (outputs)'!$A$6:$AL$150,10,0),2)&\" / \"&ROUND(VLOOKUP(A21,'RIDOT STU History (outputs)'!$A$6:$AL$150,9,0),1)&\"%\")","v":""},{"$f":"IF(A21=\"\",\"\",ROUND(VLOOKUP(A21,'RIDOT STU History (outputs)'!$A$6:$AL$150,25,0),2)&\" / \"&ROUND(VLOOKUP(A21,'RIDOT STU History (outputs)'!$A$6:$AL$150,24,0),1)&\"%\")","v":""},{"$f":"IF(A21=\"\",\"\",ROUND(VLOOKUP(A21,'RIDOT STU History (outputs)'!$A$6:$AL$150,15,0),2)&\" / \"&ROUND(VLOOKUP(A21,'RIDOT STU History (outputs)'!$A$6:$AL$150,14,0),1)&\"%\")","v":""},{"$f":"IF(A21=\"\",\"\",VLOOKUP(A21,'RIDOT STU History (outputs)'!$A$6:$AL$79,27,0))","v":""},{"$f":"IF(A21=\"\",\"\",VLOOKUP(A21,'RIDOT STU History (outputs)'!$A$6:$AL$150,35,0))","v":""},{"$f":"IF(A21=\"\",\"\",VLOOKUP(A21,'RIDOT STU History (outputs)'!$A$6:$AL$150,36,0))","v":""},{"$f":"IF(A21=\"\",\"\",VLOOKUP(A21,STU_Cost!$A$6:$G$150,6,0))","v":""},{"$f":"IF(A21=\"\",\"\",VLOOKUP(A21,STU_Cost!$A$6:$G$150,7,0))","v":""}]
[null,{"$f":"IF(A22=\"\",\"\",VLOOKUP(A22,STU!$A$5:$S$300,7,0))","v":""},{"$f":"IF(A22=\"\",\"\",VLOOKUP(A22,'RIDOT STU History (outputs)'!$A$6:$AL$150,3,0)/43560)","v":""},{"$f":"IF(A22=\"\",\"\",VLOOKUP(A22,'RIDOT STU History (outputs)'!$A$6:$AL$150,5,0)/43560)","v":""},{"$f":"IF(A22=\"\",\"\",VLOOKUP(A22,'RIDOT STU History (outputs)'!$A$6:$AL$150,2,0))","v":""},{"$f":"IF(A22=\"\",\"\",VLOOKUP(A22,'RIDOT STU History (outputs)'!$A$6:$AL$150,30,0))","v":""},{"$f":"IF(A22=\"\",\"\",ROUND(VLOOKUP(A22,'RIDOT STU History (outputs)'!$A$6:$AL$150,10,0),2)&\" / \"&ROUND(VLOOKUP(A22,'RIDOT STU History (outputs)'!$A$6:$AL$150,9,0),1)&\"%\")","v":""},{"$f":"IF(A22=\"\",\"\",ROUND(VLOOKUP(A22,'RIDOT STU History (outputs)'!$A$6:$AL$150,25,0),2)&\" / \"&ROUND(VLOOKUP(A22,'RIDOT STU History (outputs)'!$A$6:$AL$150,24,0),1)&\"%\")","v":""},{"$f":"IF(A22=\"\",\"\",ROUND(VLOOKUP(A22,'RIDOT STU History (outputs)'!$A$6:$AL$150,15,0),2)&\" / \"&ROUND(VLOOKUP(A22,'RIDOT STU History (outputs)'!$A$6:$AL$150,14,0),1)&\"%\")","v":""},{"$f":"IF(A22=\"\",\"\",VLOOKUP(A22,'RIDOT STU History (outputs)'!$A$6:$AL$79,27,0))","v":""},{"$f":"IF(A22=\"\",\"\",VLOOKUP(A22,'RIDOT STU History (outputs)'!$A$6:$AL$150,35,0))","v":""},{"$f":"IF(A22=\"\",\"\",VLOOKUP(A22,'RIDOT STU History (outputs)'!$A$6:$AL$150,36,0))","v":""},{"$f":"IF(A22=\"\",\"\",VLOOKUP(A22,STU_Cost!$A$6:$G$150,6,0))","v":""},{"$f":"IF(A22=\"\",\"\",VLOOKUP(A22,STU_Cost!$A$6:$G$150,7,0))","v":""}]
[null,{"$f":"IF(A23=\"\",\"\",VLOOKUP(A23,STU!$A$5:$S$300,7,0))","v":""},{"$f":"IF(A23=\"\",\"\",VLOOKUP(A23,'RIDOT STU History (outputs)'!$A$6:$AL$150,3,0)/43560)","v":""},{"$f":"IF(A23=\"\",\"\",VLOOKUP(A23,'RIDOT STU History (outputs)'!$A$6:$AL$150,5,0)/43560)","v":""},{"$f":"IF(A23=\"\",\"\",VLOOKUP(A23,'RIDOT STU History (outputs)'!$A$6:$AL$150,2,0))","v":""},{"$f":"IF(A23=\"\",\"\",VLOOKUP(A23,'RIDOT STU History (outputs)'!$A$6:$AL$150,30,0))","v":""},{"$f":"IF(A23=\"\",\"\",ROUND(VLOOKUP(A23,'RIDOT STU History (outputs)'!$A$6:$AL$150,10,0),2)&\" / \"&ROUND(VLOOKUP(A23,'RIDOT STU History (outputs)'!$A$6:$AL$150,9,0),1)&\"%\")","v":""},{"$f":"IF(A23=\"\",\"\",ROUND(VLOOKUP(A23,'RIDOT STU History (outputs)'!$A$6:$AL$150,25,0),2)&\" / \"&ROUND(VLOOKUP(A23,'RIDOT STU History (outputs)'!$A$6:$AL$150,24,0),1)&\"%\")","v":""},{"$f":"IF(A23=\"\",\"\",ROUND(VLOOKUP(A23,'RIDOT STU History (outputs)'!$A$6:$AL$150,15,0),2)&\" / \"&ROUND(VLOOKUP(A23,'RIDOT STU History (outputs)'!$A$6:$AL$150,14,0),1)&\"%\")","v":""},{"$f":"IF(A23=\"\",\"\",VLOOKUP(A23,'RIDOT STU History (outputs)'!$A$6:$AL$79,27,0))","v":""},{"$f":"IF(A23=\"\",\"\",VLOOKUP(A23,'RIDOT STU History (outputs)'!$A$6:$AL$150,35,0))","v":""},{"$f":"IF(A23=\"\",\"\",VLOOKUP(A23,'RIDOT STU History (outputs)'!$A$6:$AL$150,36,0))","v":""},{"$f":"IF(A23=\"\",\"\",VLOOKUP(A23,STU_Cost!$A$6:$G$150,6,0))","v":""},{"$f":"IF(A23=\"\",\"\",VLOOKUP(A23,STU_Cost!$A$6:$G$150,7,0))","v":""}]
[null,{"$f":"IF(A24=\"\",\"\",VLOOKUP(A24,STU!$A$5:$S$300,7,0))","v":""},{"$f":"IF(A24=\"\",\"\",VLOOKUP(A24,'RIDOT STU History (outputs)'!$A$6:$AL$150,3,0)/43560)","v":""},{"$f":"IF(A24=\"\",\"\",VLOOKUP(A24,'RIDOT STU History (outputs)'!$A$6:$AL$150,5,0)/43560)","v":""},{"$f":"IF(A24=\"\",\"\",VLOOKUP(A24,'RIDOT STU History (outputs)'!$A$6:$AL$150,2,0))","v":""},{"$f":"IF(A24=\"\",\"\",VLOOKUP(A24,'RIDOT STU History (outputs)'!$A$6:$AL$150,30,0))","v":""},{"$f":"IF(A24=\"\",\"\",ROUND(VLOOKUP(A24,'RIDOT STU History (outputs)'!$A$6:$AL$150,10,0),2)&\" / \"&ROUND(VLOOKUP(A24,'RIDOT STU History (outputs)'!$A$6:$AL$150,9,0),1)&\"%\")","v":""},{"$f":"IF(A24=\"\",\"\",ROUND(VLOOKUP(A24,'RIDOT STU History (outputs)'!$A$6:$AL$150,25,0),2)&\" / \"&ROUND(VLOOKUP(A24,'RIDOT STU History (outputs)'!$A$6:$AL$150,24,0),1)&\"%\")","v":""},{"$f":"IF(A24=\"\",\"\",ROUND(VLOOKUP(A24,'RIDOT STU History (outputs)'!$A$6:$AL$150,15,0),2)&\" / \"&ROUND(VLOOKUP(A24,'RIDOT STU History (outputs)'!$A$6:$AL$150,14,0),1)&\"%\")","v":""},{"$f":"IF(A24=\"\",\"\",VLOOKUP(A24,'RIDOT STU History (outputs)'!$A$6:$AL$79,27,0))","v":""},{"$f":"IF(A24=\"\",\"\",VLOOKUP(A24,'RIDOT STU History (outputs)'!$A$6:$AL$150,35,0))","v":""},{"$f":"IF(A24=\"\",\"\",VLOOKUP(A24,'RIDOT STU History (outputs)'!$A$6:$AL$150,36,0))","v":""},{"$f":"IF(A24=\"\",\"\",VLOOKUP(A24,STU_Cost!$A$6:$G$150,6,0))","v":""},{"$f":"IF(A24=\"\",\"\",VLOOKUP(A24,STU_Cost!$A$6:$G$150,7,0))","v":""}]
[null,{"$f":"IF(A25=\"\",\"\",VLOOKUP(A25,STU!$A$5:$S$300,7,0))","v":""},{"$f":"IF(A25=\"\",\"\",VLOOKUP(A25,'RIDOT STU History (outputs)'!$A$6:$AL$150,3,0)/43560)","v":""},{"$f":"IF(A25=\"\",\"\",VLOOKUP(A25,'RIDOT STU History (outputs)'!$A$6:$AL$150,5,0)/43560)","v":""},{"$f":"IF(A25=\"\",\"\",VLOOKUP(A25,'RIDOT STU History (outputs)'!$A$6:$AL$150,2,0))","v":""},{"$f":"IF(A25=\"\",\"\",VLOOKUP(A25,'RIDOT STU History (outputs)'!$A$6:$AL$150,30,0))","v":""},{"$f":"IF(A25=\"\",\"\",ROUND(VLOOKUP(A25,'RIDOT STU History (outputs)'!$A$6:$AL$150,10,0),2)&\" / \"&ROUND(VLOOKUP(A25,'RIDOT STU History (outputs)'!$A$6:$AL$150,9,0),1)&\"%\")","v":""},{"$f":"IF(A25=\"\",\"\",ROUND(VLOOKUP(A25,'RIDOT STU History (outputs)'!$A$6:$AL$150,25,0),2)&\" / \"&ROUND(VLOOKUP(A25,'RIDOT STU History (outputs)'!$A$6:$AL$150,24,0),1)&\"%\")","v":""},{"$f":"IF(A25=\"\",\"\",ROUND(VLOOKUP(A25,'RIDOT STU History (outputs)'!$A$6:$AL$150,15,0),2)&\" / \"&ROUND(VLOOKUP(A25,'RIDOT STU History (outputs)'!$A$6:$AL$150,14,0),1)&\"%\")","v":""},{"$f":"IF(A25=\"\",\"\",VLOOKUP(A25,'RIDOT STU History (outputs)'!$A$6:$AL$79,27,0))","v":""},{"$f":"IF(A25=\"\",\"\",VLOOKUP(A25,'RIDOT STU History (outputs)'!$A$6:$AL$150,35,0))","v":""},{"$f":"IF(A25=\"\",\"\",VLOOKUP(A25,'RIDOT STU History (outputs)'!$A$6:$AL$150,36,0))","v":""},{"$f":"IF(A25=\"\",\"\",VLOOKUP(A25,STU_Cost!$A$6:$G$150,6,0))","v":""},{"$f":"IF(A25=\"\",\"\",VLOOKUP(A25,STU_Cost!$A$6:$G$150,7,0))","v":""}]
[null,{"$f":"IF(A26=\"\",\"\",VLOOKUP(A26,STU!$A$5:$S$300,7,0))","v":""},{"$f":"IF(A26=\"\",\"\",VLOOKUP(A26,'RIDOT STU History (outputs)'!$A$6:$AL$150,3,0)/43560)","v":""},{"$f":"IF(A26=\"\",\"\",VLOOKUP(A26,'RIDOT STU History (outputs)'!$A$6:$AL$150,5,0)/43560)","v":""},{"$f":"IF(A26=\"\",\"\",VLOOKUP(A26,'RIDOT STU History (outputs)'!$A$6:$AL$150,2,0))","v":""},{"$f":"IF(A26=\"\",\"\",VLOOKUP(A26,'RIDOT STU History (outputs)'!$A$6:$AL$150,30,0))","v":""},{"$f":"IF(A26=\"\",\"\",ROUND(VLOOKUP(A26,'RIDOT STU History (outputs)'!$A$6:$AL$150,10,0),2)&\" / \"&ROUND(VLOOKUP(A26,'RIDOT STU History (outputs)'!$A$6:$AL$150,9,0),1)&\"%\")","v":""},{"$f":"IF(A26=\"\",\"\",ROUND(VLOOKUP(A26,'RIDOT STU History (outputs)'!$A$6:$AL$150,25,0),2)&\" / \"&ROUND(VLOOKUP(A26,'RIDOT STU History (outputs)'!$A$6:$AL$150,24,0),1)&\"%\")","v":""},{"$f":"IF(A26=\"\",\"\",ROUND(VLOOKUP(A26,'RIDOT STU History (outputs)'!$A$6:$AL$150,15,0),2)&\" / \"&ROUND(VLOOKUP(A26,'RIDOT STU History (outputs)'!$A$6:$AL$150,14,0),1)&\"%\")","v":""},{"$f":"IF(A26=\"\",\"\",VLOOKUP(A26,'RIDOT STU History (outputs)'!$A$6:$AL$79,27,0))","v":""},{"$f":"IF(A26=\"\",\"\",VLOOKUP(A26,'RIDOT STU History (outputs)'!$A$6:$AL$150,35,0))","v":""},{"$f":"IF(A26=\"\",\"\",VLOOKUP(A26,'RIDOT STU History (outputs)'!$A$6:$AL$150,36,0))","v":""},{"$f":"IF(A26=\"\",\"\",VLOOKUP(A26,STU_Cost!$A$6:$G$150,6,0))","v":""},{"$f":"IF(A26=\"\",\"\",VLOOKUP(A26,STU_Cost!$A$6:$G$150,7,0))","v":""}]
[null,{"$f":"IF(A27=\"\",\"\",VLOOKUP(A27,STU!$A$5:$S$300,7,0))","v":""},{"$f":"IF(A27=\"\",\"\",VLOOKUP(A27,'RIDOT STU History (outputs)'!$A$6:$AL$150,3,0)/43560)","v":""},{"$f":"IF(A27=\"\",\"\",VLOOKUP(A27,'RIDOT STU History (outputs)'!$A$6:$AL$150,5,0)/43560)","v":""},{"$f":"IF(A27=\"\",\"\",VLOOKUP(A27,'RIDOT STU History (outputs)'!$A$6:$AL$150,2,0))","v":""},{"$f":"IF(A27=\"\",\"\",VLOOKUP(A27,'RIDOT STU History (outputs)'!$A$6:$AL$150,30,0))","v":""},{"$f":"IF(A27=\"\",\"\",ROUND(VLOOKUP(A27,'RIDOT STU History (outputs)'!$A$6:$AL$150,10,0),2)&\" / \"&ROUND(VLOOKUP(A27,'RIDOT STU History (outputs)'!$A$6:$AL$150,9,0),1)&\"%\")","v":""},{"$f":"IF(A27=\"\",\"\",ROUND(VLOOKUP(A27,'RIDOT STU History (outputs)'!$A$6:$AL$150,25,0),2)&\" / \"&ROUND(VLOOKUP(A27,'RIDOT STU History (outputs)'!$A$6:$AL$150,24,0),1)&\"%\")","v":""},{"$f":"IF(A27=\"\",\"\",ROUND(VLOOKUP(A27,'RIDOT STU History (outputs)'!$A$6:$AL$150,15,0),2)&\" / \"&ROUND(VLOOKUP(A27,'RIDOT STU History (outputs)'!$A$6:$AL$150,14,0),1)&\"%\")","v":""},{"$f":"IF(A27=\"\",\"\",VLOOKUP(A27,'RIDOT STU History (outputs)'!$A$6:$AL$79,27,0))","v":""},{"$f":"IF(A27=\"\",\"\",VLOOKUP(A27,'RIDOT STU History (outputs)'!$A$6:$AL$150,35,0))","v":""},{"$f":"IF(A27=\"\",\"\",VLOOKUP(A27,'RIDOT STU History (outputs)'!$A$6:$AL$150,36,0))","v":""},{"$f":"IF(A27=\"\",\"\",VLOOKUP(A27,STU_Cost!$A$6:$G$150,6,0))","v":""},{"$f":"IF(A27=\"\",\"\",VLOOKUP(A27,STU_Cost!$A$6:$G$150,7,0))","v":""}]
[null,{"$f":"IF(A28=\"\",\"\",VLOOKUP(A28,STU!$A$5:$S$300,7,0))","v":""},{"$f":"IF(A28=\"\",\"\",VLOOKUP(A28,'RIDOT STU History (outputs)'!$A$6:$AL$150,3,0)/43560)","v":""},{"$f":"IF(A28=\"\",\"\",VLOOKUP(A28,'RIDOT STU History (outputs)'!$A$6:$AL$150,5,0)/43560)","v":""},{"$f":"IF(A28=\"\",\"\",VLOOKUP(A28,'RIDOT STU History (outputs)'!$A$6:$AL$150,2,0))","v":""},{"$f":"IF(A28=\"\",\"\",VLOOKUP(A28,'RIDOT STU History (outputs)'!$A$6:$AL$150,30,0))","v":""},{"$f":"IF(A28=\"\",\"\",ROUND(VLOOKUP(A28,'RIDOT STU History (outputs)'!$A$6:$AL$150,10,0),2)&\" / \"&ROUND(VLOOKUP(A28,'RIDOT STU History (outputs)'!$A$6:$AL$150,9,0),1)&\"%\")","v":""},{"$f":"IF(A28=\"\",\"\",ROUND(VLOOKUP(A28,'RIDOT STU History (outputs)'!$A$6:$AL$150,25,0),2)&\" / \"&ROUND(VLOOKUP(A28,'RIDOT STU History (outputs)'!$A$6:$AL$150,24,0),1)&\"%\")","v":""},{"$f":"IF(A28=\"\",\"\",ROUND(VLOOKUP(A28,'RIDOT STU History (outputs)'!$A$6:$AL$150,15,0),2)&\" / \"&ROUND(VLOOKUP(A28,'RIDOT STU History (outputs)'!$A$6:$AL$150,14,0),1)&\"%\")","v":""},{"$f":"IF(A28=\"\",\"\",VLOOKUP(A28,'RIDOT STU History (outputs)'!$A$6:$AL$79,27,0))","v":""},{"$f":"IF(A28=\"\",\"\",VLOOKUP(A28,'RIDOT STU History (outputs)'!$A$6:$AL$150,35,0))","v":""},{"$f":"IF(A28=\"\",\"\",VLOOKUP(A28,'RIDOT STU History (outputs)'!$A$6:$AL$150,36,0))","v":""},{"$f":"IF(A28=\"\",\"\",VLOOKUP(A28,STU_Cost!$A$6:$G$150,6,0))","v":""},{"$f":"IF(A28=\"\",\"\",VLOOKUP(A28,STU_Cost!$A$6:$G$150,7,0))","v":""}]
[null,{"$f":"IF(A29=\"\",\"\",VLOOKUP(A29,STU!$A$5:$S$300,7,0))","v":""},{"$f":"IF(A29=\"\",\"\",VLOOKUP(A29,'RIDOT STU History (outputs)'!$A$6:$AL$150,3,0)/43560)","v":""},{"$f":"IF(A29=\"\",\"\",VLOOKUP(A29,'RIDOT STU History (outputs)'!$A$6:$AL$150,5,0)/43560)","v":""},{"$f":"IF(A29=\"\",\"\",VLOOKUP(A29,'RIDOT STU History (outputs)'!$A$6:$AL$150,2,0))","v":""},{"$f":"IF(A29=\"\",\"\",VLOOKUP(A29,'RIDOT STU History (outputs)'!$A$6:$AL$150,30,0))","v":""},{"$f":"IF(A29=\"\",\"\",ROUND(VLOOKUP(A29,'RIDOT STU History (outputs)'!$A$6:$AL$150,10,0),2)&\" / \"&ROUND(VLOOKUP(A29,'RIDOT STU History (outputs)'!$A$6:$AL$150,9,0),1)&\"%\")","v":""},{"$f":"IF(A29=\"\",\"\",ROUND(VLOOKUP(A29,'RIDOT STU History (outputs)'!$A$6:$AL$150,25,0),2)&\" / \"&ROUND(VLOOKUP(A29,'RIDOT STU History (outputs)'!$A$6:$AL$150,24,0),1)&\"%\")","v":""},{"$f":"IF(A29=\"\",\"\",ROUND(VLOOKUP(A29,'RIDOT STU History (outputs)'!$A$6:$AL$150,15,0),2)&\" / \"&ROUND(VLOOKUP(A29,'RIDOT STU History (outputs)'!$A$6:$AL$150,14,0),1)&\"%\")","v":""},{"$f":"IF(A29=\"\",\"\",VLOOKUP(A29,'RIDOT STU History (outputs)'!$A$6:$AL$79,27,0))","v":""},{"$f":"IF(A29=\"\",\"\",VLOOKUP(A29,'RIDOT STU History (outputs)'!$A$6:$AL$150,35,0))","v":""},{"$f":"IF(A29=\"\",\"\",VLOOKUP(A29,'RIDOT STU History (outputs)'!$A$6:$AL$150,36,0))","v":""},{"$f":"IF(A29=\"\",\"\",VLOOKUP(A29,STU_Cost!$A$6:$G$150,6,0))","v":""},{"$f":"IF(A29=\"\",\"\",VLOOKUP(A29,STU_Cost!$A$6:$G$150,7,0))","v":""}]
[null,{"$f":"IF(A30=\"\",\"\",VLOOKUP(A30,STU!$A$5:$S$300,7,0))","v":""},{"$f":"IF(A30=\"\",\"\",VLOOKUP(A30,'RIDOT STU History (outputs)'!$A$6:$AL$150,3,0)/43560)","v":""},{"$f":"IF(A30=\"\",\"\",VLOOKUP(A30,'RIDOT STU History (outputs)'!$A$6:$AL$150,5,0)/43560)","v":""},{"$f":"IF(A30=\"\",\"\",VLOOKUP(A30,'RIDOT STU History (outputs)'!$A$6:$AL$150,2,0))","v":""},{"$f":"IF(A30=\"\",\"\",VLOOKUP(A30,'RIDOT STU History (outputs)'!$A$6:$AL$150,30,0))","v":""},{"$f":"IF(A30=\"\",\"\",ROUND(VLOOKUP(A30,'RIDOT STU History (outputs)'!$A$6:$AL$150,10,0),2)&\" / \"&ROUND(VLOOKUP(A30,'RIDOT STU History (outputs)'!$A$6:$AL$150,9,0),1)&\"%\")","v":""},{"$f":"IF(A30=\"\",\"\",ROUND(VLOOKUP(A30,'RIDOT STU History (outputs)'!$A$6:$AL$150,25,0),2)&\" / \"&ROUND(VLOOKUP(A30,'RIDOT STU History (outputs)'!$A$6:$AL$150,24,0),1)&\"%\")","v":""},{"$f":"IF(A30=\"\",\"\",ROUND(VLOOKUP(A30,'RIDOT STU History (outputs)'!$A$6:$AL$150,15,0),2)&\" / \"&ROUND(VLOOKUP(A30,'RIDOT STU History (outputs)'!$A$6:$AL$150,14,0),1)&\"%\")","v":""},{"$f":"IF(A30=\"\",\"\",VLOOKUP(A30,'RIDOT STU History (outputs)'!$A$6:$AL$79,27,0))","v":""},{"$f":"IF(A30=\"\",\"\",VLOOKUP(A30,'RIDOT STU History (outputs)'!$A$6:$AL$150,35,0))","v":""},{"$f":"IF(A30=\"\",\"\",VLOOKUP(A30,'RIDOT STU History (outputs)'!$A$6:$AL$150,36,0))","v":""},{"$f":"IF(A30=\"\",\"\",VLOOKUP(A30,STU_Cost!$A$6:$G$150,6,0))","v":""},{"$f":"IF(A30=\"\",\"\",VLOOKUP(A30,STU_Cost!$A$6:$G$150,7,0))","v":""}]
[null,{"$f":"IF(A31=\"\",\"\",VLOOKUP(A31,STU!$A$5:$S$300,7,0))","v":""},{"$f":"IF(A31=\"\",\"\",VLOOKUP(A31,'RIDOT STU History (outputs)'!$A$6:$AL$150,3,0)/43560)","v":""},{"$f":"IF(A31=\"\",\"\",VLOOKUP(A31,'RIDOT STU History (outputs)'!$A$6:$AL$150,5,0)/43560)","v":""},{"$f":"IF(A31=\"\",\"\",VLOOKUP(A31,'RIDOT STU History (outputs)'!$A$6:$AL$150,2,0))","v":""},{"$f":"IF(A31=\"\",\"\",VLOOKUP(A31,'RIDOT STU History (outputs)'!$A$6:$AL$150,30,0))","v":""},{"$f":"IF(A31=\"\",\"\",ROUND(VLOOKUP(A31,'RIDOT STU History (outputs)'!$A$6:$AL$150,10,0),2)&\" / \"&ROUND(VLOOKUP(A31,'RIDOT STU History (outputs)'!$A$6:$AL$150,9,0),1)&\"%\")","v":""},{"$f":"IF(A31=\"\",\"\",ROUND(VLOOKUP(A31,'RIDOT STU History (outputs)'!$A$6:$AL$150,25,0),2)&\" / \"&ROUND(VLOOKUP(A31,'RIDOT STU History (outputs)'!$A$6:$AL$150,24,0),1)&\"%\")","v":""},{"$f":"IF(A31=\"\",\"\",ROUND(VLOOKUP(A31,'RIDOT STU History (outputs)'!$A$6:$AL$150,15,0),2)&\" / \"&ROUND(VLOOKUP(A31,'RIDOT STU History (outputs)'!$A$6:$AL$150,14,0),1)&\"%\")","v":""},{"$f":"IF(A31=\"\",\"\",VLOOKUP(A31,'RIDOT STU History (outputs)'!$A$6:$AL$79,27,0))","v":""},{"$f":"IF(A31=\"\",\"\",VLOOKUP(A31,'RIDOT STU History (outputs)'!$A$6:$AL$150,35,0))","v":""},{"$f":"IF(A31=\"\",\"\",VLOOKUP(A31,'RIDOT STU History (outputs)'!$A$6:$AL$150,36,0))","v":""},{"$f":"IF(A31=\"\",\"\",VLOOKUP(A31,STU_Cost!$A$6:$G$150,6,0))","v":""},{"$f":"IF(A31=\"\",\"\",VLOOKUP(A31,STU_Cost!$A$6:$G$150,7,0))","v":""}]
[null,{"$f":"IF(A32=\"\",\"\",VLOOKUP(A32,STU!$A$5:$S$300,7,0))","v":""},{"$f":"IF(A32=\"\",\"\",VLOOKUP(A32,'RIDOT STU History (outputs)'!$A$6:$AL$150,3,0)/43560)","v":""},{"$f":"IF(A32=\"\",\"\",VLOOKUP(A32,'RIDOT STU History (outputs)'!$A$6:$AL$150,5,0)/43560)","v":""},{"$f":"IF(A32=\"\",\"\",VLOOKUP(A32,'RIDOT STU History (outputs)'!$A$6:$AL$150,2,0))","v":""},{"$f":"IF(A32=\"\",\"\",VLOOKUP(A32,'RIDOT STU History (outputs)'!$A$6:$AL$150,30,0))","v":""},{"$f":"IF(A32=\"\",\"\",ROUND(VLOOKUP(A32,'RIDOT STU History (outputs)'!$A$6:$AL$150,10,0),2)&\" / \"&ROUND(VLOOKUP(A32,'RIDOT STU History (outputs)'!$A$6:$AL$150,9,0),1)&\"%\")","v":""},{"$f":"IF(A32=\"\",\"\",ROUND(VLOOKUP(A32,'RIDOT STU History (outputs)'!$A$6:$AL$150,25,0),2)&\" / \"&ROUND(VLOOKUP(A32,'RIDOT STU History (outputs)'!$A$6:$AL$150,24,0),1)&\"%\")","v":""},{"$f":"IF(A32=\"\",\"\",ROUND(VLOOKUP(A32,'RIDOT STU History (outputs)'!$A$6:$AL$150,15,0),2)&\" / \"&ROUND(VLOOKUP(A32,'RIDOT STU History (outputs)'!$A$6:$AL$150,14,0),1)&\"%\")","v":""},{"$f":"IF(A32=\"\",\"\",VLOOKUP(A32,'RIDOT STU History (outputs)'!$A$6:$AL$79,27,0))","v":""},{"$f":"IF(A32=\"\",\"\",VLOOKUP(A32,'RIDOT STU History (outputs)'!$A$6:$AL$150,35,0))","v":""},{"$f":"IF(A32=\"\",\"\",VLOOKUP(A32,'RIDOT STU History (outputs)'!$A$6:$AL$150,36,0))","v":""},{"$f":"IF(A32=\"\",\"\",VLOOKUP(A32,STU_Cost!$A$6:$G$150,6,0))","v":""},{"$f":"IF(A32=\"\",\"\",VLOOKUP(A32,STU_Cost!$A$6:$G$150,7,0))","v":""}]
[null,{"$f":"IF(A33=\"\",\"\",VLOOKUP(A33,STU!$A$5:$S$300,7,0))","v":""},{"$f":"IF(A33=\"\",\"\",VLOOKUP(A33,'RIDOT STU History (outputs)'!$A$6:$AL$150,3,0)/43560)","v":""},{"$f":"IF(A33=\"\",\"\",VLOOKUP(A33,'RIDOT STU History (outputs)'!$A$6:$AL$150,5,0)/43560)","v":""},{"$f":"IF(A33=\"\",\"\",VLOOKUP(A33,'RIDOT STU History (outputs)'!$A$6:$AL$150,2,0))","v":""},{"$f":"IF(A33=\"\",\"\",VLOOKUP(A33,'RIDOT STU History (outputs)'!$A$6:$AL$150,30,0))","v":""},{"$f":"IF(A33=\"\",\"\",ROUND(VLOOKUP(A33,'RIDOT STU History (outputs)'!$A$6:$AL$150,10,0),2)&\" / \"&ROUND(VLOOKUP(A33,'RIDOT STU History (outputs)'!$A$6:$AL$150,9,0),1)&\"%\")","v":""},{"$f":"IF(A33=\"\",\"\",ROUND(VLOOKUP(A33,'RIDOT STU History (outputs)'!$A$6:$AL$150,25,0),2)&\" / \"&ROUND(VLOOKUP(A33,'RIDOT STU History (outputs)'!$A$6:$AL$150,24,0),1)&\"%\")","v":""},{"$f":"IF(A33=\"\",\"\",ROUND(VLOOKUP(A33,'RIDOT STU History (outputs)'!$A$6:$AL$150,15,0),2)&\" / \"&ROUND(VLOOKUP(A33,'RIDOT STU History (outputs)'!$A$6:$AL$150,14,0),1)&\"%\")","v":""},{"$f":"IF(A33=\"\",\"\",VLOOKUP(A33,'RIDOT STU History (outputs)'!$A$6:$AL$79,27,0))","v":""},{"$f":"IF(A33=\"\",\"\",VLOOKUP(A33,'RIDOT STU History (outputs)'!$A$6:$AL$150,35,0))","v":""},{"$f":"IF(A33=\"\",\"\",VLOOKUP(A33,'RIDOT STU History (outputs)'!$A$6:$AL$150,36,0))","v":""},{"$f":"IF(A33=\"\",\"\",VLOOKUP(A33,STU_Cost!$A$6:$G$150,6,0))","v":""},{"$f":"IF(A33=\"\",\"\",VLOOKUP(A33,STU_Cost!$A$6:$G$150,7,0))","v":""}]
[null,{"$f":"IF(A34=\"\",\"\",VLOOKUP(A34,STU!$A$5:$S$300,7,0))","v":""},{"$f":"IF(A34=\"\",\"\",VLOOKUP(A34,'RIDOT STU History (outputs)'!$A$6:$AL$150,3,0)/43560)","v":""},{"$f":"IF(A34=\"\",\"\",VLOOKUP(A34,'RIDOT STU History (outputs)'!$A$6:$AL$150,5,0)/43560)","v":""},{"$f":"IF(A34=\"\",\"\",VLOOKUP(A34,'RIDOT STU History (outputs)'!$A$6:$AL$150,2,0))","v":""},{"$f":"IF(A34=\"\",\"\",VLOOKUP(A34,'RIDOT STU History (outputs)'!$A$6:$AL$150,30,0))","v":""},{"$f":"IF(A34=\"\",\"\",ROUND(VLOOKUP(A34,'RIDOT STU History (outputs)'!$A$6:$AL$150,10,0),2)&\" / \"&ROUND(VLOOKUP(A34,'RIDOT STU History (outputs)'!$A$6:$AL$150,9,0),1)&\"%\")","v":""},{"$f":"IF(A34=\"\",\"\",ROUND(VLOOKUP(A34,'RIDOT STU History (outputs)'!$A$6:$AL$150,25,0),2)&\" / \"&ROUND(VLOOKUP(A34,'RIDOT STU History (outputs)'!$A$6:$AL$150,24,0),1)&\"%\")","v":""},{"$f":"IF(A34=\"\",\"\",ROUND(VLOOKUP(A34,'RIDOT STU History (outputs)'!$A$6:$AL$150,15,0),2)&\" / \"&ROUND(VLOOKUP(A34,'RIDOT STU History (outputs)'!$A$6:$AL$150,14,0),1)&\"%\")","v":""},{"$f":"IF(A34=\"\",\"\",VLOOKUP(A34,'RIDOT STU History (outputs)'!$A$6:$AL$79,27,0))","v":""},{"$f":"IF(A34=\"\",\"\",VLOOKUP(A34,'RIDOT STU History (outputs)'!$A$6:$AL$150,35,0))","v":""},{"$f":"IF(A34=\"\",\"\",VLOOKUP(A34,'RIDOT STU History (outputs)'!$A$6:$AL$150,36,0))","v":""},{"$f":"IF(A34=\"\",\"\",VLOOKUP(A34,STU_Cost!$A$6:$G$150,6,0))","v":""},{"$f":"IF(A34=\"\",\"\",VLOOKUP(A34,STU_Cost!$A$6:$G$150,7,0))","v":""}]
[null,{"$f":"IF(A35=\"\",\"\",VLOOKUP(A35,STU!$A$5:$S$300,7,0))","v":""},{"$f":"IF(A35=\"\",\"\",VLOOKUP(A35,'RIDOT STU History (outputs)'!$A$6:$AL$150,3,0)/43560)","v":""},{"$f":"IF(A35=\"\",\"\",VLOOKUP(A35,'RIDOT STU History (outputs)'!$A$6:$AL$150,5,0)/43560)","v":""},{"$f":"IF(A35=\"\",\"\",VLOOKUP(A35,'RIDOT STU History (outputs)'!$A$6:$AL$150,2,0))","v":""},{"$f":"IF(A35=\"\",\"\",VLOOKUP(A35,'RIDOT STU History (outputs)'!$A$6:$AL$150,30,0))","v":""},{"$f":"IF(A35=\"\",\"\",ROUND(VLOOKUP(A35,'RIDOT STU History (outputs)'!$A$6:$AL$150,10,0),2)&\" / \"&ROUND(VLOOKUP(A35,'RIDOT STU History (outputs)'!$A$6:$AL$150,9,0),1)&\"%\")","v":""},{"$f":"IF(A35=\"\",\"\",ROUND(VLOOKUP(A35,'RIDOT STU History (outputs)'!$A$6:$AL$150,25,0),2)&\" / \"&ROUND(VLOOKUP(A35,'RIDOT STU History (outputs)'!$A$6:$AL$150,24,0),1)&\"%\")","v":""},{"$f":"IF(A35=\"\",\"\",ROUND(VLOOKUP(A35,'RIDOT STU History (outputs)'!$A$6:$AL$150,15,0),2)&\" / \"&ROUND(VLOOKUP(A35,'RIDOT STU History (outputs)'!$A$6:$AL$150,14,0),1)&\"%\")","v":""},{"$f":"IF(A35=\"\",\"\",VLOOKUP(A35,'RIDOT STU History (outputs)'!$A$6:$AL$79,27,0))","v":""},{"$f":"IF(A35=\"\",\"\",VLOOKUP(A35,'RIDOT STU History (outputs)'!$A$6:$AL$150,35,0))","v":""},{"$f":"IF(A35=\"\",\"\",VLOOKUP(A35,'RIDOT STU History (outputs)'!$A$6:$AL$150,36,0))","v":""},{"$f":"IF(A35=\"\",\"\",VLOOKUP(A35,STU_Cost!$A$6:$G$150,6,0))","v":""},{"$f":"IF(A35=\"\",\"\",VLOOKUP(A35,STU_Cost!$A$6:$G$150,7,0))","v":""}]
[null,{"$f":"IF(A36=\"\",\"\",VLOOKUP(A36,STU!$A$5:$S$300,7,0))","v":""},{"$f":"IF(A36=\"\",\"\",VLOOKUP(A36,'RIDOT STU History (outputs)'!$A$6:$AL$150,3,0)/43560)","v":""},{"$f":"IF(A36=\"\",\"\",VLOOKUP(A36,'RIDOT STU History (outputs)'!$A$6:$AL$150,5,0)/43560)","v":""},{"$f":"IF(A36=\"\",\"\",VLOOKUP(A36,'RIDOT STU History (outputs)'!$A$6:$AL$150,2,0))","v":""},{"$f":"IF(A36=\"\",\"\",VLOOKUP(A36,'RIDOT STU History (outputs)'!$A$6:$AL$150,30,0))","v":""},{"$f":"IF(A36=\"\",\"\",ROUND(VLOOKUP(A36,'RIDOT STU History (outputs)'!$A$6:$AL$150,10,0),2)&\" / \"&ROUND(VLOOKUP(A36,'RIDOT STU History (outputs)'!$A$6:$AL$150,9,0),1)&\"%\")","v":""},{"$f":"IF(A36=\"\",\"\",ROUND(VLOOKUP(A36,'RIDOT STU History (outputs)'!$A$6:$AL$150,25,0),2)&\" / \"&ROUND(VLOOKUP(A36,'RIDOT STU History (outputs)'!$A$6:$AL$150,24,0),1)&\"%\")","v":""},{"$f":"IF(A36=\"\",\"\",ROUND(VLOOKUP(A36,'RIDOT STU History (outputs)'!$A$6:$AL$150,15,0),2)&\" / \"&ROUND(VLOOKUP(A36,'RIDOT STU History (outputs)'!$A$6:$AL$150,14,0),1)&\"%\")","v":""},{"$f":"IF(A36=\"\",\"\",VLOOKUP(A36,'RIDOT STU History (outputs)'!$A$6:$AL$79,27,0))","v":""},{"$f":"IF(A36=\"\",\"\",VLOOKUP(A36,'RIDOT STU History (outputs)'!$A$6:$AL$150,35,0))","v":""},{"$f":"IF(A36=\"\",\"\",VLOOKUP(A36,'RIDOT STU History (outputs)'!$A$6:$AL$150,36,0))","v":""},{"$f":"IF(A36=\"\",\"\",VLOOKUP(A36,STU_Cost!$A$6:$G$150,6,0))","v":""},{"$f":"IF(A36=\"\",\"\",VLOOKUP(A36,STU_Cost!$A$6:$G$150,7,0))","v":""}]
[null,{"$f":"IF(A37=\"\",\"\",VLOOKUP(A37,STU!$A$5:$S$300,7,0))","v":""},{"$f":"IF(A37=\"\",\"\",VLOOKUP(A37,'RIDOT STU History (outputs)'!$A$6:$AL$150,3,0)/43560)","v":""},{"$f":"IF(A37=\"\",\"\",VLOOKUP(A37,'RIDOT STU History (outputs)'!$A$6:$AL$150,5,0)/43560)","v":""},{"$f":"IF(A37=\"\",\"\",VLOOKUP(A37,'RIDOT STU History (outputs)'!$A$6:$AL$150,2,0))","v":""},{"$f":"IF(A37=\"\",\"\",VLOOKUP(A37,'RIDOT STU History (outputs)'!$A$6:$AL$150,30,0))","v":""},{"$f":"IF(A37=\"\",\"\",ROUND(VLOOKUP(A37,'RIDOT STU History (outputs)'!$A$6:$AL$150,10,0),2)&\" / \"&ROUND(VLOOKUP(A37,'RIDOT STU History (outputs)'!$A$6:$AL$150,9,0),1)&\"%\")","v":""},{"$f":"IF(A37=\"\",\"\",ROUND(VLOOKUP(A37,'RIDOT STU History (outputs)'!$A$6:$AL$150,25,0),2)&\" / \"&ROUND(VLOOKUP(A37,'RIDOT STU History (outputs)'!$A$6:$AL$150,24,0),1)&\"%\")","v":""},{"$f":"IF(A37=\"\",\"\",ROUND(VLOOKUP(A37,'RIDOT STU History (outputs)'!$A$6:$AL$150,15,0),2)&\" / \"&ROUND(VLOOKUP(A37,'RIDOT STU History (outputs)'!$A$6:$AL$150,14,0),1)&\"%\")","v":""},{"$f":"IF(A37=\"\",\"\",VLOOKUP(A37,'RIDOT STU History (outputs)'!$A$6:$AL$79,27,0))","v":""},{"$f":"IF(A37=\"\",\"\",VLOOKUP(A37,'RIDOT STU History (outputs)'!$A$6:$AL$150,35,0))","v":""},{"$f":"IF(A37=\"\",\"\",VLOOKUP(A37,'RIDOT STU History (outputs)'!$A$6:$AL$150,36,0))","v":""},{"$f":"IF(A37=\"\",\"\",VLOOKUP(A37,STU_Cost!$A$6:$G$150,6,0))","v":""},{"$f":"IF(A37=\"\",\"\",VLOOKUP(A37,STU_Cost!$A$6:$G$150,7,0))","v":""}]
[null,{"$f":"IF(A38=\"\",\"\",VLOOKUP(A38,STU!$A$5:$S$300,7,0))","v":""},{"$f":"IF(A38=\"\",\"\",VLOOKUP(A38,'RIDOT STU History (outputs)'!$A$6:$AL$150,3,0)/43560)","v":""},{"$f":"IF(A38=\"\",\"\",VLOOKUP(A38,'RIDOT STU History (outputs)'!$A$6:$AL$150,5,0)/43560)","v":""},{"$f":"IF(A38=\"\",\"\",VLOOKUP(A38,'RIDOT STU History (outputs)'!$A$6:$AL$150,2,0))","v":""},{"$f":"IF(A38=\"\",\"\",VLOOKUP(A38,'RIDOT STU History (outputs)'!$A$6:$AL$150,30,0))","v":""},{"$f":"IF(A38=\"\",\"\",ROUND(VLOOKUP(A38,'RIDOT STU History (outputs)'!$A$6:$AL$150,10,0),2)&\" / \"&ROUND(VLOOKUP(A38,'RIDOT STU History (outputs)'!$A$6:$AL$150,9,0),1)&\"%\")","v":""},{"$f":"IF(A38=\"\",\"\",ROUND(VLOOKUP(A38,'RIDOT STU History (outputs)'!$A$6:$AL$150,25,0),2)&\" / \"&ROUND(VLOOKUP(A38,'RIDOT STU History (outputs)'!$A$6:$AL$150,24,0),1)&\"%\")","v":""},{"$f":"IF(A38=\"\",\"\",ROUND(VLOOKUP(A38,'RIDOT STU History (outputs)'!$A$6:$AL$150,15,0),2)&\" / \"&ROUND(VLOOKUP(A38,'RIDOT STU History (outputs)'!$A$6:$AL$150,14,0),1)&\"%\")","v":""},{"$f":"IF(A38=\"\",\"\",VLOOKUP(A38,'RIDOT STU History (outputs)'!$A$6:$AL$79,27,0))","v":""},{"$f":"IF(A38=\"\",\"\",VLOOKUP(A38,'RIDOT STU History (outputs)'!$A$6:$AL$150,35,0))","v":""},{"$f":"IF(A38=\"\",\"\",VLOOKUP(A38,'RIDOT STU History (outputs)'!$A$6:$AL$150,36,0))","v":""},{"$f":"IF(A38=\"\",\"\",VLOOKUP(A38,STU_Cost!$A$6:$G$150,6,0))","v":""},{"$f":"IF(A38=\"\",\"\",VLOOKUP(A38,STU_Cost!$A$6:$G$150,7,0))","v":""}]
[null,{"$f":"IF(A39=\"\",\"\",VLOOKUP(A39,STU!$A$5:$S$300,7,0))","v":""},{"$f":"IF(A39=\"\",\"\",VLOOKUP(A39,'RIDOT STU History (outputs)'!$A$6:$AL$150,3,0)/43560)","v":""},{"$f":"IF(A39=\"\",\"\",VLOOKUP(A39,'RIDOT STU History (outputs)'!$A$6:$AL$150,5,0)/43560)","v":""},{"$f":"IF(A39=\"\",\"\",VLOOKUP(A39,'RIDOT STU History (outputs)'!$A$6:$AL$150,2,0))","v":""},{"$f":"IF(A39=\"\",\"\",VLOOKUP(A39,'RIDOT STU History (outputs)'!$A$6:$AL$150,30,0))","v":""},{"$f":"IF(A39=\"\",\"\",ROUND(VLOOKUP(A39,'RIDOT STU History (outputs)'!$A$6:$AL$150,10,0),2)&\" / \"&ROUND(VLOOKUP(A39,'RIDOT STU History (outputs)'!$A$6:$AL$150,9,0),1)&\"%\")","v":""},{"$f":"IF(A39=\"\",\"\",ROUND(VLOOKUP(A39,'RIDOT STU History (outputs)'!$A$6:$AL$150,25,0),2)&\" / \"&ROUND(VLOOKUP(A39,'RIDOT STU History (outputs)'!$A$6:$AL$150,24,0),1)&\"%\")","v":""},{"$f":"IF(A39=\"\",\"\",ROUND(VLOOKUP(A39,'RIDOT STU History (outputs)'!$A$6:$AL$150,15,0),2)&\" / \"&ROUND(VLOOKUP(A39,'RIDOT STU History (outputs)'!$A$6:$AL$150,14,0),1)&\"%\")","v":""},{"$f":"IF(A39=\"\",\"\",VLOOKUP(A39,'RIDOT STU History (outputs)'!$A$6:$AL$79,27,0))","v":""},{"$f":"IF(A39=\"\",\"\",VLOOKUP(A39,'RIDOT STU History (outputs)'!$A$6:$AL$150,35,0))","v":""},{"$f":"IF(A39=\"\",\"\",VLOOKUP(A39,'RIDOT STU History (outputs)'!$A$6:$AL$150,36,0))","v":""},{"$f":"IF(A39=\"\",\"\",VLOOKUP(A39,STU_Cost!$A$6:$G$150,6,0))","v":""},{"$f":"IF(A39=\"\",\"\",VLOOKUP(A39,STU_Cost!$A$6:$G$150,7,0))","v":""}]
[null,{"$f":"IF(A40=\"\",\"\",VLOOKUP(A40,STU!$A$5:$S$300,7,0))","v":""},{"$f":"IF(A40=\"\",\"\",VLOOKUP(A40,'RIDOT STU History (outputs)'!$A$6:$AL$150,3,0)/43560)","v":""},{"$f":"IF(A40=\"\",\"\",VLOOKUP(A40,'RIDOT STU History (outputs)'!$A$6:$AL$150,5,0)/43560)","v":""},{"$f":"IF(A40=\"\",\"\",VLOOKUP(A40,'RIDOT STU History (outputs)'!$A$6:$AL$150,2,0))","v":""},{"$f":"IF(A40=\"\",\"\",VLOOKUP(A40,'RIDOT STU History (outputs)'!$A$6:$AL$150,30,0))","v":""},{"$f":"IF(A40=\"\",\"\",ROUND(VLOOKUP(A40,'RIDOT STU History (outputs)'!$A$6:$AL$150,10,0),2)&\" / \"&ROUND(VLOOKUP(A40,'RIDOT STU History (outputs)'!$A$6:$AL$150,9,0),1)&\"%\")","v":""},{"$f":"IF(A40=\"\",\"\",ROUND(VLOOKUP(A40,'RIDOT STU History (outputs)'!$A$6:$AL$150,25,0),2)&\" / \"&ROUND(VLOOKUP(A40,'RIDOT STU History (outputs)'!$A$6:$AL$150,24,0),1)&\"%\")","v":""},{"$f":"IF(A40=\"\",\"\",ROUND(VLOOKUP(A40,'RIDOT STU History (outputs)'!$A$6:$AL$150,15,0),2)&\" / \"&ROUND(VLOOKUP(A40,'RIDOT STU History (outputs)'!$A$6:$AL$150,14,0),1)&\"%\")","v":""},{"$f":"IF(A40=\"\",\"\",VLOOKUP(A40,'RIDOT STU History (outputs)'!$A$6:$AL$79,27,0))","v":""},{"$f":"IF(A40=\"\",\"\",VLOOKUP(A40,'RIDOT STU History (outputs)'!$A$6:$AL$150,35,0))","v":""},{"$f":"IF(A40=\"\",\"\",VLOOKUP(A40,'RIDOT STU History (outputs)'!$A$6:$AL$150,36,0))","v":""},{"$f":"IF(A40=\"\",\"\",VLOOKUP(A40,STU_Cost!$A$6:$G$150,6,0))","v":""},{"$f":"IF(A40=\"\",\"\",VLOOKUP(A40,STU_Cost!$A$6:$G$150,7,0))","v":""}]
[null,{"$f":"IF(A41=\"\",\"\",VLOOKUP(A41,STU!$A$5:$S$300,7,0))","v":""},{"$f":"IF(A41=\"\",\"\",VLOOKUP(A41,'RIDOT STU History (outputs)'!$A$6:$AL$150,3,0)/43560)","v":""},{"$f":"IF(A41=\"\",\"\",VLOOKUP(A41,'RIDOT STU History (outputs)'!$A$6:$AL$150,5,0)/43560)","v":""},{"$f":"IF(A41=\"\",\"\",VLOOKUP(A41,'RIDOT STU History (outputs)'!$A$6:$AL$150,2,0))","v":""},{"$f":"IF(A41=\"\",\"\",VLOOKUP(A41,'RIDOT STU History (outputs)'!$A$6:$AL$150,30,0))","v":""},{"$f":"IF(A41=\"\",\"\",ROUND(VLOOKUP(A41,'RIDOT STU History (outputs)'!$A$6:$AL$150,10,0),2)&\" / \"&ROUND(VLOOKUP(A41,'RIDOT STU History (outputs)'!$A$6:$AL$150,9,0),1)&\"%\")","v":""},{"$f":"IF(A41=\"\",\"\",ROUND(VLOOKUP(A41,'RIDOT STU History (outputs)'!$A$6:$AL$150,25,0),2)&\" / \"&ROUND(VLOOKUP(A41,'RIDOT STU History (outputs)'!$A$6:$AL$150,24,0),1)&\"%\")","v":""},{"$f":"IF(A41=\"\",\"\",ROUND(VLOOKUP(A41,'RIDOT STU History (outputs)'!$A$6:$AL$150,15,0),2)&\" / \"&ROUND(VLOOKUP(A41,'RIDOT STU History (outputs)'!$A$6:$AL$150,14,0),1)&\"%\")","v":""},{"$f":"IF(A41=\"\",\"\",VLOOKUP(A41,'RIDOT STU History (outputs)'!$A$6:$AL$79,27,0))","v":""},{"$f":"IF(A41=\"\",\"\",VLOOKUP(A41,'RIDOT STU History (outputs)'!$A$6:$AL$150,35,0))","v":""},{"$f":"IF(A41=\"\",\"\",VLOOKUP(A41,'RIDOT STU History (outputs)'!$A$6:$AL$150,36,0))","v":""},{"$f":"IF(A41=\"\",\"\",VLOOKUP(A41,STU_Cost!$A$6:$G$150,6,0))","v":""},{"$f":"IF(A41=\"\",\"\",VLOOKUP(A41,STU_Cost!$A$6:$G$150,7,0))","v":""}]
[null,{"$f":"IF(A42=\"\",\"\",VLOOKUP(A42,STU!$A$5:$S$300,7,0))","v":""},{"$f":"IF(A42=\"\",\"\",VLOOKUP(A42,'RIDOT STU History (outputs)'!$A$6:$AL$150,3,0)/43560)","v":""},{"$f":"IF(A42=\"\",\"\",VLOOKUP(A42,'RIDOT STU History (outputs)'!$A$6:$AL$150,5,0)/43560)","v":""},{"$f":"IF(A42=\"\",\"\",VLOOKUP(A42,'RIDOT STU History (outputs)'!$A$6:$AL$150,2,0))","v":""},{"$f":"IF(A42=\"\",\"\",VLOOKUP(A42,'RIDOT STU History (outputs)'!$A$6:$AL$150,30,0))","v":""},{"$f":"IF(A42=\"\",\"\",ROUND(VLOOKUP(A42,'RIDOT STU History (outputs)'!$A$6:$AL$150,10,0),2)&\" / \"&ROUND(VLOOKUP(A42,'RIDOT STU History (outputs)'!$A$6:$AL$150,9,0),1)&\"%\")","v":""},{"$f":"IF(A42=\"\",\"\",ROUND(VLOOKUP(A42,'RIDOT STU History (outputs)'!$A$6:$AL$150,25,0),2)&\" / \"&ROUND(VLOOKUP(A42,'RIDOT STU History (outputs)'!$A$6:$AL$150,24,0),1)&\"%\")","v":""},{"$f":"IF(A42=\"\",\"\",ROUND(VLOOKUP(A42,'RIDOT STU History (outputs)'!$A$6:$AL$150,15,0),2)&\" / \"&ROUND(VLOOKUP(A42,'RIDOT STU History (outputs)'!$A$6:$AL$150,14,0),1)&\"%\")","v":""},{"$f":"IF(A42=\"\",\"\",VLOOKUP(A42,'RIDOT STU History (outputs)'!$A$6:$AL$79,27,0))","v":""},{"$f":"IF(A42=\"\",\"\",VLOOKUP(A42,'RIDOT STU History (outputs)'!$A$6:$AL$150,35,0))","v":""},{"$f":"IF(A42=\"\",\"\",VLOOKUP(A42,'RIDOT STU History (outputs)'!$A$6:$AL$150,36,0))","v":""},{"$f":"IF(A42=\"\",\"\",VLOOKUP(A42,STU_Cost!$A$6:$G$150,6,0))","v":""},{"$f":"IF(A42=\"\",\"\",VLOOKUP(A42,STU_Cost!$A$6:$G$150,7,0))","v":""}]
[null,{"$f":"IF(A43=\"\",\"\",VLOOKUP(A43,STU!$A$5:$S$300,7,0))","v":""},{"$f":"IF(A43=\"\",\"\",VLOOKUP(A43,'RIDOT STU History (outputs)'!$A$6:$AL$150,3,0)/43560)","v":""},{"$f":"IF(A43=\"\",\"\",VLOOKUP(A43,'RIDOT STU History (outputs)'!$A$6:$AL$150,5,0)/43560)","v":""},{"$f":"IF(A43=\"\",\"\",VLOOKUP(A43,'RIDOT STU History (outputs)'!$A$6:$AL$150,2,0))","v":""},{"$f":"IF(A43=\"\",\"\",VLOOKUP(A43,'RIDOT STU History (outputs)'!$A$6:$AL$150,30,0))","v":""},{"$f":"IF(A43=\"\",\"\",ROUND(VLOOKUP(A43,'RIDOT STU History (outputs)'!$A$6:$AL$150,10,0),2)&\" / \"&ROUND(VLOOKUP(A43,'RIDOT STU History (outputs)'!$A$6:$AL$150,9,0),1)&\"%\")","v":""},{"$f":"IF(A43=\"\",\"\",ROUND(VLOOKUP(A43,'RIDOT STU History (outputs)'!$A$6:$AL$150,25,0),2)&\" / \"&ROUND(VLOOKUP(A43,'RIDOT STU History (outputs)'!$A$6:$AL$150,24,0),1)&\"%\")","v":""},{"$f":"IF(A43=\"\",\"\",ROUND(VLOOKUP(A43,'RIDOT STU History (outputs)'!$A$6:$AL$150,15,0),2)&\" / \"&ROUND(VLOOKUP(A43,'RIDOT STU History (outputs)'!$A$6:$AL$150,14,0),1)&\"%\")","v":""},{"$f":"IF(A43=\"\",\"\",VLOOKUP(A43,'RIDOT STU History (outputs)'!$A$6:$AL$79,27,0))","v":""},{"$f":"IF(A43=\"\",\"\",VLOOKUP(A43,'RIDOT STU History (outputs)'!$A$6:$AL$150,35,0))","v":""},{"$f":"IF(A43=\"\",\"\",VLOOKUP(A43,'RIDOT STU History (outputs)'!$A$6:$AL$150,36,0))","v":""},{"$f":"IF(A43=\"\",\"\",VLOOKUP(A43,STU_Cost!$A$6:$G$150,6,0))","v":""},{"$f":"IF(A43=\"\",\"\",VLOOKUP(A43,STU_Cost!$A$6:$G$150,7,0))","v":""}]
[null,{"$f":"IF(A44=\"\",\"\",VLOOKUP(A44,STU!$A$5:$S$300,7,0))","v":""},{"$f":"IF(A44=\"\",\"\",VLOOKUP(A44,'RIDOT STU History (outputs)'!$A$6:$AL$150,3,0)/43560)","v":""},{"$f":"IF(A44=\"\",\"\",VLOOKUP(A44,'RIDOT STU History (outputs)'!$A$6:$AL$150,5,0)/43560)","v":""},{"$f":"IF(A44=\"\",\"\",VLOOKUP(A44,'RIDOT STU History (outputs)'!$A$6:$AL$150,2,0))","v":""},{"$f":"IF(A44=\"\",\"\",VLOOKUP(A44,'RIDOT STU History (outputs)'!$A$6:$AL$150,30,0))","v":""},{"$f":"IF(A44=\"\",\"\",ROUND(VLOOKUP(A44,'RIDOT STU History (outputs)'!$A$6:$AL$150,10,0),2)&\" / \"&ROUND(VLOOKUP(A44,'RIDOT STU History (outputs)'!$A$6:$AL$150,9,0),1)&\"%\")","v":""},{"$f":"IF(A44=\"\",\"\",ROUND(VLOOKUP(A44,'RIDOT STU History (outputs)'!$A$6:$AL$150,25,0),2)&\" / \"&ROUND(VLOOKUP(A44,'RIDOT STU History (outputs)'!$A$6:$AL$150,24,0),1)&\"%\")","v":""},{"$f":"IF(A44=\"\",\"\",ROUND(VLOOKUP(A44,'RIDOT STU History (outputs)'!$A$6:$AL$150,15,0),2)&\" / \"&ROUND(VLOOKUP(A44,'RIDOT STU History (outputs)'!$A$6:$AL$150,14,0),1)&\"%\")","v":""},{"$f":"IF(A44=\"\",\"\",VLOOKUP(A44,'RIDOT STU History (outputs)'!$A$6:$AL$79,27,0))","v":""},{"$f":"IF(A44=\"\",\"\",VLOOKUP(A44,'RIDOT STU History (outputs)'!$A$6:$AL$150,35,0))","v":""},{"$f":"IF(A44=\"\",\"\",VLOOKUP(A44,'RIDOT STU History (outputs)'!$A$6:$AL$150,36,0))","v":""},{"$f":"IF(A44=\"\",\"\",VLOOKUP(A44,STU_Cost!$A$6:$G$150,6,0))","v":""},{"$f":"IF(A44=\"\",\"\",VLOOKUP(A44,STU_Cost!$A$6:$G$150,7,0))","v":""}]
[null,{"$f":"IF(A45=\"\",\"\",VLOOKUP(A45,STU!$A$5:$S$300,7,0))","v":""},{"$f":"IF(A45=\"\",\"\",VLOOKUP(A45,'RIDOT STU History (outputs)'!$A$6:$AL$150,3,0)/43560)","v":""},{"$f":"IF(A45=\"\",\"\",VLOOKUP(A45,'RIDOT STU History (outputs)'!$A$6:$AL$150,5,0)/43560)","v":""},{"$f":"IF(A45=\"\",\"\",VLOOKUP(A45,'RIDOT STU History (outputs)'!$A$6:$AL$150,2,0))","v":""},{"$f":"IF(A45=\"\",\"\",VLOOKUP(A45,'RIDOT STU History (outputs)'!$A$6:$AL$150,30,0))","v":""},{"$f":"IF(A45=\"\",\"\",ROUND(VLOOKUP(A45,'RIDOT STU History (outputs)'!$A$6:$AL$150,10,0),2)&\" / \"&ROUND(VLOOKUP(A45,'RIDOT STU History (outputs)'!$A$6:$AL$150,9,0),1)&\"%\")","v":""},{"$f":"IF(A45=\"\",\"\",ROUND(VLOOKUP(A45,'RIDOT STU History (outputs)'!$A$6:$AL$150,25,0),2)&\" / \"&ROUND(VLOOKUP(A45,'RIDOT STU History (outputs)'!$A$6:$AL$150,24,0),1)&\"%\")","v":""},{"$f":"IF(A45=\"\",\"\",ROUND(VLOOKUP(A45,'RIDOT STU History (outputs)'!$A$6:$AL$150,15,0),2)&\" / \"&ROUND(VLOOKUP(A45,'RIDOT STU History (outputs)'!$A$6:$AL$150,14,0),1)&\"%\")","v":""},{"$f":"IF(A45=\"\",\"\",VLOOKUP(A45,'RIDOT STU History (outputs)'!$A$6:$AL$79,27,0))","v":""},{"$f":"IF(A45=\"\",\"\",VLOOKUP(A45,'RIDOT STU History (outputs)'!$A$6:$AL$150,35,0))","v":""},{"$f":"IF(A45=\"\",\"\",VLOOKUP(A45,'RIDOT STU History (outputs)'!$A$6:$AL$150,36,0))","v":""},{"$f":"IF(A45=\"\",\"\",VLOOKUP(A45,STU_Cost!$A$6:$G$150,6,0))","v":""},{"$f":"IF(A45=\"\",\"\",VLOOKUP(A45,STU_Cost!$A$6:$G$150,7,0))","v":""}]
[null,{"$f":"IF(A46=\"\",\"\",VLOOKUP(A46,STU!$A$5:$S$300,7,0))","v":""},{"$f":"IF(A46=\"\",\"\",VLOOKUP(A46,'RIDOT STU History (outputs)'!$A$6:$AL$150,3,0)/43560)","v":""},{"$f":"IF(A46=\"\",\"\",VLOOKUP(A46,'RIDOT STU History (outputs)'!$A$6:$AL$150,5,0)/43560)","v":""},{"$f":"IF(A46=\"\",\"\",VLOOKUP(A46,'RIDOT STU History (outputs)'!$A$6:$AL$150,2,0))","v":""},{"$f":"IF(A46=\"\",\"\",VLOOKUP(A46,'RIDOT STU History (outputs)'!$A$6:$AL$150,30,0))","v":""},{"$f":"IF(A46=\"\",\"\",ROUND(VLOOKUP(A46,'RIDOT STU History (outputs)'!$A$6:$AL$150,10,0),2)&\" / \"&ROUND(VLOOKUP(A46,'RIDOT STU History (outputs)'!$A$6:$AL$150,9,0),1)&\"%\")","v":""},{"$f":"IF(A46=\"\",\"\",ROUND(VLOOKUP(A46,'RIDOT STU History (outputs)'!$A$6:$AL$150,25,0),2)&\" / \"&ROUND(VLOOKUP(A46,'RIDOT STU History (outputs)'!$A$6:$AL$150,24,0),1)&\"%\")","v":""},{"$f":"IF(A46=\"\",\"\",ROUND(VLOOKUP(A46,'RIDOT STU History (outputs)'!$A$6:$AL$150,15,0),2)&\" / \"&ROUND(VLOOKUP(A46,'RIDOT STU History (outputs)'!$A$6:$AL$150,14,0),1)&\"%\")","v":""},{"$f":"IF(A46=\"\",\"\",VLOOKUP(A46,'RIDOT STU History (outputs)'!$A$6:$AL$79,27,0))","v":""},{"$f":"IF(A46=\"\",\"\",VLOOKUP(A46,'RIDOT STU History (outputs)'!$A$6:$AL$150,35,0))","v":""},{"$f":"IF(A46=\"\",\"\",VLOOKUP(A46,'RIDOT STU History (outputs)'!$A$6:$AL$150,36,0))","v":""},{"$f":"IF(A46=\"\",\"\",VLOOKUP(A46,STU_Cost!$A$6:$G$150,6,0))","v":""},{"$f":"IF(A46=\"\",\"\",VLOOKUP(A46,STU_Cost!$A$6:$G$150,7,0))","v":""}]
[null,{"$f":"IF(A47=\"\",\"\",VLOOKUP(A47,STU!$A$5:$S$300,7,0))","v":""},{"$f":"IF(A47=\"\",\"\",VLOOKUP(A47,'RIDOT STU History (outputs)'!$A$6:$AL$150,3,0)/43560)","v":""},{"$f":"IF(A47=\"\",\"\",VLOOKUP(A47,'RIDOT STU History (outputs)'!$A$6:$AL$150,5,0)/43560)","v":""},{"$f":"IF(A47=\"\",\"\",VLOOKUP(A47,'RIDOT STU History (outputs)'!$A$6:$AL$150,2,0))","v":""},{"$f":"IF(A47=\"\",\"\",VLOOKUP(A47,'RIDOT STU History (outputs)'!$A$6:$AL$150,30,0))","v":""},{"$f":"IF(A47=\"\",\"\",ROUND(VLOOKUP(A47,'RIDOT STU History (outputs)'!$A$6:$AL$150,10,0),2)&\" / \"&ROUND(VLOOKUP(A47,'RIDOT STU History (outputs)'!$A$6:$AL$150,9,0),1)&\"%\")","v":""},{"$f":"IF(A47=\"\",\"\",ROUND(VLOOKUP(A47,'RIDOT STU History (outputs)'!$A$6:$AL$150,25,0),2)&\" / \"&ROUND(VLOOKUP(A47,'RIDOT STU History (outputs)'!$A$6:$AL$150,24,0),1)&\"%\")","v":""},{"$f":"IF(A47=\"\",\"\",ROUND(VLOOKUP(A47,'RIDOT STU History (outputs)'!$A$6:$AL$150,15,0),2)&\" / \"&ROUND(VLOOKUP(A47,'RIDOT STU History (outputs)'!$A$6:$AL$150,14,0),1)&\"%\")","v":""},{"$f":"IF(A47=\"\",\"\",VLOOKUP(A47,'RIDOT STU History (outputs)'!$A$6:$AL$79,27,0))","v":""},{"$f":"IF(A47=\"\",\"\",VLOOKUP(A47,'RIDOT STU History (outputs)'!$A$6:$AL$150,35,0))","v":""},{"$f":"IF(A47=\"\",\"\",VLOOKUP(A47,'RIDOT STU History (outputs)'!$A$6:$AL$150,36,0))","v":""},{"$f":"IF(A47=\"\",\"\",VLOOKUP(A47,STU_Cost!$A$6:$G$150,6,0))","v":""},{"$f":"IF(A47=\"\",\"\",VLOOKUP(A47,STU_Cost!$A$6:$G$150,7,0))","v":""}]
[null,{"$f":"IF(A48=\"\",\"\",VLOOKUP(A48,STU!$A$5:$S$300,7,0))","v":""},{"$f":"IF(A48=\"\",\"\",VLOOKUP(A48,'RIDOT STU History (outputs)'!$A$6:$AL$150,3,0)/43560)","v":""},{"$f":"IF(A48=\"\",\"\",VLOOKUP(A48,'RIDOT STU History (outputs)'!$A$6:$AL$150,5,0)/43560)","v":""},{"$f":"IF(A48=\"\",\"\",VLOOKUP(A48,'RIDOT STU History (outputs)'!$A$6:$AL$150,2,0))","v":""},{"$f":"IF(A48=\"\",\"\",VLOOKUP(A48,'RIDOT STU History (outputs)'!$A$6:$AL$150,30,0))","v":""},{"$f":"IF(A48=\"\",\"\",ROUND(VLOOKUP(A48,'RIDOT STU History (outputs)'!$A$6:$AL$150,10,0),2)&\" / \"&ROUND(VLOOKUP(A48,'RIDOT STU History (outputs)'!$A$6:$AL$150,9,0),1)&\"%\")","v":""},{"$f":"IF(A48=\"\",\"\",ROUND(VLOOKUP(A48,'RIDOT STU History (outputs)'!$A$6:$AL$150,25,0),2)&\" / \"&ROUND(VLOOKUP(A48,'RIDOT STU History (outputs)'!$A$6:$AL$150,24,0),1)&\"%\")","v":""},{"$f":"IF(A48=\"\",\"\",ROUND(VLOOKUP(A48,'RIDOT STU History (outputs)'!$A$6:$AL$150,15,0),2)&\" / \"&ROUND(VLOOKUP(A48,'RIDOT STU History (outputs)'!$A$6:$AL$150,14,0),1)&\"%\")","v":""},{"$f":"IF(A48=\"\",\"\",VLOOKUP(A48,'RIDOT STU History (outputs)'!$A$6:$AL$79,27,0))","v":""},{"$f":"IF(A48=\"\",\"\",VLOOKUP(A48,'RIDOT STU History (outputs)'!$A$6:$AL$150,35,0))","v":""},{"$f":"IF(A48=\"\",\"\",VLOOKUP(A48,'RIDOT STU History (outputs)'!$A$6:$AL$150,36,0))","v":""},{"$f":"IF(A48=\"\",\"\",VLOOKUP(A48,STU_Cost!$A$6:$G$150,6,0))","v":""},{"$f":"IF(A48=\"\",\"\",VLOOKUP(A48,STU_Cost!$A$6:$G$150,7,0))","v":""}]
[null,{"$f":"IF(A49=\"\",\"\",VLOOKUP(A49,STU!$A$5:$S$300,7,0))","v":""},{"$f":"IF(A49=\"\",\"\",VLOOKUP(A49,'RIDOT STU History (outputs)'!$A$6:$AL$150,3,0)/43560)","v":""},{"$f":"IF(A49=\"\",\"\",VLOOKUP(A49,'RIDOT STU History (outputs)'!$A$6:$AL$150,5,0)/43560)","v":""},{"$f":"IF(A49=\"\",\"\",VLOOKUP(A49,'RIDOT STU History (outputs)'!$A$6:$AL$150,2,0))","v":""},{"$f":"IF(A49=\"\",\"\",VLOOKUP(A49,'RIDOT STU History (outputs)'!$A$6:$AL$150,30,0))","v":""},{"$f":"IF(A49=\"\",\"\",ROUND(VLOOKUP(A49,'RIDOT STU History (outputs)'!$A$6:$AL$150,10,0),2)&\" / \"&ROUND(VLOOKUP(A49,'RIDOT STU History (outputs)'!$A$6:$AL$150,9,0),1)&\"%\")","v":""},{"$f":"IF(A49=\"\",\"\",ROUND(VLOOKUP(A49,'RIDOT STU History (outputs)'!$A$6:$AL$150,25,0),2)&\" / \"&ROUND(VLOOKUP(A49,'RIDOT STU History (outputs)'!$A$6:$AL$150,24,0),1)&\"%\")","v":""},{"$f":"IF(A49=\"\",\"\",ROUND(VLOOKUP(A49,'RIDOT STU History (outputs)'!$A$6:$AL$150,15,0),2)&\" / \"&ROUND(VLOOKUP(A49,'RIDOT STU History (outputs)'!$A$6:$AL$150,14,0),1)&\"%\")","v":""},{"$f":"IF(A49=\"\",\"\",VLOOKUP(A49,'RIDOT STU History (outputs)'!$A$6:$AL$79,27,0))","v":""},{"$f":"IF(A49=\"\",\"\",VLOOKUP(A49,'RIDOT STU History (outputs)'!$A$6:$AL$150,35,0))","v":""},{"$f":"IF(A49=\"\",\"\",VLOOKUP(A49,'RIDOT STU History (outputs)'!$A$6:$AL$150,36,0))","v":""},{"$f":"IF(A49=\"\",\"\",VLOOKUP(A49,STU_Cost!$A$6:$G$150,6,0))","v":""},{"$f":"IF(A49=\"\",\"\",VLOOKUP(A49,STU_Cost!$A$6:$G$150,7,0))","v":""}]
[null,{"$f":"IF(A50=\"\",\"\",VLOOKUP(A50,STU!$A$5:$S$300,7,0))","v":""},{"$f":"IF(A50=\"\",\"\",VLOOKUP(A50,'RIDOT STU History (outputs)'!$A$6:$AL$150,3,0)/43560)","v":""},{"$f":"IF(A50=\"\",\"\",VLOOKUP(A50,'RIDOT STU History (outputs)'!$A$6:$AL$150,5,0)/43560)","v":""},{"$f":"IF(A50=\"\",\"\",VLOOKUP(A50,'RIDOT STU History (outputs)'!$A$6:$AL$150,2,0))","v":""},{"$f":"IF(A50=\"\",\"\",VLOOKUP(A50,'RIDOT STU History (outputs)'!$A$6:$AL$150,30,0))","v":""},{"$f":"IF(A50=\"\",\"\",ROUND(VLOOKUP(A50,'RIDOT STU History (outputs)'!$A$6:$AL$150,10,0),2)&\" / \"&ROUND(VLOOKUP(A50,'RIDOT STU History (outputs)'!$A$6:$AL$150,9,0),1)&\"%\")","v":""},{"$f":"IF(A50=\"\",\"\",ROUND(VLOOKUP(A50,'RIDOT STU History (outputs)'!$A$6:$AL$150,25,0),2)&\" / \"&ROUND(VLOOKUP(A50,'RIDOT STU History (outputs)'!$A$6:$AL$150,24,0),1)&\"%\")","v":""},{"$f":"IF(A50=\"\",\"\",ROUND(VLOOKUP(A50,'RIDOT STU History (outputs)'!$A$6:$AL$150,15,0),2)&\" / \"&ROUND(VLOOKUP(A50,'RIDOT STU History (outputs)'!$A$6:$AL$150,14,0),1)&\"%\")","v":""},{"$f":"IF(A50=\"\",\"\",VLOOKUP(A50,'RIDOT STU History (outputs)'!$A$6:$AL$79,27,0))","v":""},{"$f":"IF(A50=\"\",\"\",VLOOKUP(A50,'RIDOT STU History (outputs)'!$A$6:$AL$150,35,0))","v":""},{"$f":"IF(A50=\"\",\"\",VLOOKUP(A50,'RIDOT STU History (outputs)'!$A$6:$AL$150,36,0))","v":""},{"$f":"IF(A50=\"\",\"\",VLOOKUP(A50,STU_Cost!$A$6:$G$150,6,0))","v":""},{"$f":"IF(A50=\"\",\"\",VLOOKUP(A50,STU_Cost!$A$6:$G$150,7,0))","v":""}]
[null,{"$f":"IF(A51=\"\",\"\",VLOOKUP(A51,STU!$A$5:$S$300,7,0))","v":""},{"$f":"IF(A51=\"\",\"\",VLOOKUP(A51,'RIDOT STU History (outputs)'!$A$6:$AL$150,3,0)/43560)","v":""},{"$f":"IF(A51=\"\",\"\",VLOOKUP(A51,'RIDOT STU History (outputs)'!$A$6:$AL$150,5,0)/43560)","v":""},{"$f":"IF(A51=\"\",\"\",VLOOKUP(A51,'RIDOT STU History (outputs)'!$A$6:$AL$150,2,0))","v":""},{"$f":"IF(A51=\"\",\"\",VLOOKUP(A51,'RIDOT STU History (outputs)'!$A$6:$AL$150,30,0))","v":""},{"$f":"IF(A51=\"\",\"\",ROUND(VLOOKUP(A51,'RIDOT STU History (outputs)'!$A$6:$AL$150,10,0),2)&\" / \"&ROUND(VLOOKUP(A51,'RIDOT STU History (outputs)'!$A$6:$AL$150,9,0),1)&\"%\")","v":""},{"$f":"IF(A51=\"\",\"\",ROUND(VLOOKUP(A51,'RIDOT STU History (outputs)'!$A$6:$AL$150,25,0),2)&\" / \"&ROUND(VLOOKUP(A51,'RIDOT STU History (outputs)'!$A$6:$AL$150,24,0),1)&\"%\")","v":""},{"$f":"IF(A51=\"\",\"\",ROUND(VLOOKUP(A51,'RIDOT STU History (outputs)'!$A$6:$AL$150,15,0),2)&\" / \"&ROUND(VLOOKUP(A51,'RIDOT STU History (outputs)'!$A$6:$AL$150,14,0),1)&\"%\")","v":""},{"$f":"IF(A51=\"\",\"\",VLOOKUP(A51,'RIDOT STU History (outputs)'!$A$6:$AL$79,27,0))","v":""},{"$f":"IF(A51=\"\",\"\",VLOOKUP(A51,'RIDOT STU History (outputs)'!$A$6:$AL$150,35,0))","v":""},{"$f":"IF(A51=\"\",\"\",VLOOKUP(A51,'RIDOT STU History (outputs)'!$A$6:$AL$150,36,0))","v":""},{"$f":"IF(A51=\"\",\"\",VLOOKUP(A51,STU_Cost!$A$6:$G$150,6,0))","v":""},{"$f":"IF(A51=\"\",\"\",VLOOKUP(A51,STU_Cost!$A$6:$G$150,7,0))","v":""}]
[null,{"$f":"IF(A52=\"\",\"\",VLOOKUP(A52,STU!$A$5:$S$300,7,0))","v":""},{"$f":"IF(A52=\"\",\"\",VLOOKUP(A52,'RIDOT STU History (outputs)'!$A$6:$AL$150,3,0)/43560)","v":""},{"$f":"IF(A52=\"\",\"\",VLOOKUP(A52,'RIDOT STU History (outputs)'!$A$6:$AL$150,5,0)/43560)","v":""},{"$f":"IF(A52=\"\",\"\",VLOOKUP(A52,'RIDOT STU History (outputs)'!$A$6:$AL$150,2,0))","v":""},{"$f":"IF(A52=\"\",\"\",VLOOKUP(A52,'RIDOT STU History (outputs)'!$A$6:$AL$150,30,0))","v":""},{"$f":"IF(A52=\"\",\"\",ROUND(VLOOKUP(A52,'RIDOT STU History (outputs)'!$A$6:$AL$150,10,0),2)&\" / \"&ROUND(VLOOKUP(A52,'RIDOT STU History (outputs)'!$A$6:$AL$150,9,0),1)&\"%\")","v":""},{"$f":"IF(A52=\"\",\"\",ROUND(VLOOKUP(A52,'RIDOT STU History (outputs)'!$A$6:$AL$150,25,0),2)&\" / \"&ROUND(VLOOKUP(A52,'RIDOT STU History (outputs)'!$A$6:$AL$150,24,0),1)&\"%\")","v":""},{"$f":"IF(A52=\"\",\"\",ROUND(VLOOKUP(A52,'RIDOT STU History (outputs)'!$A$6:$AL$150,15,0),2)&\" / \"&ROUND(VLOOKUP(A52,'RIDOT STU History (outputs)'!$A$6:$AL$150,14,0),1)&\"%\")","v":""},{"$f":"IF(A52=\"\",\"\",VLOOKUP(A52,'RIDOT STU History (outputs)'!$A$6:$AL$79,27,0))","v":""},{"$f":"IF(A52=\"\",\"\",VLOOKUP(A52,'RIDOT STU History (outputs)'!$A$6:$AL$150,35,0))","v":""},{"$f":"IF(A52=\"\",\"\",VLOOKUP(A52,'RIDOT STU History (outputs)'!$A$6:$AL$150,36,0))","v":""},{"$f":"IF(A52=\"\",\"\",VLOOKUP(A52,STU_Cost!$A$6:$G$150,6,0))","v":""},{"$f":"IF(A52=\"\",\"\",VLOOKUP(A52,STU_Cost!$A$6:$G$150,7,0))","v":""}]
["Total",null,{"$f":"IF($A$7=\"\",\"\",SUM(C7:C52))","v":""},{"$f":"IF($A$7=\"\",\"\",SUM(D7:D52))","v":""},null,{"$f":"IF($A$7=\"\",\"\",SUM(F7:F52))","v":""},{"$f":"Q5","v":0},{"$f":"R5","v":0},{"$f":"T5","v":0},{"$f":"IF($A$7=\"\",\"\",SUM(J7:J52))","v":""},{"$f":"IF($A$7=\"\",\"\",SUM(K7:K52))","v":""}]

{"sheet":"Table 4-A-1","index":25,"n_rows":15,"n_cols":5,"rows_kept":15,"cut":false,"hidden":false,"merged":[[3,0,3,1],[14,0,14,4],[13,0,13,4],[7,0,7,1],[6,0,6,1],[5,0,5,1],[4,0,4,1]]}
["This tab can be used as a template for Table 4-A-1 (if applicable) pulling values from the Reduction Targets tab."]
[]
["Table 4-A-1: TMDL Method: Pollutant Reduction Target Summary"]
["Applicable TMDLs:"]
["Subwatershed Total Area:",null,{"$f":"ROUND('Reduction Targets'!B4,0) & \" acres\"","v":"0 acres"}]
["Subwatershed Total IC Area (%):",null,{"$f":"ROUND('Reduction Targets'!C4,0) & \" acres\" & \" (\" &'Reduction Targets'!A9 & \")\"","v":"0 acres ()"}]
["RIDOT Contributing Total Area to Waterbody:",null,{"$f":"ROUND('Reduction Targets'!D4,2) &\" acres\"","v":"0 acres"}]
["RIDOT Contributing Total IC Area to Waterbody:",null,{"$f":"ROUND('Reduction Targets'!E4,2) &\" acres\"","v":"0 acres"}]
[]
["Pollutants of Concern*","Required TMDL Pollutant Reduction Target (%)","Pollutant Load Rate (lb/ac/yr)1","Current RIDOT Load (lb/yr)","Required RIDOT Pollutant Reduction Target (lb/yr)2"]
[null,{"$f":"IF(A11=\"\",\"\",VLOOKUP(A11,'Reduction Targets'!$A$13:$D$19,2,0))","v":""},{"$f":"IF(A11=\"\",\"\",IF(A11=\"Phosphorus\",'Pollutant Loading Rates'!$C$9,IF(A11=\"Nitrogen\",'Pollutant Loading Rates'!$E$9,'Pollutant Loading Rates'!$F$9)))","v":""},{"$f":"IF(A11=\"\",\"\",ROUND(VLOOKUP(A11,'Reduction Targets'!$A$13:$D$19,3,0),1)&\" lb/yr\")","v":""},{"$f":"IF(A11=\"\",\"\",ROUND(VLOOKUP(A11,'Reduction Targets'!$A$13:$D$19,4,0),1) & \" lb/yr\")","v":""}]
[null,{"$f":"IF(A12=\"\",\"\",VLOOKUP(A12,'Reduction Targets'!$A$13:$D$19,2,0))","v":""},{"$f":"IF(A12=\"\",\"\",IF(A12=\"Phosphorus\",'Pollutant Loading Rates'!$C$9,IF(A12=\"Nitrogen\",'Pollutant Loading Rates'!$E$9,'Pollutant Loading Rates'!$F$9)))","v":""},{"$f":"IF(A12=\"\",\"\",ROUND(VLOOKUP(A12,'Reduction Targets'!$A$13:$D$19,3,0),1)&\" lb/yr\")","v":""},{"$f":"IF(A12=\"\",\"\",ROUND(VLOOKUP(A12,'Reduction Targets'!$A$13:$D$19,4,0),1) & \" lb/yr\")","v":""}]
[null,{"$f":"IF(A13=\"\",\"\",VLOOKUP(A13,'Reduction Targets'!$A$13:$D$19,2,0))","v":""},{"$f":"IF(A13=\"\",\"\",IF(A13=\"Phosphorus\",'Pollutant Loading Rates'!$C$9,IF(A13=\"Nitrogen\",'Pollutant Loading Rates'!$E$9,'Pollutant Loading Rates'!$F$9)))","v":""},{"$f":"IF(A13=\"\",\"\",ROUND(VLOOKUP(A13,'Reduction Targets'!$A$13:$D$19,3,0),1)&\" lb/yr\")","v":""},{"$f":"IF(A13=\"\",\"\",ROUND(VLOOKUP(A13,'Reduction Targets'!$A$13:$D$19,4,0),1) & \" lb/yr\")","v":""}]
["1 Pollutant loading rate is based upon USGS SELDM Analysis.  Zinc used as a surrogate for all metals."]
["2 Total required pollutant load reduction (lb/yr) calculated as the required pollutant load reduction percentage multiplied by the pollutant loading rate (lb/ac/yr) multiplied by the area of RIDOT impervious cover in the subwatershed that discharges to the impaired water body segment."]

{"sheet":"Table 4-A-2","index":26,"n_rows":12,"n_cols":2,"rows_kept":12,"cut":false,"hidden":false,"merged":[]}
["This tab can be used as a template for Table 4-A-2 (if applicable) pulling values from the Reduction Targets tab."]
["Note to user: Pollutants of concern refer to stormwater pollutants not covered by a TMDL."]
[]
["Table 4-A-2: Impervious Cover Method: IC Reduction Target Summary"]
["Subwatershed Total Area:",{"$f":"ROUND('Reduction Targets'!B4,0) & \" acres\"","v":"0 acres"}]
["Subwatershed Total IC Area (%):",{"$f":"IF('Reduction Targets'!C4=\"\",\"\",ROUND('Reduction Targets'!C4,0)&\" acres (\"& ROUND('Reduction Targets'!A9,2)*100&\"%)\")","v":""}]
["Subwatershed Target IC (10%):",{"$f":"IF('Reduction Targets'!B9=\"\",\"acres\",ROUND('Reduction Targets'!B9,0) & \" acres\")","v":"acres"}]
["Subwatershed IC Reduction Target:",{"$f":"IF('Reduction Targets'!C9=\"\",\"\",'Reduction Targets'!C9/100)","v":""}]
["RIDOT Contributing Total Area to Waterbody:",{"$f":"ROUND('Reduction Targets'!D4,1) & \" acres\"","v":"0 acres"}]
["RIDOT Contributing Total IC Area to Waterbody:",{"$f":"ROUND('Reduction Targets'!E4,1) & \" acres\"","v":"0 acres"}]
["RIDOT IC Reduction Target:",{"$f":"IF('Reduction Targets'!D9=\"\",\"\",ROUND('Reduction Targets'!D9,1) & \" acres\")","v":""}]
["Pollutants of Concern:"]

{"sheet":"STU Definitions","index":27,"n_rows":36,"n_cols":4,"rows_kept":36,"cut":false,"hidden":true,"merged":[[11,4,12,4],[1,0,1,3]]}
["STU definitions and treatment categories used in water quality calculations. "]
["See the Water Quality Methodology report for more information on EPA Treatment Categories and Storage Volume Calculations.  \nSee RIDOT Linear Stormwater Manual for more information on structural STU descriptions and design.  "]
[]
["STU","Definition","EPA Treatment Category","Storage Volume Calculation"]
["Agriculture Buffer","Agriculture buffers are vegetated areas placed between agricultural land uses and receiving waters such as ponds, wetlands, and rivers. ","See Water Quality Methodology Report","NA"]
["Bioretention Basin","Open surface basin that filters runoff. Shallow underdrained surface basin that uses specialized vegetation and soil media design for treatment.                                                                      \nNote to user: Bioretention definition assumes an underdrain.","Bioretention","Ponding water volume and void space volume of soil filter media."]
["Bioretention Curb Extension Planter","Bioretention planter that protrudes into roadway to create a \"bump-out\"\nNote to user: Bioretention definition assumes an underdrain.","Bioretention","Ponding water volume and void space volume of soil filter media."]
["Bioretention Curb Inlet Planter","Bioretention planter adjacent to a roadway that filters runoff. \nNote to user: Bioretention definition assumes an underdrain.","Bioretention","Ponding water volume and void space volume of soil filter media."]
["Bioretention Parking Lane Adjacent Planter","Bioretention planter separated from the roadway by a sidewalk. \nNote to user: Bioretention definition assumes an underdrain.","Bioretention","Ponding water volume and void space volume of soil filter media."]
["Bioretention Swale","Open channel bioretention system that filters runoff. Vegetated open channel with underdrain that uses specialized vegetation and soil media design for treatment.\nNote to user: Bioretention definition assumes an underdrain.","Bioretention","Cumulative water volume stored behind check dams plus void space volume of soil filter media.  Note: When calculating storage volume for SCP planning purposes (i.e., STU Storage Volume tab), estimate using overall swale length."]
["Extended Detention Basin","Surface basin designed to attenuate peak discharge rates and hold stormwater for 24 to 72 hours to allow solids to settle.","Extended Dry Detention","Ponding volume prior to bypass."]
["Floodplain Reconnection","Floodplain reconnection is the development of additional/enhanced floodplain for a given stream corridor.  The floodplain allows for storage and treatment of riverine flows.  ","Gravel Wetland","NA"]
["Gravel WVTS","Subsurface gravel substrate with a dense surface of wetland plants. Surface basin with one or more subsurface cells containing microbe-rich gravel substrate designed for horizontal flow.","Gravel Wetland","Pretreatment volume + ponding volume + void space volume of soil and gravel substrate. Note: When calculating storage volume for SCP planning purposes (i.e. STU Storage Volume tab), pretreatment volume may be included in the Ponding (Surface) volume. "]
["Hydrodynamic Separator","A group of stormwater treatment technologies designed to remove large particle total suspended solids and large oil droplets, consisting primarily of cylindrical-shaped devices that are designed to fit in or adjacent to existing stormwater drainage systems.","Various sources - see Water Quality Methodology Report","NA"]
["Infiltration Basin","Open surface basin that infiltrates runoff. Surface basins designed to detain stormwater and release it to groundwater via infiltration.","Shallow Infiltration","Water volume retained - before bypass."]
["Infiltration Gutter","Subsurface chambers along a roadway. ","Deep Infiltration ","Water storage volume of chambers or galleries (as applicable) and void space volume within the aggregate layer. Note: When calculating storage volume for SCP planning purposes (i.e., STU Storage Volume tab), the water storage of chambers or galleries may be reported as the Ponding (Surface) Volume. "]
["Infiltration Swale","Vegetated open channel constructed over permeable soils that includes check dams and/or outlet control to retain water for infiltration.","Shallow Infiltration","Cumulative water volume retained behind check dams. Note: When calculating storage volume for SCP planning purposes (i.e., STU Storage Volume tab), estimate using overall swale length."]
["Infiltration Trench","Crushed stone trench that infiltrates runoff. ","Deep Infiltration","Void space volume within the aggregate layer. "]
["Leaching Basin","Subsurface vault that infiltrates runoff. Pre-cast concrete manhole structure with perforated sides and bottom used to infiltrate stormwater (also known as Drywell).","Deep Infiltration","Water storage volume of structure below outlet plus void space volumes of stone. Note: When calculating storage volume for SCP planning purposes (i.e., STU Storage Volume tab), the water storage volume of the structure may be reported as the Ponding (Surface) volume. "]
["Oil/Grit Separator ","Underground storage tank with three chambers designed to remove heavy particulates, floating debris, and hydrocarbons from stormwater.  This category also includes proprietary separators that isolate oils/grease and solids.  These STUs do not currently receive water quality credit as stand-only STUs.","--","No treatment given to these structures."]
["Other","Examples include, but are not limited to, proprietary media filters and organic filters. Do not include STU accessories, drainage channels, and sediment forebays in this or any other category.  Also, do not include deep sump catch basins. ",null,"As applicable, provide the volume of the STU that provides water quality treatment. "]
["Pavement Removal ","Area of impervious cover that is converted to pervious cover. ","Receives 100% credit","NA"]
["Pervious Land Enhancement","Improving pervious cover soil and vegetation quality can provide water quality benefits.  The introduction of quality soils and vegetation provides peak rate attenuation of stormwater runoff, reduction of stormwater runoff volume, and improved water quality treatment. ","See Water Quality Methodology Report","NA"]
["Porous Pavement","Pavement that captures and infiltrates runoff. Pavement system designed to allow stormwater to infiltrate through a permeable surface, base, and sub-base.                                             \nNote to user: This porous pavement definition assumes pavement will only be proposed in areas where infiltration is possible. ","Shallow Infiltration","Void volume of stone reservoir."]
["Porous Pavement (with underdrain)","Pavement that captures and infiltrates runoff. Pavement system designed to allow stormwater to infiltrate through a permeable surface, base, and sub-base.                                             \nNote to user: This porous pavement definition assumes pavement will only be proposed with an underdrain. ","Porous Pavement","Void volume of stone reservoir above underdrain. "]
["Porous Pavement with Storage","Pavement that captures and infiltrates runoff with additional storage. Pavement system designed to allow stormwater to infiltrate through a permeable surface, base, and sub-base.                                             \nNote to user: This porous pavement definition assumes pavement will only be proposed in areas where infiltration is possible. ","Shallow Infiltration","Void volume of stone reservoir."]
["QPA/Filter Strip","Landscaped area that filters runoff draining across it. Uniformly sloped, vegetated surfaces that are designed to reduce runoff velocities, provide a natural-surface disconnection between impervious surfaces and provide water quality treatment.","Receives 100% credit per DEM","NA"]
["Sand Filter","Surface basin that filters runoff through sand media. A filtering practice that treats stormwater by settling out larger particles in a sediment chamber, and then by filtering stormwater through a surface or underground sand matrix.","Sand Filter","Ponding water volume and void space volume of sand."]
["Transportation Improvement Program (TIP)","Represents STUs that will be constructed during redevelopment projects. ","50% treatment is assumed for these STUs, which represent a project site. ","NA"]
["Tree Filter","Tree planters that filter runoff.\nNote to user: This definitions assumes tree filters will only be proposed with an underdrain.","Bioretention","Ponding water volume and void space volume of soil filter media."]
["Tree Filter with Storage","Tree planters that filter runoff with additional storage. ","Deep Infiltration","Ponding water volume and void space volume of soil filter media (or any subsurface infiltration chambers). "]
["Underground Infiltration System","Subsurface chambers along a roadway. Underground systems designed to detain stormwater and release it to groundwater via infiltration. May include trenches, galleries, and chambers.","Deep Infiltration","Water storage volume of chambers or galleries (as applicable) and void space volume within the aggregate layer. Note: When calculating storage volume for SCP planning purposes (i.e., STU Storage Volume tab), the water storage of chambers or galleries may be reported as the Ponding (Surface) Volume. "]
["Urban Tree Canopy","Vegetation, specifically trees, improves water quality runoff in urban areas by filtering runoff as it passes through the ground as well as through uptake nutrients and other contaminants. ","See Water Quality Methodology Report","NA"]
["Wet Pond","Surface basin designed to maintain a permanent pool of water and detain stormwater to attenuate peak discharge rates.","Wet Pond","Permanent pool volume prior to bypass."]
["Wet Swale","Vegetated open channel designed to maintain a permanent pool of water via outlet control and detain stormwater to attenuate peak discharge rates.","Wet Pond","Permanent pool volume prior to bypass."]
["Wet Vegetated Treatment System (WVTS)","Surface basin designed to simulate wetland conditions by providing zones of varied and diverse moisture and vegetation conditions.","Gravel Wetland","Permament pool volume prior to bypass."]

{"sheet":"STU Cost Estimates","index":28,"n_rows":27,"n_cols":3,"rows_kept":27,"cut":false,"hidden":true,"merged":[]}
["STU Design and Construction and Maintenance costs."]
["Notes to User: \nUnit costs adapted from EPA Memo \"Methodology for developing cost estimates for Opti-Tool\", dated February 20, 2016 using a cost adjustment factor of 2 (New BMP in developed area)."]
["Cost for wet vegetated treatment system was taken as the average of construction and design costs for a wet pond and gravel WVTS. "]
["Construction and Design costs for leaching basins were assumed to be $508,200 per treated acre based on leaching basin typical volumes."]
[]
["STU Type","Construction and Design ($/ft^3)","Maintenance Cost                ($/year)"]
["Bioretention Basin",30.9,1890]
["Bioretention Curb Extension Planter",30.9,1890]
["Bioretention Curb Inlet Planter",30.9,1890]
["Bioretention Parking Lane Adjacent Planter",30.9,1890]
["Bioretention Swale",30.9,1890]
["Extended Detention Basin",13.6,2380]
["Gravel Wetland (WVTS)",17.600000000000001,2140]
["Infiltration Basin",12.5,2380]
["Infiltration Gutter",135.69999999999999,2810]
["Infiltration Swale",12.5,2380]
["Infiltration Trench",135.69999999999999,2810]
["Leaching Basin","NA",2810]
["Porous Pavement",36.1,1080]
["Porous Pavement with storage",36.1,1080]
["Sand Filter",35.9,2807.5]
["Tree Filter",30.9,1890]
["Tree Filter with Storage",135.69999999999999,2810]
["Underground Infiltration System",135.69999999999999,2810]
["Wet Pond",13.6,3060]
["Wet Swale",13.6,3060]
["Wet Vegetated Treatment System",{"$f":"AVERAGE(B18,B26)","v":13.6},{"$f":"AVERAGE(C18,C26)","v":2935}]

{"sheet":"Pollutant Loading Rates","index":29,"n_rows":22,"n_cols":7,"rows_kept":22,"cut":false,"hidden":true,"merged":[[2,2,2,5]]}
["Pollutant loading rates by land use category used to calculate loading rates for all catchments.  These values should not be altered."]
[]
[null,null,"Load Export Rate, lb/ac/yr",null,null,null,"#col/100mL"]
["Land Use Category","Land Surface Cover","P","TSS","N","Zn","Bacteria"]
["Commercial","Directly Connected Impervious",1.78,376.47,15.040999999999999,1.3706,4600]
["Industrial","Directly Connected Impervious",1.78,376.47,15.040999999999999,1.3706,2400]
["Institutional","Directly Connected Impervious",1.78,376.47,15.040999999999999,1.3706]
["Residential","Directly Connected Impervious",2.3140000000000001,437.88,14.062000000000001,0.70310000000000006,7000]
["Highway","Directly Connected Impervious",1.335,613,8.4,1.2290000000000001,1700]
["Forest","Directly Connected Impervious",1.5129999999999999,647.91999999999996,11.302999999999999,0.70310000000000006]
["Open Land","Directly Connected Impervious",1.5129999999999999,647.91999999999996,11.302999999999999,0.98790000000000011,300]
["Agriculture","Directly Connected Impervious",1.5129999999999999,647.91999999999996,11.302999999999999,0.70310000000000006]
["Forest","Pervious",0.11570000000000001,29.37,0.53400000000000003,0.04]
["Agriculture","Pervious",0.44500000000000001,29.37,2.581,2.2250000000000002E-2]
["Developed Land Pervious (HSG B) - RIDOT ROW","Pervious",0.11570000000000001,29.37,0.88,2.2250000000000002E-2]
["Developed Land Pervious (HSG B) - NonRIDOT Pervious","Pervious",0.11570000000000001,29.37,1.157,2.2250000000000002E-2]
[]
["USGS SELDM Values"]
["EPA Values"]
["EPA Values, equal to Developed Land Pervious HSG B"]
["EPA Modified Values"]
["Rhode Island Stormwater Design and Installation Standards Manual"]

{"sheet":"STU Treatment Values","index":30,"n_rows":201,"n_cols":47,"rows_kept":201,"cut":false,"hidden":true,"merged":[[3,25,3,34],[3,37,3,46],[27,1,27,10],[27,13,27,22],[27,25,27,34],[27,37,27,46],[127,1,127,10],[152,1,152,10],[177,1,177,10],[3,1,3,10],[3,13,3,22],[52,1,52,10],[77,1,77,10],[102,1,102,10]]}
["STU pollutant treatment values used in water quality calculations to calculate treatment credit.  These values should not be altered."]
[]
[]
["Total Phosphorus","Depth of Runoff Treated from Impervious Area (inches) (>50% IC)",null,null,null,null,null,null,null,null,null,null,"Total Suspended Solids","Depth of Runoff Treated from Impervious Area (inches) (>50% IC)",null,null,null,null,null,null,null,null,null,null,"Total Nitrogen","Depth of Runoff Treated from Impervious Area (inches) (>50% IC)",null,null,null,null,null,null,null,null,null,null,"Total Zinc","Depth of Runoff Treated from Impervious Area (inches) (>50% IC)"]
["Treatment Category:",0,0.1,0.2,0.4,0.6,0.8,1,1.5,2,20,null,"Treatment Category:",0,0.1,0.2,0.4,0.6,0.8,1,1.5,2,20,null,"Treatment Category:",0,0.1,0.2,0.4,0.6,0.8,1,1.5,2,20,null,"Treatment Category:",0,0.1,0.2,0.4,0.6,0.8,1,1.5,2,20]
["Shallow Infiltration (sandy clay loam)",0,0.35,0.52,0.72,0.82,0.88,0.92,0.97,0.99,{"$f":"J6","v":0.99},null,"Shallow Infiltration (sandy clay loam)",0,0.64,0.8,0.93,0.98,0.99,1,1,1,{"$f":"V6","v":1},null,"Shallow Infiltration (sandy clay loam)",0,0.52,0.69,0.85,0.92,0.96,0.98,0.99,1,{"$f":"AH6","v":1},null,"Shallow Infiltration (sandy clay loam)",0,0.71,0.86,0.96,0.98,0.99,1,1,1,{"$f":"AT6","v":1}]
["Shallow Infiltration (silt loam)",0,0.37,0.54,0.74,0.85,0.9,0.93,0.98,0.99,0.99,null,"Shallow Infiltration (silt loam)",0,0.65,0.81,0.94,0.98,0.99,1,1,1,1,null,"Shallow Infiltration (silt loam)",0,0.54,0.71,0.87,0.93,0.97,0.98,0.99,1,1,null,"Shallow Infiltration (silt loam)",0,0.73,0.88,0.97,0.99,1,1,1,1,1]
["Shallow Infiltration (loam)",0,0.38,0.56000000000000005,0.77,0.87,0.92,0.95,0.98,0.99,0.99,null,"Shallow Infiltration (loam)",0,0.65,0.83,0.95,0.99,0.99,1,1,1,1,null,"Shallow Infiltration (loam)",0,0.56000000000000005,0.74,0.89,0.94,0.98,0.99,1,1,1,null,"Shallow Infiltration (loam)",0,0.75,0.9,0.98,0.99,1,1,1,1,1]
["Shallow Infiltration (sandy loam)",0,0.41,0.6,0.81,0.9,0.94,0.97,0.99,1,1,null,"Shallow Infiltration (sandy loam)",0,0.67,0.94,0.96,0.99,1,1,1,1,1,null,"Shallow Infiltration (sandy loam)",0,0.59,0.77,0.92,0.96,0.98,1,1,1,1,null,"Shallow Infiltration (sandy loam)",0,0.78,0.92,0.99,1,1,1,1,1,1]
["Shallow Infiltration (loamy sand)",0,0.46,0.67,0.87,0.94,0.97,0.98,1,1,1,null,"Shallow Infiltration (loamy sand)",0,0.7,0.88,0.98,1,1,1,1,1,1,null,"Shallow Infiltration (loamy sand)",0,0.64,0.82,0.95,0.98,0.99,1,1,1,1,null,"Shallow Infiltration (loamy sand)",0,0.82,0.95,1,1,1,1,1,1,1]
["Shallow Infiltration (sand)",0,0.59,0.81,0.96,0.99,1,1,1,1,1,null,"Shallow Infiltration (sand)",0,0.79,0.95,1,1,1,1,1,1,1,null,"Shallow Infiltration (sand)",0,0.75,0.92,0.99,1,1,1,1,1,1,null,"Shallow Infiltration (sand)",0,0.91,0.99,1,1,1,1,1,1,1]
["Deep Infiltration (sandy clay loam)",0,0.18,0.33,0.56999999999999995,0.73,0.83,0.9,0.97,0.99,0.99,null,"Deep Infiltration (sandy clay loam)",0,0.32,0.56000000000000005,0.84,0.95,0.98,0.99,1,1,1,null,"Deep Infiltration (sandy clay loam)",0,0.56000000000000005,0.72,0.87,0.93,0.96,0.98,0.99,1,1,null,"Deep Infiltration (sandy clay loam)",0,0.51,0.77,0.94,0.98,0.99,0.99,1,1,1]
["Deep Infiltration (silt loam)",0,0.2,0.37,0.63,0.78,0.86,0.92,0.97,0.99,0.99,null,"Deep Infiltration (silt loam)",0,0.36,0.51,0.88,0.97,0.99,1,1,1,1,null,"Deep Infiltration (silt loam)",0,0.56999999999999995,0.74,0.88,0.94,0.97,0.98,0.99,1,1,null,"Deep Infiltration (silt loam)",0,0.56999999999999995,0.84,0.97,0.99,0.99,1,1,1,1]
["Deep Infiltration (loam)",0,0.23,0.42,0.68,0.82,0.89,0.94,0.98,0.99,0.99,null,"Deep Infiltration (loam)",0,0.4,0.66,0.91,0.98,0.99,1,1,1,1,null,"Deep Infiltration (loam)",0,0.59,0.76,0.9,0.95,0.98,0.99,1,1,1,null,"Deep Infiltration (loam)",0,0.65,0.9,0.98,0.99,1,1,1,1,1]
["Deep Infiltration (sandy loam)",0,0.27,0.47,0.73,0.86,0.92,0.96,0.99,1,1,null,"Deep Infiltration (sandy loam)",0,0.44,0.7,0.93,0.99,1,1,1,1,1,null,"Deep Infiltration (sandy loam)",0,0.61,0.78,0.92,0.97,0.98,0.99,1,1,1,null,"Deep Infiltration (sandy loam)",0,0.72,0.94,0.99,1,1,1,1,1,1]
["Deep Infiltration (loamy sand)",0,0.33,0.55000000000000004,0.81,0.91,0.96,0.98,1,1,1,null,"Deep Infiltration (loamy sand)",0,0.5,0.77,0.97,1,1,1,1,1,1,null,"Deep Infiltration (loamy sand)",0,0.65,0.83,0.95,0.98,0.99,1,1,1,1,null,"Deep Infiltration (loamy sand)",0,0.81,0.98,1,1,1,1,1,1,1]
["Deep Infiltration (sand)",0,0.5,0.75,0.94,0.98,0.99,1,1,1,1,null,"Deep Infiltration (sand)",0,0.92,0.98,1,1,1,1,1,1,1,null,"Deep Infiltration (sand)",0,0.76,0.92,0.98,1,1,1,1,1,1,null,"Deep Infiltration (sand)",0,0.93,1,1,1,1,1,1,1,1]
["Extended Dry Detention ",0,0.03,0.06,0.08,0.09,0.11,0.12,0.13,0.14000000000000001,0.14000000000000001,null,"Extended Dry Detention ",0,0.18,0.31,0.38,0.4,0.44,0.46,0.47,0.49,0.49,null,"Extended Dry Detention ",0,1.4014285714285712E-2,2.9098666666666672E-2,5.6940540540540541E-2,8.5569696969696962E-2,0.11261180555555556,0.1276377358490566,0.18738160919540231,0.23130158730158731,0.23130158730158731,null,"Extended Dry Detention ",0,0.53,0.67,0.68,0.69,0.72,0.73,0.74,0.76,0.76]
["Bioretention",0,0.14000000000000001,0.25,0.37,0.44,0.48,0.53,0.57999999999999996,0.63,0.63,null,"Bioretention",0,0.44,0.69,0.91,0.97,0.98,0.99,1,1,1,null,"Bioretention",0,0.09,0.16,0.23,0.28000000000000003,0.31,0.32,0.37,0.4,0.4,null,"Bioretention",0,0.68,0.88,0.95,0.96,0.96,0.97,0.98,0.99,0.99]
["Sand Filter",0,0.14000000000000001,0.25,0.37,0.44,0.48,0.53,0.57999999999999996,0.63,0.63,null,"Sand Filter",0,0.44,0.69,0.91,0.97,0.98,0.99,1,1,{"$f":"V20","v":1},null,"Sand Filter",0,0.09,0.16,0.23,0.28000000000000003,0.31,0.32,0.37,0.4,0.4,null,"Sand Filter",0,0.68,0.88,0.95,0.96,0.96,0.97,0.98,0.99,{"$f":"AT20","v":0.99}]
["Oil/Grit Separator",0,0,0,0,0,0,0,0,0,0,null,"Oil/Grit Separator",0,0,0,0,0,0,0,0,0,0,null,"Oil/Grit Separator",0,0,0,0,0,0,0,0,0,0,null,"Oil/Grit Separator",0,0,0,0,0,0,0,0,0,0]
["Hydrodynamic Separator",0.1,0.1,0.1,0.1,0.1,0.1,0.1,0.1,0.1,0.1,null,"Hydrodynamic Separator",0.25,0.25,0.25,0.25,0.25,0.25,0.25,0.25,0.25,0.25,null,"Hydrodynamic Separator",0,0,0,0,0,0,0,0,0,0,null,"Hydrodynamic Separator",0,0,0,0,0,0,0,0,0,0]
["Gravel Wetland",0,0.19,0.26,0.41,0.51,0.56999999999999995,0.61,0.65,0.66,0.66,null,"Gravel Wetland",0,0.48,0.61,0.82,0.91,0.95,0.97,0.99,0.99,0.99,null,"Gravel Wetland",0,0.22,0.33,0.48,0.56999999999999995,0.64,0.68,0.74,0.79,0.79,null,"Gravel Wetland",0,0.56999999999999995,0.68,0.83,0.88,0.9,0.9,0.91,0.92,0.92]
["Wet Pond",0,0.14000000000000001,0.25,0.37,0.44,0.48,0.53,0.57999999999999996,0.63,0.63,null,"Wet Pond",0,0.3,0.44,0.6,0.68,0.74,0.77,0.83,0.86,0.86,null,"Wet Pond",0,0.09,0.16,0.23,0.28000000000000003,0.31,0.32,0.37,0.4,0.4,null,"Wet Pond",0,0.59,0.71,0.8,0.85,0.87,0.89,0.92,0.93,0.93]
["Vegetated Filter Strip/Qualifying Pervious Area",1,1,1,1,1,1,1,1,1,1,null,"Vegetated Filter Strip/Qualifying Pervious Area",1,1,1,1,1,1,1,1,1,1,null,"Vegetated Filter Strip/Qualifying Pervious Area",1,1,1,1,1,1,1,1,1,1,null,"Vegetated Filter Strip/Qualifying Pervious Area",1,1,1,1,1,1,1,1,1,1]
["D-Soils (infiltrating STUs only)",0,0,0,0,0,0,0,0,0,0,null,"D-Soils (infiltrating STUs only)",0,0,0,0,0,0,0,0,0,0,null,"D-Soils (infiltrating STUs only)",0,0,0,0,0,0,0,0,0,0,null,"D-Soils (infiltrating STUs only)",0,0,0,0,0,0,0,0,0,0]
["TIP",0.45,0.45,0.45,0.45,0.45,0.45,0.45,0.45,0.45,0.45,null,"TIP",0.45,0.45,0.45,0.45,0.45,0.45,0.45,0.45,0.45,0.45,null,"TIP",0.45,0.45,0.45,0.45,0.45,0.45,0.45,0.45,0.45,0.45,null,"TIP",0.45,0.45,0.45,0.45,0.45,0.45,0.45,0.45,0.45,0.45]
["Total Phosphorus","Depth of Runoff Treated from Impervious Area (inches) (<50% IC)",null,null,null,null,null,null,null,null,null,null,"Total Suspended Solids","Depth of Runoff Treated from Impervious Area (inches) (<50% IC)",null,null,null,null,null,null,null,null,null,null,"Total Nitrogen","Depth of Runoff Treated from Impervious Area (inches) (<50% IC)",null,null,null,null,null,null,null,null,null,null,"Total Zinc","Depth of Runoff Treated from Impervious Area (inches) (<50% IC)"]
["Treatment Category:",0,0.1,0.2,0.4,0.6,0.8,1,1.5,2,20,null,"Treatment Category:",0,0.1,0.2,0.4,0.6,0.8,1,1.5,2,20,null,"Treatment Category:",0,0.1,0.2,0.4,0.6,0.8,1,1.5,2,20,null,"Treatment Category:",0,0.1,0.2,0.4,0.6,0.8,1,1.5,2,20]
["Shallow Infiltration (sandy clay loam)",0,0.35,0.52,0.72,0.80487755102040803,0.86483775510204086,0.90652244897959189,0.95434087463556849,0.97760624419825071,{"$f":"J30","v":0.97760624419825071},null,"Shallow Infiltration (sandy clay loam)",0,0.64,0.8,0.93,0.97243877551020408,0.9874729591836735,0.99663061224489791,1,1,{"$f":"V30","v":1},null,"Shallow Infiltration (sandy clay loam)",0,0.52,0.69,0.85,0.90941428571428573,0.94989183673469391,0.97326122448979591,0.98686817492711365,0.99380312209912536,{"$f":"AH30","v":0.99380312209912536},null,"Shallow Infiltration (sandy clay loam)",0,0.71,0.86,0.96,0.97697551020408158,0.9874729591836735,0.99663061224489791,1,1,{"$f":"AT30","v":1}]
["Shallow Infiltration (silt loam)",0,0.37,0.54,0.74,0.83336530612244897,0.88736479591836737,0.91989183673469388,0.9643408746355685,0.98380312209912535,0.98380312209912535,null,"Shallow Infiltration (silt loam)",0,0.65,0.81,0.94,0.97395102040816328,0.9874729591836735,0.99663061224489791,1,1,1,null,"Shallow Infiltration (silt loam)",0,0.54,0.71,0.87,0.92092653061224494,0.95989183673469392,0.97663061224489789,0.98686817492711365,0.99380312209912536,0.99380312209912536,null,"Shallow Infiltration (silt loam)",0,0.73,0.88,0.97,0.98697551020408159,0.99747295918367351,1,1,1,1]
["Shallow Infiltration (loam)",0,0.38,0.56000000000000005,0.77,0.85487755102040808,0.90736479591836738,0.9398918367346939,0.97060452478134107,0.98380312209912535,0.98380312209912535,null,"Shallow Infiltration (loam)",0,0.65,0.83,0.95,0.98395102040816329,0.99,0.99663061224489791,1,1,1,null,"Shallow Infiltration (loam)",0,0.56000000000000005,0.74,0.89,0.93243877551020404,0.96989183673469381,0.9866306122448979,0.99686817492711366,1,1,null,"Shallow Infiltration (loam)",0,0.75,0.9,0.98,0.98848775510204079,0.99747295918367351,1,1,1,1]
["Shallow Infiltration (sandy loam)",0,0.41,0.6,0.81,0.88638979591836731,0.92989183673469389,0.9598918367346938,0.98373634985422742,0.99380312209912536,0.99380312209912536,null,"Shallow Infiltration (sandy loam)",0,0.67,0.94,0.96,0.98546326530612238,0.99747295918367351,1,1,1,1,null,"Shallow Infiltration (sandy loam)",0,0.59,0.77,0.92,0.95395102040816326,0.9749459183673469,0.99326122448979592,1,1,1,null,"Shallow Infiltration (sandy loam)",0,0.78,0.92,0.99,0.9984877551020408,1,1,1,1,1]
["Shallow Infiltration (loamy sand)",0,0.46,0.67,0.87,0.92941428571428564,0.9624188775510204,0.97663061224489789,0.99373634985422743,1,1,null,"Shallow Infiltration (loamy sand)",0,0.7,0.88,0.98,0.99697551020408159,1,1,1,1,1,null,"Shallow Infiltration (loamy sand)",0,0.64,0.82,0.95,0.97546326530612237,0.9874729591836735,0.99663061224489791,1,1,1,null,"Shallow Infiltration (loamy sand)",0,0.82,0.95,1,1,1,1,1,1,1]
["Shallow Infiltration (sand)",0,0.59,0.81,0.96,0.98546326530612238,0.99747295918367351,1,1,1,1,null,"Shallow Infiltration (sand)",0,0.79,0.95,1,1,1,1,1,1,1,null,"Shallow Infiltration (sand)",0,0.75,0.92,0.99,0.9984877551020408,1,1,1,1,1,null,"Shallow Infiltration (sand)",0,0.91,0.99,1,1,1,1,1,1,1]
["Deep Infiltration (sandy clay loam)",0,0.18,0.33,0.56999999999999995,0.70580408163265296,0.80472959183673465,0.8764142857142857,0.94807722448979592,0.97760624419825071,0.97760624419825071,null,"Deep Infiltration (sandy clay loam)",0,0.32,0.56000000000000005,0.84,0.93336530612244895,0.97241887755102041,0.9866306122448979,0.99686817492711366,1,1,null,"Deep Infiltration (sandy clay loam)",0,0.56000000000000005,0.72,0.87,0.92092653061224494,0.95241887755102039,0.97326122448979591,0.98686817492711365,0.99380312209912536,0.99380312209912536,null,"Deep Infiltration (sandy clay loam)",0,0.51,0.77,0.94,0.97395102040816328,0.9874729591836735,0.99,0.99686817492711366,1,1]
["Deep Infiltration (silt loam)",0,0.2,0.37,0.63,0.7573163265306122,0.83978367346938776,0.89978367346938781,0.95434087463556849,0.97760624419825071,0.97760624419825071,null,"Deep Infiltration (silt loam)",0,0.36,0.51,0.88,0.95638979591836726,0.98494591836734691,0.99663061224489791,1,1,1,null,"Deep Infiltration (silt loam)",0,0.56999999999999995,0.74,0.88,0.93092653061224484,0.9624188775510204,0.97663061224489789,0.98686817492711365,0.99380312209912536,0.99380312209912536,null,"Deep Infiltration (silt loam)",0,0.56999999999999995,0.84,0.97,0.98697551020408159,0.99,0.99663061224489791,1,1,1]
["Deep Infiltration (loam)",0,0.23,0.42,0.68,0.79882857142857133,0.87231071428571427,0.92315306122448981,0.96747269970845473,0.98380312209912535,0.98380312209912535,null,"Deep Infiltration (loam)",0,0.4,0.66,0.91,0.96941428571428567,0.9874729591836735,0.99663061224489791,1,1,1,null,"Deep Infiltration (loam)",0,0.59,0.76,0.9,0.94243877551020405,0.97241887755102041,0.9866306122448979,0.99686817492711366,1,1,null,"Deep Infiltration (loam)",0,0.65,0.9,0.98,0.98848775510204079,0.99747295918367351,1,1,1,1]
["Deep Infiltration (sandy loam)",0,0.27,0.47,0.73,0.84034081632653057,0.9048377551020409,0.94652244897959181,0.98060452478134108,0.99380312209912536,0.99380312209912536,null,"Deep Infiltration (sandy loam)",0,0.44,0.7,0.93,0.98092653061224488,0.99747295918367351,1,1,1,1,null,"Deep Infiltration (sandy loam)",0,0.61,0.78,0.92,0.96243877551020407,0.9774729591836735,0.9866306122448979,0.99686817492711366,1,1,null,"Deep Infiltration (sandy loam)",0,0.72,0.94,0.99,0.9984877551020408,1,1,1,1,1]
["Deep Infiltration (loamy sand)",0,0.33,0.55000000000000004,0.81,0.89487755102040811,0.94736479591836731,0.97326122448979591,0.99373634985422743,1,1,null,"Deep Infiltration (loamy sand)",0,0.5,0.77,0.97,0.99546326530612239,1,1,1,1,1,null,"Deep Infiltration (loamy sand)",0,0.65,0.83,0.95,0.97546326530612237,0.9874729591836735,0.99663061224489791,1,1,1,null,"Deep Infiltration (loamy sand)",0,0.81,0.98,1,1,1,1,1,1,1]
["Deep Infiltration (sand)",0,0.5,0.75,0.94,0.97395102040816328,0.9874729591836735,0.99663061224489791,1,1,1,null,"Deep Infiltration (sand)",0,0.92,0.98,1,1,1,1,1,1,1,null,"Deep Infiltration (sand)",0,0.76,0.92,0.98,0.99697551020408159,1,1,1,1,1,null,"Deep Infiltration (sand)",0,0.93,1,1,1,1,1,1,1,1]
["Extended Dry Detention ",0,0.03,0.06,0.08,8.8487755102040808E-2,0.10494591836734694,0.11663061224489796,0.12686817492711369,0.13380312209912537,0.13380312209912537,null,"Extended Dry Detention ",0,0.18,0.31,0.38,0.39697551020408167,0.42989183673469389,0.45326122448979594,0.46686817492711369,0.47760624419825071,0.47760624419825071,null,"Extended Dry Detention ",0,1.4014285714285712E-2,2.9098666666666672E-2,5.6940540540540541E-2,8.1240267395410237E-2,0.10577815433995567,0.12257491729506269,0.1686708731456594,0.20408491312827573,0.20408491312827573,null,"Extended Dry Detention ",0,0.53,0.67,0.68,0.68848775510204074,0.7124188775510204,0.72663061224489789,0.73686817492711365,0.74760624419825072,0.74760624419825072]
["Bioretention",0,0.14000000000000001,0.25,0.37,0.42941428571428569,0.46989183673469387,0.51315306122448978,0.56434087463556848,0.59901561049562679,0.59901561049562679,null,"Bioretention",0,0.44,0.69,0.91,0.96092653061224487,0.9774729591836735,0.9866306122448979,0.99686817492711366,1,1,null,"Bioretention",0,0.09,0.16,0.23,0.27243877551020412,0.30241887755102043,0.31663061224489797,0.35434087463556851,0.3814093662973761,0.3814093662973761,null,"Bioretention",0,0.68,0.88,0.95,0.95848775510204076,0.96,0.96663061224489788,0.97686817492711364,0.98380312209912535,0.98380312209912535]
["Sand Filter",0,0.14000000000000001,0.25,0.37,0.42941428571428569,0.46989183673469387,0.51315306122448978,0.56434087463556848,0.59901561049562679,0.59901561049562679,null,"Sand Filter",0,0.44,0.69,0.91,0.96092653061224487,0.9774729591836735,0.9866306122448979,0.99686817492711366,1,{"$f":"V44","v":1},null,"Sand Filter",0,0.09,0.16,0.23,0.27243877551020412,0.30241887755102043,0.31663061224489797,0.35434087463556851,0.3814093662973761,0.3814093662973761,null,"Sand Filter",0,0.68,0.88,0.95,0.95848775510204076,0.96,0.96663061224489788,0.97686817492711364,0.98380312209912535,{"$f":"AT44","v":0.98380312209912535}]
["Oil/Grit Separator",0,0,0,0,0,0,0,0,0,0,null,"Oil/Grit Separator",0,0,0,0,0,0,0,0,0,0,null,"Oil/Grit Separator",0,0,0,0,0,0,0,0,0,0,null,"Oil/Grit Separator",0,0,0,0,0,0,0,0,0,0]
["Hydrodynamic Separator",0.1,0.1,0.1,0.1,0.1,0.1,0.1,0.1,0.1,0.1,null,"Hydrodynamic Separator",0.25,0.25,0.25,0.25,0.25,0.25,0.25,0.25,0.25,0.25,null,"Hydrodynamic Separator",0,0,0,0,0,0,0,0,0,0,null,"Hydrodynamic Separator",0,0,0,0,0,0,0,0,0,0]
["Gravel Wetland",0,0.19,0.26,0.41,0.49487755102040815,0.55483775510204081,0.59652244897959184,0.63747269970845477,0.65380312209912539,0.65380312209912539,null,"Gravel Wetland",0,0.48,0.61,0.82,0.89638979591836732,0.9398918367346939,0.9632612244897959,0.98373634985422742,0.99,0.99,null,"Gravel Wetland",0,0.22,0.33,0.48,0.55638979591836724,0.62231071428571427,0.6665224489795919,0.72120904956268217,0.75901561049562682,0.75901561049562682,null,"Gravel Wetland",0,0.56999999999999995,0.68,0.83,0.8724387755102041,0.89494591836734694,0.9,0.90686817492711369,0.9138031220991254,0.9138031220991254]
["Wet Pond",0,0.14000000000000001,0.25,0.37,0.42941428571428569,0.46989183673469387,0.51315306122448978,0.56434087463556848,0.59901561049562679,0.59901561049562679,null,"Wet Pond",0,0.3,0.44,0.6,0.66790204081632654,0.72483775510204085,0.75989183673469385,0.81120904956268214,0.84140936629737606,0.84140936629737606,null,"Wet Pond",0,0.09,0.16,0.23,0.27243877551020412,0.30241887755102043,0.31663061224489797,0.35434087463556851,0.3814093662973761,0.3814093662973761,null,"Wet Pond",0,0.59,0.71,0.8,0.84243877551020407,0.86494591836734691,0.88326122448979594,0.91060452478134113,0.92380312209912541,0.92380312209912541]
["Vegetated Filter Strip/Qualifying Pervious Area",1,1,1,1,1,1,1,1,1,1,null,"Vegetated Filter Strip/Qualifying Pervious Area",1,1,1,1,1,1,1,1,1,1,null,"Vegetated Filter Strip/Qualifying Pervious Area",1,1,1,1,1,1,1,1,1,1,null,"Vegetated Filter Strip/Qualifying Pervious Area",1,1,1,1,1,1,1,1,1,1]
["D-Soils (infiltrating STUs only)",0,0,0,0,0,0,0,0,0,0,null,"D-Soils (infiltrating STUs only)",0,0,0,0,0,0,0,0,0,0,null,"D-Soils (infiltrating STUs only)",0,0,0,0,0,0,0,0,0,0,null,"D-Soils (infiltrating STUs only)",0,0,0,0,0,0,0,0,0,0]
["TIP",0.45,0.45,0.45,0.45,0.45,0.45,0.45,0.45,0.45,0.45,null,"TIP",0.45,0.45,0.45,0.45,0.45,0.45,0.45,0.45,0.45,0.45,null,"TIP",0.45,0.45,0.45,0.45,0.45,0.45,0.45,0.45,0.45,0.45,null,"TIP",0.45,0.45,0.45,0.45,0.45,0.45,0.45,0.45,0.45,0.45]
[]
["Flow Factor","Depth of Runoff Treated from Impervious Area (inches)"]
["Treatment Category:",0,0.1,0.2,0.4,0.6,0.8,1,1.5,2,20]
["Shallow Infiltration (sandy clay loam)",0,7.5854307508627317E-2,0.15400138723950074,0.30783915478506063,0.45709774349751042,0.62045207803625102,0.78831439564968375,1,1,1]
["Shallow Infiltration (silt loam)",0,9.2129934394753588E-2,0.18665697163833939,0.36107559350040996,0.53963766948008074,0.65571806676221533,0.78807885169524183,0.97156459789815885,1,1]
["Shallow Infiltration (loam)",0,0.1165771399207256,0.23964518612674712,0.43990911957910395,0.60824238465334046,0.75761178001243046,0.87756048926230601,1,1,1]
["Shallow Infiltration (sandy loam)",0,0.14905244353059832,0.29522505189909298,0.5296246571495502,0.71161672447190538,0.89372775020674267,0.97934952103259898,1,1,1]
["Shallow Infiltration (loamy sand)",0,0.23853079346801631,0.40734580725108205,0.70821872833242305,0.91820150915168897,1,1,1,1,1]
["Shallow Infiltration (sand)",0,0.4179998001624744,0.6797121644129851,0.99817765007930082,1,1,1,1,1,1]
["Deep Infiltration (sandy clay loam)",0,5.799902632355125E-2,0.11498584410975698,0.242152318010731,0.39952208056611571,0.5050495943239981,0.61754310142260627,0.83552261563068742,0.97898950079637936,0.97898950079637936]
["Deep Infiltration (silt loam)",0,7.2812914357841541E-2,0.15002221882185707,0.30857414258776183,0.48069505633128751,0.56987325137663847,0.70195652300070055,0.90370518421678392,1,1]
["Deep Infiltration (loam)",0,9.6513466727369601E-2,0.19923115881851472,0.36635379303741333,0.55035805325567222,0.6537598264376564,0.80407135150381714,0.97353988571744499,1,1]
["Deep Infiltration (sandy loam)",0,0.12115493565958291,0.24999386873445684,0.43768049262333097,0.62539055012224098,0.77527008424774879,0.90741928764904145,1,1,1]
["Deep Infiltration (loamy sand)",0,0.1840087755668024,0.33328347912446332,0.57361927529516088,0.77698501911947582,0.96179696550314819,1,1,1,1]
["Deep Infiltration (sand)",0,0.33077303776451472,0.53047271371016902,0.91870010299099092,1,1,1,1,1,1]
["Extended Dry Detention ",0,8.4842603781980053E-2,0.16771832756942118,0.30767356842038462,0.45823027642121661,0.52211169138429292,0.63670770859410619,0.79189852204190425,0.8378815154242697,0.8378815154242697]
["Bioretention",0,9.2831673795845449E-2,0.15271788778602502,0.24325158335530406,0.3401493056088648,0.38997387766311764,0.46053941432847578,0.72604340064444162,0.73242925980378248,0.73242925980378248]
["Sand Filter",0,9.2831673795845449E-2,0.15271788778602502,0.24325158335530406,0.3401493056088648,0.38997387766311764,0.46053941432847578,0.72604340064444162,0.73242925980378248,0.73242925980378248]
["Oil/Grit Separator",0,0,0,0,0,0,0,0,0,0]
["Hydrodynamic Separator",0,0,0,0,0,0,0,0,0,0]
["Gravel Wetland",0,5.8717374206034068E-2,0.1317099007216902,0.18497437536774497,0.2101717652087679,0.22977896745607085,0.25879133415586153,0.31561084342482848,0.36444105220260503,0.36444105220260503]
["Wet Pond",0,3.6560694419384254E-2,6.2227913535718327E-2,0.1246109923229729,0.20295524967695266,0.30138354886643304,0.40293061642370764,0.60677553760488501,0.77747940979301189,0.77747940979301189]
["Vegetated Filter Strip/Qualifying Pervious Area",1,1,1,1,1,1,1,1,1,1]
["D-Soils (infiltrating STUs only)",0,0,0,0,0,0,0,0,0,0]
["TIP",0.5,0.5,0.5,0.5,0.5,0.5,0.5,0.5,0.5,0.5]
[]
["Runoff Factor","Depth of Runoff Treated from Impervious Area (inches)"]
["Treatment Category:",0,0.1,0.2,0.4,0.6,0.8,1,1.5,2,20]
["Shallow Infiltration (sandy clay loam)",0,0.14000000000000001,0.28000000000000003,0.5,0.68,0.83,0.95,1,1,1]
["Shallow Infiltration (silt loam)",0,0.17,0.34,0.57999999999999996,0.76,0.87,0.94,1,1,1]
["Shallow Infiltration (loam)",0,0.22,0.41,0.67,0.84,0.94,1,1,1,1]
["Shallow Infiltration (sandy loam)",0,0.28000000000000003,0.5,0.78,0.92,1,1,1,1,1]
["Shallow Infiltration (loamy sand)",0,0.4,0.66,0.92,1,1,1,1,1,1]
["Shallow Infiltration (sand)",0,0.68,0.93,1,1,1,1,1,1,1]
["Deep Infiltration (sandy clay loam)",0,0.1,0.21,0.41,0.57999999999999996,0.71,0.82,0.97,1,1]
["Deep Infiltration (silt loam)",0,0.14000000000000001,0.28000000000000003,0.51,0.68,0.8,0.89,1,1,1]
["Deep Infiltration (loam)",0,0.18,0.35,0.6,0.78,0.88,0.96,1,1,1]
["Deep Infiltration (sandy loam)",0,0.23,0.43,0.69,0.86,0.95,1,1,1,1]
["Deep Infiltration (loamy sand)",0,0.32,0.55000000000000004,0.84,0.96,1,1,1,1,1]
["Deep Infiltration (sand)",0,0.54,0.82,1,1,1,1,1,1,1]
["Extended Dry Detention ",0,0.12,0.21,0.34,0.41,0.43,0.44,0.41,0.39,0.39]
["Bioretention",0,0,0.03,0.06,0.09,0.11,0.14000000000000001,0.24,0.31,0.31]
["Sand Filter",0,0,0.03,0.06,0.09,0.11,0.14000000000000001,0.24,0.31,0.31]
["Oil/Grit Separator",0,0,0,0,0,0,0,0,0,0]
["Hydrodynamic Separator",0,0,0,0,0,0,0,0,0,0]
["Gravel Wetland",0,0,0,0,0.01,0.02,0.03,0.04,0.06,0.06]
["Wet Pond",0,0.04,0.1,0.21,0.32,0.43,0.53,0.75,0.9,0.9]
["Vegetated Filter Strip/Qualifying Pervious Area",1,1,1,1,1,1,1,1,1,1]
["D-Soils (infiltrating STUs only)",0,0,0,0,0,0,0,0,0,0]
["TIP",0.5,0.5,0.5,0.5,0.5,0.5,0.5,0.5,0.5,0.5]
[]
["Runoff Reduction Percent Reductions","Depth of Runoff Treated from Impervious Area (inches)"]
["Treatment Category:",0,0.1,0.2,0.4,0.6,0.8,1,1.5,2,20]
["Shallow Infiltration (sandy clay loam)",0,0.12769199673690462,0.24966933110669592,0.45096843147656068,0.60972832393096565,0.74575783225559422,0.8523658978703812,0.96035519637884792,0.99284428061625574,{"$f":"J105","v":0.99284428061625574}]
["Shallow Infiltration (silt loam)",0,0.15611499814638755,0.30259546948636085,0.52542075785061171,0.68159696272492809,0.77981827339788923,0.84898953437924007,0.93265966680905132,0.9650294776229742,{"$f":"J106","v":0.9650294776229742}]
["Shallow Infiltration (loam)",0,0.19555519734425147,0.36631289222813918,0.60170015971884039,0.75382676748222532,0.84198324187185247,0.89743368969863635,0.95820349368711211,0.98021383615947399,0.98021383615947399]
["Shallow Infiltration (sandy loam)",0,0.24997691321275703,0.44641203049674322,0.69934105072530084,0.83021650333586428,0.90464389004973134,0.94170653645504954,0.98084568661905935,0.99361203797560371,0.99361203797560371]
["Shallow Infiltration (loamy sand)",0,0.35620569124063128,0.59093283347292092,0.83177925853823531,0.92265665724147328,0.96603267888384436,0.98399456410278552,0.99670534740564876,0.99972323626368942,0.99972323626368942]
["Shallow Infiltration (sand)",0,0.60841830046904011,0.83949424689910301,0.96789803459278467,0.99320634368966976,0.99737070756522228,0.99926287103415301,1,1,1]
["Deep Infiltration (sandy clay loam)",0,9.0254484969617771E-2,0.19058588298092846,0.36958840999224585,0.52252592083262384,0.63997371475377574,0.73790779188809752,0.87106526034496445,0.93057259825990668,0.93057259825990668]
["Deep Infiltration (silt loam)",0,0.12346804364368261,0.24755484265187389,0.45584011915489986,0.61237795437893427,0.72005449920559061,0.80208548487129394,0.90492956156140913,0.94941342971673892,0.94941342971673892]
["Deep Infiltration (loam)",0,0.16461078890258582,0.31602926018699523,0.54104786659640114,0.69759986560545051,0.7915259082110645,0.86019142074714627,0.93753462630060214,0.96821648756215128,0.96821648756215128]
["Deep Infiltration (sandy loam)",0,0.20694849534020568,0.38375117123413133,0.62206609941745916,0.77185559822148886,0.85678522043022054,0.90938191888060671,0.96310458546753541,0.98384106329124987,0.98384106329124987]
["Deep Infiltration (loamy sand)",0,0.28723434860171726,0.49785576307434032,0.7516011640285003,0.86790382332014071,0.93146466341341494,0.9597519373451735,0.99057490874493992,0.99848111875758172,0.99848111875758172]
["Deep Infiltration (sand)",0,0.48781928602371644,0.73356161018524058,0.92622341915396356,0.97769690412345922,0.99202342489450146,0.99634466693717916,0.99989932314072882,1,1]
["Extended Dry Detention ",0,0.10412772240425994,0.19323956625542199,0.30957891207237792,0.36718330008891503,0.38508011844155443,0.39153012882067628,0.36608439301407075,0.35343851826393041,0.35343851826393041]
["Bioretention",0,0,2.8807130678759639E-2,5.4126511169435385E-2,8.0277998197668635E-2,0.10335367471950385,0.12643916668102742,0.21545524139357089,0.28295922857128364,0.28295922857128364]
["Sand Filter",0,0,2.8807130678759639E-2,5.4126511169435385E-2,8.0277998197668635E-2,0.10335367471950385,0.12643916668102742,0.21545524139357089,0.28295922857128364,0.28295922857128364]
["Oil/Grit Separator",0,0,0,0,0,0,0,0,0,0]
["Hydrodynamic Separator",0,0,0,0,0,0,0,0,0,0]
["Gravel Wetland",0,-3.7877597766750679E-3,-7.1299413963156477E-4,3.0502243258700816E-3,1.0584049221984438E-2,1.8027635398412171E-2,2.3936635629110269E-2,3.8861064436051682E-2,5.4629409970894285E-2,{"$f":"J122","v":5.4629409970894285E-2}]
["Wet Pond",0,3.5739543532670844E-2,8.6036072850433382E-2,0.18901649971825657,0.28850284114412605,0.38727413306633768,0.47827824592958579,0.67146003045399683,0.8075391753515514,{"$f":"J123","v":0.8075391753515514}]
["Vegetated Filter Strip/Qualifying Pervious Area",1,1,1,1,1,1,1,1,1,1]
["D-Soils (infiltrating STUs only)",0,0,0,0,0,0,0,0,0,0]
["TIP",0.5,0.5,0.5,0.5,0.5,0.5,0.5,0.5,0.5,0.5]
[]
["Phosphorus Factor","Depth of Runoff Treated from Impervious Area (inches) (>50% IC)"]
["Treatment Category:",0,0.1,0.2,0.4,0.6,0.8,1,1.5,2,">2.00"]
["Shallow Infiltration (sandy clay loam)",{"$f":"IF(B6/0.9>1, 1,B6/0.9)","v":0},{"$f":"IF(C6/0.9>1, 1,C6/0.9)","v":0.38888888888888884},0.57777777777777783,0.79999999999999993,0.91111111111111098,0.97777777777777775,1,1,1,1]
["Shallow Infiltration (silt loam)",{"$f":"IF(B7/0.9>1, 1,B7/0.9)","v":0},0.41111111111111109,0.6,0.82222222222222219,0.94444444444444442,1,1,1,1,1]
["Shallow Infiltration (loam)",{"$f":"IF(B8/0.9>1, 1,B8/0.9)","v":0},0.42222222222222222,0.62222222222222223,0.85555555555555551,0.96666666666666667,1,1,1,1,1]
["Shallow Infiltration (sandy loam)",{"$f":"IF(B9/0.9>1, 1,B9/0.9)","v":0},0.45555555555555549,0.66666666666666663,0.9,1,1,1,1,1,1]
["Shallow Infiltration (loamy sand)",{"$f":"IF(B10/0.9>1, 1,B10/0.9)","v":0},0.51111111111111107,0.74444444444444446,0.96666666666666667,1,1,1,1,1,1]
["Shallow Infiltration (sand)",{"$f":"IF(B11/0.9>1, 1,B11/0.9)","v":0},0.65555555555555556,0.9,1,1,1,1,1,1,1]
["Deep Infiltration (sandy clay loam)",{"$f":"IF(B12/0.9>1, 1,B12/0.9)","v":0},0.19999999999999998,0.3666666666666667,0.6333333333333333,0.81111111111111112,0.92222222222222217,1,1,1,1]
["Deep Infiltration (silt loam)",{"$f":"IF(B13/0.9>1, 1,B13/0.9)","v":0},0.22222222222222224,0.41111111111111109,0.7,0.8666666666666667,0.95555555555555549,1,1,1,1]
["Deep Infiltration (loam)",{"$f":"IF(B14/0.9>1, 1,B14/0.9)","v":0},0.25555555555555554,0.46666666666666662,0.75555555555555554,0.91111111111111098,0.98888888888888893,1,1,1,1]
["Deep Infiltration (sandy loam)",{"$f":"IF(B15/0.9>1, 1,B15/0.9)","v":0},0.3,0.52222222222222214,0.81111111111111112,0.95555555555555549,1,1,1,1,1]
["Deep Infiltration (loamy sand)",{"$f":"IF(B16/0.9>1, 1,B16/0.9)","v":0},0.3666666666666667,0.61111111111111116,0.9,1,1,1,1,1,1]
["Deep Infiltration (sand)",{"$f":"IF(B17/0.9>1, 1,B17/0.9)","v":0},0.55555555555555558,0.83333333333333326,1,1,1,1,1,1,1]
["Extended Dry Detention ",{"$f":"IF(B18/0.9>1, 1,B18/0.9)","v":0},3.3333333333333333E-2,6.6666666666666666E-2,8.8888888888888892E-2,9.9999999999999992E-2,0.12222222222222222,0.13333333333333333,0.14444444444444446,0.15555555555555556,0.15555555555555556]
["Bioretention",{"$f":"IF(B19/0.9>1, 1,B19/0.9)","v":0},0.15555555555555556,0.27777777777777779,0.41111111111111109,0.48888888888888887,0.53333333333333333,0.58888888888888891,0.64444444444444438,0.7,0.7]
["Sand Filter",{"$f":"IF(B20/0.9>1, 1,B20/0.9)","v":0},0.15555555555555556,0.27777777777777779,0.41111111111111109,0.48888888888888887,0.53333333333333333,0.58888888888888891,0.64444444444444438,0.7,0.7]
["Oil/Grit Separator",{"$f":"IF(B21/0.9>1, 1,B21/0.9)","v":0},0,0,0,0,0,0,0,0,0]
["Hydrodynamic Separator",{"$f":"IF(B22/0.9>1, 1,B22/0.9)","v":0.11111111111111112},0.11111111111111112,0.11111111111111112,0.11111111111111112,0.11111111111111112,0.11111111111111112,0.11111111111111112,0.11111111111111112,0.11111111111111112,0.11111111111111112]
["Gravel Wetland",{"$f":"IF(B23/0.9>1, 1,B23/0.9)","v":0},0.21111111111111111,0.28888888888888892,0.45555555555555549,0.56666666666666665,0.6333333333333333,0.6777777777777777,0.72222222222222221,0.73333333333333339,0.73333333333333339]
["Wet Pond",{"$f":"IF(B24/0.9>1, 1,B24/0.9)","v":0},0.15555555555555556,0.27777777777777779,0.41111111111111109,0.48888888888888887,0.53333333333333333,0.58888888888888891,0.64444444444444438,0.7,0.7]
["Vegetated Filter Strip/Qualifying Pervious Area",{"$f":"IF(B25/0.9>1, 1,B25/0.9)","v":1},1,1,1,1,1,1,1,1,1]
["D-Soils (infiltrating STUs only)",{"$f":"IF(B26/0.9>1, 1,B26/0.9)","v":0},0,0,0,0,0,0,0,0,0]
["TIP",{"$f":"IF(B27/0.9>1, 1,B27/0.9)","v":0.5},0.5,0.5,0.5,0.5,0.5,0.5,0.5,0.5,0.5]
[]
["TSS Factor","Depth of Runoff Treated from Impervious Area (inches) (>50% IC)"]
["Treatment Category:",0,0.1,0.2,0.4,0.6,0.8,1,1.5,2,">2.00"]
["Shallow Infiltration (sandy clay loam)",{"$f":"IF(N6/0.9>1, 1,N6/0.9)","v":0},{"$f":"IF(O6/0.9>1, 1,O6/0.9)","v":0.71111111111111114},0.88888888888888895,1,1,1,1,1,1,1]
["Shallow Infiltration (silt loam)",{"$f":"IF(N7/0.9>1, 1,N7/0.9)","v":0},{"$f":"IF(O7/0.9>1, 1,O7/0.9)","v":0.72222222222222221},{"$f":"IF(P7/0.9>1, 1,P7/0.9)","v":0.9},{"$f":"IF(Q7/0.9>1, 1,Q7/0.9)","v":1},{"$f":"IF(R7/0.9>1, 1,R7/0.9)","v":1},{"$f":"IF(S7/0.9>1, 1,S7/0.9)","v":1},{"$f":"IF(T7/0.9>1, 1,T7/0.9)","v":1},{"$f":"IF(U7/0.9>1, 1,U7/0.9)","v":1},{"$f":"IF(V7/0.9>1, 1,V7/0.9)","v":1},{"$f":"IF(W7/0.9>1, 1,W7/0.9)","v":1}]
["Shallow Infiltration (loam)",0,0.72222222222222221,0.92222222222222217,1,1,1,1,1,1,1]
["Shallow Infiltration (sandy loam)",0,0.74444444444444446,1,1,1,1,1,1,1,1]
["Shallow Infiltration (loamy sand)",0,0.77777777777777768,0.97777777777777775,1,1,1,1,1,1,1]
["Shallow Infiltration (sand)",0,0.87777777777777777,1,1,1,1,1,1,1,1]
["Deep Infiltration (sandy clay loam)",0,0.35555555555555557,0.62222222222222223,0.93333333333333324,1,1,1,1,1,1]
["Deep Infiltration (silt loam)",0,0.39999999999999997,0.56666666666666665,0.97777777777777775,1,1,1,1,1,1]
["Deep Infiltration (loam)",0,0.44444444444444448,0.73333333333333339,1,1,1,1,1,1,1]
["Deep Infiltration (sandy loam)",0,0.48888888888888887,0.77777777777777768,1,1,1,1,1,1,1]
["Deep Infiltration (loamy sand)",0,0.55555555555555558,0.85555555555555551,1,1,1,1,1,1,1]
["Deep Infiltration (sand)",0,1,1,1,1,1,1,1,1,1]
["Extended Dry Detention ",0,0.19999999999999998,0.34444444444444444,0.42222222222222222,0.44444444444444448,0.48888888888888887,0.51111111111111107,0.52222222222222214,0.5444444444444444,0.5444444444444444]
["Bioretention",0,0.48888888888888887,0.76666666666666661,1,1,1,1,1,1,1]
["Sand Filter",0,0.48888888888888887,0.76666666666666661,1,1,1,1,1,1,1]
["Oil/Grit Separator",0,0,0,0,0,0,0,0,0,0]
["Hydrodynamic Separator",0.27777777777777779,0.27777777777777779,0.27777777777777779,0.27777777777777779,0.27777777777777779,0.27777777777777779,0.27777777777777779,0.27777777777777779,0.27777777777777779,0.27777777777777779]
["Gravel Wetland",0,0.53333333333333333,0.6777777777777777,0.91111111111111098,1,1,1,1,1,1]
["Wet Pond",0,0.33333333333333331,0.48888888888888887,0.66666666666666663,0.75555555555555554,0.82222222222222219,0.85555555555555551,0.92222222222222217,0.95555555555555549,0.95555555555555549]
["Vegetated Filter Strip/Qualifying Pervious Area",1,1,1,1,1,1,1,1,1,1]
["D-Soils (infiltrating STUs only)",0,0,0,0,0,0,0,0,0,0]
["TIP",0.5,0.5,0.5,0.5,0.5,0.5,0.5,0.5,0.5,0.5]
[]
["Pervious Cover Factor","Depth of Runoff Treated from Impervious Area (inches)"]
["Treatment Category:",0,0.1,0.2,0.4,0.6,0.8,1,1.5,2,">2.00"]
["Shallow Infiltration (sandy clay loam)",{"$f":"(B55+B80+B130+B155)/4","v":0},{"$f":"(C55+C80+C130+C155)/4","v":0.32896357687715683},0.47516701347654189,0.65195978869626514,0.76205221365215536,0.85705746395350724,0.9345785989124209,1,1,1]
["Shallow Infiltration (silt loam)",{"$f":"(B56+B81+B131+B156)/4","v":0},0.34886581693202173,0.50666424290958478,0.69082445393065806,0.81102052848113138,0.8814295166905538,0.93201971292381047,0.99289114947453971,1,1]
["Shallow Infiltration (loam)",{"$f":"(B57+B82+B132+B157)/4","v":0},0.37025539609129254,0.54852240764279792,0.7413661687836649,0.85372726283000178,0.9244029450031076,0.96939012231557653,1,1,1]
["Shallow Infiltration (sandy loam)",{"$f":"(B58+B83+B133+B158)/4","v":0},0.40726311088264955,0.61547292964143985,0.80240616428738754,0.90790418111797633,0.97343193755168567,0.99483738025814972,1,1,1]
["Shallow Infiltration (loamy sand)",{"$f":"(B59+B84+B134+B159)/4","v":0},0.4818549205892263,0.69739200736832607,0.8987213487497725,0.97955037728792227,1,1,1,1,1]
["Shallow Infiltration (sand)",{"$f":"(B60+B85+B135+B160)/4","v":0},0.65783328337395197,0.87742804110324624,0.99954441251982518,1,1,1,1,1,1]
["Deep Infiltration (sandy clay loam)",{"$f":"(B61+B86+B136+B161)/4","v":0},0.1783886454697767,0.3284686832496615,0.55470474616934939,0.69765829791930667,0.78431795413655503,0.85938577535565153,0.9513806539076719,0.99474737519909484,0.99474737519909484]
["Deep Infiltration (silt loam)",{"$f":"(B62+B87+B137+B162)/4","v":0},0.20875878414501592,0.35194999914990871,0.62408798009138489,{"$f":"(F62+F87+F137+F162)/4","v":0.75684043074948859},0.8313572017330485,0.89798913075017517,0.97592629605419601,1,1]
["Deep Infiltration (loam)",{"$f":"(B63+B88+B138+B163)/4","v":0},0.2441283666818424,0.43730778970462869,0.68047733714824221,0.81036729109169581,0.88066217883163633,0.94101783787595428,0.99338497142936122,1,1]
["Deep Infiltration (sandy loam)",{"$f":"(B64+B89+B139+B164)/4","v":0},0.28501095613711797,0.49499846718361418,0.73469790093361054,0.86023652641944914,0.93131752106193721,0.97685482191226036,1,1,1]
["Deep Infiltration (loamy sand)",{"$f":"(B65+B90+B140+B165)/4","v":0},0.35655774944725616,0.58748753644778251,0.82840481882379025,0.93424625477986889,0.99044924137578705,1,1,1,1]
["Deep Infiltration (sand)",{"$f":"(B66+B91+B141+B166)/4","v":0},0.60658214833001756,{"$f":"(D66+D91+D141+D166)/4","v":0.79595151176087553},0.97967502574774779,1,1,1,1,1,1]
["Extended Dry Detention ",{"$f":"(B67+B92+B142+B167)/4","v":0},0.10954398427882833,0.19720735967013306,0.28969616988287394,0.35316868021641529,0.390805700623851,0.43028803825963763,0.4671412971771427,0.48197037885606742,0.48197037885606742]
["Bioretention",{"$f":"(B68+B93+B143+B168)/4","v":0},0.18431902956007246,{"$f":"(D68+D93+D143+D168)/4","v":0.30679058305761736},0.4285906736166038,0.47975954862443843,0.50832680274911279,0.54735707580434112,0.6526219612722215,0.68560731495094562,0.68560731495094562]
["Sand Filter",{"$f":"(B69+B94+B144+B169)/4","v":0},0.18431902956007246,0.30679058305761736,0.4285906736166038,0.47975954862443843,0.50832680274911279,0.54735707580434112,0.6526219612722215,0.68560731495094562,0.68560731495094562]
["Oil/Grit Separator",{"$f":"(B70+B95+B145+B170)/4","v":0},0,0,0,0,0,0,0,0,0]
["Hydrodynamic Separator",{"$f":"(B71+B96+B146+B171)/4","v":9.7222222222222224E-2},9.7222222222222224E-2,9.7222222222222224E-2,9.7222222222222224E-2,9.7222222222222224E-2,9.7222222222222224E-2,9.7222222222222224E-2,9.7222222222222224E-2,9.7222222222222224E-2,9.7222222222222224E-2]
["Gravel Wetland",{"$f":"(B72+B97+B147+B172)/4","v":0},0.20079045466261963,0.27459414184708919,0.38791026050860289,0.44670960796885861,0.47077807519735104,0.49164227798340981,0.51945826641176263,0.53944359638398454,0.53944359638398454]
["Wet Pond",{"$f":"(B73+B98+B148+B173)/4","v":0},0.14136239582706828,0.23222364505059623,0.35309719252518768,0.4418499235303493,0.52173477610549712,0.59434376521703802,0.73086055106788783,0.83325874133714195,0.83325874133714195]
["Vegetated Filter Strip/Qualifying Pervious Area",{"$f":"(B74+B99+B149+B174)/4","v":1},1,1,1,1,1,1,1,1,1]
["D-Soils (infiltrating STUs only)",{"$f":"(B75+B100+B150+B175)/4","v":0},0,0,0,0,0,0,0,0,0]
["TIP",{"$f":"(B76+B101+B151+B176)/4","v":0.5},0.5,0.5,0.5,0.5,0.5,0.5,0.5,0.5,0.5]

{"sheet":"Pollutant Removal Curves","index":31,"n_rows":1,"n_cols":1,"rows_kept":1,"cut":false,"hidden":true,"merged":[]}
["Pollutant removal curves used in water quality calculations to calculate treatment credit. For reference only."]

{"sheet":"IC Removal Curves","index":32,"n_rows":2,"n_cols":1,"rows_kept":2,"cut":false,"hidden":true,"merged":[]}
["Pollutant, flow, and runoff factors used to calculate pervious cover factor. For reference only.\n"]
["Note: The Pervious Cover Factor is essentially the percent reduction of equivalent IC represented as a decimal. "]

{"sheet":"Soil Types","index":33,"n_rows":15,"n_cols":3,"rows_kept":15,"cut":false,"hidden":true,"merged":[]}
["Soil texture classes and corresponding infiltration rates used in water quality calculations."]
[]
["Approximate HSG","Soil Texture Class","Infiltration Rate (in/hr)"]
["A","Sand",8.27]
["A","Loamy Sand",2.41]
["B","Sandy Loam",1.02]
["B","Loam",0.52]
["C","Silt Loam",0.27]
["C","Sandy Clay Loam",0.17]
["D","Clay Loam",0.09]
["D","Silty Clay Loam",0.06]
["D","Sandy Clay",0.05]
["D","Silty Clay",0.04]
["D","Clay",0.02]
["Source: Rawls, W.J. et al., (1983). J. Hyd. Engr., 109:1316. "]

{"sheet":"Domains","index":34,"n_rows":60,"n_cols":28,"rows_kept":60,"cut":false,"hidden":true,"merged":[]}
[]
[null,null,null,null,null,null,null,null,null,null,null,null,null,null,null,null,"RIDOT",null,null,"Commercial",null,null,"Active",null,null,null,null,"Yes"]
[null,null,"Soil Type",null,null,null,null,null,null,1,null,12,null,null,null,null,"Other RIDOT Roadway",null,null,"Industrial",null,null,"Existing Retrofit",null,null,null,null,"No"]
[null,null,null,null,null,null,null,null,null,2,null,18,null,null,null,null,"Municipality",null,null,"Institutional",null,null,"Existing needs maintenance"]
[null,null,"Sandy Clay Loam (0.17 in/hr)",null,null,null,"Yes",null,null,3,null,24,null,null,null,null,"Private",null,null,"Residential",null,null,"Potential",null,null,null,null,"Municipal"]
[null,null,"Silt Loam (0.27 in/hr)",null,null,null,"No",null,null,4,null,32,null,null,null,null,"State",null,null,"Highway",null,null,"In Design",null,null,null,null,"Private"]
[null,null,"Loam (0.52 in/hr)",null,null,null,null,null,null,5,null,null,null,null,null,null,"Federal",null,null,"Forest",null,null,"In Construction",null,null,null,null,"State"]
[null,null,"Sandy Loam (1.02 in/hr)",null,null,null,null,null,null,6,null,null,null,null,null,null,"NBC",null,null,"Open Land",null,null,"Not Feasible",null,null,null,null,"Federal"]
[null,null,"Loamy Sand (2.41 in/hr)",null,null,null,null,null,null,7,null,null,null,null,null,null,"Other  ",null,null,"Agriculture",null,null,"Delete",null,null,null,null,"Other"]
[null,null,"Sand (8.27 in/hr)",null,null,null,"Existing",null,null,8,null,null,null,null,null,null,null,null,null,null,null,null,null,null,null,null,null,"None"]
[null,null,"Clay (0.02 in/hr)",null,null,null,"Potential",null,null,9,null,null,null,null,null,null,"Existing",null,null,null,null,null,"Structural"]
[null,null,"Silty Clay (0.04 in/hr)",null,null,null,"Limited ROW",null,null,10,null,null,"Broadleaf Deciduous - Large",null,null,null,"Potential",null,null,"Not Feasible",null,null,"Nonstructural",null,null,null,null,1]
[null,null,"Sandy Clay (0.05 in/hr)",null,null,null,"Not Feasible",null,null,11,null,null,"Broadleaf Deciduous - Medium",null,null,null,"Limited_ROW",null,null,"Desktop Review",null,null,null,null,null,null,null,2]
[null,null,"Silty Clay Loam (0.06 in/hr)",null,null,null,"Non-Discharge",null,null,12,null,null,"Broadleaf Deciduous - Small",null,null,null,"Not Feasible",null,null,"SCP Submission",null,null,"Agriculture Buffer",null,null,null,null,3]
[null,null,"Clay Loam (0.09 in/hr)",null,null,null,"Discharge to CSO",null,null,null,null,null,"Coniferous Evergreen - Large",null,null,null,"Non-discharge",null,null,"EPA/DEM Approved",null,null,"Bioretention Swale",null,null,null,null,"Other"]
[null,null,"Unknown",null,null,null,"TIP",null,null,null,null,null,"Coniferous Evergreen - Small",null,null,null,"Discharge to CSO",null,null,"Feasibility",null,null,"Bioretention Basin"]
[null,null,null,null,null,null,"Commercial",null,null,null,null,null,"Unknown Tree Type",null,null,null,"TIP - Existing",null,null,"30% Design",null,null,"Bioretention Curb Extension Planter"]
[null,null,null,null,null,null,"Industrial",null,null,null,null,null,null,null,null,null,"TIP - Potential",null,null,"90% Design",null,null,"Bioretention Curb Inlet Planter"]
[null,null,null,null,null,null,"Institutional",null,"Commercial",null,null,null,null,null,null,null,"TIP - LimitedROW",null,null,"PS&E",null,null,"Bioretention Parking Lane Adjacent Planter"]
[null,null,null,null,null,null,"Residential",null,"Industrial",null,null,null,"HSG-A, pervious",null,null,null,"TIP - Not Feasible",null,null,"As-built",null,null,"Gravel Wetland (WVTS)"]
[null,null,null,null,null,null,"Highway",null,"Residential",null,null,null,"HSG-B, pervious",null,null,null,"TIP - Non-discharge",null,null,null,null,null,"Hydrodynamic Separator"]
[null,null,null,null,null,null,"Forest",null,"Highway",null,null,null,"HSG-C, pervious",null,null,null,"TIP - Discharge to CSO",null,null,null,null,null,"Infiltration Basin"]
[null,null,null,null,null,null,"Open Land",null,"Open Land",null,null,null,"HSG-D, pervious",null,null,null,"TIP",null,null,null,null,null,"Infiltration Gutter"]
[null,null,null,null,null,null,"Agriculture",null,null,null,null,null,null,null,null,null,null,null,null,null,null,null,"Infiltration Swale"]
[null,null,null,null,null,null,null,null,null,null,null,null,"Unknown soil type, pervious",null,null,null,"Not Evaluated",null,null,null,null,null,"Infiltration Trench"]
[null,null,"IC Standard",null,null,null,null,null,null,null,null,null,"Impervious cover",null,null,null,"Not Exempt",null,null,null,null,null,"Leaching Basin"]
[null,null,"TMDL Method",null,null,null,null,null,"Not evaluated",null,null,null,"Forest",null,null,null,"Exempt",null,null,null,null,null,"Limited ROW"]
[null,null,null,null,null,null,null,null,"Not exempt",null,null,null,"Grass",null,null,null,null,null,null,null,null,null,"Oil/Grit Separator"]
[null,null,null,null,null,null,null,null,"Exempt",null,null,null,null,null,null,null,"Yes",null,null,null,null,null,"Other"]
[null,null,null,null,null,null,null,null,null,null,null,null,null,null,null,null,"No",null,null,null,null,null,"Pavement Removal"]
[null,null,null,null,null,null,null,null,null,null,null,null,null,null,null,null,"NA",null,null,null,null,null,"Pervious Land Enhancement"]
[null,null,null,null,null,null,null,null,null,null,null,null,null,null,null,null,"Unknown",null,null,null,null,null,"Porous Pavement"]
[null,null,null,null,null,null,null,null,null,null,null,null,null,null,null,null,null,null,null,null,null,null,"Porous Pavement With Storage"]
["Street Sweeping",null,null,null,null,null,null,null,null,null,null,null,null,null,null,null,null,null,null,null,null,null,"QPA/Filter Strip"]
["Catch Basin Cleaning",null,null,null,null,null,null,null,null,null,null,null,null,null,null,null,null,null,null,null,null,null,"Sand Filter"]
[null,null,"Municipality",null,null,null,"Structural",null,null,null,null,null,null,null,null,null,null,null,null,null,null,null,"TIP"]
[null,null,"Private",null,null,null,"Nonstructural",null,null,null,null,null,null,null,null,null,null,null,null,null,null,null,"Tree Filter"]
["Direct (Dog or Bird)",null,null,null,null,null,null,null,null,null,null,null,null,null,null,null,null,null,null,null,null,null,"Tree Filter With Storage"]
["Indirect (Manure)",null,null,null,null,null,"Potential",null,null,null,null,null,"Hydrodynamic Devices",null,null,null,null,null,null,null,null,null,"Underground Infiltration System"]
[null,null,"Aluminum",null,null,null,"Not Feasible",null,null,null,null,null,"Jellyfish Filter",null,null,null,null,null,null,null,null,null,"Urban Tree Canopy"]
["Dog",null,"Benthic-Macroinvertebrate Bioassessments",null,null,null,"In Design",null,null,null,null,null,"MWS-Linear",null,null,null,null,null,null,null,null,null,"Wet Pond"]
["Geese/large bird",null,"Cadmium",null,null,null,"Existing",null,null,null,null,null,"Stormceptor",null,null,null,null,null,null,null,null,null,"Wet Vegetated Treatment System"]
["Duck/medium bird",null,"Chloride"]
["Pigeon/small bird",null,"Chlorophyll-a"]
[null,null,"Copper"]
[null,null,"Dissolved Oxygen"]
[null,null,"E. Coli"]
[null,null,"Enterococcus"]
[null,null,"Excess Algal Growth"]
[null,null,"Fecal Coliform"]
[null,null,"Hydrocarbons"]
[null,null,"Iron"]
[null,null,"Lead"]
[null,null,"Non-Native Aquatic Plants"]
[null,null,"Taste and Odor"]
[null,null,"Total Nitrogen"]
[null,null,"Total Phosphorus"]
[null,null,"Total Suspended Solids"]
[null,null,"Turbidity"]
[null,null,"Zinc"]